{"text_format":"1","workbook":"xlsx","n_sheets":18,"sheets":["Info General y","Componentes","Alineación Estratégica","Problemática","Beneficios","Factibilidad","Responsables de Info ","Localidades Adicionales","Cat_PP_Indicadores","Cat_PP","BD CATALOGOS","Cat_Municipios","Cat_Localidades","Cat_Tipo_Acción","Cat_PED","Padrón_Indígenas","Cat_Dependencias","Estructura BD"],"not_rendered":{"charts":0,"images":16,"macros":1,"external_links":0,"defined_names":353,"comments":4,"pivot_tables":0},"unopened":[],"bounds":{"document_bytes":16777216,"sheet_cells":100000,"rows_first":2000,"rows_last":500,"rows_between":2000,"halvings":0,"cell_chars":16384,"cell_head_chars":4096},"cells_cut":0,"cells_raw":0,"read":"whole","date_system":"1900"}

{"sheet":"Info General y","index":0,"n_rows":62,"n_cols":21,"rows_kept":62,"cut":false,"hidden":false,"merged":[[30,7,31,8],[34,7,34,8],[35,7,36,8],[22,1,22,9],[34,2,34,3],[23,2,23,9],[24,2,24,9],[25,2,25,9],[28,7,28,8],[28,1,28,3],[33,2,33,3],[31,2,31,3],[28,4,28,5],[31,4,31,5],[33,4,33,5],[32,7,32,8],[42,1,42,9],[30,4,30,5],[36,2,36,3],[29,7,29,8],[29,4,29,5],[29,2,29,3],[34,4,34,5],[32,4,32,5],[32,2,32,3],[39,7,39,8],[39,2,39,3],[39,4,39,5],[38,4,38,5],[38,7,38,8],[35,2,35,3],[30,2,30,3],[62,1,62,9],[44,1,44,3],[45,1,45,2],[59,6,59,7],[44,5,44,7],[58,6,58,7],[57,5,57,7],[45,8,46,8],[46,1,46,2],[48,5,48,7],[48,1,48,2],[47,1,47,2],[61,1,61,9],[26,1,26,9],[38,2,38,3],[5,1,7,9],[10,1,10,9],[11,2,11,9],[13,1,15,1],[12,7,12,9],[12,2,12,4],[12,5,12,6],[13,5,13,6],[13,2,13,4],[14,2,15,4],[8,1,8,9],[21,2,21,5],[13,7,16,9],[20,6,21,6],[20,7,21,9],[1,3,1,4],[2,3,2,4],[3,3,3,4],[0,6,0,7],[1,6,1,7],[2,6,2,7],[0,3,0,4],[18,2,18,9],[20,2,20,5],[19,2,19,5],[19,6,19,9],[16,2,16,4],[17,1,17,9]]}
[]
[]
[]
[]
[]
[null,"Cédula de Identificación y Evaluación de Programas y Proyectos de Inversión"]
[]
[]
[null,"Información General del Proyecto"]
[]
[null,"I. Datos Básicos"]
[null,"Denominación del Proyecto"]
[null,null,"Municipio:",null,null,"Localidad:",null,"Municipios y Localidades adicionales:"]
[null,"Rezago Social                                       (Intercensal 2015)",null,null,null,null,null,"Detallar",null,null,null,null,null,null,null,null,null,null,null,null,{"$f":"VLOOKUP(C14,Cat_Municipios!D6:E64,2,FALSE)","v":{"$error":"#N/A"}}]
[null,null,{"$f":"IFERROR(VLOOKUP(C14,Cat_Municipios!D6:I64,6,FALSE), \"Seleccionar Municipio\")","v":"Seleccionar Municipio"},null,null,"Grado de Marginación (Censo 2010)",{"$f":"IFERROR(VLOOKUP(CONCATENATE(C14,F14),Tabla_MunicipioLocalidad,10,FALSE), \"Seleccionar localidad\")","v":"Seleccionar localidad"}]
[null,null,null,null,null,"Población Localidad     (Censo 2010)",{"$f":"IFERROR(VLOOKUP(CONCATENATE(C14,F14),Tabla_MunicipioLocalidad,4,FALSE), \"Seleccionar localidad\")","v":"Seleccionar localidad"}]
[null,"Viviendas Habitadas del Municipio       (Censo 2010)",{"$f":"IFERROR(VLOOKUP('Info General y'!C14:E14,Cat_Municipios!D6:M64,10,FALSE), \"Seleccionar Municipio\")","v":"Seleccionar Municipio"},null,null,"Localidad Indígena                 (Decreto Congreso, Padrón de Comunidades Indígenas)",{"$f":"IFERROR(VLOOKUP(CONCATENATE(C14,F14),Tabla_MunicipioLocalidad,12,FALSE), \"Seleccionar localidad\")","v":"Seleccionar localidad"}]
[null,"II. Clasificación del Proyecto"]
[null,"Clasificación:"]
[null,null,"OBRA",null,null,null,"ACCIÓN"]
[null,"Tipo de Infraestructura:",null,null,null,null,"Tipo de Acción:",null,null,null,null,{"$f":"IF(C19=\"OBRA\",\"Tipo_Proyecto\",\"\")","v":""}]
[null,"Tipo de Obra:",null,null,null,null,null,null,null,null,null,{"$f":"IF(C19=\"OBRA\",\"Obra\",\"\")","v":""}]
[null,"III. Dependencias, Entidades e Instituciones Responsables",null,null,null,null,null,null,null,null,null,{"$f":"IF(C19<>\"OBRA\",\"Acción\",\"\")","v":"Acción"}]
[null," Promotora:"]
[null,"Ejecutora:"]
[null,"Responsable de la Operación y  Mantenimiento:"]
[null,"IV. Estructura Financiera, Estimado de ejecución, Modalidad y Tipo de Ejecución"]
[]
[null,"Fuente de Financiamiento:",null,null,"Fuente de Financiamiento o Fondo",null,null,"Tiempo estimado de ejecución (meses)"]
[null,"Monto Estatal solicitado a Finanzas:"]
[null,"Recursos Adicionales: ",{"$f":"SUM(C32:D35)","v":0},null,null,null,null,"Fecha límite para la  Entrega de Recursos                                           (Día/Mes/Año)"]
[null,"Federal:"]
[null,"Municipal:"]
[null,"Recursos propios de la Dependencia:"]
[null,"Beneficiarios / Otros:",null,null,null,null,null,"Fases del Proyecto:"]
[null,"Monto total del proyecto",{"$f":"C31+C30","v":0}]
[null,"Razón de Potenciamiento",{"$f":"IF(C30<>0,C31/C30,\"\")","v":""}]
[]
[null,null,"Modalidad de Ejecución:",null,"Tipo de Adjudicación:",null,null,"Etapas del Proyecto:"]
[]
[]
[]
[null,"V. Metas y Beneficiarios"]
[]
[null,"Metas",null,null,null,"Beneficiarios Totales"]
[null,"Unidad de medida",null,"Cantidad",null,"Mujeres","Hombres","Totales"]
[null,null,null,null,null,null,null,{"$f":"SUM(F47:G47)","v":0}]
[]
[null,null,null,null,null,"Detalle de Beneficiarios (si aplica)"]
[null,null,null,null,null,"Mujeres","Hombres","Totales"]
[null,null,null,null,"0 - 4 Años",null,null,{"$f":"SUM(F51:G51)","v":0}]
[null,null,null,null,"5 - 14 Años",null,null,{"$f":"SUM(F52:G52)","v":0}]
[null,null,null,null,"15 - 29 Años",null,null,0]
[null,null,null,null,"30 - 64 Años",null,null,{"$f":"SUM(F54:G54)","v":0}]
[null,null,null,null,"65 y más años",null,null,{"$f":"SUM(F55:G55)","v":0}]
[null,null,null,null,null,null,"Total",{"$f":"SUM(H51:H55)","v":0}]
[]
[null,null,null,null,null,"Empleos"]
[null,null,null,null,null,"Temporales","Permanentes"]
[]
[]
[null,"VI. Criterios para la ubicación y determinación del Proyecto"]

{"sheet":"Componentes","index":1,"n_rows":28,"n_cols":9,"rows_kept":28,"cut":false,"hidden":false,"merged":[[24,5,24,6],[20,5,20,6],[27,3,27,4],[27,5,27,6],[22,5,22,6],[23,5,23,6],[18,5,18,6],[19,5,19,6],[21,5,21,6],[2,5,2,7],[0,5,0,6],[1,5,1,6],[3,5,3,7],[5,2,7,8],[8,2,8,8],[13,2,13,8],[14,5,14,6],[15,5,15,6],[16,5,16,6],[17,5,17,6]]}
[]
[]
[]
[]
[]
[null,null,"Cédula de Identificación y Evaluación de Programas y Proyectos de Inversión"]
[]
[]
[null,null,"Componentes de Inversión del Proyecto"]
[]
[]
[]
[]
[null,null,"VII. Descripción de Componentes"]
[null,null,"Componente","Descripción","Unidad de medida","Cantidad",null,"Monto Unitario","Monto total \n"]
[null,null,null,null,null,null,null,null,{"$f":"H16*F16","v":0}]
[null,null,null,null,null,null,null,null,0]
[null,null,null,null,null,null,null,null,0]
[null,null,null,null,null,null,null,null,{"$f":"H19*F19","v":0}]
[null,null,null,null,null,null,null,null,0]
[null,null,null,null,null,null,null,null,{"$f":"H21*F21","v":0}]
[null,null,null,null,null,null,null,null,0]
[null,null,null,null,null,null,null,null,0]
[null,null,null,null,null,null,null,null,0]
[null,null,null,null,null,null,null,null,0]
[null,null,null,null,null,null,null,"Subtotal",{"$f":"SUM(I16:I25)","v":0}]
[null,null,null,null,null,null,null,"IVA",{"$f":"I26*0.16","v":0}]
[null,null,null,null,null,null,null,"Total",{"$f":"I26+I27","v":0}]

{"sheet":"Alineación Estratégica","index":2,"n_rows":34,"n_cols":10,"rows_kept":34,"cut":false,"hidden":false,"merged":[[23,3,23,6],[24,3,24,6],[25,3,25,6],[26,3,26,6],[27,3,27,6],[21,1,21,7],[5,1,7,7],[10,1,10,7],[11,2,11,7],[12,2,12,7],[16,2,16,7],[13,2,13,7],[14,2,14,7],[8,1,8,7],[18,2,18,7],[19,2,19,7],[0,5,0,6],[1,5,1,6],[2,5,2,7],[3,5,3,7],[15,2,15,7],[28,3,28,6],[29,3,29,6],[30,3,30,6],[31,3,31,6],[34,1,34,7],[33,1,33,7]]}
[]
[]
[]
[]
[]
[null,"Cédula de Identificación y Evaluación de Programas y Proyectos de Inversión"]
[]
[]
[null,"Alineación Estratégica"]
[]
[null,"VIII. Alineación Estratégica Plan Estatal de Desarrollo"]
[null,"Programa(s) Relacionado(s)","Eje, Sector, Objetivo, Estrategia y Línea de Acción"]
[null,"Eje",null,null,null,null,null,null,null,{"$f":"VLOOKUP(C13,Cat_PED!G2:H6,2,FALSE)","v":{"$error":"#N/A"}}]
[null,"Sector",null,null,null,null,null,null,null,{"$f":"VLOOKUP(C14,Cat_PED!K2:L24,2,FALSE)","v":{"$error":"#N/A"}}]
[null,"Objetivo",null,null,null,null,null,null,null,{"$f":"VLOOKUP(C15,Cat_PED!N93:O181,2,FALSE)","v":{"$error":"#N/A"}}]
[null,"Estrategía",null,null,null,null,null,null,null,{"$f":"VLOOKUP(C16,Cat_PED!W2:X99,2,FALSE)","v":{"$error":"#N/A"}}]
[null,"Línea de Acción"]
[]
[null,"Programa Presupuestario",null,null,null,null,null,null,null,{"$f":"VLOOKUP(C14,Cat_PP_Indicadores!A241:B263,2,0)","v":{"$error":"#N/A"}}]
[null,"Indicador de Programa Presupuestario",null,null,null,null,null,null,null,{"$f":"VLOOKUP(C19,Cat_PP_Indicadores!B186:C236,2,0)","v":{"$error":"#N/A"}}]
[]
[null,"IX. Origen del Proyecto"]
[]
[null,"Origen","SI/NO","Describir la Justificación",null,null,null,"Soporte documental (adjuntar)"]
[null," Compromiso Presidencial:"]
[null,"Compromiso de Campaña del Gobernador:"]
[null,"Compromiso en Gira del Gobernador:"]
[null,"Solicitud de Grupos Sociales:"]
[null,"Inclusión expresa en el PED / Programas Sectoriales:"]
[null,"Dependencia:"]
[null,"Municipios:"]
[null,"Otros:"]
[]
[null,"Justificación (Nivel de importancia del Proyecto)"]

{"sheet":"Problemática","index":3,"n_rows":24,"n_cols":10,"rows_kept":24,"cut":false,"hidden":false,"merged":[[20,1,20,9],[21,1,21,9],[23,1,23,9],[24,1,24,9],[14,1,14,4],[14,5,14,9],[16,1,16,9],[17,1,17,8],[18,1,18,8],[19,1,19,8],[5,1,7,9],[10,1,10,9],[11,1,11,9],[12,1,12,9],[13,1,13,4],[13,5,13,9],[8,1,8,9],[0,3,0,4],[1,3,1,4],[2,3,2,4],[3,3,3,4],[0,5,0,6],[1,5,1,6],[2,5,2,7],[3,5,3,7]]}
[]
[]
[]
[]
[]
[null,"Cédula de Identificación y Evaluación de Programas y Proyectos de Inversión"]
[]
[]
[null,"Problemática"]
[]
[null,"X. Situación Actual"]
[null,"Descripción de la problemática"]
[]
[null,"Análisis de la oferta (si aplica)",null,null,null,"Análisis de la demanda (si aplica)"]
[]
[]
[null,"XI. Alternativas de Solución"]
[null,"Descripción de las alternativas de solución (otros escenarios)",null,null,null,null,null,null,null,"Costo total"]
[]
[]
[null,"Justificación técnica y/o económica de la alternativa seleccionada"]
[]
[]
[null,"XII. Riesgo en caso de No ejecutarse (no se refiere a presupuesto)"]

{"sheet":"Beneficios","index":4,"n_rows":21,"n_cols":2,"rows_kept":21,"cut":false,"hidden":false,"merged":[[15,1,15,9],[18,1,18,9],[20,1,20,9],[21,1,21,9],[17,1,17,9],[5,1,7,9],[10,1,10,9],[11,1,11,9],[12,1,12,9],[14,1,14,9],[8,1,8,9],[0,3,0,4],[1,3,1,4],[2,3,2,4],[3,3,3,4],[0,6,0,7],[1,6,1,7],[2,6,2,8],[3,6,3,8]]}
[]
[]
[]
[]
[]
[null,"Cédula de Identificación y Evaluación de Programas y Proyectos de Inversión"]
[]
[]
[null,"Beneficios"]
[]
[null,"XIII. Situación con Proyecto"]
[null,"Descripción detallada de los beneficios planeados"]
[]
[]
[null,"Objetivos específicos del proyecto"]
[]
[]
[null,"Metas específicas del proyecto"]
[]
[]
[null,"En caso de que los beneficiarios tengan alguna participación, explicar a detalle en que consiste"]

{"sheet":"Factibilidad","index":5,"n_rows":986,"n_cols":24,"rows_kept":986,"cut":false,"hidden":false,"merged":[[5,1,7,7],[10,1,10,7],[11,1,11,7],[13,3,13,6],[14,3,14,6],[8,1,8,7],[26,1,27,7],[15,3,15,6],[16,3,16,6],[17,3,17,6],[20,1,20,7],[18,1,18,7],[22,1,25,7],[1,2,1,3],[3,2,3,3],[0,5,0,6],[1,5,1,6],[2,5,2,7],[3,5,3,7],[0,2,0,4],[2,2,2,4]]}
[]
[]
[]
[]
[]
[null,"Cédula de Identificación y Evaluación de Programas y Proyectos de Inversión"]
[]
[]
[null,"Documentos que avalan la viabilidad"]
[]
[null,"XIV. Factibilidad del Proyecto y situación legal"]
[null,"Documentación soporte con la que se cuenta:"]
[]
[null,"Documentación:","SI/NO","Especifique:",null,null,null,"Fecha de documento: (dd/mm/aa)"]
[null,"Proyecto ejecutivo:"]
[null,"Anteproyecto:"]
[null,"Estudios preliminares (impacto ambiental, legal, etc)"]
[null,"otro:"]
[null,"Anexar la documentación a la presente cédula."]
[]
[null,"Implicaciones legales del Proyecto"]
[null,"Explicar las condiciones de propiedad de predios o afectaciones (según el caso) u otros aspectos como impacto ambiental."]
[]
[]
[]
[]
[null,"La dependencia o entidad promotora del proyecto, deberá obtener de las instancias federales, estatales o municipales que correspondan, las autorizaciones o validaciones necesarias para la realización del presente proyecto."]
[]
[]
[]
[]
[]
[]
[]
[]
[]
[]
[]
[]
[]
[]
[]
[]
[]
[]
[]
[]
[]
[]
[]
[]
[]
[]
[]
[]
[]
[]
[]
[]
[]
[]
[]
[]
[]
[]
[]
[]
[]
[]
[]
[]
[]
[]
[]
[]
[]
[]
[]
[]
[]
[]
[]
[]
[]
[]
[]
[]
[]
[]
[]
[]
[]
[]
[]
[]
[]
[]
[]
[]
[]
[]
[]
[]
[]
[]
[]
[]
[]
[]
[]
[]
[]
[]
[]
[]
[]
[]
[]
[]
[]
[]
[]
[]
[]
[]
[]
[]
[]
[]
[]
[]
[]
[]
[]
[]
[]
[]
[]
[]
[]
[]
[]
[]
[]
[]
[]
[]
[]
[]
[]
[]
[]
[]
[]
[]
[]
[]
[]
[]
[]
[]
[]
[]
[]
[]
[]
[]
[]
[]
[]
[]
[]
[]
[]
[]
[]
[]
[]
[]
[]
[]
[]
[]
[]
[]
[]
[]
[]
[]
[]
[]
[]
[]
[]
[]
[]
[]
[]
[]
[]
[]
[]
[]
[]
[]
[]
[]
[]
[]
[]
[]
[]
[]
[]
[]
[]
[]
[]
[]
[]
[]
[]
[]
[]
[]
[]
[]
[]
[]
[]
[]
[]
[]
[]
[]
[]
[]
[]
[]
[]
[]
[]
[]
[]
[]
[]
[]
[]
[]
[]
[]
[]
[]
[]
[]
[]
[]
[]
[]
[]
[]
[]
[]
[]
[]
[]
[]
[]
[]
[]
[]
[]
[]
[]
[]
[]
[]
[]
[]
[]
[]
[]
[]
[]
[]
[]
[]
[]
[]
[]
[]
[]
[]
[]
[]
[]
[]
[]
[]
[]
[]
[]
[]
[]
[]
[]
[]
[]
[]
[]
[]
[]
[]
[]
[]
[]
[]
[]
[]
[]
[]
[]
[]
[]
[]
[]
[]
[]
[]
[]
[]
[]
[]
[]
[]
[]
[]
[]
[]
[]
[]
[]
[]
[]
[]
[]
[]
[]
[]
[]
[]
[]
[]
[]
[]
[]
[]
[]
[]
[]
[]
[]
[]
[]
[]
[]
[]
[]
[]
[]
[]
[]
[]
[]
[]
[]
[]
[]
[]
[]
[]
[]
[]
[]
[]
[]
[]
[]
[]
[]
[]
[]
[]
[]
[]
[]
[]
[]
[]
[]
[]
[]
[]
[]
[]
[]
[]
[]
[]
[]
[]
[]
[]
[]
[]
[]
[]
[]
[]
[]
[]
[]
[]
[]
[]
[]
[]
[]
[]
[]
[]
[]
[]
[]
[]
[]
[]
[]
[]
[]
[]
[]
[]
[]
[]
[]
[]
[]
[]
[]
[]
[]
[]
[]
[]
[]
[]
[]
[]
[]
[]
[]
[]
[]
[]
[]
[]
[]
[]
[]
[]
[]
[]
[]
[]
[]
[]
[]
[]
[]
[]
[]
[]
[]
[]
[]
[]
[]
[]
[]
[]
[]
[]
[]
[]
[]
[]
[]
[]
[]
[]
[]
[]
[]
[]
[]
[]
[]
[]
[]
[]
[]
[]
[]
[]
[]
[]
[]
[]
[]
[]
[]
[]
[]
[]
[]
[]
[]
[]
[]
[]
[]
[]
[]
[]
[]
[]
[]
[]
[]
[]
[]
[]
[]
[]
[]
[]
[]
[]
[]
[]
[]
[]
[]
[]
[]
[]
[]
[]
[]
[]
[]
[]
[]
[]
[]
[]
[]
[]
[]
[]
[]
[]
[]
[]
[]
[]
[]
[]
[]
[]
[]
[]
[]
[]
[]
[]
[]
[]
[]
[]
[]
[]
[]
[]
[]
[]
[]
[]
[]
[]
[]
[]
[]
[]
[]
[]
[]
[]
[]
[]
[]
[]
[]
[]
[]
[]
[]
[]
[]
[]
[]
[]
[]
[]
[]
[]
[]
[]
[]
[]
[]
[]
[]
[]
[]
[]
[]
[]
[]
[]
[]
[]
[]
[]
[]
[]
[]
[]
[]
[]
[]
[]
[]
[]
[]
[]
[]
[]
[]
[]
[]
[]
[]
[]
[]
[]
[]
[]
[]
[]
[]
[]
[]
[]
[]
[]
[]
[]
[]
[]
[]
[]
[]
[]
[]
[]
[]
[]
[]
[]
[]
[]
[]
[]
[]
[]
[]
[]
[]
[]
[]
[]
[]
[]
[]
[]
[]
[]
[]
[]
[]
[]
[]
[]
[]
[]
[]
[]
[]
[]
[]
[]
[]
[]
[]
[]
[]
[]
[]
[]
[]
[]
[]
[]
[]
[]
[]
[]
[]
[]
[]
[]
[]
[]
[]
[]
[]
[]
[]
[]
[]
[]
[]
[]
[]
[]
[]
[]
[]
[]
[]
[]
[]
[]
[]
[]
[]
[]
[]
[]
[]
[]
[]
[]
[]
[]
[]
[]
[]
[]
[]
[]
[]
[]
[]
[]
[]
[]
[]
[]
[]
[]
[]
[]
[]
[]
[]
[]
[]
[]
[]
[]
[]
[]
[]
[]
[]
[]
[]
[]
[]
[]
[]
[]
[]
[]
[]
[]
[]
[]
[]
[]
[]
[]
[]
[]
[]
[]
[]
[]
[]
[]
[]
[]
[]
[]
[]
[]
[]
[]
[]
[]
[]
[]
[]
[]
[]
[]
[]
[]
[]
[]
[]
[]
[]
[]
[]
[]
[]
[]
[]
[]
[]
[]
[]
[]
[]
[]
[]
[]
[]
[]
[]
[]
[]
[]
[]
[]
[]
[]
[]
[]
[]
[]
[]
[]
[]
[]
[]
[]
[]
[]
[]
[]
[]
[]
[]
[]
[]
[]
[]
[]
[]
[]
[]
[]
[]
[]
[]
[]
[]
[]
[]
[]
[]
[]
[]
[]
[]
[]
[]
[]
[]
[]
[]
[]
[]
[]
[]
[]
[]
[]
[]
[]
[]
[]
[]
[]
[]
[]
[]
[]
[]
[]
[]
[]
[]
[]
[]
[]
[]
[]
[]
[]
[]
[]
[]
[]
[]
[]
[]
[]
[]
[]
[]
[]
[]
[]
[]
[]
[]
[]
[]
[]
[]
[]
[]
[]
[]
[]
[]
[]
[]
[]
[null,null,null,null,null,null,null,null,null,null,null,null,null,null,null,null,null,null,null,null,null,null,null," "]

{"sheet":"Responsables de Info ","index":6,"n_rows":30,"n_cols":10,"rows_kept":30,"cut":false,"hidden":false,"merged":[[17,4,17,8],[18,4,18,8],[19,4,19,8],[25,2,25,3],[26,2,26,3],[17,2,17,3],[18,2,18,3],[19,2,19,3],[29,1,30,9],[22,4,22,6],[23,4,23,6],[21,4,21,6],[23,2,23,3],[22,2,22,3],[24,2,24,3],[24,4,24,8],[5,1,7,9],[10,1,10,9],[12,1,12,9],[13,1,13,9],[15,1,15,9],[8,1,8,9],[0,4,0,6],[1,4,1,5],[2,4,2,6],[3,4,3,5],[0,7,0,8],[1,7,1,8],[2,7,2,9],[3,7,3,9]]}
[]
[]
[]
[]
[]
[null,"Cédula de Identificación y Evaluación de Programas y Proyectos de Inversión"]
[]
[]
[null,"Responsables de la Información"]
[]
[null,"XV. Otras consideraciones relevantes"]
[]
[null,"Comentarios Finales"]
[]
[]
[null,"Responsables de la Información"]
[]
[null,null,"Dependencia o entidad responsable:"]
[null,null,"Nombre del Titular:",null,"Cargo",null,null,null,null,"Firma"]
[]
[]
[null,null,null,null,"Nombre",null,null,"Cargo","Teléfono","Correo Electrónico"]
[null,null,"Responsable de la integración de la Información:"]
[null,null,"Enlace del Proyecto:"]
[]
[null,null,"Folio de Proyecto",null,null,null,null,"Fecha (día, mes y año)"]
[null,null,"Para uso exclusivo de la DGPP"]
[]
[]
[null,"La presente cédula tiene como finalidad registrar las propuestas de gasto de inversión que integra la Secretaría de Finanzas, conforme a lo que establece el artículo 32 de la Ley de Presupuesto y Responsabilidad Hacendaria del Estado y Municipios de San Luis Potosí."]

{"sheet":"Localidades Adicionales","index":7,"n_rows":66,"n_cols":7,"rows_kept":66,"cut":false,"hidden":false,"merged":[[62,1,62,2]]}
[]
[null,"Favor seleccionar únicamente el municipio y localidad."]
[]
[null,"Municipio","Localidad","Población  (Habs.)"]
[1,null,null,{"$f":"IFERROR(VLOOKUP(CONCATENATE(B5,C5),Tabla_MunicipioLocalidad,4,FALSE),\"Seleccionar localidad\")","v":"Seleccionar localidad"},null,null,{"$f":"VLOOKUP(B5,Cat_Municipios!$D$6:$E$64,2,FALSE)","v":{"$error":"#N/A"}}]
[2,null,null,{"$f":"IFERROR(VLOOKUP(CONCATENATE(B6,C6),Tabla_MunicipioLocalidad,4,FALSE),\"\")","v":""},null,null,{"$f":"VLOOKUP(B6,Cat_Municipios!$D$6:$E$64,2,FALSE)","v":{"$error":"#N/A"}}]
[3,null,null,"",null,null,{"$f":"VLOOKUP(B7,Cat_Municipios!$D$6:$E$64,2,FALSE)","v":{"$error":"#N/A"}}]
[4,null,null,"",null,null,{"$f":"VLOOKUP(B8,Cat_Municipios!$D$6:$E$64,2,FALSE)","v":{"$error":"#N/A"}}]
[5,null,null,"",null,null,{"$f":"VLOOKUP(B9,Cat_Municipios!$D$6:$E$64,2,FALSE)","v":{"$error":"#N/A"}}]
[6,null,null,"",null,null,{"$f":"VLOOKUP(B10,Cat_Municipios!$D$6:$E$64,2,FALSE)","v":{"$error":"#N/A"}}]
[7,null,null,"",null,null,{"$f":"VLOOKUP(B11,Cat_Municipios!$D$6:$E$64,2,FALSE)","v":{"$error":"#N/A"}}]
[8,null,null,"",null,null,{"$f":"VLOOKUP(B12,Cat_Municipios!$D$6:$E$64,2,FALSE)","v":{"$error":"#N/A"}}]
[9,null,null,"",null,null,{"$f":"VLOOKUP(B13,Cat_Municipios!$D$6:$E$64,2,FALSE)","v":{"$error":"#N/A"}}]
[10,null,null,"",null,null,{"$f":"VLOOKUP(B14,Cat_Municipios!$D$6:$E$64,2,FALSE)","v":{"$error":"#N/A"}}]
[11,null,null,"",null,null,{"$f":"VLOOKUP(B15,Cat_Municipios!$D$6:$E$64,2,FALSE)","v":{"$error":"#N/A"}}]
[12,null,null,"",null,null,{"$f":"VLOOKUP(B16,Cat_Municipios!$D$6:$E$64,2,FALSE)","v":{"$error":"#N/A"}}]
[13,null,null,"",null,null,{"$f":"VLOOKUP(B17,Cat_Municipios!$D$6:$E$64,2,FALSE)","v":{"$error":"#N/A"}}]
[14,null,null,"",null,null,{"$f":"VLOOKUP(B18,Cat_Municipios!$D$6:$E$64,2,FALSE)","v":{"$error":"#N/A"}}]
[15,null,null,"",null,null,{"$f":"VLOOKUP(B19,Cat_Municipios!$D$6:$E$64,2,FALSE)","v":{"$error":"#N/A"}}]
[16,null,null,"",null,null,{"$f":"VLOOKUP(B20,Cat_Municipios!$D$6:$E$64,2,FALSE)","v":{"$error":"#N/A"}}]
[17,null,null,"",null,null,{"$f":"VLOOKUP(B21,Cat_Municipios!$D$6:$E$64,2,FALSE)","v":{"$error":"#N/A"}}]
[18,null,null,"",null,null,{"$f":"VLOOKUP(B22,Cat_Municipios!$D$6:$E$64,2,FALSE)","v":{"$error":"#N/A"}}]
[19,null,null,"",null,null,{"$f":"VLOOKUP(B23,Cat_Municipios!$D$6:$E$64,2,FALSE)","v":{"$error":"#N/A"}}]
[20,null,null,"",null,null,{"$f":"VLOOKUP(B24,Cat_Municipios!$D$6:$E$64,2,FALSE)","v":{"$error":"#N/A"}}]
[21,null,null,"",null,null,{"$f":"VLOOKUP(B25,Cat_Municipios!$D$6:$E$64,2,FALSE)","v":{"$error":"#N/A"}}]
[22,null,null,"",null,null,{"$f":"VLOOKUP(B26,Cat_Municipios!$D$6:$E$64,2,FALSE)","v":{"$error":"#N/A"}}]
[23,null,null,"",null,null,{"$f":"VLOOKUP(B27,Cat_Municipios!$D$6:$E$64,2,FALSE)","v":{"$error":"#N/A"}}]
[24,null,null,"",null,null,{"$f":"VLOOKUP(B28,Cat_Municipios!$D$6:$E$64,2,FALSE)","v":{"$error":"#N/A"}}]
[25,null,null,"",null,null,{"$f":"VLOOKUP(B29,Cat_Municipios!$D$6:$E$64,2,FALSE)","v":{"$error":"#N/A"}}]
[26,null,null,"",null,null,{"$f":"VLOOKUP(B30,Cat_Municipios!$D$6:$E$64,2,FALSE)","v":{"$error":"#N/A"}}]
[27,null,null,"",null,null,{"$f":"VLOOKUP(B31,Cat_Municipios!$D$6:$E$64,2,FALSE)","v":{"$error":"#N/A"}}]
[28,null,null,"",null,null,{"$f":"VLOOKUP(B32,Cat_Municipios!$D$6:$E$64,2,FALSE)","v":{"$error":"#N/A"}}]
[29,null,null,"",null,null,{"$f":"VLOOKUP(B33,Cat_Municipios!$D$6:$E$64,2,FALSE)","v":{"$error":"#N/A"}}]
[30,null,null,"",null,null,{"$f":"VLOOKUP(B34,Cat_Municipios!$D$6:$E$64,2,FALSE)","v":{"$error":"#N/A"}}]
[31,null,null,"",null,null,{"$f":"VLOOKUP(B35,Cat_Municipios!$D$6:$E$64,2,FALSE)","v":{"$error":"#N/A"}}]
[32,null,null,"",null,null,{"$f":"VLOOKUP(B36,Cat_Municipios!$D$6:$E$64,2,FALSE)","v":{"$error":"#N/A"}}]
[33,null,null,"",null,null,{"$f":"VLOOKUP(B37,Cat_Municipios!$D$6:$E$64,2,FALSE)","v":{"$error":"#N/A"}}]
[34,null,null,"",null,null,{"$f":"VLOOKUP(B38,Cat_Municipios!$D$6:$E$64,2,FALSE)","v":{"$error":"#N/A"}}]
[35,null,null,"",null,null,{"$f":"VLOOKUP(B39,Cat_Municipios!$D$6:$E$64,2,FALSE)","v":{"$error":"#N/A"}}]
[36,null,null,"",null,null,{"$f":"VLOOKUP(B40,Cat_Municipios!$D$6:$E$64,2,FALSE)","v":{"$error":"#N/A"}}]
[37,null,null,"",null,null,{"$f":"VLOOKUP(B41,Cat_Municipios!$D$6:$E$64,2,FALSE)","v":{"$error":"#N/A"}}]
[38,null,null,"",null,null,{"$f":"VLOOKUP(B42,Cat_Municipios!$D$6:$E$64,2,FALSE)","v":{"$error":"#N/A"}}]
[39,null,null,"",null,null,{"$f":"VLOOKUP(B43,Cat_Municipios!$D$6:$E$64,2,FALSE)","v":{"$error":"#N/A"}}]
[40,null,null,"",null,null,{"$f":"VLOOKUP(B44,Cat_Municipios!$D$6:$E$64,2,FALSE)","v":{"$error":"#N/A"}}]
[41,null,null,"",null,null,{"$f":"VLOOKUP(B45,Cat_Municipios!$D$6:$E$64,2,FALSE)","v":{"$error":"#N/A"}}]
[42,null,null,"",null,null,{"$f":"VLOOKUP(B46,Cat_Municipios!$D$6:$E$64,2,FALSE)","v":{"$error":"#N/A"}}]
[43,null,null,"",null,null,{"$f":"VLOOKUP(B47,Cat_Municipios!$D$6:$E$64,2,FALSE)","v":{"$error":"#N/A"}}]
[44,null,null,"",null,null,{"$f":"VLOOKUP(B48,Cat_Municipios!$D$6:$E$64,2,FALSE)","v":{"$error":"#N/A"}}]
[45,null,null,"",null,null,{"$f":"VLOOKUP(B49,Cat_Municipios!$D$6:$E$64,2,FALSE)","v":{"$error":"#N/A"}}]
[46,null,null,"",null,null,{"$f":"VLOOKUP(B50,Cat_Municipios!$D$6:$E$64,2,FALSE)","v":{"$error":"#N/A"}}]
[47,null,null,"",null,null,{"$f":"VLOOKUP(B51,Cat_Municipios!$D$6:$E$64,2,FALSE)","v":{"$error":"#N/A"}}]
[48,null,null,"",null,null,{"$f":"VLOOKUP(B52,Cat_Municipios!$D$6:$E$64,2,FALSE)","v":{"$error":"#N/A"}}]
[49,null,null,"",null,null,{"$f":"VLOOKUP(B53,Cat_Municipios!$D$6:$E$64,2,FALSE)","v":{"$error":"#N/A"}}]
[50,null,null,"",null,null,{"$f":"VLOOKUP(B54,Cat_Municipios!$D$6:$E$64,2,FALSE)","v":{"$error":"#N/A"}}]
[51,null,null,"",null,null,{"$f":"VLOOKUP(B55,Cat_Municipios!$D$6:$E$64,2,FALSE)","v":{"$error":"#N/A"}}]
[52,null,null,"",null,null,{"$f":"VLOOKUP(B56,Cat_Municipios!$D$6:$E$64,2,FALSE)","v":{"$error":"#N/A"}}]
[53,null,null,"",null,null,{"$f":"VLOOKUP(B57,Cat_Municipios!$D$6:$E$64,2,FALSE)","v":{"$error":"#N/A"}}]
[54,null,null,"",null,null,{"$f":"VLOOKUP(B58,Cat_Municipios!$D$6:$E$64,2,FALSE)","v":{"$error":"#N/A"}}]
[55,null,null,"",null,null,{"$f":"VLOOKUP(B59,Cat_Municipios!$D$6:$E$64,2,FALSE)","v":{"$error":"#N/A"}}]
[56,null,null,"",null,null,{"$f":"VLOOKUP(B60,Cat_Municipios!$D$6:$E$64,2,FALSE)","v":{"$error":"#N/A"}}]
[57,null,null,"",null,null,{"$f":"VLOOKUP(B61,Cat_Municipios!$D$6:$E$64,2,FALSE)","v":{"$error":"#N/A"}}]
[58,null,null,"",null,null,{"$f":"VLOOKUP(B62,Cat_Municipios!$D$6:$E$64,2,FALSE)","v":{"$error":"#N/A"}}]
[null,null,null,{"$f":"SUM(D5:D62)","v":0}]
[]
[]
[null,"Regresar"]

{"sheet":"Cat_PP_Indicadores","index":8,"n_rows":263,"n_cols":3,"rows_kept":263,"cut":false,"hidden":true,"merged":[]}
["Sector","Programa Presupuestario","Indicadores"]
["1.1 Más y Mejores Empleos","PP01.01 Empleo y Capacitación  \npara el Trabajo","1. Tasa de desocupación, desagregada por sexo.\n"]
["1.1 Más y Mejores Empleos","PP01.01 Empleo y Capacitación  \npara el Trabajo","2. Incremento de trabajadores asegurados al IMSS desagregado por sexo y grupos de edad."]
["1.1 Más y Mejores Empleos","PP01.01 Empleo y Capacitación  \npara el Trabajo","3. % de personas colocadas en empleos a través de ferias, programas y bolsas de trabajo de la STPS."]
["1.1 Más y Mejores Empleos","PP01.01 Empleo y Capacitación  \npara el Trabajo","4. Tasa de informalidad laboral."]
["1.1 Más y Mejores Empleos","PP01.01 Empleo y Capacitación  \npara el Trabajo","5. Índice de estallamiento de huelgas."]
["1.2 Impulso al Desarrollo Industrial","PP01.02 Industria","1. % de incremento en la inversión concertada en el sector industrial manufacturero, respecto al año anterior."]
["1.2 Impulso al Desarrollo Industrial","PP01.02 Industria","2. % de incremento en la inversión extranjera directa, respecto al año anterior."]
["1.2 Impulso al Desarrollo Industrial","PP01.02 Industria","3. Índice mensual de la actividad industrial."]
["1.2 Impulso al Desarrollo Industrial","PP01.02 Industria","4. Incremento del PIB de las industrias manufactureras."]
["1.2 Impulso al Desarrollo Industrial","PP01.02 Industria","5. Incremento en las exportaciones manufactureras."]
["1.2 Impulso al Desarrollo Industrial","PP01.03 Vinculación de la Ciencia y la Tecnología al Desarrollo Industrial","1. Producción científica en la Entidad."]
["1.2 Impulso al Desarrollo Industrial","PP01.03 Vinculación de la Ciencia y la Tecnología al Desarrollo Industrial","2. % de investigadores inscritos en el Sistema Nacional de Investigadores (SNI) desagregado por sexo."]
["1.3 Desarrollo Turístico, Comercial, Servicios y Minería","PP01.04 Turismo","1. Tasa de crecimiento de la derrama económica del sector turismo."]
["1.3 Desarrollo Turístico, Comercial, Servicios y Minería","PP01.04 Turismo","2. Tasa de crecimiento de turistas hospedados en la oferta hotelera de categoría turística."]
["1.3 Desarrollo Turístico, Comercial, Servicios y Minería","PP01.04 Turismo","3. % de ocupación hotelera de la oferta de categoría turística."]
["1.3 Desarrollo Turístico, Comercial, Servicios y Minería","PP01.05 Comercio y Servicios","1. Índice de la actividad económica estatal."]
["1.3 Desarrollo Turístico, Comercial, Servicios y Minería","PP01.05 Comercio y Servicios","2. % de incremento del monto de financiamiento a MIPYMES y grandes empresas."]
["1.3 Desarrollo Turístico, Comercial, Servicios y Minería","PP01.06 Minería","1. Tasa de crecimiento de la inversión minera en la Entidad."]
["1.3 Desarrollo Turístico, Comercial, Servicios y Minería","PP01.06 Minería","2. Valor de la producción minero metalúrgica."]
["1.4 Desarrollo Agropecuario y Agroindustrial","PP01.07 Agricultura","1. Índice de productividad y competitividad de la actividad agrícola."]
["1.4 Desarrollo Agropecuario y Agroindustrial","PP01.07 Agricultura","2. % de incremento del valor y volumen de la producción agrícola."]
["1.4 Desarrollo Agropecuario y Agroindustrial","PP01.07 Agricultura","3. % de superficie con sistema de riego tecnificado."]
["1.4 Desarrollo Agropecuario y Agroindustrial","PP01.07 Agricultura","4. % de superficie de agricultura protegida."]
["1.4 Desarrollo Agropecuario y Agroindustrial","PP01.08 Ganadería","1. Índice  de productividad y competitividad de la actividad ganadera."]
["1.4 Desarrollo Agropecuario y Agroindustrial","PP01.08 Ganadería","2. % de incremento del valor y volumen de producción ganadera."]
["1.4 Desarrollo Agropecuario y Agroindustrial","PP01.08 Ganadería","3.  % de aportación de la producción ganadera al PIB nacional."]
["1.4 Desarrollo Agropecuario y Agroindustrial","PP01.08 Ganadería","4. Volumen de exportación de productos agropecuarios."]
["1.4 Desarrollo Agropecuario y Agroindustrial","PP01.09 Silvicultura","1. % de superficie de bosques dedicada a la silvicultura."]
["1.4 Desarrollo Agropecuario y Agroindustrial","PP01.10 Acuacultura y Pesca","1. Índice de productividad y competitividad de la actividad acuícola."]
["1.4 Desarrollo Agropecuario y Agroindustrial","PP01.10 Acuacultura y Pesca","2. % de incremento del valor y volumen de producción acuícola."]
["1.4 Desarrollo Agropecuario y Agroindustrial","PP01.10 Acuacultura y Pesca","3. % de incremento en la producción de bagre y tilapia."]
["1.4 Desarrollo Agropecuario y Agroindustrial","PP01.11 Agroindustria","1. Tasa de crecimiento anual del sector agroindustrial."]
["1.4 Desarrollo Agropecuario y Agroindustrial","PP01.11 Agroindustria","2. Producción bruta del sector agroindustria."]
["1.4 Desarrollo Agropecuario y Agroindustrial","PP01.11 Agroindustria","3. % de aportación de la producción agroindustrial al PIB nacional."]
["1.5 Infraestructura, Desarrollo Urbano y Movilidad","PP01.12 Sustentabilidad Urbana","1. % de superficie estatal con certidumbre jurídica en la tenencia de la tierra."]
["1.5 Infraestructura, Desarrollo Urbano y Movilidad","PP01.12 Sustentabilidad Urbana","2. % de superficie de áreas verdes y de esparcimiento en zonas urbanas por habitante."]
["1.5 Infraestructura, Desarrollo Urbano y Movilidad","PP01.12 Sustentabilidad Urbana","3. % de superficie en camellones y parques lineales en mantenimiento, rehabilitación y conservación."]
["1.5 Infraestructura, Desarrollo Urbano y Movilidad","PP01.12 Sustentabilidad Urbana","4. % de planificación de la tierra urbana en la Entidad."]
["1.5 Infraestructura, Desarrollo Urbano y Movilidad","PP01.12 Sustentabilidad Urbana","5. Proporción de asentamientos urbanos en zonas de riesgo."]
["1.5 Infraestructura, Desarrollo Urbano y Movilidad","PP01.13 Urbanización e Imagen","1. Tasa de urbanización."]
["1.5 Infraestructura, Desarrollo Urbano y Movilidad","PP01.13 Urbanización e Imagen","2. % de municipios con planes de desarrollo urbano publicados."]
["1.5 Infraestructura, Desarrollo Urbano y Movilidad","PP01.14 Caminos Rurales","1. % de caminos rurales modernizados."]
["1.5 Infraestructura, Desarrollo Urbano y Movilidad","PP01.14 Caminos Rurales","2. % de caminos rurales conservados."]
["1.5 Infraestructura, Desarrollo Urbano y Movilidad","PP01.14 Caminos Rurales","3. Kilómetros de caminos rurales en la Entidad con acceso a ejes troncales."]
["1.5 Infraestructura, Desarrollo Urbano y Movilidad","PP01.15 Carreteras Alimentadoras","1. % de carreteras alimentadoras modernizadas."]
["1.5 Infraestructura, Desarrollo Urbano y Movilidad","PP01.15 Carreteras Alimentadoras","2. % de carreteras alimentadoras conservadas."]
["1.5 Infraestructura, Desarrollo Urbano y Movilidad","PP01.16 Ejes Troncales","1. % de ejes troncales modernizados."]
["1.5 Infraestructura, Desarrollo Urbano y Movilidad","PP01.16 Ejes Troncales","2. % de ejes troncales conservados."]
["1.5 Infraestructura, Desarrollo Urbano y Movilidad","PP01.16 Ejes Troncales","3. Volumen de carga vehicular que transita por los principales ejes troncales."]
["1.5 Infraestructura, Desarrollo Urbano y Movilidad","PP01.17 Transporte y Movilidad Urbana","1. Superficie de rodamiento con infraestructura para la movilidad urbana (Km)."]
["1.5 Infraestructura, Desarrollo Urbano y Movilidad","PP01.17 Transporte y Movilidad Urbana","2. % de vehículos públicos adaptados a la accesibilidad de la población con discapacidad."]
["1.5 Infraestructura, Desarrollo Urbano y Movilidad","PP01.17 Transporte y Movilidad Urbana","3. % del transporte público que utiliza energías limpias."]
["1.5 Infraestructura, Desarrollo Urbano y Movilidad","PP01.17 Transporte y Movilidad Urbana","4. % del parque vehicular del transporte público renovado."]
["1.5 Infraestructura, Desarrollo Urbano y Movilidad","PP01.18 Telecomunicaciones y Servicios Digitales","1. Proporción de población con acceso a servicios digitales."]
["1.5 Infraestructura, Desarrollo Urbano y Movilidad","PP01.18 Telecomunicaciones y Servicios Digitales","2. % de cobertura de la telefonía rural."]
["2.1 Combate a la Pobreza","PP02.19 Agua Potable","1. % de viviendas con cobertura de agua potable."]
["2.1 Combate a la Pobreza","PP02.19 Agua Potable","2. % de población con acceso a agua potable."]
["2.1 Combate a la Pobreza","PP02.19 Agua Potable","3. % de cobertura de agua potable en comunidades indígenas."]
["2.1 Combate a la Pobreza","PP02.20 Drenaje y Saneamiento","1. % de población en vivienda sin acceso a drenaje."]
["2.1 Combate a la Pobreza","PP02.21 Electrificación","1. % de viviendas con acceso a electrificación en localidades de alta y muy alta marginación."]
["2.1 Combate a la Pobreza","PP02.21 Electrificación","2. % de población con acceso a electrificación en localidades de alta y muy alta marginación."]
["2.1 Combate a la Pobreza","PP02.22 Vivienda","1. % de la población en condiciones de pobreza que cuenta con vivienda digna."]
["2.1 Combate a la Pobreza","PP02.22 Vivienda","2. % de la población que padece carencia por calidad y espacios en la vivienda."]
["2.1 Combate a la Pobreza","PP02.22 Vivienda","3. % de la población en viviendas con pisos de tierra."]
["2.1 Combate a la Pobreza","PP02.22 Vivienda","4. % de la población en viviendas con hacinamiento. "]
["2.2 Salud y Alimentación","PP02.23 Salud","1. Posición estatal de los indicadores Camino a la Excelencia."]
["2.2 Salud y Alimentación","PP02.23 Salud","2. % de cobertura de los servicios de salud."]
["2.2 Salud y Alimentación","PP02.23 Salud","3. Tasa de mortalidad materna."]
["2.2 Salud y Alimentación","PP02.23 Salud","4. Tasa de mortalidad infantil, clasificada por sexo."]
["2.2 Salud y Alimentación","PP02.23 Salud","5. Tasa de embarazo en menores de 15 años. "]
["2.2 Salud y Alimentación","PP02.23 Salud","6. % de cobertura del seguro popular."]
["2.1 Combate a la Pobreza","PP02.24 Alimentación","1. % de la población con carencia por acceso a la alimentación, clasificada por sexo."]
["2.1 Combate a la Pobreza","PP02.24 Alimentación","2. % de la población con inseguridad alimentaria moderada."]
["2.1 Combate a la Pobreza","PP02.24 Alimentación","3. % de la población con inseguridad alimentaria severa."]
["2.1 Combate a la Pobreza","PP02.24 Alimentación","4. Razón de género de la población con carencia alimentaria."]
["2.3 Educación, Cultura y Deporte","PP02.25 Educación, Ciencia y Tecnología","1. Cobertura en educación básica, media superior y superior."]
["2.3 Educación, Cultura y Deporte","PP02.25 Educación, Ciencia y Tecnología","2. Absorción de educación secundaria, media superior y superior."]
["2.3 Educación, Cultura y Deporte","PP02.25 Educación, Ciencia y Tecnología","3. Eficiencia terminal de educación primaria, secundaria, media superior y superior. "]
["2.3 Educación, Cultura y Deporte","PP02.25 Educación, Ciencia y Tecnología","4. % de docentes con resultado idóneo en la evaluación de ingreso y promoción, niveles básico, medio superior)."]
["2.3 Educación, Cultura y Deporte","PP02.25 Educación, Ciencia y Tecnología","5. % de rendimiento en prueba PLANEA en matemáticas, lenguaje y comunicación, niveles básico y medio superior."]
["2.3 Educación, Cultura y Deporte","PP02.26 Cultura","1. % de cobertura de espacios culturales."]
["2.3 Educación, Cultura y Deporte","PP02.26 Cultura","2. % de asistentes a museos y casas de cultura."]
["2.3 Educación, Cultura y Deporte","PP02.26 Cultura","3. % de la población que asiste a actividades artísticas y culturales, clasificada por género."]
["2.3 Educación, Cultura y Deporte","PP02.27 Deporte","1. Posición de San Luis Potosí en la Olimpiada Nacional."]
["2.3 Educación, Cultura y Deporte","PP02.27 Deporte","2. Incremento de participantes en programas de activación física."]
["2.3 Educación, Cultura y Deporte","PP02.27 Deporte","3. % de la población de 18 años y más, activos físicamente, clasificada por sexo."]
["2.3 Educación, Cultura y Deporte","PP02.27 Deporte","4. Razón de género en la participación en el deporte de alto rendimiento y élite."]
["2.4 Políticas de Equidad Transversal","PP02.28 Grupos Vulnerables","1. % de la población en vulnerabilidad alcanzada por programas transversales de asistencia social, clasificada por sexo."]
["2.4 Políticas de Equidad Transversal","PP02.28 Grupos Vulnerables","2. % de niñas y niños beneficiados con desayunos escolares."]
["2.4 Políticas de Equidad Transversal","PP02.28 Grupos Vulnerables","3. Cobertura de desayunos escolares para estudiantes en escuelas de modalidad indígena."]
["2.4 Políticas de Equidad Transversal","PP02.28 Grupos Vulnerables","4. % de personas discapacitadas vinculadas al sector laboral."]
["2.4 Políticas de Equidad Transversal","PP02.28 Grupos Vulnerables","5. % de población mayor de 65 años vinculadas al sector laboral."]
["2.4 Políticas de Equidad Transversal","PP02.29 Comunidades Indígenas","1. Proporción de la población indígena en situación de pobreza extrema, clasificada por sexo."]
["2.4 Políticas de Equidad Transversal","PP02.29 Comunidades Indígenas","2. Tasa de variación de la población indígena en situación de pobreza extrema perteneciente a alguna etnia indígena."]
["2.4 Políticas de Equidad Transversal","PP02.29 Comunidades Indígenas","3. Proporción de viviendas indígenas con servicio de drenaje en los 23 municipios indígenas."]
["2.4 Políticas de Equidad Transversal","PP02.29 Comunidades Indígenas","4. Proporción de viviendas indígenas con servicio de energía eléctrica en los 23 municipios indígenas."]
["2.4 Políticas de Equidad Transversal","PP02.29 Comunidades Indígenas","5. Proporción de viviendas indígenas con servicio de agua potable en los 23 municipios indígenas."]
["2.4 Políticas de Equidad Transversal","PP02.30 Jóvenes","1. % de jóvenes colocados en el sector laboral."]
["2.4 Políticas de Equidad Transversal","PP02.30 Jóvenes","2. % de la población jóven con acceso a algún servicio de salud."]
["2.4 Políticas de Equidad Transversal","PP02.30 Jóvenes","3. % de jóvenes sensibilizados en temas de adicciones, embarazo no planeado y sexualidad responsable, clasificados por sexo."]
["2.4 Políticas de Equidad Transversal","PP02.31 Mujeres","1. % de mujeres víctimas de violencia atendidas en centros de justicia."]
["2.4 Políticas de Equidad Transversal","PP02.31 Mujeres","2. Índice de desigualdad de género por categorías de análisis (condición económica, cultural, social, política y violencia)."]
["2.4 Políticas de Equidad Transversal","PP02.31 Mujeres","3. % de mujeres en puestos directivos de la administración pública."]
["2.4 Políticas de Equidad","PP02.32 Migrantes","1. % de población migrante vinculada a programas de apoyo del sector gubernamental y sector privado."]
["2.4 Políticas de Equidad","PP02.32 Migrantes","2. Razón de género de población migrante vinculada a programas de apoyo."]
["2.4 Políticas de Equidad","PP02.32 Migrantes","3. Comportamiento del monto de las remesas."]
["2.4 Políticas de Equidad","PP02.32 Migrantes","4. Inversión concertada de los migrantes radicados en la unión americana en programas de desarrollo social y combate a la pobreza."]
["3.1 Recursos Forestales, Conservación de Suelos y Biodiversidad","PP03.33 Biodiversidad y Vida Silvestre","1. Tasa de reforestación anual."]
["3.1 Recursos Forestales, Conservación de Suelos y Biodiversidad","PP03.33 Biodiversidad y Vida Silvestre","2. % de incremento de la superficie de Áreas Naturales Protegidas."]
["3.1 Recursos Forestales, Conservación de Suelos y Biodiversidad","PP03.33 Biodiversidad y Vida Silvestre","3. Superficie de áreas forestales con programas de manejo sustentable."]
["3.1 Recursos Forestales, Conservación de Suelos y Biodiversidad","PP03.33 Biodiversidad y Vida Silvestre","4. % de incremento de superficie de Unidades de Vida Silvestre."]
["3.1 Recursos Forestales, Conservación de Suelos y Biodiversidad","PP03.33 Biodiversidad y Vida Silvestre","5. Superficie forestal con programas efectivos de prevención de incendios."]
["3.2 Agua y Reservas Hidrológicas","PP03.34 Gestión Integral del Agua","1. Volumen de sobreexplotación de acuíferos."]
["3.2 Agua y Reservas Hidrológicas","PP03.34 Gestión Integral del Agua","2. % de agua tratada respecto del total de la descarga."]
["3.2 Agua y Reservas Hidrológicas","PP03.34 Gestión Integral del Agua","3. Volúmen tratado de aguas residuales (Lts/seg por cada 1000 hab) y reservas hidrológicas."]
["3.3 Gestión Integral de Residuos","PP03.35 Gestión Integral de Residuos","1. % de residuos sólidos con disposición final adecuada."]
["3.3 Gestión Integral de Residuos","PP03.35 Gestión Integral de Residuos","2. Volumen de residuos sólidos generados por persona."]
["3.3 Gestión Integral de Residuos","PP03.35 Gestión Integral de Residuos","3. % de municipios que cuentan con infraestructura para la recolección, tratamiento y disposición final de residuos sólidos urbanos."]
["3.4 Cambio Climático y Energías Renovables","PP03.36 Cambio Climático","1. % de cumplimiento de la Agenda Estatal de Cambio Climático."]
["3.4 Cambio Climático y Energías Renovables","PP03.36 Cambio Climático","2. % del inventario estatal y municipal de emisiones de gases de efecto invernadero."]
["3.4 Cambio Climático y Energías Renovables","PP03.37 Energías Renovables","1. % de empresas que aplican sistemas eficientes de energía."]
["3.4 Cambio Climático y Energías Renovables","PP03.37 Energías Renovables","2. % del transporte público en transición energética."]
["4.1 Seguridad Pública","PP04.38 Seguridad Pública","1. Incidencia delictiva."]
["4.1 Seguridad Pública","PP04.38 Seguridad Pública","2. % de la población que percibe inseguridad en los espacios públicos y privados, clasificada por sexo."]
["4.1 Seguridad Pública","PP04.38 Seguridad Pública","3. Tasa anual de homicidios dolosos por cada 100,000 habitantes."]
["4.1 Seguridad Pública","PP04.38 Seguridad Pública","4. Tasa anual de secuestro por cada 100,000 habitantes."]
["4.1 Seguridad Pública","PP04.38 Seguridad Pública","5. Tasa anual de extorsión por cada 100,000 habitantes."]
["4.2 Procuración de Justicia","PP04.39 Procuración de Justicia","1. % de eficiencia en la implementación del Sistema de Justicia Penal Acusatorio."]
["4.2 Procuración de Justicia","PP04.39 Procuración de Justicia","2. Tasa de elementos ministerial por cada 100,000 habitantes."]
["4.2 Procuración de Justicia","PP04.39 Procuración de Justicia","3. % de carpetas de investigación determinadas."]
["4.2 Procuración de Justicia","PP04.39 Procuración de Justicia","4. % de dictámenes periciales emitidos."]
["2.4 Políticas de Equidad","PP04.40 Defensoría Social","1. % de denuncias atendidas por violaciones a derechos humanos."]
["2.4 Políticas de Equidad","PP04.40 Defensoría Social","2. % de asesoría jurídica para la atención a víctimas, ofendidos y testigos del delito de secuestro."]
["2.4 Políticas de Equidad","PP04.40 Defensoría Social","3. % de representaciones de defensa de personas pertenecientes a pueblos y comunidades indígenas."]
["4.3 Reinserción Social","PP04.41 Prevención y Reinserción Social","1. % de la población penitenciaria sobre la capacidad instalada de cada centro de reinserción social."]
["4.3 Reinserción Social","PP04.41 Prevención y Reinserción Social","2. % de internos en actividades de capacitación para el trabajo, desagregado por sexo."]
["4.3 Reinserción Social","PP04.41 Prevención y Reinserción Social","3. % de internos en actividades deportivas y culturales."]
["4.3 Reinserción Social","PP04.41 Prevención y Reinserción Social","4. % de internos laborando con beca."]
["4.3 Reinserción Social","PP04.41 Prevención y Reinserción Social","5. % de internos en actividades escolares."]
["4.4 Prevención de la Delincuencia y Atención a Victimas del Delito","PP04.42 Prevención de la Delincuencia","1. Tasa de personas que participan en organizaciones sociales por cada 1,000 habitantes."]
["4.4 Prevención de la Delincuencia y Atención a Victimas del Delito","PP04.42 Prevención de la Delincuencia","2. Tasa de personas que acuden a los espacios públicos para realizar actividades comunitarias por cada 1,000 habitantes."]
["4.4 Prevención de la Delincuencia y Atención a Victimas del Delito","PP04.42 Prevención de la Delincuencia","3. % de jóvenes de 12 a 29 años que han experimentado conflictos en el hogar."]
["4.4 Prevención de la Delincuencia y Atención a Victimas del Delito","PP04.42 Prevención de la Delincuencia","4. % de jóvenes de 12 a 18 años que fueron víctimas de bullying."]
["4.4 Prevención de la Delincuencia y Atención a Victimas del Delito","PP04.42 Prevención de la Delincuencia","5. Tasa de víctimas del delito y de maltrato por cada cien mil jóvenes de 12 a 29 años."]
["4.4 Prevención de la Delincuencia y Atención a Víctimas del Delito","PP04.43 Atención a Víctimas del Delito","1. % de atención a  víctimas del delito o violación de derechos humanos, que solicitaron servicios de atención integral, desagregado por sexo."]
["4.4 Prevención de la Delincuencia y Atención a Víctimas del Delito","PP04.43 Atención a Víctimas del Delito","2. % de asesorías vinculadas a la cooperación interinstitucional en los Centros de Justicia para Mujeres."]
["4.4 Prevención de la Delincuencia y Atención a Víctimas del Delito","PP04.43 Atención a Víctimas del Delito","3. % de víctimas de delitos que recibieron la reparación del daño."]
["4.5 Protección Civil","PP04.44 Protección Civil","1.  Índice de población vulnerable afectada."]
["4.5 Protección Civil","PP04.44 Protección Civil","2. % de avance de actualización del Atlas Estatal de Riesgos."]
["4.5 Protección Civil","PP04.44 Protección Civil","3. % de avance en la elaboración del plan de protección civil para la región de la Huasteca y área Metropolitana (San Luis Seguro ante los Desastres)."]
["4.5 Protección Civil","PP04.44 Protección Civil","4. Índice de eficiencia en la atención de casos de emergencias y desastres."]
["5.1 Gobernabilidad ","PP05.45 Política Interior","1. Índice de posicionamiento del Gobierno en medios impresos y electrónicos. "]
["5.1 Gobernabilidad ","PP05.45 Política Interior","2. Índice de cumplimiento de las acciones en materia de política interna."]
["5.1 Gobernabilidad ","PP05.45 Política Interior","3. % de avance en la regulación de trámites ante gobernación."]
["5.1 Gobernabilidad ","PP05.46 Vinculación con Organismos Autónomos","1. % de participación cívica en elecciones federales, desagregado por sexo y grupos de edad."]
["5.1 Gobernabilidad ","PP05.46 Vinculación con Organismos Autónomos","2. % de participación cívica en elecciones locales, desagregado por sexo y grupos de edad."]
["5.1 Gobernabilidad ","PP05.46 Vinculación con Organismos Autónomos","3. % de participación ciudadana en iniciativas promovidas ante el H. Congreso del Estado."]
["5.1 Gobernabilidad ","PP05.46 Vinculación con Organismos Autónomos","4.  Índice de actualización del marco jurídico administrativo."]
["5.1 Gobernabilidad ","PP05.46 Vinculación con Organismos Autónomos","5.  Índice de atención a solicitudes de apoyo presentadas al Ejecutivo Estatal."]
["5.2 Prevención y Combate a la Corrupción","PP05.47 Prevención y Combate a la Corrupción","1. Percepción de corrupción en actos de gobierno."]
["5.2 Prevención y Combate a la Corrupción","PP05.47 Prevención y Combate a la Corrupción","2. Índice en cobertura de aplicación en materia anticorrupción."]
["5.2 Prevención y Combate a la Corrupción","PP05.47 Prevención y Combate a la Corrupción","3. % de avance en la aplicación de procedimientos de responsabilidad y sanciones."]
["5.2 Prevención y Combate a la Corrupción","PP05.47 Prevención y Combate a la Corrupción","4. Grado de implementación del Sistema Estatal Antocorrupción."]
["5.3 Responsabilidad Financiera y Rendición de Cuentas","PP05.48 Finanzas Públicas","1. Índice de eficiencia de los Ingresos de Libre Disposición (ILD)."]
["5.3 Responsabilidad Financiera y Rendición de Cuentas","PP05.48 Finanzas Públicas","2. Índice de contención en el gasto corriente."]
["5.3 Responsabilidad Financiera y Rendición de Cuentas","PP05.48 Finanzas Públicas","3. % de disminución de la deuda estatal."]
["5.3 Responsabilidad Financiera y Rendición de Cuentas","PP05.48 Finanzas Públicas","4. Balance financiero entre ingresos y egresos de libre disposición."]
["5.3 Responsabilidad Financiera y Rendición de Cuentas","PP05.48 Finanzas Públicas","5. % de cumplimiento de las metas establecidas en los programas presupuestarios."]
["5.3 Responsabilidad Financiera y Rendición de Cuentas","PP05.48 Finanzas Públicas","6. Incremento anual en los ingresos de libre disposición."]
["5.3 Gobierno Abierto e Innovador","PP05.49 Transparencia y Rendición de Cuentas","1. Posición de la Entidad en la métrica de transparencia, CIDE-COMAIP (Conferencia Mexicana para el Acceso a la Información Pública)."]
["5.3 Gobierno Abierto e Innovador","PP05.49 Transparencia y Rendición de Cuentas","2. Grado de cumplimiento de la Administración Pública Estatal en calificación de transparencia y acceso a la información (CEGAIP)."]
["5.3 Gobierno Abierto e Innovador","PP05.49 Transparencia y Rendición de Cuentas","3. % de implementación del Programa de Acción Local de la Agenda de Gobierno Abierto en el Estado."]
["5.3 Gobierno Abierto e Innovador","PP05.49 Transparencia y Rendición de Cuentas","4. % de seguimiento del programa de Contaloría Social."]
["5.3 Gobierno Abierto e Innovador","PP05.49 Transparencia y Rendición de Cuentas","5. Tasa de informes emitidos de programas públicos evaluados por el Comité Estatal de Contraloría Social."]
["5.3 Gobierno Abierto e Innovador","PP05.49 Transparencia y Rendición de Cuentas","6. % del funcionariado profesionalizado en transparencia y rendición de cuentas."]
["5.4 Gobierno Abierto e Innovador","PP05.50 Administración Pública","1. Posición que ocupa la Entidad en la Agenda para el Desarrollo Municipal."]
["5.4 Gobierno Abierto e Innovador","PP05.50 Administración Pública","2. % de trámites de gobierno que se pueden hacer vía Internet.\n"]
["5.4 Gobierno Abierto e Innovador","PP05.50 Administración Pública","3. Percepción ciudadana respecto a los servicios que presta el gobierno."]
["5.4 Gobierno Abierto e Innovador","PP05.50 Administración Pública","4. Índice de actualización de manuales y procedimientos organizacionales de la administración pública."]
["5.5 Derechos Humanos","PP05.51 Derechos Humanos","1. % de implementación de la reforma constitucional en el ámbito estatal y municipal."]
["5.5 Derechos Humanos","PP05.51 Derechos Humanos","2. % de avance en la armonización legislativa conforme a los contenidos constitucionales establecidos en la reforma."]
[]
[]
[]
["1.1. Más y Mejores Empleos","PP01.01 Empleo y Capacitación  \npara el Trabajo",{"$f":"LEFT(B186,7)","v":"PP01.01"}]
["1.2. Impulso al Desarrollo Industrial","PP01.02 Industria",{"$f":"LEFT(B187,7)","v":"PP01.02"}]
["1.2. Impulso al Desarrollo Industrial","PP01.03 Vinculación de la Ciencia y la Tecnología al Desarrollo Industrial","PP01.03"]
["1.3 Desarrollo Turístico, Comercial, de Servicios y Minería","PP01.04 Turismo","PP01.04"]
["1.3 Desarrollo Turístico, Comercial, de Servicios y Minería","PP01.05 Comercio y Servicios","PP01.05"]
["1.3 Desarrollo Turístico, Comercial, de Servicios y Minería","PP01.06 Minería","PP01.06"]
["1.4. Desarrollo Agropecuario Y Agroindustrial","PP01.07 Agricultura","PP01.07"]
["1.4. Desarrollo Agropecuario Y Agroindustrial","PP01.08 Ganadería","PP01.08"]
["1.4. Desarrollo Agropecuario Y Agroindustrial","PP01.09 Silvicultura","PP01.09"]
["1.4. Desarrollo Agropecuario Y Agroindustrial","PP01.10 Acuacultura y Pesca","PP01.10"]
["1.4. Desarrollo Agropecuario Y Agroindustrial","PP01.11 Agroindustria","PP01.11"]
["1.5. Infraestructura, Desarrollo Urbano Y Movilidad","PP01.12 Sustentabilidad Urbana","PP01.12"]
["1.5. Infraestructura, Desarrollo Urbano Y Movilidad","PP01.13 Urbanización e Imagen","PP01.13"]
["1.5. Infraestructura, Desarrollo Urbano Y Movilidad","PP01.14 Caminos Rurales","PP01.14"]
["1.5. Infraestructura, Desarrollo Urbano Y Movilidad","PP01.15 Carreteras Alimentadoras","PP01.15"]
["1.5. Infraestructura, Desarrollo Urbano Y Movilidad","PP01.16 Ejes Troncales","PP01.16"]
["1.5. Infraestructura, Desarrollo Urbano Y Movilidad","PP01.17 Transporte y Movilidad Urbana","PP01.17"]
["1.5. Infraestructura, Desarrollo Urbano Y Movilidad","PP01.18 Telecomunicaciones y Servicios Digitales","PP01.18"]
["2.1. Combate a la Pobreza","PP02.19 Agua Potable","PP02.19"]
["2.1. Combate a la Pobreza","PP02.20 Drenaje y Saneamiento","PP02.20"]
["2.1. Combate a la Pobreza","PP02.21 Electrificación","PP02.21"]
["2.1. Combate a la Pobreza","PP02.22 Vivienda","PP02.22"]
["2.1. Combate a la Pobreza","PP02.24 Alimentación","PP02.24"]
["2.2. Salud y Alimentación","PP02.23 Salud","PP02.23"]
["2.3. Educación, Cultura y Deporte","PP02.25 Educación, Ciencia y Tecnología","PP02.25"]
["2.3. Educación, Cultura y Deporte","PP02.26 Cultura","PP02.26"]
["2.3. Educación, Cultura y Deporte","PP02.27 Deporte","PP02.27"]
["2.4. Políticas de Equidad","PP02.28 Grupos Vulnerables","PP02.28"]
["2.4. Políticas de Equidad","PP02.29 Comunidades Indígenas","PP02.29"]
["2.4. Políticas de Equidad","PP02.30 Jóvenes","PP02.30"]
["2.4. Políticas de Equidad","PP02.31 Mujeres","PP02.31"]
["2.4. Políticas de Equidad","PP02.32 Migrantes","PP02.32"]
["2.4. Políticas de Equidad","PP04.40 Defensoría Social","PP04.40"]
["3.1. Recursos Forestales, Conservación de Suelos y Biodiversidad.","PP03.33 Biodiversidad y Vida Silvestre","PP03.33"]
["3.2. Agua y Reservas Hidrológicas. ","PP03.34 Gestión Integral del Agua","PP03.34"]
["3.3. Gestión Integral de Residuos.","PP03.35 Gestión Integral de Residuos","PP03.35"]
["3.4. Cambio Climático y Energías Renovables.","PP03.36 Cambio Climático","PP03.36"]
["3.4. Cambio Climático y Energías Renovables.","PP03.37 Energías Renovables","PP03.37"]
["4.1. Seguridad Pública.","PP04.38 Seguridad Pública","PP04.38"]
["4.2. Procuración de Justicia. ","PP04.39 Procuración de Justicia","PP04.39"]
["4.3. Reinserción Social.","PP04.41 Prevención y Reinserción Social","PP04.41"]
["4.4. Prevención de la Delincuencia y Atención a Víctimas.","PP04.42 Prevención de la Delincuencia","PP04.42"]
["4.4. Prevención de la Delincuencia y Atención a Víctimas.","PP04.43 Atención a Víctimas del Delito","PP04.43"]
["4.5. Protección Civil.","PP04.44 Protección Civil","PP04.44"]
["5.1. Gobernabilidad.","PP05.45 Política Interior","PP05.45"]
["5.1. Gobernabilidad.","PP05.46 Vinculación con Organismos Autónomos","PP05.46"]
["5.2. Prevención y Combate a la Corrupción. ","PP05.47 Prevención y Combate a la Corrupción","PP05.47"]
["5.3. Responsabilidad Financiera y Rendición de Cuentas.","PP05.48 Finanzas Públicas","PP05.48"]
["5.4. Gobierno Abierto e Innovador.","PP05.49 Transparencia y Rendición de Cuentas","PP05.49"]
["5.4. Gobierno Abierto e Innovador.","PP05.50 Administración Pública","PP05.50"]
["5.5. Derechos Humanos.","PP05.51 Derechos Humanos","PP05.51"]
[]
[]
[]
[]
["1.1. Más y Mejores Empleos","S1.1"]
["1.2. Impulso al Desarrollo Industrial","S1.2"]
["1.3 Desarrollo Turístico, Comercial, de Servicios y Minería","S1.3"]
["1.4. Desarrollo Agropecuario Y Agroindustrial","S1.4"]
["1.5. Infraestructura, Desarrollo Urbano Y Movilidad","S1.5"]
["2.1. Combate a la Pobreza","S2.1"]
["2.2. Salud y Alimentación","S2.2"]
["2.3. Educación, Cultura y Deporte","S2.3"]
["2.4. Políticas de Equidad","S2.4"]
["3.1. Recursos Forestales, Conservación de Suelos y Biodiversidad.","S3.1"]
["3.2. Agua y Reservas Hidrológicas. ","S3.2"]
["3.3. Gestión Integral de Residuos.","S3.3"]
["3.4. Cambio Climático y Energías Renovables.","S3.4"]
["4.1. Seguridad Pública.","S4.1"]
["4.2. Procuración de Justicia. ","S4.2"]
["4.3. Reinserción Social.","S4.3"]
["4.4. Prevención de la Delincuencia y Atención a Víctimas.","S4.4"]
["4.5. Protección Civil.","S4.5"]
["5.1. Gobernabilidad.","S5.1"]
["5.2. Prevención y Combate a la Corrupción. ","S5.2"]
["5.3. Responsabilidad Financiera y Rendición de Cuentas.","S5.3"]
["5.4. Gobierno Abierto e Innovador.","S5.4"]
["5.5. Derechos Humanos.","S5.5"]

{"sheet":"Cat_PP","index":9,"n_rows":53,"n_cols":3,"rows_kept":53,"cut":false,"hidden":true,"merged":[[52,0,52,2],[33,0,37,0],[33,1,37,1],[38,0,44,0],[38,1,44,1],[1,0,18,0],[1,1,18,1],[19,0,32,0],[19,1,32,1],[45,0,51,0],[45,1,51,1]]}
["No.","Ejes Rectores del PED 2015-2021","Programa Presupuestario"]
[1,"San Luis Próspero","1.1.1 Empleo y Capacitación para el Trabajo"]
[null,null,"1.2.1 Industria"]
[null,null,"1.2.2 Vinculación de la Ciencia y la Tecnología al Desarrollo Industrial"]
[null,null,"1.3.1 Turismo"]
[null,null,"1.3.2 Comercio y Servicios"]
[null,null,"1.3.3 Minería"]
[null,null,"1.4.1 Agricultura"]
[null,null,"1.4.2 Ganadería"]
[null,null,"1.4.3 Silvicultura"]
[null,null,"1.4.4 Acuacultura y Pesca"]
[null,null,"1.4.5 Agroindustria"]
[null,null,"1.5.1 Sustentabilidad Urbana"]
[null,null,"1.5.2 Urbanización e Imagen"]
[null,null,"1.5.3 Caminos Rurales"]
[null,null,"1.5.4 Carreteras Alimentadoras"]
[null,null,"1.5.5 Ejes Troncales"]
[null,null,"1.5.6 Transporte y Movilidad Urbana"]
[null,null,"1.5.7 Telecomunicaciones y Servicios Digitales"]
[2,"San Luis Incluyente","2.1.1 Agua Potable"]
[null,null,"2.1.2 Drenaje y Saneamiento"]
[null,null,"2.1.3 Electrificación"]
[null,null,"2.1.4 Vivienda"]
[null,null,"2.2.1 Salud"]
[null,null,"2.2.2 Alimentación"]
[null,null,"2.3.1 Educación, Ciencia y Tecnología"]
[null,null,"2.3.2 Cultura"]
[null,null,"2.3.3 Deporte"]
[null,null,"2.4.1 Grupos Vulnerables"]
[null,null,"2.4.2 Comunidades Indígenas"]
[null,null,"2.4.3 Jóvenes"]
[null,null,"2.4.4 Mujeres"]
[null,null,"2.4.5 Migrantes"]
[3,"San Luis Sustentable","3.1.1 Biodiversidad y Vida Silvestre"]
[null,null,"3.2.1 Gestión Integral del Agua"]
[null,null,"3.3.1 Gestión Integral de Residuos"]
[null,null,"3.4.1 Cambio Climático "]
[null,null,"3.4.2 Energías Renovables"]
[4,"San Luis Seguro","4.1.1 Seguridad Pública"]
[null,null,"4.2.1 Procuración de Justicia"]
[null,null,"4.2.2 Defensoría Social"]
[null,null,"4.3.1 Prevención y Reinserción Social"]
[null,null,"4.4.1 Prevención de la Delincuencia "]
[null,null,"4.4.2 Atención a Victimas del Delito"]
[null,null,"4.5.1 Protección Civil"]
[5,"San Luis con Buen Gobierno","5.1.1 Política Interior"]
[null,null,"5.1.2 Vinculación con Organismos Autónomos"]
[null,null,"5.2.1 Prevención y Combate a la Corrupción"]
[null,null,"5.3.1 Finanzas Públicas"]
[null,null,"5.3.2 Transparencia y Rendición de Cuentas"]
[null,null,"5.4.1 Administración Pública"]
[null,null,"5.5.1 Derechos Humanos"]
["PRESUPUESTO ESTATAL"]

{"sheet":"BD CATALOGOS","index":10,"n_rows":709,"n_cols":3,"rows_kept":709,"cut":false,"hidden":true,"merged":[]}
[]
[]
[]
["Instancia Ejecutora:","Instancia Promotora:"]
["CONGRESO DEL ESTADO","CONGRESO DEL ESTADO"]
["SUPREMO TRIBUNAL DE JUSTICIA","SUPREMO TRIBUNAL DE JUSTICIA"]
["DESPACHO DEL EJECUTIVO","DESPACHO DEL EJECUTIVO"]
["SECRETARÍA GENERAL DE GOBIERNO","SECRETARÍA GENERAL DE GOBIERNO"]
["SECRETARÍA DE FINANZAS","SECRETARÍA DE FINANZAS"]
["SECRETARÍA DE DESARROLLO SOCIAL Y REGIONAL","SECRETARÍA DE DESARROLLO SOCIAL Y REGIONAL"]
["SECRETARÍA DE DESARROLLO URBANO, VIVIENDA Y OBRAS PÚBLICAS","SECRETARÍA DE DESARROLLO URBANO, VIVIENDA Y OBRAS PÚBLICAS"]
["SECRETARÍA DE DESARROLLO ECONÓMICO","SECRETARÍA DE DESARROLLO ECONÓMICO"]
["SECRETARÍA DE DESARROLLO AGROPECUARIO Y RECURSOS HIDRÁULICOS","SECRETARÍA DE DESARROLLO AGROPECUARIO Y RECURSOS HIDRÁULICOS"]
["SECRETARÍA DE ECOLOGÍA Y GESTIÓN AMBIENTAL","SECRETARÍA DE ECOLOGÍA Y GESTIÓN AMBIENTAL"]
["SISTEMA EDUCATIVO ESTATAL REGULAR","SISTEMA EDUCATIVO ESTATAL REGULAR"]
["OFICIALÍA MAYOR","OFICIALÍA MAYOR"]
["PROCURADURÍA GENERAL DE JUSTICIA","PROCURADURÍA GENERAL DE JUSTICIA"]
["CONTRALORÍA GENERAL DEL ESTADO","CONTRALORÍA GENERAL DEL ESTADO"]
["SECRETARÍA DE EDUCACIÓN","SECRETARÍA DE EDUCACIÓN"]
["COORDINACIÓN GENERAL DE LA DEFENSORÍA  PÚBLICA DEL ESTADO","COORDINACIÓN GENERAL DE LA DEFENSORÍA  PÚBLICA DEL ESTADO"]
["SECRETARIADO EJECUTIVO DEL CONSEJO ESTATAL DE SEGURIDAD PÚBLICA DEL ESTADO","SECRETARIADO EJECUTIVO DEL CONSEJO ESTATAL DE SEGURIDAD PÚBLICA DEL ESTADO"]
["SECRETARÍA TÉCNICA DEL GABINETE","SECRETARÍA TÉCNICA DEL GABINETE"]
["COORDINACIÓN GENERAL DE COMUNICACIÓN SOCIAL","COORDINACIÓN GENERAL DE COMUNICACIÓN SOCIAL"]
["SECRETARÍA DE COMUNICACIONES Y TRANSPORTES","SECRETARÍA DE COMUNICACIONES Y TRANSPORTES"]
["SECRETARÍA DEL TRABAJO Y PREVISIÓN SOCIAL","SECRETARÍA DEL TRABAJO Y PREVISIÓN SOCIAL"]
["SECRETARÍA DE TURISMO","SECRETARÍA DE TURISMO"]
["SECRETARÍA DE CULTURA","SECRETARÍA DE CULTURA"]
["SECRETARÍA DE SEGURIDAD PÚBLICA","SECRETARÍA DE SEGURIDAD PÚBLICA"]
["CONSEJERÍA JURÍDICA","CONSEJERÍA JURÍDICA"]
["UNIDAD DE SISTEMAS DE INFORMÁTICA DEL PODER EJECUTIVO DE SAN LUIS POTOSÍ","UNIDAD DE SISTEMAS DE INFORMÁTICA DEL PODER EJECUTIVO DE SAN LUIS POTOSÍ"]
["C.E.C.U.R.T. PROF. CARLOS JONGUITUD BARRIOS","C.E.C.U.R.T. PROF. CARLOS JONGUITUD BARRIOS"]
["C.E.C.U.R.T. II","C.E.C.U.R.T. II"]
["JUNTA ESTATAL DE CAMINOS","JUNTA ESTATAL DE CAMINOS"]
["SISTEMA PARA EL DESARROLLO INTEGRAL DE LA FAMILIA DEL ESTADO DE SAN LUIS POTOSÍ","SISTEMA PARA EL DESARROLLO INTEGRAL DE LA FAMILIA DEL ESTADO DE SAN LUIS POTOSÍ"]
["CENTRO DE CONVENCIONES DE SAN LUIS POTOSI","CENTRO DE CONVENCIONES DE SAN LUIS POTOSI"]
["INSTITUTO REGISTRAL Y CATASTRAL DEL ESTADO DE SAN LUIS POTOSI","INSTITUTO REGISTRAL Y CATASTRAL DEL ESTADO DE SAN LUIS POTOSI"]
["ARCHIVO HISTÓRICO DEL ESTADO LIC. ANTONIO ROCHA","ARCHIVO HISTÓRICO DEL ESTADO LIC. ANTONIO ROCHA"]
["COMISIÓN ESTATAL DEL AGUA","COMISIÓN ESTATAL DEL AGUA"]
["RÉGIMEN ESTATAL DE PROTECCIÓN SOCIAL EN SALUD DEL ESTADO DE SAN LUÍS POTOSÍ","RÉGIMEN ESTATAL DE PROTECCIÓN SOCIAL EN SALUD DEL ESTADO DE SAN LUÍS POTOSÍ"]
["COORDINACIÓN ESTATAL PARA EL FORTALECIMIENTO INSTITUCIONAL DE LOS MUNICIPIOS","COORDINACIÓN ESTATAL PARA EL FORTALECIMIENTO INSTITUCIONAL DE LOS MUNICIPIOS"]
["CONSEJO ESTATAL DE POBLACIÓN","CONSEJO ESTATAL DE POBLACIÓN"]
["INSTITUTO POTOSINO DEL DEPORTE","INSTITUTO POTOSINO DEL DEPORTE"]
["CONSEJO POTOSINO DE CIENCIA Y TECNOLOGÍA","CONSEJO POTOSINO DE CIENCIA Y TECNOLOGÍA"]
["DIRECCIÓN DEL CAFÉ","DIRECCIÓN DEL CAFÉ"]
["PROMOTORA DEL ESTADO DE SAN LUIS POTOSÍ","PROMOTORA DEL ESTADO DE SAN LUIS POTOSÍ"]
["INSTITUTO ESTATAL DE INFRAESTRUCTURA FÍSICA EDUCATIVA","INSTITUTO ESTATAL DE INFRAESTRUCTURA FÍSICA EDUCATIVA"]
["INSTITUTO DE LAS MUJERES, DEL ESTADO DE SAN LUIS POTOSI","INSTITUTO DE LAS MUJERES, DEL ESTADO DE SAN LUIS POTOSI"]
["SERVICIOS DE SALUD DE SAN LUIS POTOSÍ","SERVICIOS DE SALUD DE SAN LUIS POTOSÍ"]
["TRIBUNAL DE LO CONTENCIOSO ADMINISTRATIVO","TRIBUNAL DE LO CONTENCIOSO ADMINISTRATIVO"]
["INSTITUTO POTOSINO DE LA JUVENTUD","INSTITUTO POTOSINO DE LA JUVENTUD"]
["INSTITUTO ESTATAL DE CIEGOS","INSTITUTO ESTATAL DE CIEGOS"]
["INSTITUTO DE DESARROLLO HUMANO Y SOCIAL DE LOS PUEBLOS INDIGENAS","INSTITUTO DE DESARROLLO HUMANO Y SOCIAL DE LOS PUEBLOS INDIGENAS"]
["COMISIÓN EJECUTIVA ESTATAL DE ATENCIÓN A VICTIMAS","COMISIÓN EJECUTIVA ESTATAL DE ATENCIÓN A VICTIMAS"]
["INSTITUTO DE VIVIENDA DEL ESTADO","INSTITUTO DE VIVIENDA DEL ESTADO"]
["FONDO TURÍSTICO","FONDO TURÍSTICO"]
["CENTRO DE PRODUCCION SANTA RITA, S.A. DE C.V.","CENTRO DE PRODUCCION SANTA RITA, S.A. DE C.V."]
["DELEGACIÓN ESTATAL DE LA SECRETARÍA DE RELACIONES EXTERIORES","DELEGACIÓN ESTATAL DE LA SECRETARÍA DE RELACIONES EXTERIORES"]
["INSTITUTO NACIONAL DE LAS PERSONAS ADULTAS MAYORES","INSTITUTO NACIONAL DE LAS PERSONAS ADULTAS MAYORES"]
["UNIVERSIDAD INTERCULTURAL","UNIVERSIDAD INTERCULTURAL"]
["UNIVERSIDAD INTERCULTURAL DE SAN LUIS","UNIVERSIDAD INTERCULTURAL DE SAN LUIS"]
["CONSEJO CONSULTIVO DEL CENTRO HISTÓRICO","CONSEJO CONSULTIVO DEL CENTRO HISTÓRICO"]
["ASILO PARA ANCIANOS DR. NICOLÁS AGUILAR","ASILO PARA ANCIANOS DR. NICOLÁS AGUILAR"]
["INSTITUTO DE REINTEGRACIÓN SOCIAL ROSARIO CASTELLANOS","INSTITUTO DE REINTEGRACIÓN SOCIAL ROSARIO CASTELLANOS"]
["COLEGIO DE BACHILLERES","COLEGIO DE BACHILLERES"]
["INSTITUTO DE REINTEGRACIÓN SOCIAL RAFAEL NIETO","INSTITUTO DE REINTEGRACIÓN SOCIAL RAFAEL NIETO"]
["CASA CUNA MARGARITA MAZA DE JUÁREZ","CASA CUNA MARGARITA MAZA DE JUÁREZ"]
["INSTITUTO TEMAZCALLI, PREVENCIÓN Y REHABILITACIÓN","INSTITUTO TEMAZCALLI, PREVENCIÓN Y REHABILITACIÓN"]
["SISTEMA DE FINANCIAMIENTO PARA EL DESARROLLO DEL ESTADO DE SAN LUIS POTOSÍ","SISTEMA DE FINANCIAMIENTO PARA EL DESARROLLO DEL ESTADO DE SAN LUIS POTOSÍ"]
["INSTITUTO POTOSINO DE BELLAS ARTES","INSTITUTO POTOSINO DE BELLAS ARTES"]
["MUSEO DEL VIRREINATO","MUSEO DEL VIRREINATO"]
["INSTITUTO ESTATAL DE EDUCACIÓN PARA ADULTOS","INSTITUTO ESTATAL DE EDUCACIÓN PARA ADULTOS"]
["COLEGIO DE EDUCACIÓN PROFESIONAL TÉCNICA DEL ESTADO DE SAN LUIS POTOSÍ","COLEGIO DE EDUCACIÓN PROFESIONAL TÉCNICA DEL ESTADO DE SAN LUIS POTOSÍ"]
["INSTITUTO TECNOLÓGICO SUPERIOR DE EBANO","INSTITUTO TECNOLÓGICO SUPERIOR DE EBANO"]
["INSTITUTO DE CAPACITACIÓN PARA EL TRABAJO DEL ESTADO DE SAN LUIS POTOSÍ","INSTITUTO DE CAPACITACIÓN PARA EL TRABAJO DEL ESTADO DE SAN LUIS POTOSÍ"]
["INSTITUTO TECNOLÓGICO DE TAMAZUNCHALE","INSTITUTO TECNOLÓGICO DE TAMAZUNCHALE"]
["UNIVERSIDAD TECNOLÓGICA","UNIVERSIDAD TECNOLÓGICA"]
["FIDEICOMISO CENTRO HISTORICO","FIDEICOMISO CENTRO HISTORICO"]
["FIDEICOMISO FONDEN","FIDEICOMISO FONDEN"]
["CENTRO CULTURAL REAL DE CATORCE","CENTRO CULTURAL REAL DE CATORCE"]
["MUSEO DEL FERROCARRIL","MUSEO DEL FERROCARRIL"]
["MUSEO DE ARTE CONTEMPORÁNEO","MUSEO DE ARTE CONTEMPORÁNEO"]
["MUSEO LABERINTO DE LAS CIENCIAS Y LAS ARTES","MUSEO LABERINTO DE LAS CIENCIAS Y LAS ARTES"]
["CENTRO DE LAS ARTES DE SAN LUIS POTOSÍ","CENTRO DE LAS ARTES DE SAN LUIS POTOSÍ"]
["MUSEO FRANCISCO COSSÍO","MUSEO FRANCISCO COSSÍO"]
["MUSEO FEDERICO SILVA, ESCULTURA CONTEMPORÁNEA","MUSEO FEDERICO SILVA, ESCULTURA CONTEMPORÁNEA"]
["CINETECA ALAMEDA","CINETECA ALAMEDA"]
["MUSEO NACIONAL DE LA MASCARA","MUSEO NACIONAL DE LA MASCARA"]
["COLEGIO DE ESTUDIOS CIENTÍFICOS Y TECNOLÓGICOS (CECYTE)","COLEGIO DE ESTUDIOS CIENTÍFICOS Y TECNOLÓGICOS (CECYTE)"]
["INSTITUTO TECNOLÓGICO SUPERIOR DE RIOVERDE","INSTITUTO TECNOLÓGICO SUPERIOR DE RIOVERDE"]
["UNIVERSIDAD POLITÉCNICA DE SAN LUIS POTOSÍ","UNIVERSIDAD POLITÉCNICA DE SAN LUIS POTOSÍ"]
["COLEGIO DE SAN LUIS","COLEGIO DE SAN LUIS"]
["INSTITUTO TECNOLÓGICO SUPERIOR DE SAN LUIS POTOSÍ","INSTITUTO TECNOLÓGICO SUPERIOR DE SAN LUIS POTOSÍ"]
["UNIVERSIDAD INDÍGENA DE SAN LUIS POTOSÍ","UNIVERSIDAD INDÍGENA DE SAN LUIS POTOSÍ"]
["UNIVERSIDAD COMUNITARIA DE SAN LUIS POTOSÍ","UNIVERSIDAD COMUNITARIA DE SAN LUIS POTOSÍ"]
["MUSEO REGIONAL POTOSINO","MUSEO REGIONAL POTOSINO"]
["MUSEO REGIONAL HUASTECO, A.C.","MUSEO REGIONAL HUASTECO, A.C."]
["CENTRO CULTURAL REAL DE CATORCE","CENTRO CULTURAL REAL DE CATORCE"]
["BENEMERITA Y CENTENARIA ESCUELA NORMAL DEL ESTADO","BENEMERITA Y CENTENARIA ESCUELA NORMAL DEL ESTADO"]
["BANDA SINFONICA JUVENIL DE CHARCAS","BANDA SINFONICA JUVENIL DE CHARCAS"]
["PENTATHLÓN UNIVERSITARIO, A.C.","PENTATHLÓN UNIVERSITARIO, A.C."]
["IMPULSORA DE LA MUSICA DE CHARCAS SLP, A.C.","IMPULSORA DE LA MUSICA DE CHARCAS SLP, A.C."]
["INSTITUTO MATEHUALENSE DE BELLAS ARTES","INSTITUTO MATEHUALENSE DE BELLAS ARTES"]
["CASA DE CULTURA XOCHIPILLI CÁRDENAS","CASA DE CULTURA XOCHIPILLI CÁRDENAS"]
["COLEGIO EDUCATIVO DE CIENCIAS, CULTURA Y SERVICIOS PROFESIONALES, A.C.","COLEGIO EDUCATIVO DE CIENCIAS, CULTURA Y SERVICIOS PROFESIONALES, A.C."]
["PROMOCION DEPORTIVA, A.C.","PROMOCION DEPORTIVA, A.C."]
["CENTRO POTOSINO DE INTERCAMBIO Y APOYO CULTURAL, A.C.","CENTRO POTOSINO DE INTERCAMBIO Y APOYO CULTURAL, A.C."]
["PATRONATO DE LA ORQUESTA SINFÓNICA DE SAN LUIS","PATRONATO DE LA ORQUESTA SINFÓNICA DE SAN LUIS"]
["ASOCIACIÓN DE JUBILADOS","ASOCIACIÓN DE JUBILADOS"]
["CONSEJO NACIONAL DE FOMENTO EDUCATIVO","CONSEJO NACIONAL DE FOMENTO EDUCATIVO"]
["ESTANCIA DESARROLLO Y BIENESTAR INFANTIL SUTSGE","ESTANCIA DESARROLLO Y BIENESTAR INFANTIL SUTSGE"]
["MARATÓN INTERNACIONAL TANGAMANGA","MARATÓN INTERNACIONAL TANGAMANGA"]
["ASOCIACIÓN PRODEFENSA PATRIMONIO HISTÓRICO","ASOCIACIÓN PRODEFENSA PATRIMONIO HISTÓRICO"]
["RELIGIOSAS DE LA CRUZ DEL SAGRADO CORAZÓN DE JESÚS EN MÉXICO, A.R.","RELIGIOSAS DE LA CRUZ DEL SAGRADO CORAZÓN DE JESÚS EN MÉXICO, A.R."]
["MISIONERAS GUADALUPANAS DEL ESPÍRITU SANTO, A.R.","MISIONERAS GUADALUPANAS DEL ESPÍRITU SANTO, A.R."]
["CASA DE CULTURA DE LA COLONIA JACARANDAS","CASA DE CULTURA DE LA COLONIA JACARANDAS"]
["EL ÁNGEL DEL ESPEJO, A.C.","EL ÁNGEL DEL ESPEJO, A.C."]
["GUARDERÍA MATEHUALA, A.C.","GUARDERÍA MATEHUALA, A.C."]
["MUSEO DE LAS TRADICIONES POTOSINAS, A.C.","MUSEO DE LAS TRADICIONES POTOSINAS, A.C."]
["INSTITUTO POTOSINO DE INVESTIGACIÓN CIENTÍFICA Y TECNOLÓGICA,A.C. (IPICYT)","INSTITUTO POTOSINO DE INVESTIGACIÓN CIENTÍFICA Y TECNOLÓGICA,A.C. (IPICYT)"]
["CLUB DEPORTIVO Y CULTURAL MAICENSE, A.C.","CLUB DEPORTIVO Y CULTURAL MAICENSE, A.C."]
["AHUALULCO","AHUALULCO"]
["ALAQUINES","ALAQUINES"]
["AQUISMÓN","AQUISMÓN"]
["ARMADILLO DE LOS INFANTE","ARMADILLO DE LOS INFANTE"]
["AXTLA DE TERRAZAS","AXTLA DE TERRAZAS"]
["CÁRDENAS","CÁRDENAS"]
["CATORCE","CATORCE"]
["CEDRAL","CEDRAL"]
["CERRITOS","CERRITOS"]
["CERRO DE SAN PEDRO","CERRO DE SAN PEDRO"]
["CIUDAD DEL MAÍZ","CIUDAD DEL MAÍZ"]
["CIUDAD FERNÁNDEZ","CIUDAD FERNÁNDEZ"]
["CIUDAD VALLES","CIUDAD VALLES"]
["COXCATLÁN","COXCATLÁN"]
["CHARCAS","CHARCAS"]
["ÉBANO","ÉBANO"]
["GUADALCÁZAR","GUADALCÁZAR"]
["HUEHUETLÁN","HUEHUETLÁN"]
["LAGUNILLAS","LAGUNILLAS"]
["MATEHUALA","MATEHUALA"]
["MEXQUITIC DE CARMONA","MEXQUITIC DE CARMONA"]
["MOCTEZUMA","MOCTEZUMA"]
["RAYÓN","RAYÓN"]
["RIOVERDE","RIOVERDE"]
["SALINAS","SALINAS"]
["SAN ANTONIO","SAN ANTONIO"]
["SAN CIRO DE ACOSTA","SAN CIRO DE ACOSTA"]
["SAN LUIS POTOSÍ","SAN LUIS POTOSÍ"]
["SAN MARTÍN CHALCHICUAUTLA","SAN MARTÍN CHALCHICUAUTLA"]
["SAN NICOLÁS TOLENTINO","SAN NICOLÁS TOLENTINO"]
["SAN VICENTE TANCUAYALAB","SAN VICENTE TANCUAYALAB"]
["SANTA CATARINA","SANTA CATARINA"]
["SANTA MARÍA DEL RÍO","SANTA MARÍA DEL RÍO"]
["SANTO DOMINGO","SANTO DOMINGO"]
["SOLEDAD DE GRACIANO SÁNCHEZ","SOLEDAD DE GRACIANO SÁNCHEZ"]
["TAMASOPO","TAMASOPO"]
["TAMAZUNCHALE","TAMAZUNCHALE"]
["TAMPACÁN","TAMPACÁN"]
["TAMPAMOLÓN CORONA","TAMPAMOLÓN CORONA"]
["TAMUÍN","TAMUÍN"]
["TANCANHUITZ","TANCANHUITZ"]
["TANLAJÁS","TANLAJÁS"]
["TANQUIÁN DE ESCOBEDO","TANQUIÁN DE ESCOBEDO"]
["TIERRA NUEVA","TIERRA NUEVA"]
["VANEGAS","VANEGAS"]
["VENADO","VENADO"]
["VILLA DE ARISTA","VILLA DE ARISTA"]
["VILLA DE ARRIAGA","VILLA DE ARRIAGA"]
["VILLA DE GUADALUPE","VILLA DE GUADALUPE"]
["VILLA DE HIDALGO","VILLA DE HIDALGO"]
["VILLA DE LA PAZ","VILLA DE LA PAZ"]
["VILLA DE RAMOS","VILLA DE RAMOS"]
["VILLA DE REYES","VILLA DE REYES"]
["ZARAGOZA","ZARAGOZA"]
["VILLA JUÁREZ","VILLA JUÁREZ"]
["XILITLA","XILITLA"]
["EL NARANJO","EL NARANJO"]
["MATLAPA","MATLAPA"]
["REMANENTE","REMANENTE"]
["ALUMBRADO PÚBLICO","ALUMBRADO PÚBLICO"]
["APOYOS A LOS SISTEMAS DIF MUNICIPALES","APOYOS A LOS SISTEMAS DIF MUNICIPALES"]
["DESARROLLO INSTITUCIONAL","DESARROLLO INSTITUCIONAL"]
["PARTICIPACIÓN A MUNICIPIOS","PARTICIPACIÓN A MUNICIPIOS"]
["ASILO DE ANCIANOS SAN MARTÍN DE PORRES, A.C.","ASILO DE ANCIANOS SAN MARTÍN DE PORRES, A.C."]
["CASA HOGAR DEL ANCIANO SAN NICOLAS TOLENTINO DE CARDENAS SLP AC","CASA HOGAR DEL ANCIANO SAN NICOLAS TOLENTINO DE CARDENAS SLP AC"]
["CABRAL OBREGÓN, A.C. ASILO MONTES DE OCA","CABRAL OBREGÓN, A.C. ASILO MONTES DE OCA"]
["FUNDACIÓN ASILO GABRIEL AGUIRRE, S.C.","FUNDACIÓN ASILO GABRIEL AGUIRRE, S.C."]
["ESCUELA DEL NIÑO OBRERO, A.C.","ESCUELA DEL NIÑO OBRERO, A.C."]
["ASILO INFANTIL JOSEFINO, A.C.","ASILO INFANTIL JOSEFINO, A.C."]
["EL GRAN LENTE CIUDAD DEL MAIZ","EL GRAN LENTE CIUDAD DEL MAIZ"]
["CON GANAS DE VIVIR, A.C.","CON GANAS DE VIVIR, A.C."]
["VENADO UNIDO CONTRA EL CANCER, A.C.","VENADO UNIDO CONTRA EL CANCER, A.C."]
["SOCIEDAD PRODUCTIVA P/EL ETNODESARROLLO D/LOS POTOSINOS DE ALTA MARGINACIÓN, A.C","SOCIEDAD PRODUCTIVA P/EL ETNODESARROLLO D/LOS POTOSINOS DE ALTA MARGINACIÓN, A.C"]
["CASA HOGAR VALLADO, A.C.","CASA HOGAR VALLADO, A.C."]
["HEMOFILIA POTOSINA, A.C.","HEMOFILIA POTOSINA, A.C."]
["CENTRO EDUCATIVO EN APOYO AL ESPECTRO AUTISTA, A.C.","CENTRO EDUCATIVO EN APOYO AL ESPECTRO AUTISTA, A.C."]
["GESTIÓN PARA EL DESARROLLO DE LA HUASTECA A.C.","GESTIÓN PARA EL DESARROLLO DE LA HUASTECA A.C."]
["CENTRO DE INTEGRACIÓN JUVENIL","CENTRO DE INTEGRACIÓN JUVENIL"]
["H. CUERPO DE BOMBEROS DE TAMAZUNCHALE","H. CUERPO DE BOMBEROS DE TAMAZUNCHALE"]
["SAN LUIS CON VISIÓN, A.C.","SAN LUIS CON VISIÓN, A.C."]
["CRUZ ROJA MEXICANA DELEGACIÓN ESTATAL, I.A.P.","CRUZ ROJA MEXICANA DELEGACIÓN ESTATAL, I.A.P."]
["CRUZ ROJA DELEGACIÓN MATEHUALA, I.A.P.","CRUZ ROJA DELEGACIÓN MATEHUALA, I.A.P."]
["COMITÉ PRO-CUERPO DE BOMBEROS DE SAN LUIS, A.C.","COMITÉ PRO-CUERPO DE BOMBEROS DE SAN LUIS, A.C."]
["HOSPITAL SAN ANTONIO, A.C.","HOSPITAL SAN ANTONIO, A.C."]
["CENTRO DOWN MARUSITA (VALLES)","CENTRO DOWN MARUSITA (VALLES)"]
["ASOCIACIÓN POTOSINA PRO-PARALÍTICO CEREBRAL, APAC","ASOCIACIÓN POTOSINA PRO-PARALÍTICO CEREBRAL, APAC"]
["CENTRO ORIENTACIÓN Y DESARROLLO INFANTIL CODI","CENTRO ORIENTACIÓN Y DESARROLLO INFANTIL CODI"]
["INSTITUCIÓN POTOSINA PRO-EDUCACIÓN ESPECIALIZADA, A.C. RAFAELA ARGANIZ","INSTITUCIÓN POTOSINA PRO-EDUCACIÓN ESPECIALIZADA, A.C. RAFAELA ARGANIZ"]
["PROMOCIÓN SOCIAL INTEGRAL, A.C. COLONIA JUVENIL","PROMOCIÓN SOCIAL INTEGRAL, A.C. COLONIA JUVENIL"]
["PATRONATO DE ENFERMEDADES NEUROLÓGICAS, A.C.","PATRONATO DE ENFERMEDADES NEUROLÓGICAS, A.C."]
["RAZÓN POR LA VIDA, A.C.","RAZÓN POR LA VIDA, A.C."]
["FUNDACIÓN BAROCA","FUNDACIÓN BAROCA"]
["AXTLATÓN A.C.","AXTLATÓN A.C."]
["ASOCIACIÓN JUVENIL DE AYUDA AL NIÑO Y AL DISCAPACITADO, A.C.","ASOCIACIÓN JUVENIL DE AYUDA AL NIÑO Y AL DISCAPACITADO, A.C."]
["INTEGRAME DOWN","INTEGRAME DOWN"]
["FUNDACION JUAN PABLO, A.C.","FUNDACION JUAN PABLO, A.C."]
["FACTOR OBRERO, A.C.","FACTOR OBRERO, A.C."]
["VIDA DIGNA","VIDA DIGNA"]
["DIRUVI, A.C.","DIRUVI, A.C."]
["CASA HOGAR DEL NIÑO DE MONS. JOAQUIN ANTONIUO PEÑALOSA","CASA HOGAR DEL NIÑO DE MONS. JOAQUIN ANTONIUO PEÑALOSA"]
["H. CUERPO DE BOMBEROS CD. FERNANDEZ","H. CUERPO DE BOMBEROS CD. FERNANDEZ"]
["ASOCIACION MEXICANA DE ATENCION A NIÑOS CON CANCER DE SAN LUIS, AMANC","ASOCIACION MEXICANA DE ATENCION A NIÑOS CON CANCER DE SAN LUIS, AMANC"]
["H. CUERPO DE BOMBEROS Y SERVICIOS SOCIALES DE LA HUASTECA, A.C.","H. CUERPO DE BOMBEROS Y SERVICIOS SOCIALES DE LA HUASTECA, A.C."]
["CUERPO DE BOMBEROS VOLUNTARIOS DE MATEHUALA, A.C.","CUERPO DE BOMBEROS VOLUNTARIOS DE MATEHUALA, A.C."]
["CUERPO DE BOMBEROS VOLUNTARIOS DE RIOVERDE, A.C.","CUERPO DE BOMBEROS VOLUNTARIOS DE RIOVERDE, A.C."]
["CENTRO DE ATENCIÓN MÚLTIPLE HELLEN KELLER","CENTRO DE ATENCIÓN MÚLTIPLE HELLEN KELLER"]
["CASA DON BOSCO, A.C.","CASA DON BOSCO, A.C."]
["CENTRO POTOSINO DE INTERCAMBIO Y APOYO CULTURAL, A.C.","CENTRO POTOSINO DE INTERCAMBIO Y APOYO CULTURAL, A.C."]
["INSTITUCIÓN DE ASISTENCIA BETANIA, A.C.","INSTITUCIÓN DE ASISTENCIA BETANIA, A.C."]
["CENTRO DE ESTUDIOS DE PROMOCIÓN SOCIAL, CÁRITAS, A.C.","CENTRO DE ESTUDIOS DE PROMOCIÓN SOCIAL, CÁRITAS, A.C."]
["ASOCIACIÓN MEXICANA DE DIABETES EN S.L.P.","ASOCIACIÓN MEXICANA DE DIABETES EN S.L.P."]
["UNA NUEVA ERA PARA AQUISMON, A.C.","UNA NUEVA ERA PARA AQUISMON, A.C."]
["DIUY, A.C.","DIUY, A.C."]
["CRUZ ROJA MEXICANA DELEGACIÓN LOCAL RIOVERDE, S.L.P. I.A.P.","CRUZ ROJA MEXICANA DELEGACIÓN LOCAL RIOVERDE, S.L.P. I.A.P."]
["CASA HOGAR DE LA DIVINA PROVIDENCIA, A.C.","CASA HOGAR DE LA DIVINA PROVIDENCIA, A.C."]
["ASOCIACIÓN POTOSINA EN PRO DEL DEFICIENTE MENTAL, APPDEMAC","ASOCIACIÓN POTOSINA EN PRO DEL DEFICIENTE MENTAL, APPDEMAC"]
["MUJERES BUSCANDO LIBERTAD A.C.","MUJERES BUSCANDO LIBERTAD A.C."]
["COMITÉ PRO-CUERPO DE BOMBEROS DE ÉBANO, A.C.","COMITÉ PRO-CUERPO DE BOMBEROS DE ÉBANO, A.C."]
["HOGAR DE PROTECCIÓN JUVENIL, A.C.","HOGAR DE PROTECCIÓN JUVENIL, A.C."]
["CABRAL OBREGÓN, A.C. RESIDENCIA SAN VICENTE PAUL","CABRAL OBREGÓN, A.C. RESIDENCIA SAN VICENTE PAUL"]
["CRUZ ROJA MEXICANA DELEGACIÓN CHARCAS","CRUZ ROJA MEXICANA DELEGACIÓN CHARCAS"]
["MANOS, VIDA Y AMOR A.C.","MANOS, VIDA Y AMOR A.C."]
["HOGAR DE LA TERCERA EDAD, SAN NICOLÁS TOLENTINO, A.C. TIERRA NUEVA","HOGAR DE LA TERCERA EDAD, SAN NICOLÁS TOLENTINO, A.C. TIERRA NUEVA"]
["CENTRO DE TERAPIA INFANTIL Y DE EDUCACIÓN ESPECIAL, A.C. C.E.T.I.E.E.","CENTRO DE TERAPIA INFANTIL Y DE EDUCACIÓN ESPECIAL, A.C. C.E.T.I.E.E."]
["CRUZ ROJA MEXICANA DELEGACIÓN CÁRDENAS, I.A.P.","CRUZ ROJA MEXICANA DELEGACIÓN CÁRDENAS, I.A.P."]
["DISTROFIA MUSCULAR PROGRESIVA AVE SIN VUELO, A.C.","DISTROFIA MUSCULAR PROGRESIVA AVE SIN VUELO, A.C."]
["HOGAR DEL ANCIANO JESÚS DE LA MISERICORDIA, A.C.","HOGAR DEL ANCIANO JESÚS DE LA MISERICORDIA, A.C."]
["VIVIR MAS ASOCIADOS","VIVIR MAS ASOCIADOS"]
["FAMILIAS EN MOVIMIENTO PRO-EDUCACIÓN NIÑOS DOWN, A.C. FAME","FAMILIAS EN MOVIMIENTO PRO-EDUCACIÓN NIÑOS DOWN, A.C. FAME"]
["SERVICIO DE AYUDA INTEGRA, A.C.","SERVICIO DE AYUDA INTEGRA, A.C."]
["ÁNIMOS NOVANDI, A.C.","ÁNIMOS NOVANDI, A.C."]
["BANCO DE ALIMENTOS DE SAN LUIS POTOSÍ","BANCO DE ALIMENTOS DE SAN LUIS POTOSÍ"]
["PATRONATO PRO-PACIENTE ONCOLÓGICO DE SAN LUIS, A.C.","PATRONATO PRO-PACIENTE ONCOLÓGICO DE SAN LUIS, A.C."]
["FUNDACIÓN NUTRIENDO PARA EL FUTURO, A.C.","FUNDACIÓN NUTRIENDO PARA EL FUTURO, A.C."]
["RAYITO DE LUZ","RAYITO DE LUZ"]
["VUELO DE PÁJAROS VENCEJO, A.C.","VUELO DE PÁJAROS VENCEJO, A.C."]
["CRUZ ROJA DELEGACIÓN EL NARANJO","CRUZ ROJA DELEGACIÓN EL NARANJO"]
["CRUZ ROJA DELEGACIÓN CIUDAD DEL MAÍZ","CRUZ ROJA DELEGACIÓN CIUDAD DEL MAÍZ"]
["CRUZ ROJA DELEGACIÓN VILLA DE REYES","CRUZ ROJA DELEGACIÓN VILLA DE REYES"]
["CLUB DE NIÑOS Y NIÑAS DE SAN LUIS, A.C.","CLUB DE NIÑOS Y NIÑAS DE SAN LUIS, A.C."]
["SAUCILLO DE VIDA S.A. DE C.V","SAUCILLO DE VIDA S.A. DE C.V"]
["RENACE","RENACE"]
["CORTAS NUESTRAS ALAS, GRANDES NUESTRAS ESPERANZAS","CORTAS NUESTRAS ALAS, GRANDES NUESTRAS ESPERANZAS"]
["ASOCIACIÓN DE FÉ Y ESPERANZA PARA VÍCTIMAS DEL DELITO CHRISTIAN, A.C.","ASOCIACIÓN DE FÉ Y ESPERANZA PARA VÍCTIMAS DEL DELITO CHRISTIAN, A.C."]
["OASIS ALZHEIMER, GUADALUPE PALAU, A.C.","OASIS ALZHEIMER, GUADALUPE PALAU, A.C."]
["JUNTOS UNA EXPERIENCIA COMPARTIDA, A.C.","JUNTOS UNA EXPERIENCIA COMPARTIDA, A.C."]
["ASILO SAN JORGE, ATENCIÓN AL ADULTO MAYOR","ASILO SAN JORGE, ATENCIÓN AL ADULTO MAYOR"]
["FUNDACIÓN LOME INFANTIL","FUNDACIÓN LOME INFANTIL"]
["RINO Q, A.C,","RINO Q, A.C,"]
["NUESTROS NIÑOS DE SAN LUIS, A.C.","NUESTROS NIÑOS DE SAN LUIS, A.C."]
["DELEGACIÓN ESTATAL DE LA CRUZ ROJA","DELEGACIÓN ESTATAL DE LA CRUZ ROJA"]
["SOI TERCERA EDAD","SOI TERCERA EDAD"]
["MERCADO SAN LUIS 400","MERCADO SAN LUIS 400"]
["CENTRO RECREATIVO FEMENINO, A.C.","CENTRO RECREATIVO FEMENINO, A.C."]
["NUEVO HORIZONTE CREADORES DISCAPACITADOS CON PARÁLISIS CEREBRAL, A.C.","NUEVO HORIZONTE CREADORES DISCAPACITADOS CON PARÁLISIS CEREBRAL, A.C."]
["CRUZ ROJA MEXICANA DELEGACIÓN CIUDAD VALLES","CRUZ ROJA MEXICANA DELEGACIÓN CIUDAD VALLES"]
["CRUZ ROJA MEXICANA DELEGACIÓN TAMUÍN","CRUZ ROJA MEXICANA DELEGACIÓN TAMUÍN"]
["PROMOCION SOCIAL DEL VALLE DE SAN FRANCISCO, A.C.","PROMOCION SOCIAL DEL VALLE DE SAN FRANCISCO, A.C."]
["ABRAZA UNA ESPERANZA, A.C.","ABRAZA UNA ESPERANZA, A.C."]
["CLUB ESPÍRITU SANTO, A.C. CESAC","CLUB ESPÍRITU SANTO, A.C. CESAC"]
["OTRA OPORTUNIDAD A.C.","OTRA OPORTUNIDAD A.C."]
["PROMOTORA DE APOYO A ZONAS PROYECTARIAS A.C,","PROMOTORA DE APOYO A ZONAS PROYECTARIAS A.C,"]
["FONDO DE INGRESOS PROPIOS","FONDO DE INGRESOS PROPIOS"]
["CONSEJO ESTATAL ELECTORAL Y DE PARTICIPACIÓN CIUDADANA","CONSEJO ESTATAL ELECTORAL Y DE PARTICIPACIÓN CIUDADANA"]
["COMISIÓN ESTATAL DE DERECHOS HUMANOS","COMISIÓN ESTATAL DE DERECHOS HUMANOS"]
["UNIVERSIDAD AUTÓNOMA DE SAN LUIS POTOSÍ","UNIVERSIDAD AUTÓNOMA DE SAN LUIS POTOSÍ"]
["AUDITORÍA SUPERIOR DEL ESTADO","AUDITORÍA SUPERIOR DEL ESTADO"]
["COMISIÓN ESTATAL DE GARANTÍA DE ACCESO A LA INFORMACIÓN PÚBLICA","COMISIÓN ESTATAL DE GARANTÍA DE ACCESO A LA INFORMACIÓN PÚBLICA"]
["TRIBUNAL ESTATAL ELECTORAL","TRIBUNAL ESTATAL ELECTORAL"]
["H. AYUNTAMIENTO","H. AYUNTAMIENTO"]
[]
["Clasificación:"]
["OBRA"]
["ACCIÓN"]
[]
["Tipo de Proyecto:"]
["INFRAESTRUCTURA ECONÓMICA"]
["INFRAESTRUCTURA SOCIAL"]
["INFRAESTRUCTURA GUBERNAMENTAL"]
[]
[]
["Modalidad_de_Ejecución:","POR_CONTRATO","POR_ADMINISTRACIÓN"]
["POR_CONTRATO","ADJUDICACIÓN DIRECTA","POR ADMINISTRACIÓN"]
["POR_ADMINISTRACIÓN","INVITACIÓN RESTRINGIDA"]
[null,"LICITACIÓN PÚBLICA ESTATAL"]
[null,"LICITACIÓN PÚBLICA NACIONAL"]
[]
[]
["Etapas del Proyecto:"]
["OBRA NUEVA"]
["OBRA NUEVA 2DA. ETAPA"]
["OBRA NUEVA 3RA. ETAPA"]
[]
[]
[]
["idunidadmedida","descripcion"]
[1,"Abeja reina"]
[2,"Academia"]
[3,"Acción"]
[4,"Acción mejora productiva"]
[5,"Acta"]
[6,"Adquisición"]
[7,"Adquisición de terreno"]
[8,"Adulto"]
[9,"Aforo"]
[10,"Agente ministerio público"]
[11,"Agrupación"]
[12,"Alamacén"]
[13,"Alberca"]
[14,"Albergue"]
[15,"Alcantarilla"]
[16,"Alimentador"]
[17,"Aljibe"]
[18,"Almacén"]
[19,"Alumbrado"]
[20,"Alumno"]
[21,"Ambulancia"]
[22,"Análisis"]
[23,"Anciano atendido"]
[24,"Anexo"]
[25,"Aparato"]
[26,"Aportación"]
[27,"Apoyo"]
[28,"Apoyo de difusión"]
[29,"Arma"]
[30,"Armamento"]
[31,"Artesano"]
[32,"Asamblea"]
[33,"Asesoría"]
[34,"Asignación"]
[35,"Asistente"]
[37,"Asunto"]
[38,"Auditoría"]
[39,"Auditorio"]
[40,"Aula"]
[41,"Auxilio vial"]
[42,"Ave"]
[43,"Base operativa"]
[44,"Batallón"]
[45,"Beca"]
[46,"Biblioteca"]
[47,"Bombeo"]
[48,"Bono"]
[49,"Bordo"]
[50,"Bulto de azúcar"]
[51,"Cabeza"]
[52,"Cadete"]
[53,"Caja solidaria"]
[54,"Campaña"]
[55,"Cancha"]
[56,"Capacitación"]
[57,"Capacitado"]
[58,"Cárcel distrital"]
[59,"Carta"]
[60,"Cartel"]
[61,"Caseta"]
[62,"Caso"]
[63,"Celda solar"]
[64,"Centro"]
[65,"Centro de abasto"]
[66,"Centro de salud"]
[67,"Cerca perimetral"]
[68,"Cereso"]
[69,"Certificado"]
[70,"Círculo"]
[71,"Ciudadano"]
[72,"Clínica"]
[73,"Club"]
[74,"Cobro"]
[75,"Cocina"]
[76,"Colmena"]
[77,"Colonia"]
[78,"Comité"]
[79,"Competencia"]
[80,"Componente"]
[81,"Comunidad"]
[82,"Concierto"]
[83,"Congreso"]
[84,"Construcción"]
[85,"Consulta"]
[86,"Consulta especialidad"]
[87,"Consulta externa"]
[88,"Consultorio"]
[89,"Consumidor"]
[90,"Contratación"]
[91,"Contrato"]
[92,"Contribuyente"]
[93,"Convención"]
[94,"Convenio"]
[95,"Corral"]
[96,"Crédito"]
[97,"Cría"]
[98,"Cuenta"]
[99,"Cuerpo de agua"]
[100,"Curso"]
[101,"Decreto"]
[102,"Denuncia"]
[103,"Dependencia"]
[104,"Deportista"]
[105,"Desayuno"]
[106,"Descarga domiciliaria"]
[107,"Despensa"]
[108,"Dictamen"]
[109,"Digitalización"]
[110,"Disco compacto"]
[111,"Display"]
[112,"Docente"]
[113,"Documento"]
[115,"Dósis"]
[116,"Edicto"]
[117,"Edificio"]
[118,"Egresado"]
[119,"Egreso"]
[120,"Elemento"]
[121,"Empleo"]
[122,"Empresa"]
[124,"Encuesta"]
[125,"Enfermera"]
[126,"Entrega"]
[127,"Entrenador"]
[128,"Equipamiento"]
[129,"Equipo"]
[130,"Equipo de cómputo"]
[131,"Equipo de comunicaciones"]
[132,"Equipo de laboratorio"]
[133,"Equipo de rescate"]
[134,"Equipo de seguridad"]
[135,"Equipo de energía eléctrica"]
[136,"Escritura"]
[137,"Escuela"]
[138,"Espacio atendido"]
[139,"Espacio educativo"]
[140,"Especie"]
[141,"Especie animal"]
[142,"Especie vegetal"]
[143,"Establecimiento"]
[144,"Estancia"]
[145,"Estanque"]
[146,"Estímulo"]
[147,"Estudio"]
[148,"Evaluación"]
[149,"Evento"]
[150,"Examen"]
[151,"Expediente"]
[152,"Experimento"]
[153,"Exposición"]
[154,"Familia"]
[155,"Feria"]
[156,"Figura"]
[157,"Flete"]
[158,"Folleto"]
[159,"Fondo"]
[160,"Fosa séptica"]
[161,"Fuga"]
[162,"Fumigación"]
[163,"Función"]
[164,"Gestión"]
[165,"Gestión financiera"]
[166,"Gimnasio"]
[167,"Gira"]
[168,"Giro"]
[169,"Granja"]
[170,"Grupo"]
[171,"Grupo marginado"]
[172,"Guardería"]
[173,"Habitante"]
[174,"Hectárea"]
[175,"Herramienta"]
[176,"Hora transmitida"]
[177,"Hora-máquina"]
[178,"Hospital"]
[179,"Hospitalización"]
[180,"Huerto"]
[181,"Impresión"]
[182,"Incentivo"]
[183,"Incremento de sueldo"]
[184,"Informe"]
[185,"Inscripción"]
[186,"Inserción en prensa"]
[187,"Inspección"]
[188,"Instalación"]
[189,"Institución"]
[190,"Instituto"]
[191,"Insumo"]
[192,"Interno"]
[193,"Investigación"]
[194,"Investigador"]
[195,"Jardín"]
[196,"Jornal"]
[197,"Joven"]
[198,"Jubilación"]
[199,"Kilogramo"]
[200,"Kilómetro"]
[201,"Kilómetro cuadrado"]
[202,"Laboratorio"]
[203,"Larva"]
[204,"Lavadero"]
[205,"Letrina"]
[206,"Levantamiento topográfico"]
[207,"Libro"]
[208,"Licencia"]
[209,"Lista"]
[210,"Litro"]
[211,"Llamada de auxilio"]
[212,"Llegada"]
[213,"Local de usos múltiples"]
[214,"Localidad"]
[215,"Logotipo"]
[216,"Lote"]
[217,"Lote de mobiliario"]
[218,"Lotificación"]
[219,"Luminaria"]
[220,"Mantenimiento"]
[221,"Manual"]
[222,"Máquina"]
[223,"Médico"]
[224,"Medidor"]
[225,"Mega volt ampere"]
[226,"Mejora"]
[227,"Mensaje"]
[228,"Mercado"]
[229,"Metro"]
[230,"Metro cuadrado"]
[231,"Metro cúbico"]
[232,"Metro lineal"]
[233,"Misión"]
[234,"Mobiliario"]
[235,"Modelo"]
[236,"Módulo"]
[237,"Monumento"]
[238,"Muestra"]
[239,"Nave industrial"]
[240,"Niño"]
[241,"Núcleo"]
[242,"Núcleo agrario"]
[243,"Obra"]
[244,"Obra civil"]
[245,"Obra complementaria"]
[246,"Obra menor"]
[247,"Oficina"]
[248,"Oficina administrativa"]
[249,"Olla de agua"]
[250,"Operación"]
[251,"Operativo"]
[252,"Organización"]
[253,"Orientación"]
[254,"Paca"]
[255,"Paciente"]
[256,"Pago"]
[257,"Palapa"]
[258,"Panadería"]
[259,"Panteón"]
[260,"Paquete"]
[261,"Paquete de material"]
[262,"Paquete tecnológico"]
[263,"Paradero"]
[264,"Parcela demostrativa"]
[265,"Participación"]
[267,"Participante"]
[268,"Partida"]
[269,"Parto"]
[270,"Pasaporte"]
[271,"Pavimentación"]
[272,"Penca"]
[273,"Pensión"]
[274,"Perforación"]
[275,"Permiso"]
[276,"Persona"]
[277,"Personal de apoyo"]
[278,"Peso"]
[279,"Pieza"]
[280,"Pipa"]
[281,"Plan"]
[282,"Plano"]
[283,"Planta"]
[284,"Planta potabilizadora"]
[285,"Platica"]
[286,"Plaza"]
[287,"Población"]
[288,"Poblado"]
[289,"Poste"]
[290,"Poster"]
[291,"Pozo"]
[292,"Predio"]
[293,"Premio"]
[294,"Presa"]
[295,"Presentación"]
[296,"Préstamo"]
[297,"Presupuesto"]
[298,"Producción"]
[299,"Producto"]
[300,"Productor"]
[301,"Programa"]
[302,"Programación"]
[303,"Promoción"]
[304,"Prospección"]
[305,"Proyecto"]
[306,"Publicación"]
[307,"Puente"]
[308,"Punto de control"]
[309,"Queja"]
[310,"Quirófano"]
[311,"Ración"]
[312,"Rastro"]
[313,"Recorrido"]
[314,"Región"]
[315,"Registro"]
[316,"Reglamento"]
[317,"Remodelación"]
[318,"Reportaje"]
[319,"Reporte"]
[320,"Representación"]
[321,"Resolución"]
[322,"Reunión"]
[323,"Revisión"]
[324,"Revista"]
[325,"Rubro"]
[326,"Sala"]
[327,"Sector"]
[328,"Seguro"]
[329,"Servicio de seguridad y vigilancia"]
[330,"Servicio"]
[331,"Servicio instalado"]
[332,"Sesión"]
[333,"Sistema"]
[334,"Sistema de información"]
[335,"Sociedad -de producción rural"]
[336,"Solicitud"]
[337,"Spot"]
[338,"Subestación"]
[339,"Subsidio"]
[340,"Supervisión"]
[341,"Taller"]
[342,"Tambo"]
[343,"Tanque"]
[344,"Técnico"]
[345,"Telegrama"]
[346,"Terapia"]
[347,"Tienda"]
[348,"Título"]
[349,"Toma"]
[350,"Tonelada"]
[351,"Tortillería"]
[352,"Trabajador"]
[353,"Tractor"]
[354,"Trámite"]
[355,"Tratamiento"]
[356,"Tríptico"]
[357,"Unidad"]
[358,"Unidad administrativa"]
[359,"Unidad deportiva"]
[360,"Unidad habitacional"]
[361,"Unidad médica"]
[362,"Unidad móvil"]
[363,"Uniforme"]
[364,"Vacuna"]
[365,"Vehículo"]
[366,"Verificación"]
[367,"Viaje"]
[368,"Video"]
[369,"Visita"]
[370,"Vívero"]
[371,"Vivienda"]
[372,"Zona"]
[374,"Concurso"]
[375,"Compra"]
[379,"Juicio agrario"]
[380,"Casa"]
[382,"Torneo"]
[383,"Aguaje"]
[384,"Pila de almacenamiento de agua"]
[385,"Estufa"]
[386,"Edificación"]
[387,"Mejoramiento"]
[388,"Vientres"]
[389,"Mentores"]
[390,"Acometida"]
[391,"Notificación"]
[]
[]
["Condicion"]
["SI"]
["NO"]
[]
[]
["Fases del Proyecto"]
["ESTUDIOS PRELIMINARES"]
["ANTEPROYECTO"]
["PROYECTO EJECUTIVO"]

{"sheet":"Cat_Municipios","index":11,"n_rows":64,"n_cols":13,"rows_kept":64,"cut":false,"hidden":true,"merged":[[3,9,3,12]]}
["SECRETARIA DE FINANZAS: Dirección General de Planeación y Presupuesto"]
["BANCO DE PROYECTOS ESTATAL"]
["Catálogo de Municipios"]
[null,null,null,null,null,null,null,null,"Intercensal 2015","Censo 2010"]
["MPIO","REG.","MICREG.","MUNICIPIO","NR_Municipio","REGIÓN","MICROREGIÓN","POBLACIÓN","Rezago Social","POBTOT","POBMAS","POBFEM","TVIVHAB"]
["001",2,1,"Ahualulco (001)","Ahualulco","Centro","Centro",18624,"Medio","18644","8775","9869","4201"]
["002",4,2,"Alaquines (002)","Alaquines","Media","Media Este",8180,"Alto","8186","4068","4118","2089"]
["003",3,2,"Aquismón (003)","Aquismón","Huasteca","Huasteca Centro",47411,"Muy alto","47423","23894","23529","10401"]
["004",2,1,"Armadillo de los Infante (004)","Armadillo_de_los_Infante","Centro","Centro",4430,"Alto","4436","2182","2254","1168"]
["053",3,3,"Axtla de Terrazas (053)","Axtla_de_Terrazas","Huasteca","Huasteca Sur",33234,"Medio","33245","16471","16774","7656"]
["005",4,2,"Cárdenas (005)","Cárdenas","Media","Media Este",18933,"Bajo","18937","9103","9834","4923"]
["006",1,3,"Catorce (006)","Catorce","Altiplano","Altiplano Este",9708,"Medio","9716","4932","4784","2470"]
["007",1,3,"Cedral (007)","Cedral","Altiplano","Altiplano Este",18473,"Bajo","18485","9048","9437","4342"]
["008",4,1,"Cerritos (008)","Cerritos","Media","Media Oeste",21392,"Bajo","21394","10373","11021","5651"]
["009",2,1,"Cerro de San Pedro (009)","Cerro_de_San_Pedro","Centro","Centro",4021,"Bajo","4021","2031","1990","963"]
["015",1,2,"Charcas (015)","Charcas","Altiplano","Altiplano Centro",21025,"Medio","21138","10328","10810","5434"]
["010",4,2,"Ciudad del Maíz (010)","Ciudad_del_Maíz","Media","Media Este",31315,"Medio","31323","15523","15800","7497"]
["011",4,1,"Ciudad Fernández (011)","Ciudad_Fernández","Media","Media Oeste",43525,"Bajo","43528","21258","22270","10690"]
["013",3,1,"Ciudad Valles (013)","Ciudad_Valles","Huasteca","Huasteca Norte",167550,"Bajo","167713","81226","86487","44678"]
["014",3,3,"Coxcatlán (014)","Coxcatlán","Huasteca","Huasteca Sur",16988,"Alto","17015","8544","8471","4095"]
["016",3,1,"Ebano (016)","Ebano","Huasteca","Huasteca Norte",41507,"Bajo","41529","20347","21182","10760"]
["058",3,1,"El Naranjo (058)","El_Naranjo","Huasteca","Huasteca Norte",20476,"Bajo","20495","10326","10169","5291"]
["017",1,3,"Guadalcázar (017)","Guadalcázar","Altiplano","Altiplano Este",25881,"Alto","25985","13158","12827","6357"]
["018",3,2,"Huehuetlán (018)","Huehuetlán","Huasteca","Huasteca Centro",15303,"Alto","15311","7554","7757","3526"]
["019",4,2,"Lagunillas (019)","Lagunillas","Media","Media Este",5774,"Medio","5774","2839","2935","1625"]
["020",1,3,"Matehuala (020)","Matehuala","Altiplano","Altiplano Este",91486,"Muy bajo","91522","44343","47179","22316"]
["057",3,3,"Matlapa (057)","Matlapa","Huasteca","Huasteca Sur",30299,"Alto","30299","15053","15246","6638"]
["021",2,1,"Mexquitic de Carmona (021)","Mexquitic_de_Carmona","Centro","Centro",53442,"Bajo","53442","25449","27993","11447"]
["022",1,2,"Moctezuma (022)","Moctezuma","Altiplano","Altiplano Centro",19327,"Medio","19327","9298","10029","4643"]
["023",4,2,"Rayón (023)","Rayón","Media","Media Este",15681,"Medio","15707","7739","7968","4123"]
["024",4,1,"Rioverde (024)","Rioverde","Media","Media Oeste",91897,"Bajo","91924","44574","47350","23030"]
["025",1,1,"Salinas (025)","Salinas","Altiplano","Altiplano Oeste",30119,"Bajo","30190","14548","15642","6806"]
["026",3,2,"San Antonio (026)","San_Antonio","Huasteca","Huasteca Centro",9305,"Alto","9390","4800","4590","2109"]
["027",4,1,"San Ciro de Acosta (027)","San_Ciro_de_Acosta","Media","Media Oeste",10165,"Medio","10171","4875","5296","2771"]
["028",2,1,"San Luis Potosí (028)","San_Luis_Potosí","Centro","Centro",770473,"Muy bajo","772604","372083","400521","199366"]
["029",3,3,"San Martín Chalchicuautla (029)","San_Martín_Chalchicuautla","Huasteca","Huasteca Sur",21320,"Alto","21347","10686","10661","5132"]
["030",4,1,"San Nicolás Tolentino (030)","San_Nicolás_Tolentino","Media","Media Oeste",5458,"Medio","5466","2587","2879","1550"]
["034",3,1,"San Vicente Tancuayalab (034)","San_Vicente_Tancuayalab","Huasteca","Huasteca Norte",14949,"Medio","14958","7451","7507","3724"]
["031",4,2,"Santa Catarina (031)","Santa_Catarina","Media","Media Este",11699,"Muy alto","11835","5805","6030","2431"]
["032",2,2,"Santa María del Río (032)","Santa_María_del_Río","Centro","Centro Sur",40303,"Medio","40326","19242","21084","9198"]
["033",1,1,"Santo Domingo (033)","Santo_Domingo","Altiplano","Altiplano Oeste",12032,"Bajo","12043","6022","6021","3060"]
["035",2,1,"Soledad de Graciano Sánchez (035)","Soledad_de_Graciano_Sánchez","Centro","Centro",267756,"Muy bajo","267839","129814","138025","67212"]
["036",3,1,"Tamasopo (036)","Tamasopo","Huasteca","Huasteca Norte",28766,"Medio","28848","14563","14285","7449"]
["037",3,3,"Tamazunchale (037)","Tamazunchale","Huasteca","Huasteca Sur",96461,"Alto","96820","47951","48869","21806"]
["038",3,3,"Tampacán (038)","Tampacán","Huasteca","Huasteca Sur",15799,"Alto","15838","7975","7863","3703"]
["039",3,2,"Tampamolón Corona (039)","Tampamolón_Corona","Huasteca","Huasteca Centro",14252,"Alto","14274","7081","7193","3247"]
["040",3,1,"Tamuín (040)","Tamuín","Huasteca","Huasteca Norte",37890,"Bajo","37956","18672","19284","9698"]
["012",3,2,"Tancanhuitz (012)","Tancanhuitz","Huasteca","Huasteca Centro",21021,"Alto","21039","10406","10633","4678"]
["041",3,2,"Tanlajás (041)","Tanlajás","Huasteca","Huasteca Centro",19277,"Alto","19312","9725","9587","4455"]
["042",3,1,"Tanquián de Escobedo (042)","Tanquián_de_Escobedo","Huasteca","Huasteca Norte",14352,"Medio","14382","7077","7305","3453"]
["043",2,2,"Tierra Nueva (043)","Tierra_Nueva","Centro","Centro Sur",9022,"Medio","9024","4268","4756","2130"]
["000",null,null,"Todo El Estado (000)","Todo_El_Estado",null,null,null,null,null,null,null,"639265"]
["044",1,3,"Vanegas (044)","Vanegas","Altiplano","Altiplano Este",7889,"Medio","7902","3974","3928","1889"]
["045",1,2,"Venado (045)","Venado","Altiplano","Altiplano Centro",14492,"Medio","14492","7149","7343","3661"]
["056",1,2,"Villa de Arista (056)","Villa_de_Arista","Altiplano","Altiplano Centro",15509,"Medio","15528","7713","7815","3606"]
["046",2,1,"Villa de Arriaga (046)","Villa_de_Arriaga","Centro","Centro",16315,"Medio","16316","8117","8199","3670"]
["047",1,3,"Villa de Guadalupe (047)","Villa_de_Guadalupe","Altiplano","Altiplano Este",9753,"Alto","9779","4920","4859","2430"]
["048",1,3,"Villa de la Paz (048)","Villa_de_la_Paz","Altiplano","Altiplano Este",5350,"Bajo","5350","2694","2656","1283"]
["049",1,1,"Villa de Ramos (049)","Villa_de_Ramos","Altiplano","Altiplano Oeste",37913,"Medio","37928","18590","19338","9090"]
["050",2,2,"Villa de Reyes (050)","Villa_de_Reyes","Centro","Centro Sur",46818,"Bajo","46898","23204","23694","9988"]
["051",1,2,"Villa Hidalgo (051)","Villa_Hidalgo","Altiplano","Altiplano Centro",14871,"Bajo","14876","7361","7515","3765"]
["052",4,1,"Villa Juárez (052)","Villa_Juárez","Media","Media Oeste",10164,"Medio","10174","4988","5186","2883"]
["054",3,3,"Xilitla (054)","Xilitla","Huasteca","Huasteca Sur",51377,"Alto","51498","25484","26014","11726"]
["055",2,1,"Zaragoza (055)","Zaragoza","Centro","Centro",24593,"Medio","24596","12105","12491","5282"]

{"sheet":"Cat_Localidades","index":12,"n_rows":9427,"n_cols":19,"rows_kept":4500,"cut":true,"hidden":true,"merged":[],"bounds":{"rows_first":2000,"rows_last":500,"rows_between":2000,"halvings":0}}
["CVE_ENT","CVE_MUN","MUNICIPIO","CVE_LOC","NOM_LOC","AMBITO","MpioLoc","LAT_DEC","LON_DEC","POB_TOTAL","POB_MASC","POB_FEM","VIV_HAB","CVE_GEO","INDIGENA","GRADO_MARG","GRA_RE_SOC","INDÍGENA_Congreso"]
[24,"001","Ahualulco","0001","Ahualulco del Sonido 13 (0001)","U","Ahualulco (001)Ahualulco del Sonido 13 (0001)",22.400099000000001,-101.166842,4492,2088,2404,1034,240010001,"SI",null,null,{"$f":"IFERROR(VLOOKUP(CONCATENATE(B2,D2),Padrón_Indígenas!$A$2:$G$988,7,0),\"No\")","v":"No"},{"$f":"VLOOKUP(C2,Cat_Municipios!$D$6:$M$64,11)","v":{"$error":"#N/A"}}]
[24,"001","Ahualulco","0005","Arenal de Morelos (0005)","R","Ahualulco (001)Arenal de Morelos (0005)",22.411405999999999,-101.2606,150,66,84,31,240010005,null,"Alto","Bajo",{"$f":"IFERROR(VLOOKUP(CONCATENATE(B3,D3),Padrón_Indígenas!$A$2:$G$988,7,0),\"No\")","v":"No"},{"$f":"VLOOKUP(E3,Cat_Municipios!$D$6:$M$64,11)","v":{"$error":"#REF!"}}]
[24,"001","Ahualulco","0052","Arroyo Blanco (0052)","R","Ahualulco (001)Arroyo Blanco (0052)",22.606355000000001,-101.225161,86,41,45,19,240010052,null,"Alto","Medio",{"$f":"IFERROR(VLOOKUP(CONCATENATE(B4,D4),Padrón_Indígenas!$A$2:$G$988,7,0),\"No\")","v":"No"},{"$f":"VLOOKUP(E4,Cat_Municipios!$D$6:$M$64,11)","v":{"$error":"#REF!"}}]
[24,"001","Ahualulco","0006","Barrancas (0006)","R","Ahualulco (001)Barrancas (0006)",22.328244000000002,-101.239619,537,273,264,130,240010006,null,"Medio","Muy bajo",{"$f":"IFERROR(VLOOKUP(CONCATENATE(B5,D5),Padrón_Indígenas!$A$2:$G$988,7,0),\"No\")","v":"No"},{"$f":"VLOOKUP(E5,Cat_Municipios!$D$6:$M$64,11)","v":{"$error":"#REF!"}}]
[24,"001","Ahualulco","0008","Cañada Grande (0008)","R","Ahualulco (001)Cañada Grande (0008)",22.449048000000001,-101.074609,395,187,208,81,240010008,null,"Alto","Bajo",{"$f":"IFERROR(VLOOKUP(CONCATENATE(B6,D6),Padrón_Indígenas!$A$2:$G$988,7,0),\"No\")","v":"No"},{"$f":"VLOOKUP(E6,Cat_Municipios!$D$6:$M$64,11)","v":{"$error":"#REF!"}}]
[24,"001","Ahualulco","0007","Cañada Grande (El Bosque) (0007)","R","Ahualulco (001)Cañada Grande (El Bosque) (0007)",22.472511000000001,-101.087677,103,52,51,20,240010007,null,"Alto","Medio",{"$f":"IFERROR(VLOOKUP(CONCATENATE(B7,D7),Padrón_Indígenas!$A$2:$G$988,7,0),\"No\")","v":"No"},{"$f":"VLOOKUP(E7,Cat_Municipios!$D$6:$M$64,11)","v":{"$error":"#REF!"}}]
[24,"001","Ahualulco","0056","Cañón de Yerbabuena (0056)","R","Ahualulco (001)Cañón de Yerbabuena (0056)",22.474882999999998,-101.177504,182,85,97,33,240010056,null,"Muy alto","Alto",{"$f":"IFERROR(VLOOKUP(CONCATENATE(B8,D8),Padrón_Indígenas!$A$2:$G$988,7,0),\"No\")","v":"No"},{"$f":"VLOOKUP(E8,Cat_Municipios!$D$6:$M$64,11)","v":{"$error":"#REF!"}}]
[24,"001","Ahualulco","0009","Casita Blanca (0009)","R","Ahualulco (001)Casita Blanca (0009)",22.544207,-101.212689,28,13,15,8,240010009,null,"Alto","Medio",{"$f":"IFERROR(VLOOKUP(CONCATENATE(B9,D9),Padrón_Indígenas!$A$2:$G$988,7,0),\"No\")","v":"No"},{"$f":"VLOOKUP(E9,Cat_Municipios!$D$6:$M$64,11)","v":{"$error":"#REF!"}}]
[24,"001","Ahualulco","0011","Cerrito de Rojas (0011)","R","Ahualulco (001)Cerrito de Rojas (0011)",22.443632000000001,-101.189942,927,406,521,219,240010011,null,"Alto","Medio",{"$f":"IFERROR(VLOOKUP(CONCATENATE(B10,D10),Padrón_Indígenas!$A$2:$G$988,7,0),\"No\")","v":"No"},{"$f":"VLOOKUP(E10,Cat_Municipios!$D$6:$M$64,11)","v":{"$error":"#REF!"}}]
[24,"001","Ahualulco","0013","Cerro Blanco (0013)","R","Ahualulco (001)Cerro Blanco (0013)",22.367867,-101.35953600000001,215,108,107,49,240010013,null,"Alto","Medio",{"$f":"IFERROR(VLOOKUP(CONCATENATE(B11,D11),Padrón_Indígenas!$A$2:$G$988,7,0),\"No\")","v":"No"},{"$f":"VLOOKUP(E11,Cat_Municipios!$D$6:$M$64,11)","v":{"$error":"#REF!"}}]
[24,"001","Ahualulco","0073","Cieneguita (Cieneguilla) (0073)","R","Ahualulco (001)Cieneguita (Cieneguilla) (0073)",22.512547999999999,-101.23312,40,28,12,8,240010073,null,"Muy alto","Alto",{"$f":"IFERROR(VLOOKUP(CONCATENATE(B12,D12),Padrón_Indígenas!$A$2:$G$988,7,0),\"No\")","v":"No"},{"$f":"VLOOKUP(E12,Cat_Municipios!$D$6:$M$64,11)","v":{"$error":"#REF!"}}]
[24,"001","Ahualulco","0054","Clavellinas (0054)","R","Ahualulco (001)Clavellinas (0054)",22.315608000000001,-101.275943,535,256,279,92,240010054,null,"Alto","Bajo",{"$f":"IFERROR(VLOOKUP(CONCATENATE(B13,D13),Padrón_Indígenas!$A$2:$G$988,7,0),\"No\")","v":"No"},{"$f":"VLOOKUP(E13,Cat_Municipios!$D$6:$M$64,11)","v":{"$error":"#REF!"}}]
[24,"001","Ahualulco","0014","Cochinillas (0014)","R","Ahualulco (001)Cochinillas (0014)",22.388773,-101.150261,201,91,110,56,240010014,null,"Alto","Bajo",{"$f":"IFERROR(VLOOKUP(CONCATENATE(B14,D14),Padrón_Indígenas!$A$2:$G$988,7,0),\"No\")","v":"No"},{"$f":"VLOOKUP(E14,Cat_Municipios!$D$6:$M$64,11)","v":{"$error":"#REF!"}}]
[24,"001","Ahualulco","0015","Colonia de la Cruz (0015)","R","Ahualulco (001)Colonia de la Cruz (0015)",22.431861999999999,-101.102503,296,136,160,66,240010015,null,"Alto","Bajo",{"$f":"IFERROR(VLOOKUP(CONCATENATE(B15,D15),Padrón_Indígenas!$A$2:$G$988,7,0),\"No\")","v":"No"},{"$f":"VLOOKUP(E15,Cat_Municipios!$D$6:$M$64,11)","v":{"$error":"#REF!"}}]
[24,"001","Ahualulco","0016","Coyotillos (0016)","R","Ahualulco (001)Coyotillos (0016)",22.385003000000001,-101.155086,403,190,213,94,240010016,"SI","Alto","Bajo",{"$f":"IFERROR(VLOOKUP(CONCATENATE(B16,D16),Padrón_Indígenas!$A$2:$G$988,7,0),\"No\")","v":"No"},{"$f":"VLOOKUP(E16,Cat_Municipios!$D$6:$M$64,11)","v":{"$error":"#REF!"}}]
[24,"001","Ahualulco","0017","Ejido del Centro (0017)","R","Ahualulco (001)Ejido del Centro (0017)",22.403112,-101.12947800000001,545,259,286,114,240010017,null,"Alto","Bajo",{"$f":"IFERROR(VLOOKUP(CONCATENATE(B17,D17),Padrón_Indígenas!$A$2:$G$988,7,0),\"No\")","v":"No"},{"$f":"VLOOKUP(E17,Cat_Municipios!$D$6:$M$64,11)","v":{"$error":"#REF!"}}]
[24,"001","Ahualulco","0003","El Aguaje (0003)","R","Ahualulco (001)El Aguaje (0003)",22.411421000000001,-101.35725100000001,34,13,21,9,240010003,null,"Alto","Medio",{"$f":"IFERROR(VLOOKUP(CONCATENATE(B18,D18),Padrón_Indígenas!$A$2:$G$988,7,0),\"No\")","v":"No"},{"$f":"VLOOKUP(E18,Cat_Municipios!$D$6:$M$64,11)","v":{"$error":"#REF!"}}]
[24,"001","Ahualulco","0092","El Durazno (0092)","R","Ahualulco (001)El Durazno (0092)",22.278763000000001,-101.350291,1,"*","*",1,240010092,null,null,null,{"$f":"IFERROR(VLOOKUP(CONCATENATE(B19,D19),Padrón_Indígenas!$A$2:$G$988,7,0),\"No\")","v":"No"},{"$f":"VLOOKUP(E19,Cat_Municipios!$D$6:$M$64,11)","v":{"$error":"#REF!"}}]
[24,"001","Ahualulco","0089","El Epazote (0089)","R","Ahualulco (001)El Epazote (0089)",22.619895,-101.28276200000001,0,0,0,0,240010089,null,null,null,{"$f":"IFERROR(VLOOKUP(CONCATENATE(B20,D20),Padrón_Indígenas!$A$2:$G$988,7,0),\"No\")","v":"No"},{"$f":"VLOOKUP(E20,Cat_Municipios!$D$6:$M$64,11)","v":{"$error":"#REF!"}}]
[24,"001","Ahualulco","0115","El Garabatillal (0115)","R","Ahualulco (001)El Garabatillal (0115)",22.345759000000001,-101.42685299999999,7,"*","*",2,240010115,null,null,null,{"$f":"IFERROR(VLOOKUP(CONCATENATE(B21,D21),Padrón_Indígenas!$A$2:$G$988,7,0),\"No\")","v":"No"},{"$f":"VLOOKUP(E21,Cat_Municipios!$D$6:$M$64,11)","v":{"$error":"#REF!"}}]
[24,"001","Ahualulco","0067","El Mezquite (0067)","R","Ahualulco (001)El Mezquite (0067)",22.458573999999999,-101.269732,7,4,3,3,240010067,null,"Alto","Medio",{"$f":"IFERROR(VLOOKUP(CONCATENATE(B22,D22),Padrón_Indígenas!$A$2:$G$988,7,0),\"No\")","v":"No"},{"$f":"VLOOKUP(E22,Cat_Municipios!$D$6:$M$64,11)","v":{"$error":"#REF!"}}]
[24,"001","Ahualulco","0100","El Novillo (0100)","R","Ahualulco (001)El Novillo (0100)",22.636389000000001,-101.229444,71,36,35,15,240010100,null,"Alto","Medio",{"$f":"IFERROR(VLOOKUP(CONCATENATE(B23,D23),Padrón_Indígenas!$A$2:$G$988,7,0),\"No\")","v":"No"},{"$f":"VLOOKUP(E23,Cat_Municipios!$D$6:$M$64,11)","v":{"$error":"#REF!"}}]
[24,"001","Ahualulco","0117","El Pachoncito (0117)","R","Ahualulco (001)El Pachoncito (0117)",22.272296000000001,-101.378084,18,12,6,4,240010117,null,"Muy alto","Alto",{"$f":"IFERROR(VLOOKUP(CONCATENATE(B24,D24),Padrón_Indígenas!$A$2:$G$988,7,0),\"No\")","v":"No"},{"$f":"VLOOKUP(E24,Cat_Municipios!$D$6:$M$64,11)","v":{"$error":"#REF!"}}]
[24,"001","Ahualulco","0072","El Paso de la Aguja (0072)","R","Ahualulco (001)El Paso de la Aguja (0072)",22.498214999999998,-101.247303,16,"*","*",2,240010072,null,null,null,{"$f":"IFERROR(VLOOKUP(CONCATENATE(B25,D25),Padrón_Indígenas!$A$2:$G$988,7,0),\"No\")","v":"No"},{"$f":"VLOOKUP(E25,Cat_Municipios!$D$6:$M$64,11)","v":{"$error":"#REF!"}}]
[24,"001","Ahualulco","0027","El Pastillo (0027)","R","Ahualulco (001)El Pastillo (0027)",22.643611,-101.251389,76,36,40,15,240010027,null,"Alto","Bajo",{"$f":"IFERROR(VLOOKUP(CONCATENATE(B26,D26),Padrón_Indígenas!$A$2:$G$988,7,0),\"No\")","v":"No"},{"$f":"VLOOKUP(E26,Cat_Municipios!$D$6:$M$64,11)","v":{"$error":"#REF!"}}]
[24,"001","Ahualulco","0033","El Rosal (0033)","R","Ahualulco (001)El Rosal (0033)",22.322696000000001,-101.353953,25,12,13,5,240010033,null,"Muy alto","Alto",{"$f":"IFERROR(VLOOKUP(CONCATENATE(B27,D27),Padrón_Indígenas!$A$2:$G$988,7,0),\"No\")","v":"No"},{"$f":"VLOOKUP(E27,Cat_Municipios!$D$6:$M$64,11)","v":{"$error":"#REF!"}}]
[24,"001","Ahualulco","0034","El Salitre (0034)","R","Ahualulco (001)El Salitre (0034)",22.421282000000001,-101.142143,194,98,96,43,240010034,null,"Alto","Medio",{"$f":"IFERROR(VLOOKUP(CONCATENATE(B28,D28),Padrón_Indígenas!$A$2:$G$988,7,0),\"No\")","v":"No"},{"$f":"VLOOKUP(E28,Cat_Municipios!$D$6:$M$64,11)","v":{"$error":"#REF!"}}]
[24,"001","Ahualulco","0066","El Salto (0066)","R","Ahualulco (001)El Salto (0066)",22.436118,-101.050752,41,21,20,11,240010066,null,"Muy alto","Medio",{"$f":"IFERROR(VLOOKUP(CONCATENATE(B29,D29),Padrón_Indígenas!$A$2:$G$988,7,0),\"No\")","v":"No"},{"$f":"VLOOKUP(E29,Cat_Municipios!$D$6:$M$64,11)","v":{"$error":"#REF!"}}]
[24,"001","Ahualulco","0086","El Saucito (0086)","R","Ahualulco (001)El Saucito (0086)",22.644548,-101.275672,0,0,0,0,240010086,null,null,null,{"$f":"IFERROR(VLOOKUP(CONCATENATE(B30,D30),Padrón_Indígenas!$A$2:$G$988,7,0),\"No\")","v":"No"},{"$f":"VLOOKUP(E30,Cat_Municipios!$D$6:$M$64,11)","v":{"$error":"#REF!"}}]
[24,"001","Ahualulco","0041","El Soldadillo (0041)","R","Ahualulco (001)El Soldadillo (0041)",22.584412,-101.225324,15,5,10,4,240010041,null,"Muy alto","Alto",{"$f":"IFERROR(VLOOKUP(CONCATENATE(B31,D31),Padrón_Indígenas!$A$2:$G$988,7,0),\"No\")","v":"No"},{"$f":"VLOOKUP(E31,Cat_Municipios!$D$6:$M$64,11)","v":{"$error":"#REF!"}}]
[24,"001","Ahualulco","0043","El Temazcal (0043)","R","Ahualulco (001)El Temazcal (0043)",22.466449000000001,-101.208557,186,93,93,40,240010043,null,"Alto","Medio",{"$f":"IFERROR(VLOOKUP(CONCATENATE(B32,D32),Padrón_Indígenas!$A$2:$G$988,7,0),\"No\")","v":"No"},{"$f":"VLOOKUP(E32,Cat_Municipios!$D$6:$M$64,11)","v":{"$error":"#REF!"}}]
[24,"001","Ahualulco","0044","El Tepozán (0044)","R","Ahualulco (001)El Tepozán (0044)",22.560383999999999,-101.22840600000001,33,19,14,7,240010044,null,"Alto","Medio",{"$f":"IFERROR(VLOOKUP(CONCATENATE(B33,D33),Padrón_Indígenas!$A$2:$G$988,7,0),\"No\")","v":"No"},{"$f":"VLOOKUP(E33,Cat_Municipios!$D$6:$M$64,11)","v":{"$error":"#REF!"}}]
[24,"001","Ahualulco","0047","El Tulillo (0047)","R","Ahualulco (001)El Tulillo (0047)",22.597835,-101.261893,81,43,38,15,240010047,null,"Alto","Bajo",{"$f":"IFERROR(VLOOKUP(CONCATENATE(B34,D34),Padrón_Indígenas!$A$2:$G$988,7,0),\"No\")","v":"No"},{"$f":"VLOOKUP(E34,Cat_Municipios!$D$6:$M$64,11)","v":{"$error":"#REF!"}}]
[24,"001","Ahualulco","0064","El Tulillo (San Nicolás) (0064)","R","Ahualulco (001)El Tulillo (San Nicolás) (0064)",22.583020999999999,-101.27282599999999,148,72,76,36,240010064,null,"Alto","Medio",{"$f":"IFERROR(VLOOKUP(CONCATENATE(B35,D35),Padrón_Indígenas!$A$2:$G$988,7,0),\"No\")","v":"No"},{"$f":"VLOOKUP(E35,Cat_Municipios!$D$6:$M$64,11)","v":{"$error":"#REF!"}}]
[24,"001","Ahualulco","0049","El Zapatero (0049)","R","Ahualulco (001)El Zapatero (0049)",22.440739000000001,-101.168627,252,119,133,60,240010049,null,"Alto","Bajo",{"$f":"IFERROR(VLOOKUP(CONCATENATE(B36,D36),Padrón_Indígenas!$A$2:$G$988,7,0),\"No\")","v":"No"},{"$f":"VLOOKUP(E36,Cat_Municipios!$D$6:$M$64,11)","v":{"$error":"#REF!"}}]
[24,"001","Ahualulco","0010","El Zapote (Cerrito Blanco) (0010)","R","Ahualulco (001)El Zapote (Cerrito Blanco) (0010)",22.461893,-101.114988,636,274,362,137,240010010,null,"Alto","Medio",{"$f":"IFERROR(VLOOKUP(CONCATENATE(B37,D37),Padrón_Indígenas!$A$2:$G$988,7,0),\"No\")","v":"No"},{"$f":"VLOOKUP(E37,Cat_Municipios!$D$6:$M$64,11)","v":{"$error":"#REF!"}}]
[24,"001","Ahualulco","0021","Estación Ipiña (0021)","R","Ahualulco (001)Estación Ipiña (0021)",22.493715999999999,-101.272839,310,152,158,75,240010021,null,"Alto","Bajo",{"$f":"IFERROR(VLOOKUP(CONCATENATE(B38,D38),Padrón_Indígenas!$A$2:$G$988,7,0),\"No\")","v":"No"},{"$f":"VLOOKUP(E38,Cat_Municipios!$D$6:$M$64,11)","v":{"$error":"#REF!"}}]
[24,"001","Ahualulco","0019","Estancia del Arenal (Arenal Viejo) (0019)","R","Ahualulco (001)Estancia del Arenal (Arenal Viejo) (0019)",22.379179000000001,-101.22924,104,48,56,23,240010019,null,"Alto","Medio",{"$f":"IFERROR(VLOOKUP(CONCATENATE(B39,D39),Padrón_Indígenas!$A$2:$G$988,7,0),\"No\")","v":"No"},{"$f":"VLOOKUP(E39,Cat_Municipios!$D$6:$M$64,11)","v":{"$error":"#REF!"}}]
[24,"001","Ahualulco","0095","Francisco Guevara Sifuentes (0095)","R","Ahualulco (001)Francisco Guevara Sifuentes (0095)",22.407066,-101.318442,3,"*","*",1,240010095,null,null,null,{"$f":"IFERROR(VLOOKUP(CONCATENATE(B40,D40),Padrón_Indígenas!$A$2:$G$988,7,0),\"No\")","v":"No"},{"$f":"VLOOKUP(E40,Cat_Municipios!$D$6:$M$64,11)","v":{"$error":"#REF!"}}]
[24,"001","Ahualulco","0051","La Candelaria (0051)","R","Ahualulco (001)La Candelaria (0051)",22.525141999999999,-101.201419,85,42,43,20,240010051,null,"Alto","Medio",{"$f":"IFERROR(VLOOKUP(CONCATENATE(B41,D41),Padrón_Indígenas!$A$2:$G$988,7,0),\"No\")","v":"No"},{"$f":"VLOOKUP(E41,Cat_Municipios!$D$6:$M$64,11)","v":{"$error":"#REF!"}}]
[24,"001","Ahualulco","0057","La Cañada de la Cruz (0057)","R","Ahualulco (001)La Cañada de la Cruz (0057)",22.409516,-101.346199,4,"*","*",1,240010057,null,null,null,{"$f":"IFERROR(VLOOKUP(CONCATENATE(B42,D42),Padrón_Indígenas!$A$2:$G$988,7,0),\"No\")","v":"No"},{"$f":"VLOOKUP(E42,Cat_Municipios!$D$6:$M$64,11)","v":{"$error":"#REF!"}}]
[24,"001","Ahualulco","0094","La Crucita (0094)","R","Ahualulco (001)La Crucita (0094)",22.377768,-101.31347,0,0,0,0,240010094,null,null,null,{"$f":"IFERROR(VLOOKUP(CONCATENATE(B43,D43),Padrón_Indígenas!$A$2:$G$988,7,0),\"No\")","v":"No"},{"$f":"VLOOKUP(E43,Cat_Municipios!$D$6:$M$64,11)","v":{"$error":"#REF!"}}]
[24,"001","Ahualulco","0018","La Encarnación (0018)","R","Ahualulco (001)La Encarnación (0018)",22.394784000000001,-101.314329,522,267,255,130,240010018,null,"Alto","Bajo",{"$f":"IFERROR(VLOOKUP(CONCATENATE(B44,D44),Padrón_Indígenas!$A$2:$G$988,7,0),\"No\")","v":"No"},{"$f":"VLOOKUP(E44,Cat_Municipios!$D$6:$M$64,11)","v":{"$error":"#REF!"}}]
[24,"001","Ahualulco","0020","La Higuera (0020)","R","Ahualulco (001)La Higuera (0020)",22.424786000000001,-101.170286,360,160,200,79,240010020,null,"Alto","Bajo",{"$f":"IFERROR(VLOOKUP(CONCATENATE(B45,D45),Padrón_Indígenas!$A$2:$G$988,7,0),\"No\")","v":"No"},{"$f":"VLOOKUP(E45,Cat_Municipios!$D$6:$M$64,11)","v":{"$error":"#REF!"}}]
[24,"001","Ahualulco","0098","La Mesa (0098)","R","Ahualulco (001)La Mesa (0098)",22.469183999999998,-101.172786,17,"*","*",2,240010098,null,null,null,{"$f":"IFERROR(VLOOKUP(CONCATENATE(B46,D46),Padrón_Indígenas!$A$2:$G$988,7,0),\"No\")","v":"No"},{"$f":"VLOOKUP(E46,Cat_Municipios!$D$6:$M$64,11)","v":{"$error":"#REF!"}}]
[24,"001","Ahualulco","0053","La Mezclita (0053)","R","Ahualulco (001)La Mezclita (0053)",22.323900999999999,-101.246756,139,76,63,33,240010053,"SI","Alto","Bajo",{"$f":"IFERROR(VLOOKUP(CONCATENATE(B47,D47),Padrón_Indígenas!$A$2:$G$988,7,0),\"No\")","v":"No"},{"$f":"VLOOKUP(E47,Cat_Municipios!$D$6:$M$64,11)","v":{"$error":"#REF!"}}]
[24,"001","Ahualulco","0101","La Palma (0101)","R","Ahualulco (001)La Palma (0101)",22.587488,-101.22014,7,"*","*",1,240010101,null,null,null,{"$f":"IFERROR(VLOOKUP(CONCATENATE(B48,D48),Padrón_Indígenas!$A$2:$G$988,7,0),\"No\")","v":"No"},{"$f":"VLOOKUP(E48,Cat_Municipios!$D$6:$M$64,11)","v":{"$error":"#REF!"}}]
[24,"001","Ahualulco","0025","La Parada (0025)","R","Ahualulco (001)La Parada (0025)",22.330950000000001,-101.211039,268,121,147,54,240010025,null,"Alto","Bajo",{"$f":"IFERROR(VLOOKUP(CONCATENATE(B49,D49),Padrón_Indígenas!$A$2:$G$988,7,0),\"No\")","v":"No"},{"$f":"VLOOKUP(E49,Cat_Municipios!$D$6:$M$64,11)","v":{"$error":"#REF!"}}]
[24,"001","Ahualulco","0106","La Pila (0106)","R","Ahualulco (001)La Pila (0106)",22.482202000000001,-101.216264,9,2,7,3,240010106,null,"Alto","Medio",{"$f":"IFERROR(VLOOKUP(CONCATENATE(B50,D50),Padrón_Indígenas!$A$2:$G$988,7,0),\"No\")","v":"No"},{"$f":"VLOOKUP(E50,Cat_Municipios!$D$6:$M$64,11)","v":{"$error":"#REF!"}}]
[24,"001","Ahualulco","0042","La Soledad (0042)","R","Ahualulco (001)La Soledad (0042)",22.414999999999999,-101.15472200000001,35,12,23,8,240010042,null,"Alto","Bajo",{"$f":"IFERROR(VLOOKUP(CONCATENATE(B51,D51),Padrón_Indígenas!$A$2:$G$988,7,0),\"No\")","v":"No"},{"$f":"VLOOKUP(E51,Cat_Municipios!$D$6:$M$64,11)","v":{"$error":"#REF!"}}]
[24,"001","Ahualulco","0046","La Trinidad (0046)","R","Ahualulco (001)La Trinidad (0046)",22.626282,-101.27065,129,64,65,20,240010046,null,"Alto","Medio",{"$f":"IFERROR(VLOOKUP(CONCATENATE(B52,D52),Padrón_Indígenas!$A$2:$G$988,7,0),\"No\")","v":"No"},{"$f":"VLOOKUP(E52,Cat_Municipios!$D$6:$M$64,11)","v":{"$error":"#REF!"}}]
[24,"001","Ahualulco","0065","Las Enramadas (0065)","R","Ahualulco (001)Las Enramadas (0065)",22.429041000000002,-101.28150100000001,41,22,19,6,240010065,null,"Alto","Medio",{"$f":"IFERROR(VLOOKUP(CONCATENATE(B53,D53),Padrón_Indígenas!$A$2:$G$988,7,0),\"No\")","v":"No"},{"$f":"VLOOKUP(E53,Cat_Municipios!$D$6:$M$64,11)","v":{"$error":"#REF!"}}]
[24,"001","Ahualulco","0023","Las Mangas (0023)","R","Ahualulco (001)Las Mangas (0023)",22.356197999999999,-101.32105199999999,21,10,11,5,240010023,null,"Alto","Alto",{"$f":"IFERROR(VLOOKUP(CONCATENATE(B54,D54),Padrón_Indígenas!$A$2:$G$988,7,0),\"No\")","v":"No"},{"$f":"VLOOKUP(E54,Cat_Municipios!$D$6:$M$64,11)","v":{"$error":"#REF!"}}]
[24,"001","Ahualulco","0104","Las Pilas (0104)","R","Ahualulco (001)Las Pilas (0104)",22.495277999999999,-101.258611,11,"*","*",1,240010104,null,null,null,{"$f":"IFERROR(VLOOKUP(CONCATENATE(B55,D55),Padrón_Indígenas!$A$2:$G$988,7,0),\"No\")","v":"No"},{"$f":"VLOOKUP(E55,Cat_Municipios!$D$6:$M$64,11)","v":{"$error":"#REF!"}}]
[24,"001","Ahualulco","0062","Las Puertas (0062)","R","Ahualulco (001)Las Puertas (0062)",22.401436,-101.310243,0,0,0,0,240010062,null,null,null,{"$f":"IFERROR(VLOOKUP(CONCATENATE(B56,D56),Padrón_Indígenas!$A$2:$G$988,7,0),\"No\")","v":"No"},{"$f":"VLOOKUP(E56,Cat_Municipios!$D$6:$M$64,11)","v":{"$error":"#REF!"}}]
[24,"001","Ahualulco","0111","Las Taponas (0111)","R","Ahualulco (001)Las Taponas (0111)",22.427499999999998,-101.270278,0,0,0,0,240010111,null,null,null,{"$f":"IFERROR(VLOOKUP(CONCATENATE(B57,D57),Padrón_Indígenas!$A$2:$G$988,7,0),\"No\")","v":"No"},{"$f":"VLOOKUP(E57,Cat_Municipios!$D$6:$M$64,11)","v":{"$error":"#REF!"}}]
[24,"001","Ahualulco","0078","Las Trancas (0078)","R","Ahualulco (001)Las Trancas (0078)",22.339167,-101.296667,0,0,0,0,240010078,null,null,null,{"$f":"IFERROR(VLOOKUP(CONCATENATE(B58,D58),Padrón_Indígenas!$A$2:$G$988,7,0),\"No\")","v":"No"},{"$f":"VLOOKUP(E58,Cat_Municipios!$D$6:$M$64,11)","v":{"$error":"#REF!"}}]
[24,"001","Ahualulco","0119","Loma del Becerro (0119)","R","Ahualulco (001)Loma del Becerro (0119)",22.556111000000001,-101.237222,17,5,12,3,240010119,null,"Muy alto","Medio",{"$f":"IFERROR(VLOOKUP(CONCATENATE(B59,D59),Padrón_Indígenas!$A$2:$G$988,7,0),\"No\")","v":"No"},{"$f":"VLOOKUP(E59,Cat_Municipios!$D$6:$M$64,11)","v":{"$error":"#REF!"}}]
[24,"001","Ahualulco","0122","Los Árboles (Colonia de la Cruz) (0122)","R","Ahualulco (001)Los Árboles (Colonia de la Cruz) (0122)",22.435915999999999,-101.07259500000001,111,50,61,22,240010122,null,"Alto","Bajo",{"$f":"IFERROR(VLOOKUP(CONCATENATE(B60,D60),Padrón_Indígenas!$A$2:$G$988,7,0),\"No\")","v":"No"},{"$f":"VLOOKUP(E60,Cat_Municipios!$D$6:$M$64,11)","v":{"$error":"#REF!"}}]
[24,"001","Ahualulco","0012","Los Cerritos (0012)","R","Ahualulco (001)Los Cerritos (0012)",22.616790000000002,-101.22900199999999,128,62,66,37,240010012,"SI","Alto","Medio",{"$f":"IFERROR(VLOOKUP(CONCATENATE(B61,D61),Padrón_Indígenas!$A$2:$G$988,7,0),\"No\")","v":"No"},{"$f":"VLOOKUP(E61,Cat_Municipios!$D$6:$M$64,11)","v":{"$error":"#REF!"}}]
[24,"001","Ahualulco","0096","Los Llanitos (0096)","R","Ahualulco (001)Los Llanitos (0096)",22.488555999999999,-101.20549699999999,26,13,13,4,240010096,null,"Muy alto","Alto",{"$f":"IFERROR(VLOOKUP(CONCATENATE(B62,D62),Padrón_Indígenas!$A$2:$G$988,7,0),\"No\")","v":"No"},{"$f":"VLOOKUP(E62,Cat_Municipios!$D$6:$M$64,11)","v":{"$error":"#REF!"}}]
[24,"001","Ahualulco","0071","Majada Alta (0071)","R","Ahualulco (001)Majada Alta (0071)",22.475784000000001,-101.232202,55,26,29,9,240010071,null,"Alto","Medio",{"$f":"IFERROR(VLOOKUP(CONCATENATE(B63,D63),Padrón_Indígenas!$A$2:$G$988,7,0),\"No\")","v":"No"},{"$f":"VLOOKUP(E63,Cat_Municipios!$D$6:$M$64,11)","v":{"$error":"#REF!"}}]
[24,"001","Ahualulco","0068","Milpillas (0068)","R","Ahualulco (001)Milpillas (0068)",22.441808000000002,-101.283236,3,"*","*",1,240010068,null,null,null,{"$f":"IFERROR(VLOOKUP(CONCATENATE(B64,D64),Padrón_Indígenas!$A$2:$G$988,7,0),\"No\")","v":"No"},{"$f":"VLOOKUP(E64,Cat_Municipios!$D$6:$M$64,11)","v":{"$error":"#REF!"}}]
[24,"001","Ahualulco","0076","Mina Blanca (0076)","R","Ahualulco (001)Mina Blanca (0076)",22.359898000000001,-101.279629,128,76,52,27,240010076,null,"Alto","Medio",{"$f":"IFERROR(VLOOKUP(CONCATENATE(B65,D65),Padrón_Indígenas!$A$2:$G$988,7,0),\"No\")","v":"No"},{"$f":"VLOOKUP(E65,Cat_Municipios!$D$6:$M$64,11)","v":{"$error":"#REF!"}}]
[24,"001","Ahualulco","0121","Nopales Altos (0121)","R","Ahualulco (001)Nopales Altos (0121)",22.479520999999998,-101.207615,5,"*","*",1,240010121,null,null,null,{"$f":"IFERROR(VLOOKUP(CONCATENATE(B66,D66),Padrón_Indígenas!$A$2:$G$988,7,0),\"No\")","v":"No"},{"$f":"VLOOKUP(E66,Cat_Municipios!$D$6:$M$64,11)","v":{"$error":"#REF!"}}]
[24,"001","Ahualulco","0091","Ojo de Agua del Llano (0091)","R","Ahualulco (001)Ojo de Agua del Llano (0091)",22.523999,-101.238596,7,"*","*",1,240010091,null,null,null,{"$f":"IFERROR(VLOOKUP(CONCATENATE(B67,D67),Padrón_Indígenas!$A$2:$G$988,7,0),\"No\")","v":"No"},{"$f":"VLOOKUP(E67,Cat_Municipios!$D$6:$M$64,11)","v":{"$error":"#REF!"}}]
[24,"001","Ahualulco","0102","Paredes (0102)","R","Ahualulco (001)Paredes (0102)",22.639385000000001,-101.246343,17,8,9,3,240010102,null,"Alto","Bajo",{"$f":"IFERROR(VLOOKUP(CONCATENATE(B68,D68),Padrón_Indígenas!$A$2:$G$988,7,0),\"No\")","v":"No"},{"$f":"VLOOKUP(E68,Cat_Municipios!$D$6:$M$64,11)","v":{"$error":"#REF!"}}]
[24,"001","Ahualulco","0026","Paso Bonito (0026)","R","Ahualulco (001)Paso Bonito (0026)",22.325340000000001,-101.261611,1274,636,638,277,240010026,null,"Alto","Medio",{"$f":"IFERROR(VLOOKUP(CONCATENATE(B69,D69),Padrón_Indígenas!$A$2:$G$988,7,0),\"No\")","v":"No"},{"$f":"VLOOKUP(E69,Cat_Municipios!$D$6:$M$64,11)","v":{"$error":"#REF!"}}]
[24,"001","Ahualulco","0028","Pedregal (0028)","R","Ahualulco (001)Pedregal (0028)",22.440411999999998,-101.15619599999999,320,135,185,81,240010028,null,"Alto","Bajo",{"$f":"IFERROR(VLOOKUP(CONCATENATE(B70,D70),Padrón_Indígenas!$A$2:$G$988,7,0),\"No\")","v":"No"},{"$f":"VLOOKUP(E70,Cat_Municipios!$D$6:$M$64,11)","v":{"$error":"#REF!"}}]
[24,"001","Ahualulco","0030","Potrerillos (0030)","R","Ahualulco (001)Potrerillos (0030)",22.653787000000001,-101.296008,28,11,17,8,240010030,null,"Alto","Medio",{"$f":"IFERROR(VLOOKUP(CONCATENATE(B71,D71),Padrón_Indígenas!$A$2:$G$988,7,0),\"No\")","v":"No"},{"$f":"VLOOKUP(E71,Cat_Municipios!$D$6:$M$64,11)","v":{"$error":"#REF!"}}]
[24,"001","Ahualulco","0002","Potrero Agua Bendita (0002)","R","Ahualulco (001)Potrero Agua Bendita (0002)",22.571037,-101.21299399999999,4,"*","*",1,240010002,null,null,null,{"$f":"IFERROR(VLOOKUP(CONCATENATE(B72,D72),Padrón_Indígenas!$A$2:$G$988,7,0),\"No\")","v":"No"},{"$f":"VLOOKUP(E72,Cat_Municipios!$D$6:$M$64,11)","v":{"$error":"#REF!"}}]
[24,"001","Ahualulco","0107","Puente Mina Blanca (0107)","R","Ahualulco (001)Puente Mina Blanca (0107)",22.368245999999999,-101.286952,3,"*","*",1,240010107,null,null,null,{"$f":"IFERROR(VLOOKUP(CONCATENATE(B73,D73),Padrón_Indígenas!$A$2:$G$988,7,0),\"No\")","v":"No"},{"$f":"VLOOKUP(E73,Cat_Municipios!$D$6:$M$64,11)","v":{"$error":"#REF!"}}]
[24,"001","Ahualulco","0031","Puerto de Duques (0031)","R","Ahualulco (001)Puerto de Duques (0031)",22.525328999999999,-101.187336,38,19,19,8,240010031,null,"Alto","Medio",{"$f":"IFERROR(VLOOKUP(CONCATENATE(B74,D74),Padrón_Indígenas!$A$2:$G$988,7,0),\"No\")","v":"No"},{"$f":"VLOOKUP(E74,Cat_Municipios!$D$6:$M$64,11)","v":{"$error":"#REF!"}}]
[24,"001","Ahualulco","0077","Rancho Alegre (0077)","R","Ahualulco (001)Rancho Alegre (0077)",22.475062000000001,-101.288541,0,0,0,0,240010077,null,null,null,{"$f":"IFERROR(VLOOKUP(CONCATENATE(B75,D75),Padrón_Indígenas!$A$2:$G$988,7,0),\"No\")","v":"No"},{"$f":"VLOOKUP(E75,Cat_Municipios!$D$6:$M$64,11)","v":{"$error":"#REF!"}}]
[24,"001","Ahualulco","0093","Rancho de la Cruz (0093)","R","Ahualulco (001)Rancho de la Cruz (0093)",22.276676999999999,-101.40619100000001,30,14,16,5,240010093,null,"Alto","Medio",{"$f":"IFERROR(VLOOKUP(CONCATENATE(B76,D76),Padrón_Indígenas!$A$2:$G$988,7,0),\"No\")","v":"No"},{"$f":"VLOOKUP(E76,Cat_Municipios!$D$6:$M$64,11)","v":{"$error":"#REF!"}}]
[24,"001","Ahualulco","0116","Rancho Viejo (0116)","R","Ahualulco (001)Rancho Viejo (0116)",22.335277999999999,-101.413611,7,"*","*",2,240010116,null,null,null,{"$f":"IFERROR(VLOOKUP(CONCATENATE(B77,D77),Padrón_Indígenas!$A$2:$G$988,7,0),\"No\")","v":"No"},{"$f":"VLOOKUP(E77,Cat_Municipios!$D$6:$M$64,11)","v":{"$error":"#REF!"}}]
[24,"001","Ahualulco","0032","Rincón de Yerbabuena (0032)","R","Ahualulco (001)Rincón de Yerbabuena (0032)",22.501864999999999,-101.182716,221,111,110,44,240010032,null,"Alto","Medio",{"$f":"IFERROR(VLOOKUP(CONCATENATE(B78,D78),Padrón_Indígenas!$A$2:$G$988,7,0),\"No\")","v":"No"},{"$f":"VLOOKUP(E78,Cat_Municipios!$D$6:$M$64,11)","v":{"$error":"#REF!"}}]
[24,"001","Ahualulco","0035","San Antonio Ojo de Agua (0035)","R","Ahualulco (001)San Antonio Ojo de Agua (0035)",22.452458,-101.129743,434,210,224,93,240010035,"SI","Alto","Medio",{"$f":"IFERROR(VLOOKUP(CONCATENATE(B79,D79),Padrón_Indígenas!$A$2:$G$988,7,0),\"No\")","v":"No"},{"$f":"VLOOKUP(E79,Cat_Municipios!$D$6:$M$64,11)","v":{"$error":"#REF!"}}]
[24,"001","Ahualulco","0063","San Francisco de los Chávez (Potrerillos) (0063)","R","Ahualulco (001)San Francisco de los Chávez (Potrerillos) (0063)",22.650841,-101.28801799999999,15,"*","*",2,240010063,null,null,null,{"$f":"IFERROR(VLOOKUP(CONCATENATE(B80,D80),Padrón_Indígenas!$A$2:$G$988,7,0),\"No\")","v":"No"},{"$f":"VLOOKUP(E80,Cat_Municipios!$D$6:$M$64,11)","v":{"$error":"#REF!"}}]
[24,"001","Ahualulco","0075","San Ignacio (0075)","R","Ahualulco (001)San Ignacio (0075)",22.344498999999999,-101.25763600000001,22,9,13,4,240010075,null,"Alto","Medio",{"$f":"IFERROR(VLOOKUP(CONCATENATE(B81,D81),Padrón_Indígenas!$A$2:$G$988,7,0),\"No\")","v":"No"},{"$f":"VLOOKUP(E81,Cat_Municipios!$D$6:$M$64,11)","v":{"$error":"#REF!"}}]
[24,"001","Ahualulco","0036","San José (0036)","R","Ahualulco (001)San José (0036)",22.561046999999999,-101.21044000000001,14,9,5,3,240010036,null,"Alto","Medio",{"$f":"IFERROR(VLOOKUP(CONCATENATE(B82,D82),Padrón_Indígenas!$A$2:$G$988,7,0),\"No\")","v":"No"},{"$f":"VLOOKUP(E82,Cat_Municipios!$D$6:$M$64,11)","v":{"$error":"#REF!"}}]
[24,"001","Ahualulco","0037","San Juan (San Juan de Coyotillos) (0037)","R","Ahualulco (001)San Juan (San Juan de Coyotillos) (0037)",22.381156000000001,-101.17110599999999,663,310,353,161,240010037,"SI","Alto","Bajo",{"$f":"IFERROR(VLOOKUP(CONCATENATE(B83,D83),Padrón_Indígenas!$A$2:$G$988,7,0),\"No\")","v":"No"},{"$f":"VLOOKUP(E83,Cat_Municipios!$D$6:$M$64,11)","v":{"$error":"#REF!"}}]
[24,"001","Ahualulco","0069","San Juan de la Hija (0069)","R","Ahualulco (001)San Juan de la Hija (0069)",22.560134999999999,-101.24870799999999,56,26,30,8,240010069,null,"Muy alto","Alto",{"$f":"IFERROR(VLOOKUP(CONCATENATE(B84,D84),Padrón_Indígenas!$A$2:$G$988,7,0),\"No\")","v":"No"},{"$f":"VLOOKUP(E84,Cat_Municipios!$D$6:$M$64,11)","v":{"$error":"#REF!"}}]
[24,"001","Ahualulco","0039","San Salvador (0039)","R","Ahualulco (001)San Salvador (0039)",22.438452999999999,-101.145461,361,154,207,86,240010039,null,"Alto","Bajo",{"$f":"IFERROR(VLOOKUP(CONCATENATE(B85,D85),Padrón_Indígenas!$A$2:$G$988,7,0),\"No\")","v":"No"},{"$f":"VLOOKUP(E85,Cat_Municipios!$D$6:$M$64,11)","v":{"$error":"#REF!"}}]
[24,"001","Ahualulco","0029","Santa Petronilas (0029)","R","Ahualulco (001)Santa Petronilas (0029)",22.444051000000002,-101.216025,140,66,74,40,240010029,null,"Alto","Medio",{"$f":"IFERROR(VLOOKUP(CONCATENATE(B86,D86),Padrón_Indígenas!$A$2:$G$988,7,0),\"No\")","v":"No"},{"$f":"VLOOKUP(E86,Cat_Municipios!$D$6:$M$64,11)","v":{"$error":"#REF!"}}]
[24,"001","Ahualulco","0040","Santa Teresa (0040)","R","Ahualulco (001)Santa Teresa (0040)",22.386358999999999,-101.303292,646,308,338,162,240010040,null,"Alto","Bajo",{"$f":"IFERROR(VLOOKUP(CONCATENATE(B87,D87),Padrón_Indígenas!$A$2:$G$988,7,0),\"No\")","v":"No"},{"$f":"VLOOKUP(E87,Cat_Municipios!$D$6:$M$64,11)","v":{"$error":"#REF!"}}]
[24,"001","Ahualulco","0125","Tanque Cañón del Puerto (0125)","R","Ahualulco (001)Tanque Cañón del Puerto (0125)",22.424461999999998,-101.02967200000001,20,9,11,5,240010125,null,"Bajo","Muy bajo",{"$f":"IFERROR(VLOOKUP(CONCATENATE(B88,D88),Padrón_Indígenas!$A$2:$G$988,7,0),\"No\")","v":"No"},{"$f":"VLOOKUP(E88,Cat_Municipios!$D$6:$M$64,11)","v":{"$error":"#REF!"}}]
[24,"001","Ahualulco","0110","Tanque el Puerto (0110)","R","Ahualulco (001)Tanque el Puerto (0110)",22.416618,-101.01532899999999,8,"*","*",2,240010110,null,null,null,{"$f":"IFERROR(VLOOKUP(CONCATENATE(B89,D89),Padrón_Indígenas!$A$2:$G$988,7,0),\"No\")","v":"No"},{"$f":"VLOOKUP(E89,Cat_Municipios!$D$6:$M$64,11)","v":{"$error":"#REF!"}}]
[24,"001","Ahualulco","0070","Tierra Prieta (0070)","R","Ahualulco (001)Tierra Prieta (0070)",22.432124999999999,-101.131748,202,92,110,45,240010070,null,"Alto","Medio",{"$f":"IFERROR(VLOOKUP(CONCATENATE(B90,D90),Padrón_Indígenas!$A$2:$G$988,7,0),\"No\")","v":"No"},{"$f":"VLOOKUP(E90,Cat_Municipios!$D$6:$M$64,11)","v":{"$error":"#REF!"}}]
[24,"001","Ahualulco","0045","Tinaja (0045)","R","Ahualulco (001)Tinaja (0045)",22.476171000000001,-101.140353,187,83,104,44,240010045,null,"Alto","Medio",{"$f":"IFERROR(VLOOKUP(CONCATENATE(B91,D91),Padrón_Indígenas!$A$2:$G$988,7,0),\"No\")","v":"No"},{"$f":"VLOOKUP(E91,Cat_Municipios!$D$6:$M$64,11)","v":{"$error":"#REF!"}}]
[24,"001","Ahualulco","0085","Tomates (0085)","R","Ahualulco (001)Tomates (0085)",22.648133999999999,-101.266486,8,"*","*",1,240010085,null,null,null,{"$f":"IFERROR(VLOOKUP(CONCATENATE(B92,D92),Padrón_Indígenas!$A$2:$G$988,7,0),\"No\")","v":"No"},{"$f":"VLOOKUP(E92,Cat_Municipios!$D$6:$M$64,11)","v":{"$error":"#REF!"}}]
[24,"001","Ahualulco","0048","Yerbabuena (0048)","R","Ahualulco (001)Yerbabuena (0048)",22.457961999999998,-101.145105,405,159,246,85,240010048,null,"Alto","Bajo",{"$f":"IFERROR(VLOOKUP(CONCATENATE(B93,D93),Padrón_Indígenas!$A$2:$G$988,7,0),\"No\")","v":"No"},{"$f":"VLOOKUP(E93,Cat_Municipios!$D$6:$M$64,11)","v":{"$error":"#REF!"}}]
[24,"001","Ahualulco",null,"Todo el municipio ",null,{"$f":"_xlfn.CONCAT(C94,\" (\",B94,\")\",E94)","v":"Ahualulco (001)Todo el municipio "},null,null,{"$f":"SUM(J2:J93)","v":18644}]
[24,"002","Alaquines","0002","Agua de San Juan (Joya Alegre) (0002)","R","Alaquines (002)Agua de San Juan (Joya Alegre) (0002)",22.161349999999999,-99.520765999999995,2,"*","*",1,240020002,null,null,null,{"$f":"IFERROR(VLOOKUP(CONCATENATE(B95,D95),Padrón_Indígenas!$A$2:$G$988,7,0),\"No\")","v":"No"},{"$f":"VLOOKUP(E95,Cat_Municipios!$D$6:$M$64,11)","v":{"$error":"#N/A"}}]
[24,"002","Alaquines","0067","Agua Nueva (0067)","R","Alaquines (002)Agua Nueva (0067)",22.012349,-99.470929999999996,2,"*","*",2,240020067,null,null,null,{"$f":"IFERROR(VLOOKUP(CONCATENATE(B96,D96),Padrón_Indígenas!$A$2:$G$988,7,0),\"No\")","v":"No"},{"$f":"VLOOKUP(E96,Cat_Municipios!$D$6:$M$64,11)","v":{"$error":"#N/A"}}]
[24,"002","Alaquines","0001","Alaquines (0001)","U","Alaquines (002)Alaquines (0001)",22.127894000000001,-99.600389000000007,1149,532,617,313,240020001,"SI",null,null,{"$f":"IFERROR(VLOOKUP(CONCATENATE(B97,D97),Padrón_Indígenas!$A$2:$G$988,7,0),\"No\")","v":"No"},{"$f":"VLOOKUP(E97,Cat_Municipios!$D$6:$M$64,11)","v":{"$error":"#REF!"}}]
[24,"002","Alaquines","0057","Alaquines (Gregorio Maldonado) (0057)","R","Alaquines (002)Alaquines (Gregorio Maldonado) (0057)",22.130485,-99.606859999999998,0,0,0,0,240020057,null,null,null,{"$f":"IFERROR(VLOOKUP(CONCATENATE(B98,D98),Padrón_Indígenas!$A$2:$G$988,7,0),\"No\")","v":"No"},{"$f":"VLOOKUP(E98,Cat_Municipios!$D$6:$M$64,11)","v":{"$error":"#REF!"}}]
[24,"002","Alaquines","0058","Barrio de San Antonio (0058)","R","Alaquines (002)Barrio de San Antonio (0058)",22.127777999999999,-99.594443999999996,0,0,0,0,240020058,"SI",null,null,{"$f":"IFERROR(VLOOKUP(CONCATENATE(B99,D99),Padrón_Indígenas!$A$2:$G$988,7,0),\"No\")","v":"No"},{"$f":"VLOOKUP(E99,Cat_Municipios!$D$6:$M$64,11)","v":{"$error":"#REF!"}}]
[24,"002","Alaquines","0005","Cañaditas (0005)","R","Alaquines (002)Cañaditas (0005)",22.084537999999998,-99.644492,150,66,84,35,240020005,null,"Alto","Bajo",{"$f":"IFERROR(VLOOKUP(CONCATENATE(B100,D100),Padrón_Indígenas!$A$2:$G$988,7,0),\"No\")","v":"No"},{"$f":"VLOOKUP(E100,Cat_Municipios!$D$6:$M$64,11)","v":{"$error":"#REF!"}}]
[24,"002","Alaquines","0006","Cañón de Guerrero (0006)","R","Alaquines (002)Cañón de Guerrero (0006)",21.972396,-99.489309000000006,26,11,15,8,240020006,null,"Alto","Medio",{"$f":"IFERROR(VLOOKUP(CONCATENATE(B101,D101),Padrón_Indígenas!$A$2:$G$988,7,0),\"No\")","v":"Sí"},{"$f":"VLOOKUP(E101,Cat_Municipios!$D$6:$M$64,11)","v":{"$error":"#REF!"}}]
[24,"002","Alaquines","0007","Cerro Grande (0007)","R","Alaquines (002)Cerro Grande (0007)",22.144649000000001,-99.594358999999997,5,"*","*",2,240020007,null,null,null,{"$f":"IFERROR(VLOOKUP(CONCATENATE(B102,D102),Padrón_Indígenas!$A$2:$G$988,7,0),\"No\")","v":"Sí"},{"$f":"VLOOKUP(E102,Cat_Municipios!$D$6:$M$64,11)","v":{"$error":"#REF!"}}]
[24,"002","Alaquines","0060","Colonia Indígena (Pascual Osorio Ortega) (0060)","R","Alaquines (002)Colonia Indígena (Pascual Osorio Ortega) (0060)",22.116721999999999,-99.584643,27,11,16,4,240020060,"SI","Alto","Bajo",{"$f":"IFERROR(VLOOKUP(CONCATENATE(B103,D103),Padrón_Indígenas!$A$2:$G$988,7,0),\"No\")","v":"Sí"},{"$f":"VLOOKUP(E103,Cat_Municipios!$D$6:$M$64,11)","v":{"$error":"#REF!"}}]
[24,"002","Alaquines","0052","Crucero de Alaquines (0052)","R","Alaquines (002)Crucero de Alaquines (0052)",22.126366999999998,-99.616940999999997,17,8,9,4,240020052,"SI","Alto","Medio",{"$f":"IFERROR(VLOOKUP(CONCATENATE(B104,D104),Padrón_Indígenas!$A$2:$G$988,7,0),\"No\")","v":"No"},{"$f":"VLOOKUP(E104,Cat_Municipios!$D$6:$M$64,11)","v":{"$error":"#REF!"}}]
[24,"002","Alaquines","0055","El Abra (0055)","R","Alaquines (002)El Abra (0055)",22.001076000000001,-99.443726999999996,0,0,0,0,240020055,null,null,null,{"$f":"IFERROR(VLOOKUP(CONCATENATE(B105,D105),Padrón_Indígenas!$A$2:$G$988,7,0),\"No\")","v":"No"},{"$f":"VLOOKUP(E105,Cat_Municipios!$D$6:$M$64,11)","v":{"$error":"#REF!"}}]
[24,"002","Alaquines","0051","El Álamo (0051)","R","Alaquines (002)El Álamo (0051)",22.165706,-99.620507000000003,0,0,0,0,240020051,null,null,null,{"$f":"IFERROR(VLOOKUP(CONCATENATE(B106,D106),Padrón_Indígenas!$A$2:$G$988,7,0),\"No\")","v":"No"},{"$f":"VLOOKUP(E106,Cat_Municipios!$D$6:$M$64,11)","v":{"$error":"#REF!"}}]
[24,"002","Alaquines","0003","El Callejón de la Luz (0003)","R","Alaquines (002)El Callejón de la Luz (0003)",22.183782000000001,-99.565387999999999,132,65,67,32,240020003,"SI","Alto","Medio",{"$f":"IFERROR(VLOOKUP(CONCATENATE(B107,D107),Padrón_Indígenas!$A$2:$G$988,7,0),\"No\")","v":"No"},{"$f":"VLOOKUP(E107,Cat_Municipios!$D$6:$M$64,11)","v":{"$error":"#REF!"}}]
[24,"002","Alaquines","0050","El Infiernito (0050)","R","Alaquines (002)El Infiernito (0050)",21.953641999999999,-99.419081000000006,0,0,0,0,240020050,null,null,null,{"$f":"IFERROR(VLOOKUP(CONCATENATE(B108,D108),Padrón_Indígenas!$A$2:$G$988,7,0),\"No\")","v":"No"},{"$f":"VLOOKUP(E108,Cat_Municipios!$D$6:$M$64,11)","v":{"$error":"#REF!"}}]
[24,"002","Alaquines","0010","El Llanito (0010)","R","Alaquines (002)El Llanito (0010)",21.994703999999999,-99.491806999999994,141,91,50,32,240020010,"SI","Alto","Medio",{"$f":"IFERROR(VLOOKUP(CONCATENATE(B109,D109),Padrón_Indígenas!$A$2:$G$988,7,0),\"No\")","v":"Sí"},{"$f":"VLOOKUP(E109,Cat_Municipios!$D$6:$M$64,11)","v":{"$error":"#REF!"}}]
[24,"002","Alaquines","0061","El Nacimiento de la Peña (0061)","R","Alaquines (002)El Nacimiento de la Peña (0061)",22.079139999999999,-99.505422999999993,0,0,0,0,240020061,null,null,null,{"$f":"IFERROR(VLOOKUP(CONCATENATE(B110,D110),Padrón_Indígenas!$A$2:$G$988,7,0),\"No\")","v":"No"},{"$f":"VLOOKUP(E110,Cat_Municipios!$D$6:$M$64,11)","v":{"$error":"#REF!"}}]
[24,"002","Alaquines","0048","El Pelillo (0048)","R","Alaquines (002)El Pelillo (0048)",21.987278,-99.432188999999994,15,9,6,4,240020048,null,"Muy alto","Alto",{"$f":"IFERROR(VLOOKUP(CONCATENATE(B111,D111),Padrón_Indígenas!$A$2:$G$988,7,0),\"No\")","v":"Sí"},{"$f":"VLOOKUP(E111,Cat_Municipios!$D$6:$M$64,11)","v":{"$error":"#REF!"}}]
[24,"002","Alaquines","0054","El Quebrantadero (0054)","R","Alaquines (002)El Quebrantadero (0054)",21.952316,-99.508215000000007,14,6,8,3,240020054,"SI","Alto","Medio",{"$f":"IFERROR(VLOOKUP(CONCATENATE(B112,D112),Padrón_Indígenas!$A$2:$G$988,7,0),\"No\")","v":"No"},{"$f":"VLOOKUP(E112,Cat_Municipios!$D$6:$M$64,11)","v":{"$error":"#REF!"}}]
[24,"002","Alaquines","0027","El Sabino (0027)","R","Alaquines (002)El Sabino (0027)",22.024550000000001,-99.552432999999994,603,296,307,156,240020027,null,"Alto","Medio",{"$f":"IFERROR(VLOOKUP(CONCATENATE(B113,D113),Padrón_Indígenas!$A$2:$G$988,7,0),\"No\")","v":"No"},{"$f":"VLOOKUP(E113,Cat_Municipios!$D$6:$M$64,11)","v":{"$error":"#REF!"}}]
[24,"002","Alaquines","0064","El Salitrillo (Juan Olvera) (0064)","R","Alaquines (002)El Salitrillo (Juan Olvera) (0064)",22.137561999999999,-99.608250999999996,1,"*","*",1,240020064,null,null,null,{"$f":"IFERROR(VLOOKUP(CONCATENATE(B114,D114),Padrón_Indígenas!$A$2:$G$988,7,0),\"No\")","v":"No"},{"$f":"VLOOKUP(E114,Cat_Municipios!$D$6:$M$64,11)","v":{"$error":"#REF!"}}]
[24,"002","Alaquines","0040","El Tejocote (0040)","R","Alaquines (002)El Tejocote (0040)",22.085512000000001,-99.554389999999998,4,"*","*",1,240020040,null,null,null,{"$f":"IFERROR(VLOOKUP(CONCATENATE(B115,D115),Padrón_Indígenas!$A$2:$G$988,7,0),\"No\")","v":"No"},{"$f":"VLOOKUP(E115,Cat_Municipios!$D$6:$M$64,11)","v":{"$error":"#REF!"}}]
[24,"002","Alaquines","0056","Huerta de la Redonda (0056)","R","Alaquines (002)Huerta de la Redonda (0056)",22.112449999999999,-99.625702000000004,0,0,0,0,240020056,null,null,null,{"$f":"IFERROR(VLOOKUP(CONCATENATE(B116,D116),Padrón_Indígenas!$A$2:$G$988,7,0),\"No\")","v":"No"},{"$f":"VLOOKUP(E116,Cat_Municipios!$D$6:$M$64,11)","v":{"$error":"#REF!"}}]
[24,"002","Alaquines","0004","La Cañada (0004)","R","Alaquines (002)La Cañada (0004)",22.064367000000001,-99.559451999999993,845,427,418,240,240020004,null,"Alto","Muy bajo",{"$f":"IFERROR(VLOOKUP(CONCATENATE(B117,D117),Padrón_Indígenas!$A$2:$G$988,7,0),\"No\")","v":"No"},{"$f":"VLOOKUP(E117,Cat_Municipios!$D$6:$M$64,11)","v":{"$error":"#REF!"}}]
[24,"002","Alaquines","0059","La Casa de la Piedra (0059)","R","Alaquines (002)La Casa de la Piedra (0059)",22.181253999999999,-99.521704999999997,0,0,0,0,240020059,null,null,null,{"$f":"IFERROR(VLOOKUP(CONCATENATE(B118,D118),Padrón_Indígenas!$A$2:$G$988,7,0),\"No\")","v":"No"},{"$f":"VLOOKUP(E118,Cat_Municipios!$D$6:$M$64,11)","v":{"$error":"#REF!"}}]
[24,"002","Alaquines","0047","La Cieneguita (0047)","R","Alaquines (002)La Cieneguita (0047)",22.174911000000002,-99.622904000000005,0,0,0,0,240020047,null,null,null,{"$f":"IFERROR(VLOOKUP(CONCATENATE(B119,D119),Padrón_Indígenas!$A$2:$G$988,7,0),\"No\")","v":"No"},{"$f":"VLOOKUP(E119,Cat_Municipios!$D$6:$M$64,11)","v":{"$error":"#REF!"}}]
[24,"002","Alaquines","0013","La Máscara (0013)","R","Alaquines (002)La Máscara (0013)",22.101410000000001,-99.520803999999998,22,9,13,5,240020013,null,"Muy alto","Alto",{"$f":"IFERROR(VLOOKUP(CONCATENATE(B120,D120),Padrón_Indígenas!$A$2:$G$988,7,0),\"No\")","v":"No"},{"$f":"VLOOKUP(E120,Cat_Municipios!$D$6:$M$64,11)","v":{"$error":"#REF!"}}]
[24,"002","Alaquines","0024","La Puente (0024)","R","Alaquines (002)La Puente (0024)",22.129541,-99.503812999999994,0,0,0,0,240020024,null,null,null,{"$f":"IFERROR(VLOOKUP(CONCATENATE(B121,D121),Padrón_Indígenas!$A$2:$G$988,7,0),\"No\")","v":"No"},{"$f":"VLOOKUP(E121,Cat_Municipios!$D$6:$M$64,11)","v":{"$error":"#REF!"}}]
[24,"002","Alaquines","0068","La Sepultura (0068)","R","Alaquines (002)La Sepultura (0068)",22.111405999999999,-99.615752000000001,0,0,0,0,240020068,null,null,null,{"$f":"IFERROR(VLOOKUP(CONCATENATE(B122,D122),Padrón_Indígenas!$A$2:$G$988,7,0),\"No\")","v":"No"},{"$f":"VLOOKUP(E122,Cat_Municipios!$D$6:$M$64,11)","v":{"$error":"#REF!"}}]
[24,"002","Alaquines","0009","Las Crucitas (0009)","R","Alaquines (002)Las Crucitas (0009)",22.011780999999999,-99.456903999999994,27,15,12,5,240020009,"SI","Muy alto","Alto",{"$f":"IFERROR(VLOOKUP(CONCATENATE(B123,D123),Padrón_Indígenas!$A$2:$G$988,7,0),\"No\")","v":"No"},{"$f":"VLOOKUP(E123,Cat_Municipios!$D$6:$M$64,11)","v":{"$error":"#REF!"}}]
[24,"002","Alaquines","0041","Las Huertas (0041)","R","Alaquines (002)Las Huertas (0041)",22.041592999999999,-99.528148999999999,196,96,100,54,240020041,"SI","Alto","Bajo",{"$f":"IFERROR(VLOOKUP(CONCATENATE(B124,D124),Padrón_Indígenas!$A$2:$G$988,7,0),\"No\")","v":"No"},{"$f":"VLOOKUP(E124,Cat_Municipios!$D$6:$M$64,11)","v":{"$error":"#REF!"}}]
[24,"002","Alaquines","0021","Las Peñitas (0021)","R","Alaquines (002)Las Peñitas (0021)",22.061575999999999,-99.496510999999998,129,69,60,27,240020021,"SI","Muy alto","Alto",{"$f":"IFERROR(VLOOKUP(CONCATENATE(B125,D125),Padrón_Indígenas!$A$2:$G$988,7,0),\"No\")","v":"No"},{"$f":"VLOOKUP(E125,Cat_Municipios!$D$6:$M$64,11)","v":{"$error":"#REF!"}}]
[24,"002","Alaquines","0043","Las Puertas Cuatas (0043)","R","Alaquines (002)Las Puertas Cuatas (0043)",22.089428000000002,-99.552963000000005,0,0,0,0,240020043,null,null,null,{"$f":"IFERROR(VLOOKUP(CONCATENATE(B126,D126),Padrón_Indígenas!$A$2:$G$988,7,0),\"No\")","v":"No"},{"$f":"VLOOKUP(E126,Cat_Municipios!$D$6:$M$64,11)","v":{"$error":"#REF!"}}]
[24,"002","Alaquines","0032","Las Tuzas (0032)","R","Alaquines (002)Las Tuzas (0032)",22.104903,-99.641543999999996,180,86,94,62,240020032,null,"Alto","Bajo",{"$f":"IFERROR(VLOOKUP(CONCATENATE(B127,D127),Padrón_Indígenas!$A$2:$G$988,7,0),\"No\")","v":"No"},{"$f":"VLOOKUP(E127,Cat_Municipios!$D$6:$M$64,11)","v":{"$error":"#REF!"}}]
[24,"002","Alaquines","0053","Los Palos Prietos (0053)","R","Alaquines (002)Los Palos Prietos (0053)",22.167341,-99.562545999999998,3,"*","*",1,240020053,null,null,null,{"$f":"IFERROR(VLOOKUP(CONCATENATE(B128,D128),Padrón_Indígenas!$A$2:$G$988,7,0),\"No\")","v":"No"},{"$f":"VLOOKUP(E128,Cat_Municipios!$D$6:$M$64,11)","v":{"$error":"#REF!"}}]
[24,"002","Alaquines","0033","Los Pocitos (Los Pozos) (0033)","R","Alaquines (002)Los Pocitos (Los Pozos) (0033)",21.970213999999999,-99.422312000000005,93,46,47,24,240020033,"SI","Alto","Medio",{"$f":"IFERROR(VLOOKUP(CONCATENATE(B129,D129),Padrón_Indígenas!$A$2:$G$988,7,0),\"No\")","v":"Sí"},{"$f":"VLOOKUP(E129,Cat_Municipios!$D$6:$M$64,11)","v":{"$error":"#REF!"}}]
[24,"002","Alaquines","0011","Maldonado (0011)","R","Alaquines (002)Maldonado (0011)",22.052261000000001,-99.563787000000005,171,85,86,46,240020011,null,"Alto","Bajo",{"$f":"IFERROR(VLOOKUP(CONCATENATE(B130,D130),Padrón_Indígenas!$A$2:$G$988,7,0),\"No\")","v":"No"},{"$f":"VLOOKUP(E130,Cat_Municipios!$D$6:$M$64,11)","v":{"$error":"#REF!"}}]
[24,"002","Alaquines","0012","Martínez (0012)","R","Alaquines (002)Martínez (0012)",22.068155999999998,-99.626634999999993,1081,545,536,260,240020012,"SI","Alto","Bajo",{"$f":"IFERROR(VLOOKUP(CONCATENATE(B131,D131),Padrón_Indígenas!$A$2:$G$988,7,0),\"No\")","v":"No"},{"$f":"VLOOKUP(E131,Cat_Municipios!$D$6:$M$64,11)","v":{"$error":"#REF!"}}]
[24,"002","Alaquines","0014","Mesa de San Francisco (Mesa de San José) (0014)","R","Alaquines (002)Mesa de San Francisco (Mesa de San José) (0014)",22.116610999999999,-99.598056999999997,89,50,39,25,240020014,"SI","Alto","Medio",{"$f":"IFERROR(VLOOKUP(CONCATENATE(B132,D132),Padrón_Indígenas!$A$2:$G$988,7,0),\"No\")","v":"Sí"},{"$f":"VLOOKUP(E132,Cat_Municipios!$D$6:$M$64,11)","v":{"$error":"#REF!"}}]
[24,"002","Alaquines","0066","Mesas del Durazno (0066)","R","Alaquines (002)Mesas del Durazno (0066)",21.982737,-99.472359999999995,31,16,15,7,240020066,"SI","Muy alto","Alto",{"$f":"IFERROR(VLOOKUP(CONCATENATE(B133,D133),Padrón_Indígenas!$A$2:$G$988,7,0),\"No\")","v":"No"},{"$f":"VLOOKUP(E133,Cat_Municipios!$D$6:$M$64,11)","v":{"$error":"#REF!"}}]
[24,"002","Alaquines","0038","Nogales (0038)","R","Alaquines (002)Nogales (0038)",22.155363000000001,-99.551694999999995,24,9,15,6,240020038,null,"Alto","Bajo",{"$f":"IFERROR(VLOOKUP(CONCATENATE(B134,D134),Padrón_Indígenas!$A$2:$G$988,7,0),\"No\")","v":"No"},{"$f":"VLOOKUP(E134,Cat_Municipios!$D$6:$M$64,11)","v":{"$error":"#REF!"}}]
[24,"002","Alaquines","0016","Nueva Reforma (0016)","R","Alaquines (002)Nueva Reforma (0016)",22.112725999999999,-99.520172000000002,199,99,100,46,240020016,null,"Medio","Bajo",{"$f":"IFERROR(VLOOKUP(CONCATENATE(B135,D135),Padrón_Indígenas!$A$2:$G$988,7,0),\"No\")","v":"No"},{"$f":"VLOOKUP(E135,Cat_Municipios!$D$6:$M$64,11)","v":{"$error":"#REF!"}}]
[24,"002","Alaquines","0017","Ojo de Agua (0017)","R","Alaquines (002)Ojo de Agua (0017)",22.137241,-99.547038000000001,234,107,127,51,240020017,null,"Alto","Muy bajo",{"$f":"IFERROR(VLOOKUP(CONCATENATE(B136,D136),Padrón_Indígenas!$A$2:$G$988,7,0),\"No\")","v":"No"},{"$f":"VLOOKUP(E136,Cat_Municipios!$D$6:$M$64,11)","v":{"$error":"#REF!"}}]
[24,"002","Alaquines","0018","Olla del Durazno (Joya del Durazno) (0018)","R","Alaquines (002)Olla del Durazno (Joya del Durazno) (0018)",21.987690000000001,-99.463471999999996,263,136,127,48,240020018,"SI","Muy alto","Alto",{"$f":"IFERROR(VLOOKUP(CONCATENATE(B137,D137),Padrón_Indígenas!$A$2:$G$988,7,0),\"No\")","v":"Sí"},{"$f":"VLOOKUP(E137,Cat_Municipios!$D$6:$M$64,11)","v":{"$error":"#REF!"}}]
[24,"002","Alaquines","0042","Palo Hueco (0042)","R","Alaquines (002)Palo Hueco (0042)",21.988961,-99.449533000000002,55,34,21,9,240020042,"SI","Alto","Medio",{"$f":"IFERROR(VLOOKUP(CONCATENATE(B138,D138),Padrón_Indígenas!$A$2:$G$988,7,0),\"No\")","v":"Sí"},{"$f":"VLOOKUP(E138,Cat_Municipios!$D$6:$M$64,11)","v":{"$error":"#REF!"}}]
[24,"002","Alaquines","0019","Pasito de San Francisco (0019)","R","Alaquines (002)Pasito de San Francisco (0019)",22.029343000000001,-99.521493000000007,179,91,88,46,240020019,null,"Alto","Bajo",{"$f":"IFERROR(VLOOKUP(CONCATENATE(B139,D139),Padrón_Indígenas!$A$2:$G$988,7,0),\"No\")","v":"No"},{"$f":"VLOOKUP(E139,Cat_Municipios!$D$6:$M$64,11)","v":{"$error":"#REF!"}}]
[24,"002","Alaquines","0020","Paso de Mendiolas (0020)","R","Alaquines (002)Paso de Mendiolas (0020)",22.075420000000001,-99.569737000000003,99,45,54,26,240020020,"SI","Alto","Medio",{"$f":"IFERROR(VLOOKUP(CONCATENATE(B140,D140),Padrón_Indígenas!$A$2:$G$988,7,0),\"No\")","v":"No"},{"$f":"VLOOKUP(E140,Cat_Municipios!$D$6:$M$64,11)","v":{"$error":"#REF!"}}]
[24,"002","Alaquines","0063","Puerto del Tigre (0063)","R","Alaquines (002)Puerto del Tigre (0063)",22.194925999999999,-99.532077999999998,2,"*","*",1,240020063,null,null,null,{"$f":"IFERROR(VLOOKUP(CONCATENATE(B141,D141),Padrón_Indígenas!$A$2:$G$988,7,0),\"No\")","v":"No"},{"$f":"VLOOKUP(E141,Cat_Municipios!$D$6:$M$64,11)","v":{"$error":"#REF!"}}]
[24,"002","Alaquines","0015","Rancho de Morales (0015)","R","Alaquines (002)Rancho de Morales (0015)",22.110747,-99.572794000000002,151,79,72,32,240020015,"SI","Alto","Medio",{"$f":"IFERROR(VLOOKUP(CONCATENATE(B142,D142),Padrón_Indígenas!$A$2:$G$988,7,0),\"No\")","v":"Sí"},{"$f":"VLOOKUP(E142,Cat_Municipios!$D$6:$M$64,11)","v":{"$error":"#REF!"}}]
[24,"002","Alaquines","0023","Rancho de Pro (0023)","R","Alaquines (002)Rancho de Pro (0023)",22.093985,-99.577228000000005,747,381,366,188,240020023,null,"Alto","Medio",{"$f":"IFERROR(VLOOKUP(CONCATENATE(B143,D143),Padrón_Indígenas!$A$2:$G$988,7,0),\"No\")","v":"Sí"},{"$f":"VLOOKUP(E143,Cat_Municipios!$D$6:$M$64,11)","v":{"$error":"#REF!"}}]
[24,"002","Alaquines","0025","Rancho Nuevo (0025)","R","Alaquines (002)Rancho Nuevo (0025)",22.064012999999999,-99.572488000000007,164,75,89,40,240020025,null,"Alto","Bajo",{"$f":"IFERROR(VLOOKUP(CONCATENATE(B144,D144),Padrón_Indígenas!$A$2:$G$988,7,0),\"No\")","v":"No"},{"$f":"VLOOKUP(E144,Cat_Municipios!$D$6:$M$64,11)","v":{"$error":"#REF!"}}]
[24,"002","Alaquines","0069","Rancho San Blas (0069)","R","Alaquines (002)Rancho San Blas (0069)",22.100643999999999,-99.626160999999996,4,"*","*",1,240020069,null,null,null,{"$f":"IFERROR(VLOOKUP(CONCATENATE(B145,D145),Padrón_Indígenas!$A$2:$G$988,7,0),\"No\")","v":"No"},{"$f":"VLOOKUP(E145,Cat_Municipios!$D$6:$M$64,11)","v":{"$error":"#REF!"}}]
[24,"002","Alaquines","0026","Rincón Grande (0026)","R","Alaquines (002)Rincón Grande (0026)",22.117654000000002,-99.540135000000006,24,12,12,6,240020026,null,"Alto","Medio",{"$f":"IFERROR(VLOOKUP(CONCATENATE(B146,D146),Padrón_Indígenas!$A$2:$G$988,7,0),\"No\")","v":"No"},{"$f":"VLOOKUP(E146,Cat_Municipios!$D$6:$M$64,11)","v":{"$error":"#REF!"}}]
[24,"002","Alaquines","0046","Río Abajo (0046)","R","Alaquines (002)Río Abajo (0046)",22.186199999999999,-99.634061000000003,0,0,0,0,240020046,null,null,null,{"$f":"IFERROR(VLOOKUP(CONCATENATE(B147,D147),Padrón_Indígenas!$A$2:$G$988,7,0),\"No\")","v":"No"},{"$f":"VLOOKUP(E147,Cat_Municipios!$D$6:$M$64,11)","v":{"$error":"#REF!"}}]
[24,"002","Alaquines","0028","San Antonio (0028)","R","Alaquines (002)San Antonio (0028)",22.094519999999999,-99.659991000000005,33,15,18,5,240020028,null,"Alto","Alto",{"$f":"IFERROR(VLOOKUP(CONCATENATE(B148,D148),Padrón_Indígenas!$A$2:$G$988,7,0),\"No\")","v":"No"},{"$f":"VLOOKUP(E148,Cat_Municipios!$D$6:$M$64,11)","v":{"$error":"#REF!"}}]
[24,"002","Alaquines","0031","San Antonio de las Tortugas (0031)","R","Alaquines (002)San Antonio de las Tortugas (0031)",22.181197999999998,-99.580903000000006,95,48,47,34,240020031,null,"Alto","Medio",{"$f":"IFERROR(VLOOKUP(CONCATENATE(B149,D149),Padrón_Indígenas!$A$2:$G$988,7,0),\"No\")","v":"No"},{"$f":"VLOOKUP(E149,Cat_Municipios!$D$6:$M$64,11)","v":{"$error":"#REF!"}}]
[24,"002","Alaquines","0030","San José de Palmas (0030)","R","Alaquines (002)San José de Palmas (0030)",22.176044999999998,-99.652041999999994,386,204,182,110,240020030,"SI","Alto","Bajo",{"$f":"IFERROR(VLOOKUP(CONCATENATE(B150,D150),Padrón_Indígenas!$A$2:$G$988,7,0),\"No\")","v":"No"},{"$f":"VLOOKUP(E150,Cat_Municipios!$D$6:$M$64,11)","v":{"$error":"#REF!"}}]
[24,"002","Alaquines","0029","San José del Corito (0029)","R","Alaquines (002)San José del Corito (0029)",22.008986,-99.507581000000002,368,179,189,85,240020029,"SI","Alto","Medio",{"$f":"IFERROR(VLOOKUP(CONCATENATE(B151,D151),Padrón_Indígenas!$A$2:$G$988,7,0),\"No\")","v":"Sí"},{"$f":"VLOOKUP(E151,Cat_Municipios!$D$6:$M$64,11)","v":{"$error":"#REF!"}}]
[24,"002","Alaquines","0065","Tanque el Granadillo (0065)","R","Alaquines (002)Tanque el Granadillo (0065)",22.098208,-99.778463000000002,4,"*","*",1,240020065,null,null,null,{"$f":"IFERROR(VLOOKUP(CONCATENATE(B152,D152),Padrón_Indígenas!$A$2:$G$988,7,0),\"No\")","v":"No"},{"$f":"VLOOKUP(E152,Cat_Municipios!$D$6:$M$64,11)","v":{"$error":"#REF!"}}]
[24,"002","Alaquines",null,"Todo el municipio ",null,{"$f":"_xlfn.CONCAT(C153,\" (\",B153,\")\",E153)","v":"Alaquines (002)Todo el municipio "},null,null,{"$f":"SUM(J95:J152)","v":8186}]
[24,"003","Aquismón","0002","Agua Amarga (0002)","R","Aquismón (003)Agua Amarga (0002)",21.543251999999999,-99.098072999999999,549,298,251,108,240030002,"SI","Muy alto","Medio",{"$f":"IFERROR(VLOOKUP(CONCATENATE(B154,D154),Padrón_Indígenas!$A$2:$G$988,7,0),\"No\")","v":"Sí"},{"$f":"VLOOKUP(E154,Cat_Municipios!$D$6:$M$64,11)","v":{"$error":"#N/A"}}]
[24,"003","Aquismón","0074","Agua Bendita (0074)","R","Aquismón (003)Agua Bendita (0074)",21.550459,-99.104585999999998,8,"*","*",2,240030074,"SI",null,null,{"$f":"IFERROR(VLOOKUP(CONCATENATE(B155,D155),Padrón_Indígenas!$A$2:$G$988,7,0),\"No\")","v":"No"},{"$f":"VLOOKUP(E155,Cat_Municipios!$D$6:$M$64,11)","v":{"$error":"#N/A"}}]
[24,"003","Aquismón","0225","Agua Nueva (0225)","R","Aquismón (003)Agua Nueva (0225)",21.586389,-99.120555999999993,24,12,12,5,240030225,"SI","Muy alto","Muy alto",{"$f":"IFERROR(VLOOKUP(CONCATENATE(B156,D156),Padrón_Indígenas!$A$2:$G$988,7,0),\"No\")","v":"No"},{"$f":"VLOOKUP(E156,Cat_Municipios!$D$6:$M$64,11)","v":{"$error":"#N/A"}}]
[24,"003","Aquismón","0245","Al Tzabalte (0245)","R","Aquismón (003)Al Tzabalte (0245)",21.549095999999999,-99.091059000000001,23,9,14,4,240030245,"SI","Muy alto","Alto",{"$f":"IFERROR(VLOOKUP(CONCATENATE(B157,D157),Padrón_Indígenas!$A$2:$G$988,7,0),\"No\")","v":"No"},{"$f":"VLOOKUP(E157,Cat_Municipios!$D$6:$M$64,11)","v":{"$error":"#REF!"}}]
[24,"003","Aquismón","0116","Alborada Primera (0116)","R","Aquismón (003)Alborada Primera (0116)",21.769953000000001,-98.989170000000001,3,"*","*",1,240030116,"SI",null,null,{"$f":"IFERROR(VLOOKUP(CONCATENATE(B158,D158),Padrón_Indígenas!$A$2:$G$988,7,0),\"No\")","v":"No"},{"$f":"VLOOKUP(E158,Cat_Municipios!$D$6:$M$64,11)","v":{"$error":"#REF!"}}]
[24,"003","Aquismón","0004","Alitzé (0004)","R","Aquismón (003)Alitzé (0004)",21.559502999999999,-99.073284000000001,750,364,386,159,240030004,"SI","Alto","Medio",{"$f":"IFERROR(VLOOKUP(CONCATENATE(B159,D159),Padrón_Indígenas!$A$2:$G$988,7,0),\"No\")","v":"No"},{"$f":"VLOOKUP(E159,Cat_Municipios!$D$6:$M$64,11)","v":{"$error":"#REF!"}}]
[24,"003","Aquismón","0292","Alte Anam (La Banqueta) (0292)","R","Aquismón (003)Alte Anam (La Banqueta) (0292)",21.551649000000001,-99.084033000000005,54,26,28,12,240030292,"SI","Muy alto","Alto",{"$f":"IFERROR(VLOOKUP(CONCATENATE(B160,D160),Padrón_Indígenas!$A$2:$G$988,7,0),\"No\")","v":"No"},{"$f":"VLOOKUP(E160,Cat_Municipios!$D$6:$M$64,11)","v":{"$error":"#REF!"}}]
[24,"003","Aquismón","0001","Aquismón (0001)","U","Aquismón (003)Aquismón (0001)",21.621362000000001,-99.019535000000005,2127,991,1136,541,240030001,"SI",null,null,{"$f":"IFERROR(VLOOKUP(CONCATENATE(B161,D161),Padrón_Indígenas!$A$2:$G$988,7,0),\"No\")","v":"No"},{"$f":"VLOOKUP(E161,Cat_Municipios!$D$6:$M$64,11)","v":{"$error":"#REF!"}}]
[24,"003","Aquismón","0141","Arroyo Blanco (0141)","R","Aquismón (003)Arroyo Blanco (0141)",21.8842,-99.153358999999995,0,0,0,0,240030141,null,null,null,{"$f":"IFERROR(VLOOKUP(CONCATENATE(B162,D162),Padrón_Indígenas!$A$2:$G$988,7,0),\"No\")","v":"No"},{"$f":"VLOOKUP(E162,Cat_Municipios!$D$6:$M$64,11)","v":{"$error":"#REF!"}}]
[24,"003","Aquismón","0246","Arroyo Grande (El Puente) (0246)","R","Aquismón (003)Arroyo Grande (El Puente) (0246)",21.732610999999999,-99.045275000000004,8,"*","*",2,240030246,"SI",null,null,{"$f":"IFERROR(VLOOKUP(CONCATENATE(B163,D163),Padrón_Indígenas!$A$2:$G$988,7,0),\"No\")","v":"Sí"},{"$f":"VLOOKUP(E163,Cat_Municipios!$D$6:$M$64,11)","v":{"$error":"#REF!"}}]
[24,"003","Aquismón","0224","Arroyo Zarco (0224)","R","Aquismón (003)Arroyo Zarco (0224)",21.689326000000001,-99.157539,0,0,0,0,240030224,null,null,null,{"$f":"IFERROR(VLOOKUP(CONCATENATE(B164,D164),Padrón_Indígenas!$A$2:$G$988,7,0),\"No\")","v":"No"},{"$f":"VLOOKUP(E164,Cat_Municipios!$D$6:$M$64,11)","v":{"$error":"#REF!"}}]
[24,"003","Aquismón","0071","Barrio de Jolja (0071)","R","Aquismón (003)Barrio de Jolja (0071)",21.529342,-99.056478999999996,207,106,101,37,240030071,"SI","Muy alto","Alto",{"$f":"IFERROR(VLOOKUP(CONCATENATE(B165,D165),Padrón_Indígenas!$A$2:$G$988,7,0),\"No\")","v":"Sí"},{"$f":"VLOOKUP(E165,Cat_Municipios!$D$6:$M$64,11)","v":{"$error":"#REF!"}}]
[24,"003","Aquismón","0085","Barrio de las Golondrinas (0085)","R","Aquismón (003)Barrio de las Golondrinas (0085)",21.595711999999999,-99.091177999999999,183,95,88,37,240030085,"SI","Alto","Medio",{"$f":"IFERROR(VLOOKUP(CONCATENATE(B166,D166),Padrón_Indígenas!$A$2:$G$988,7,0),\"No\")","v":"Sí"},{"$f":"VLOOKUP(E166,Cat_Municipios!$D$6:$M$64,11)","v":{"$error":"#REF!"}}]
[24,"003","Aquismón","0237","Barrio el Chamal (0237)","R","Aquismón (003)Barrio el Chamal (0237)",21.584762999999999,-99.053314,128,64,64,28,240030237,"SI","Muy alto","Alto",{"$f":"IFERROR(VLOOKUP(CONCATENATE(B167,D167),Padrón_Indígenas!$A$2:$G$988,7,0),\"No\")","v":"Sí"},{"$f":"VLOOKUP(E167,Cat_Municipios!$D$6:$M$64,11)","v":{"$error":"#REF!"}}]
[24,"003","Aquismón","0310","Barrio el Progreso (0310)","R","Aquismón (003)Barrio el Progreso (0310)",21.633172999999999,-99.086529999999996,182,91,91,40,240030310,"SI","Muy alto","Alto",{"$f":"IFERROR(VLOOKUP(CONCATENATE(B168,D168),Padrón_Indígenas!$A$2:$G$988,7,0),\"No\")","v":"No"},{"$f":"VLOOKUP(E168,Cat_Municipios!$D$6:$M$64,11)","v":{"$error":"#REF!"}}]
[24,"003","Aquismón","0007","Barrio la Cruz (0007)","R","Aquismón (003)Barrio la Cruz (0007)",21.520046000000001,-99.055543,753,389,364,177,240030007,"SI","Alto","Medio",{"$f":"IFERROR(VLOOKUP(CONCATENATE(B169,D169),Padrón_Indígenas!$A$2:$G$988,7,0),\"No\")","v":"Sí"},{"$f":"VLOOKUP(E169,Cat_Municipios!$D$6:$M$64,11)","v":{"$error":"#REF!"}}]
[24,"003","Aquismón","0299","Barrio la Mina (0299)","R","Aquismón (003)Barrio la Mina (0299)",21.517150999999998,-99.056335000000004,240,133,107,48,240030299,"SI","Muy alto","Alto",{"$f":"IFERROR(VLOOKUP(CONCATENATE(B170,D170),Padrón_Indígenas!$A$2:$G$988,7,0),\"No\")","v":"No"},{"$f":"VLOOKUP(E170,Cat_Municipios!$D$6:$M$64,11)","v":{"$error":"#REF!"}}]
[24,"003","Aquismón","0311","Barrio la Sagrada Familia (0311)","R","Aquismón (003)Barrio la Sagrada Familia (0311)",21.589364,-99.080861999999996,116,57,59,25,240030311,"SI","Muy alto","Medio",{"$f":"IFERROR(VLOOKUP(CONCATENATE(B171,D171),Padrón_Indígenas!$A$2:$G$988,7,0),\"No\")","v":"No"},{"$f":"VLOOKUP(E171,Cat_Municipios!$D$6:$M$64,11)","v":{"$error":"#REF!"}}]
[24,"003","Aquismón","0243","Barrio San José (0243)","R","Aquismón (003)Barrio San José (0243)",21.551216,-99.053791000000004,134,66,68,31,240030243,"SI","Muy alto","Alto",{"$f":"IFERROR(VLOOKUP(CONCATENATE(B172,D172),Padrón_Indígenas!$A$2:$G$988,7,0),\"No\")","v":"No"},{"$f":"VLOOKUP(E172,Cat_Municipios!$D$6:$M$64,11)","v":{"$error":"#REF!"}}]
[24,"003","Aquismón","0248","Barrio San Miguel (0248)","R","Aquismón (003)Barrio San Miguel (0248)",21.614909999999998,-99.071365,361,179,182,65,240030248,"SI","Muy alto","Medio",{"$f":"IFERROR(VLOOKUP(CONCATENATE(B173,D173),Padrón_Indígenas!$A$2:$G$988,7,0),\"No\")","v":"Sí"},{"$f":"VLOOKUP(E173,Cat_Municipios!$D$6:$M$64,11)","v":{"$error":"#REF!"}}]
[24,"003","Aquismón","0006","Camarones (0006)","R","Aquismón (003)Camarones (0006)",21.891168,-99.200593999999995,143,72,71,38,240030006,"SI","Alto","Bajo",{"$f":"IFERROR(VLOOKUP(CONCATENATE(B174,D174),Padrón_Indígenas!$A$2:$G$988,7,0),\"No\")","v":"No"},{"$f":"VLOOKUP(E174,Cat_Municipios!$D$6:$M$64,11)","v":{"$error":"#REF!"}}]
[24,"003","Aquismón","0317","Carlos Mayorga (0317)","R","Aquismón (003)Carlos Mayorga (0317)",21.798055999999999,-99.029443999999998,1,"*","*",1,240030317,"SI",null,null,{"$f":"IFERROR(VLOOKUP(CONCATENATE(B175,D175),Padrón_Indígenas!$A$2:$G$988,7,0),\"No\")","v":"No"},{"$f":"VLOOKUP(E175,Cat_Municipios!$D$6:$M$64,11)","v":{"$error":"#REF!"}}]
[24,"003","Aquismón","0308","Colonia el Mirador (0308)","R","Aquismón (003)Colonia el Mirador (0308)",21.628024,-99.021974,27,16,11,5,240030308,"SI","Muy alto","Alto",{"$f":"IFERROR(VLOOKUP(CONCATENATE(B176,D176),Padrón_Indígenas!$A$2:$G$988,7,0),\"No\")","v":"No"},{"$f":"VLOOKUP(E176,Cat_Municipios!$D$6:$M$64,11)","v":{"$error":"#REF!"}}]
[24,"003","Aquismón","0111","Coyotes (Camarones) (0111)","R","Aquismón (003)Coyotes (Camarones) (0111)",21.866834000000001,-99.183370999999994,14,6,8,4,240030111,"SI","Alto","Medio",{"$f":"IFERROR(VLOOKUP(CONCATENATE(B177,D177),Padrón_Indígenas!$A$2:$G$988,7,0),\"No\")","v":"No"},{"$f":"VLOOKUP(E177,Cat_Municipios!$D$6:$M$64,11)","v":{"$error":"#REF!"}}]
[24,"003","Aquismón","0080","Cuache (0080)","R","Aquismón (003)Cuache (0080)",21.535786000000002,-99.087270000000004,22,12,10,4,240030080,"SI","Muy alto","Muy alto",{"$f":"IFERROR(VLOOKUP(CONCATENATE(B178,D178),Padrón_Indígenas!$A$2:$G$988,7,0),\"No\")","v":"No"},{"$f":"VLOOKUP(E178,Cat_Municipios!$D$6:$M$64,11)","v":{"$error":"#REF!"}}]
[24,"003","Aquismón","0084","Cuetáb (0084)","R","Aquismón (003)Cuetáb (0084)",21.563075999999999,-99.038095999999996,216,114,102,43,240030084,"SI","Muy alto","Alto",{"$f":"IFERROR(VLOOKUP(CONCATENATE(B179,D179),Padrón_Indígenas!$A$2:$G$988,7,0),\"No\")","v":"No"},{"$f":"VLOOKUP(E179,Cat_Municipios!$D$6:$M$64,11)","v":{"$error":"#REF!"}}]
[24,"003","Aquismón","0258","Cueva del Tiwi (Cueva de la Gavilucha) (0258)","R","Aquismón (003)Cueva del Tiwi (Cueva de la Gavilucha) (0258)",21.596411,-99.111475999999996,10,6,4,3,240030258,"SI","Muy alto","Muy alto",{"$f":"IFERROR(VLOOKUP(CONCATENATE(B180,D180),Padrón_Indígenas!$A$2:$G$988,7,0),\"No\")","v":"No"},{"$f":"VLOOKUP(E180,Cat_Municipios!$D$6:$M$64,11)","v":{"$error":"#REF!"}}]
[24,"003","Aquismón","0003","El Aguacate (0003)","R","Aquismón (003)El Aguacate (0003)",21.649107000000001,-99.077377999999996,1117,578,539,204,240030003,"SI","Muy alto","Medio",{"$f":"IFERROR(VLOOKUP(CONCATENATE(B181,D181),Padrón_Indígenas!$A$2:$G$988,7,0),\"No\")","v":"Sí"},{"$f":"VLOOKUP(E181,Cat_Municipios!$D$6:$M$64,11)","v":{"$error":"#REF!"}}]
[24,"003","Aquismón","0124","El Aguacate (0124)","R","Aquismón (003)El Aguacate (0124)",21.729223999999999,-99.156454999999994,4,"*","*",1,240030124,null,null,null,{"$f":"IFERROR(VLOOKUP(CONCATENATE(B182,D182),Padrón_Indígenas!$A$2:$G$988,7,0),\"No\")","v":"Sí"},{"$f":"VLOOKUP(E182,Cat_Municipios!$D$6:$M$64,11)","v":{"$error":"#REF!"}}]
[24,"003","Aquismón","0244","El Águila (Rincón del Águila) (0244)","R","Aquismón (003)El Águila (Rincón del Águila) (0244)",21.868888999999999,-99.193611000000004,0,0,0,0,240030244,null,null,null,{"$f":"IFERROR(VLOOKUP(CONCATENATE(B183,D183),Padrón_Indígenas!$A$2:$G$988,7,0),\"No\")","v":"No"},{"$f":"VLOOKUP(E183,Cat_Municipios!$D$6:$M$64,11)","v":{"$error":"#REF!"}}]
[24,"003","Aquismón","0231","El Bosque (0231)","R","Aquismón (003)El Bosque (0231)",21.714541000000001,-99.040132999999997,4,"*","*",1,240030231,null,null,null,{"$f":"IFERROR(VLOOKUP(CONCATENATE(B184,D184),Padrón_Indígenas!$A$2:$G$988,7,0),\"No\")","v":"No"},{"$f":"VLOOKUP(E184,Cat_Municipios!$D$6:$M$64,11)","v":{"$error":"#REF!"}}]
[24,"003","Aquismón","0228","El Caporal Dos (0228)","R","Aquismón (003)El Caporal Dos (0228)",21.778327999999998,-99.133537000000004,0,0,0,0,240030228,null,null,null,{"$f":"IFERROR(VLOOKUP(CONCATENATE(B185,D185),Padrón_Indígenas!$A$2:$G$988,7,0),\"No\")","v":"No"},{"$f":"VLOOKUP(E185,Cat_Municipios!$D$6:$M$64,11)","v":{"$error":"#REF!"}}]
[24,"003","Aquismón","0227","El Caporal Uno (0227)","R","Aquismón (003)El Caporal Uno (0227)",21.774999999999999,-99.133055999999996,0,0,0,0,240030227,null,null,null,{"$f":"IFERROR(VLOOKUP(CONCATENATE(B186,D186),Padrón_Indígenas!$A$2:$G$988,7,0),\"No\")","v":"No"},{"$f":"VLOOKUP(E186,Cat_Municipios!$D$6:$M$64,11)","v":{"$error":"#REF!"}}]
[24,"003","Aquismón","0234","El Caracol (0234)","R","Aquismón (003)El Caracol (0234)",21.700409000000001,-99.091628,83,44,39,16,240030234,"SI","Muy alto","Alto",{"$f":"IFERROR(VLOOKUP(CONCATENATE(B187,D187),Padrón_Indígenas!$A$2:$G$988,7,0),\"No\")","v":"Sí"},{"$f":"VLOOKUP(E187,Cat_Municipios!$D$6:$M$64,11)","v":{"$error":"#REF!"}}]
[24,"003","Aquismón","0235","El Carrizo (0235)","R","Aquismón (003)El Carrizo (0235)",21.498428000000001,-99.124427999999995,0,0,0,0,240030235,null,null,null,{"$f":"IFERROR(VLOOKUP(CONCATENATE(B188,D188),Padrón_Indígenas!$A$2:$G$988,7,0),\"No\")","v":"No"},{"$f":"VLOOKUP(E188,Cat_Municipios!$D$6:$M$64,11)","v":{"$error":"#REF!"}}]
[24,"003","Aquismón","0252","El Centavo (0252)","R","Aquismón (003)El Centavo (0252)",21.793243,-99.011858000000004,0,0,0,0,240030252,null,null,null,{"$f":"IFERROR(VLOOKUP(CONCATENATE(B189,D189),Padrón_Indígenas!$A$2:$G$988,7,0),\"No\")","v":"No"},{"$f":"VLOOKUP(E189,Cat_Municipios!$D$6:$M$64,11)","v":{"$error":"#REF!"}}]
[24,"003","Aquismón","0253","El Chamal (0253)","R","Aquismón (003)El Chamal (0253)",21.661572,-99.163720999999995,8,4,4,3,240030253,null,"Muy alto","Alto",{"$f":"IFERROR(VLOOKUP(CONCATENATE(B190,D190),Padrón_Indígenas!$A$2:$G$988,7,0),\"No\")","v":"No"},{"$f":"VLOOKUP(E190,Cat_Municipios!$D$6:$M$64,11)","v":{"$error":"#REF!"}}]
[24,"003","Aquismón","0067","El Chilaf (0067)","R","Aquismón (003)El Chilaf (0067)",21.704082,-99.048861000000002,33,21,12,7,240030067,"SI","Muy alto","Alto",{"$f":"IFERROR(VLOOKUP(CONCATENATE(B191,D191),Padrón_Indígenas!$A$2:$G$988,7,0),\"No\")","v":"No"},{"$f":"VLOOKUP(E191,Cat_Municipios!$D$6:$M$64,11)","v":{"$error":"#REF!"}}]
[24,"003","Aquismón","0056","El Choy (0056)","R","Aquismón (003)El Choy (0056)",21.626974000000001,-98.998423000000003,6,"*","*",2,240030056,null,null,null,{"$f":"IFERROR(VLOOKUP(CONCATENATE(B192,D192),Padrón_Indígenas!$A$2:$G$988,7,0),\"No\")","v":"No"},{"$f":"VLOOKUP(E192,Cat_Municipios!$D$6:$M$64,11)","v":{"$error":"#REF!"}}]
[24,"003","Aquismón","0146","El Copoy (0146)","R","Aquismón (003)El Copoy (0146)",21.675833000000001,-99.149167000000006,2,"*","*",1,240030146,null,null,null,{"$f":"IFERROR(VLOOKUP(CONCATENATE(B193,D193),Padrón_Indígenas!$A$2:$G$988,7,0),\"No\")","v":"No"},{"$f":"VLOOKUP(E193,Cat_Municipios!$D$6:$M$64,11)","v":{"$error":"#REF!"}}]
[24,"003","Aquismón","0256","El Corocito (0256)","R","Aquismón (003)El Corocito (0256)",21.718610999999999,-99.152777999999998,0,0,0,0,240030256,null,null,null,{"$f":"IFERROR(VLOOKUP(CONCATENATE(B194,D194),Padrón_Indígenas!$A$2:$G$988,7,0),\"No\")","v":"No"},{"$f":"VLOOKUP(E194,Cat_Municipios!$D$6:$M$64,11)","v":{"$error":"#REF!"}}]
[24,"003","Aquismón","0097","El Corozo (0097)","R","Aquismón (003)El Corozo (0097)",21.817817999999999,-99.178008000000005,6,"*","*",2,240030097,null,null,null,{"$f":"IFERROR(VLOOKUP(CONCATENATE(B195,D195),Padrón_Indígenas!$A$2:$G$988,7,0),\"No\")","v":"No"},{"$f":"VLOOKUP(E195,Cat_Municipios!$D$6:$M$64,11)","v":{"$error":"#REF!"}}]
[24,"003","Aquismón","0128","El Corozo (0128)","R","Aquismón (003)El Corozo (0128)",21.676584999999999,-99.179173000000006,8,"*","*",2,240030128,null,null,null,{"$f":"IFERROR(VLOOKUP(CONCATENATE(B196,D196),Padrón_Indígenas!$A$2:$G$988,7,0),\"No\")","v":"No"},{"$f":"VLOOKUP(E196,Cat_Municipios!$D$6:$M$64,11)","v":{"$error":"#REF!"}}]
[24,"003","Aquismón","0070","El Coyol (0070)","R","Aquismón (003)El Coyol (0070)",21.767499999999998,-99.019166999999996,3,"*","*",1,240030070,null,null,null,{"$f":"IFERROR(VLOOKUP(CONCATENATE(B197,D197),Padrón_Indígenas!$A$2:$G$988,7,0),\"No\")","v":"No"},{"$f":"VLOOKUP(E197,Cat_Municipios!$D$6:$M$64,11)","v":{"$error":"#REF!"}}]
[24,"003","Aquismón","0010","El Jabalí (0010)","R","Aquismón (003)El Jabalí (0010)",21.884681,-99.243926000000002,626,305,321,154,240030010,"SI","Alto","Medio",{"$f":"IFERROR(VLOOKUP(CONCATENATE(B198,D198),Padrón_Indígenas!$A$2:$G$988,7,0),\"No\")","v":"No"},{"$f":"VLOOKUP(E198,Cat_Municipios!$D$6:$M$64,11)","v":{"$error":"#REF!"}}]
[24,"003","Aquismón","0298","El Limón (0298)","R","Aquismón (003)El Limón (0298)",21.751111000000002,-99.046666999999999,1,"*","*",1,240030298,"SI",null,null,{"$f":"IFERROR(VLOOKUP(CONCATENATE(B199,D199),Padrón_Indígenas!$A$2:$G$988,7,0),\"No\")","v":"No"},{"$f":"VLOOKUP(E199,Cat_Municipios!$D$6:$M$64,11)","v":{"$error":"#REF!"}}]
[24,"003","Aquismón","0126","El Maguey (0126)","R","Aquismón (003)El Maguey (0126)",21.757199,-99.042714000000004,0,0,0,0,240030126,null,null,null,{"$f":"IFERROR(VLOOKUP(CONCATENATE(B200,D200),Padrón_Indígenas!$A$2:$G$988,7,0),\"No\")","v":"No"},{"$f":"VLOOKUP(E200,Cat_Municipios!$D$6:$M$64,11)","v":{"$error":"#REF!"}}]
[24,"003","Aquismón","0230","El Manzanillo (0230)","R","Aquismón (003)El Manzanillo (0230)",21.770406999999999,-99.132531,0,0,0,0,240030230,null,null,null,{"$f":"IFERROR(VLOOKUP(CONCATENATE(B201,D201),Padrón_Indígenas!$A$2:$G$988,7,0),\"No\")","v":"No"},{"$f":"VLOOKUP(E201,Cat_Municipios!$D$6:$M$64,11)","v":{"$error":"#REF!"}}]
[24,"003","Aquismón","0015","El Mirador (0015)","R","Aquismón (003)El Mirador (0015)",21.588024000000001,-99.090598999999997,237,122,115,46,240030015,"SI","Alto","Medio",{"$f":"IFERROR(VLOOKUP(CONCATENATE(B202,D202),Padrón_Indígenas!$A$2:$G$988,7,0),\"No\")","v":"Sí"},{"$f":"VLOOKUP(E202,Cat_Municipios!$D$6:$M$64,11)","v":{"$error":"#REF!"}}]
[24,"003","Aquismón","0325","El Nacimiento y su Anexo Fibracel II (0325)","R","Aquismón (003)El Nacimiento y su Anexo Fibracel II (0325)",21.980713000000002,-99.194795999999997,"-","-","-","-",240030325,null,null,null,{"$f":"IFERROR(VLOOKUP(CONCATENATE(B203,D203),Padrón_Indígenas!$A$2:$G$988,7,0),\"No\")","v":"No"},{"$f":"VLOOKUP(E203,Cat_Municipios!$D$6:$M$64,11)","v":{"$error":"#REF!"}}]
[24,"003","Aquismón","0018","El Naranjito (0018)","R","Aquismón (003)El Naranjito (0018)",21.850504000000001,-99.177790000000002,525,288,237,129,240030018,"SI","Alto","Medio",{"$f":"IFERROR(VLOOKUP(CONCATENATE(B204,D204),Padrón_Indígenas!$A$2:$G$988,7,0),\"No\")","v":"Sí"},{"$f":"VLOOKUP(E204,Cat_Municipios!$D$6:$M$64,11)","v":{"$error":"#REF!"}}]
[24,"003","Aquismón","0306","El Naranjito (Isaías López) (0306)","R","Aquismón (003)El Naranjito (Isaías López) (0306)",21.836324000000001,-99.180037999999996,25,13,12,6,240030306,"SI","Muy alto","Alto",{"$f":"IFERROR(VLOOKUP(CONCATENATE(B205,D205),Padrón_Indígenas!$A$2:$G$988,7,0),\"No\")","v":"No"},{"$f":"VLOOKUP(E205,Cat_Municipios!$D$6:$M$64,11)","v":{"$error":"#REF!"}}]
[24,"003","Aquismón","0019","El Otate (0019)","R","Aquismón (003)El Otate (0019)",21.714632999999999,-99.143119999999996,166,80,86,35,240030019,"SI","Alto","Medio",{"$f":"IFERROR(VLOOKUP(CONCATENATE(B206,D206),Padrón_Indígenas!$A$2:$G$988,7,0),\"No\")","v":"No"},{"$f":"VLOOKUP(E206,Cat_Municipios!$D$6:$M$64,11)","v":{"$error":"#REF!"}}]
[24,"003","Aquismón","0307","El Paraíso (0307)","R","Aquismón (003)El Paraíso (0307)",21.940078,-99.178224999999998,0,0,0,0,240030307,null,null,null,{"$f":"IFERROR(VLOOKUP(CONCATENATE(B207,D207),Padrón_Indígenas!$A$2:$G$988,7,0),\"No\")","v":"No"},{"$f":"VLOOKUP(E207,Cat_Municipios!$D$6:$M$64,11)","v":{"$error":"#REF!"}}]
[24,"003","Aquismón","0218","El Pastor (0218)","R","Aquismón (003)El Pastor (0218)",21.796429,-99.010026999999994,11,"*","*",2,240030218,null,null,null,{"$f":"IFERROR(VLOOKUP(CONCATENATE(B208,D208),Padrón_Indígenas!$A$2:$G$988,7,0),\"No\")","v":"No"},{"$f":"VLOOKUP(E208,Cat_Municipios!$D$6:$M$64,11)","v":{"$error":"#REF!"}}]
[24,"003","Aquismón","0282","El Pemoche (0282)","R","Aquismón (003)El Pemoche (0282)",21.668223000000001,-99.153948,42,21,21,8,240030282,null,"Alto","Medio",{"$f":"IFERROR(VLOOKUP(CONCATENATE(B209,D209),Padrón_Indígenas!$A$2:$G$988,7,0),\"No\")","v":"No"},{"$f":"VLOOKUP(E209,Cat_Municipios!$D$6:$M$64,11)","v":{"$error":"#REF!"}}]
[24,"003","Aquismón","0214","El Progreso (0214)","R","Aquismón (003)El Progreso (0214)",21.804275000000001,-99.036292000000003,4,"*","*",1,240030214,"SI",null,null,{"$f":"IFERROR(VLOOKUP(CONCATENATE(B210,D210),Padrón_Indígenas!$A$2:$G$988,7,0),\"No\")","v":"No"},{"$f":"VLOOKUP(E210,Cat_Municipios!$D$6:$M$64,11)","v":{"$error":"#REF!"}}]
[24,"003","Aquismón","0095","El Respaldo (0095)","R","Aquismón (003)El Respaldo (0095)",21.526693999999999,-99.119129000000001,10,"*","*",2,240030095,"SI",null,null,{"$f":"IFERROR(VLOOKUP(CONCATENATE(B211,D211),Padrón_Indígenas!$A$2:$G$988,7,0),\"No\")","v":"No"},{"$f":"VLOOKUP(E211,Cat_Municipios!$D$6:$M$64,11)","v":{"$error":"#REF!"}}]
[24,"003","Aquismón","0064","El Rosario (0064)","R","Aquismón (003)El Rosario (0064)",21.725082,-99.038919000000007,383,196,187,81,240030064,"SI","Alto","Medio",{"$f":"IFERROR(VLOOKUP(CONCATENATE(B212,D212),Padrón_Indígenas!$A$2:$G$988,7,0),\"No\")","v":"Sí"},{"$f":"VLOOKUP(E212,Cat_Municipios!$D$6:$M$64,11)","v":{"$error":"#REF!"}}]
[24,"003","Aquismón","0025","El Sabinal (0025)","R","Aquismón (003)El Sabinal (0025)",21.74,-99.109722000000005,25,11,14,6,240030025,"SI","Alto","Alto",{"$f":"IFERROR(VLOOKUP(CONCATENATE(B213,D213),Padrón_Indígenas!$A$2:$G$988,7,0),\"No\")","v":"No"},{"$f":"VLOOKUP(E213,Cat_Municipios!$D$6:$M$64,11)","v":{"$error":"#REF!"}}]
[24,"003","Aquismón","0090","El Sabino (0090)","R","Aquismón (003)El Sabino (0090)",21.645464,-99.145403000000002,23,13,10,5,240030090,"SI","Muy alto","Alto",{"$f":"IFERROR(VLOOKUP(CONCATENATE(B214,D214),Padrón_Indígenas!$A$2:$G$988,7,0),\"No\")","v":"Sí"},{"$f":"VLOOKUP(E214,Cat_Municipios!$D$6:$M$64,11)","v":{"$error":"#REF!"}}]
[24,"003","Aquismón","0289","El Sacrificio (0289)","R","Aquismón (003)El Sacrificio (0289)",21.7575,-99.062222000000006,11,7,4,3,240030289,"SI","Muy alto","Alto",{"$f":"IFERROR(VLOOKUP(CONCATENATE(B215,D215),Padrón_Indígenas!$A$2:$G$988,7,0),\"No\")","v":"No"},{"$f":"VLOOKUP(E215,Cat_Municipios!$D$6:$M$64,11)","v":{"$error":"#REF!"}}]
[24,"003","Aquismón","0295","El Sauz (0295)","R","Aquismón (003)El Sauz (0295)",21.671927,-99.170274000000006,8,"*","*",1,240030295,null,null,null,{"$f":"IFERROR(VLOOKUP(CONCATENATE(B216,D216),Padrón_Indígenas!$A$2:$G$988,7,0),\"No\")","v":"No"},{"$f":"VLOOKUP(E216,Cat_Municipios!$D$6:$M$64,11)","v":{"$error":"#REF!"}}]
[24,"003","Aquismón","0096","El Sauz (El Saucito) (0096)","R","Aquismón (003)El Sauz (El Saucito) (0096)",21.934089,-99.206044000000006,491,239,252,128,240030096,"SI","Alto","Bajo",{"$f":"IFERROR(VLOOKUP(CONCATENATE(B217,D217),Padrón_Indígenas!$A$2:$G$988,7,0),\"No\")","v":"No"},{"$f":"VLOOKUP(E217,Cat_Municipios!$D$6:$M$64,11)","v":{"$error":"#REF!"}}]
[24,"003","Aquismón","0037","El Sauz (Saucito Viejo) (0037)","R","Aquismón (003)El Sauz (Saucito Viejo) (0037)",21.958223,-99.209430999999995,4,"*","*",2,240030037,null,null,null,{"$f":"IFERROR(VLOOKUP(CONCATENATE(B218,D218),Padrón_Indígenas!$A$2:$G$988,7,0),\"No\")","v":"No"},{"$f":"VLOOKUP(E218,Cat_Municipios!$D$6:$M$64,11)","v":{"$error":"#REF!"}}]
[24,"003","Aquismón","0297","El Túnel (0297)","R","Aquismón (003)El Túnel (0297)",21.508371,-99.050324000000003,109,54,55,22,240030297,"SI","Muy alto","Medio",{"$f":"IFERROR(VLOOKUP(CONCATENATE(B219,D219),Padrón_Indígenas!$A$2:$G$988,7,0),\"No\")","v":"Sí"},{"$f":"VLOOKUP(E219,Cat_Municipios!$D$6:$M$64,11)","v":{"$error":"#REF!"}}]
[24,"003","Aquismón","0051","El Vergel (0051)","R","Aquismón (003)El Vergel (0051)",21.932753000000002,-99.235101,79,41,38,19,240030051,null,"Alto","Bajo",{"$f":"IFERROR(VLOOKUP(CONCATENATE(B220,D220),Padrón_Indígenas!$A$2:$G$988,7,0),\"No\")","v":"No"},{"$f":"VLOOKUP(E220,Cat_Municipios!$D$6:$M$64,11)","v":{"$error":"#REF!"}}]
[24,"003","Aquismón","0109","El Volantín (0109)","R","Aquismón (003)El Volantín (0109)",21.733034,-99.042841999999993,101,54,47,20,240030109,"SI","Muy alto","Alto",{"$f":"IFERROR(VLOOKUP(CONCATENATE(B221,D221),Padrón_Indígenas!$A$2:$G$988,7,0),\"No\")","v":"No"},{"$f":"VLOOKUP(E221,Cat_Municipios!$D$6:$M$64,11)","v":{"$error":"#REF!"}}]
[24,"003","Aquismón","0052","El Zopope (0052)","R","Aquismón (003)El Zopope (0052)",21.581699,-99.084061000000005,1271,628,643,279,240030052,"SI","Alto","Medio",{"$f":"IFERROR(VLOOKUP(CONCATENATE(B222,D222),Padrón_Indígenas!$A$2:$G$988,7,0),\"No\")","v":"Sí"},{"$f":"VLOOKUP(E222,Cat_Municipios!$D$6:$M$64,11)","v":{"$error":"#REF!"}}]
[24,"003","Aquismón","0009","Eureka (0009)","R","Aquismón (003)Eureka (0009)",21.575841,-99.018777999999998,335,176,159,60,240030009,"SI","Muy alto","Alto",{"$f":"IFERROR(VLOOKUP(CONCATENATE(B223,D223),Padrón_Indígenas!$A$2:$G$988,7,0),\"No\")","v":"Sí"},{"$f":"VLOOKUP(E223,Cat_Municipios!$D$6:$M$64,11)","v":{"$error":"#REF!"}}]
[24,"003","Aquismón","0263","Gallinas [Estación Hidrométrica] (0263)","R","Aquismón (003)Gallinas [Estación Hidrométrica] (0263)",21.906516,-99.248052999999999,0,0,0,0,240030263,null,null,null,{"$f":"IFERROR(VLOOKUP(CONCATENATE(B224,D224),Padrón_Indígenas!$A$2:$G$988,7,0),\"No\")","v":"No"},{"$f":"VLOOKUP(E224,Cat_Municipios!$D$6:$M$64,11)","v":{"$error":"#REF!"}}]
[24,"003","Aquismón","0318","Guillermo Durán (0318)","R","Aquismón (003)Guillermo Durán (0318)",21.781943999999999,-99.133611000000002,0,0,0,0,240030318,null,null,null,{"$f":"IFERROR(VLOOKUP(CONCATENATE(B225,D225),Padrón_Indígenas!$A$2:$G$988,7,0),\"No\")","v":"No"},{"$f":"VLOOKUP(E225,Cat_Municipios!$D$6:$M$64,11)","v":{"$error":"#REF!"}}]
[24,"003","Aquismón","0113","Hoya de la Luz (0113)","R","Aquismón (003)Hoya de la Luz (0113)",21.539645,-99.137496999999996,14,"*","*",1,240030113,"SI",null,null,{"$f":"IFERROR(VLOOKUP(CONCATENATE(B226,D226),Padrón_Indígenas!$A$2:$G$988,7,0),\"No\")","v":"No"},{"$f":"VLOOKUP(E226,Cat_Municipios!$D$6:$M$64,11)","v":{"$error":"#REF!"}}]
[24,"003","Aquismón","0266","Jactzén (0266)","R","Aquismón (003)Jactzén (0266)",21.531369000000002,-99.074200000000005,8,"*","*",1,240030266,"SI",null,null,{"$f":"IFERROR(VLOOKUP(CONCATENATE(B227,D227),Padrón_Indígenas!$A$2:$G$988,7,0),\"No\")","v":"No"},{"$f":"VLOOKUP(E227,Cat_Municipios!$D$6:$M$64,11)","v":{"$error":"#REF!"}}]
[24,"003","Aquismón","0221","Jagüey Cercado (0221)","R","Aquismón (003)Jagüey Cercado (0221)",21.634879000000002,-99.134808000000007,218,110,108,48,240030221,"SI","Muy alto","Medio",{"$f":"IFERROR(VLOOKUP(CONCATENATE(B228,D228),Padrón_Indígenas!$A$2:$G$988,7,0),\"No\")","v":"Sí"},{"$f":"VLOOKUP(E228,Cat_Municipios!$D$6:$M$64,11)","v":{"$error":"#REF!"}}]
[24,"003","Aquismón","0265","Jagüey Prieto (El Jagüey) (0265)","R","Aquismón (003)Jagüey Prieto (El Jagüey) (0265)",21.531889,-99.134163999999998,0,0,0,0,240030265,null,null,null,{"$f":"IFERROR(VLOOKUP(CONCATENATE(B229,D229),Padrón_Indígenas!$A$2:$G$988,7,0),\"No\")","v":"No"},{"$f":"VLOOKUP(E229,Cat_Municipios!$D$6:$M$64,11)","v":{"$error":"#REF!"}}]
[24,"003","Aquismón","0050","Jol Mom (0050)","R","Aquismón (003)Jol Mom (0050)",21.541485999999999,-99.050426999999999,728,371,357,169,240030050,"SI","Muy alto","Alto",{"$f":"IFERROR(VLOOKUP(CONCATENATE(B230,D230),Padrón_Indígenas!$A$2:$G$988,7,0),\"No\")","v":"Sí"},{"$f":"VLOOKUP(E230,Cat_Municipios!$D$6:$M$64,11)","v":{"$error":"#REF!"}}]
[24,"003","Aquismón","0312","Jomté Eureka (0312)","R","Aquismón (003)Jomté Eureka (0312)",21.590315,-99.026466999999997,211,102,109,43,240030312,"SI","Muy alto","Alto",{"$f":"IFERROR(VLOOKUP(CONCATENATE(B231,D231),Padrón_Indígenas!$A$2:$G$988,7,0),\"No\")","v":"Sí"},{"$f":"VLOOKUP(E231,Cat_Municipios!$D$6:$M$64,11)","v":{"$error":"#REF!"}}]
[24,"003","Aquismón","0011","Joya de las Vacas (0011)","R","Aquismón (003)Joya de las Vacas (0011)",21.502337000000001,-99.106425999999999,164,85,79,37,240030011,"SI","Alto","Alto",{"$f":"IFERROR(VLOOKUP(CONCATENATE(B232,D232),Padrón_Indígenas!$A$2:$G$988,7,0),\"No\")","v":"Sí"},{"$f":"VLOOKUP(E232,Cat_Municipios!$D$6:$M$64,11)","v":{"$error":"#REF!"}}]
[24,"003","Aquismón","0269","Joya de Papatla (0269)","R","Aquismón (003)Joya de Papatla (0269)",21.588190000000001,-99.114936999999998,3,"*","*",1,240030269,"SI",null,null,{"$f":"IFERROR(VLOOKUP(CONCATENATE(B233,D233),Padrón_Indígenas!$A$2:$G$988,7,0),\"No\")","v":"No"},{"$f":"VLOOKUP(E233,Cat_Municipios!$D$6:$M$64,11)","v":{"$error":"#REF!"}}]
[24,"003","Aquismón","0270","Joya del Limón (0270)","R","Aquismón (003)Joya del Limón (0270)",21.531230000000001,-99.084352999999993,34,21,13,10,240030270,"SI","Muy alto","Muy alto",{"$f":"IFERROR(VLOOKUP(CONCATENATE(B234,D234),Padrón_Indígenas!$A$2:$G$988,7,0),\"No\")","v":"No"},{"$f":"VLOOKUP(E234,Cat_Municipios!$D$6:$M$64,11)","v":{"$error":"#REF!"}}]
[24,"003","Aquismón","0261","Joya del Limón (María Gregoria Bautista) (0261)","R","Aquismón (003)Joya del Limón (María Gregoria Bautista) (0261)",21.527253999999999,-99.085158000000007,4,"*","*",1,240030261,"SI",null,null,{"$f":"IFERROR(VLOOKUP(CONCATENATE(B235,D235),Padrón_Indígenas!$A$2:$G$988,7,0),\"No\")","v":"No"},{"$f":"VLOOKUP(E235,Cat_Municipios!$D$6:$M$64,11)","v":{"$error":"#REF!"}}]
[24,"003","Aquismón","0108","La Brecha (La Brecha de Tantzotzob) (0108)","R","Aquismón (003)La Brecha (La Brecha de Tantzotzob) (0108)",21.646528,-99.101325000000003,247,120,127,56,240030108,"SI","Alto","Medio",{"$f":"IFERROR(VLOOKUP(CONCATENATE(B236,D236),Padrón_Indígenas!$A$2:$G$988,7,0),\"No\")","v":"Sí"},{"$f":"VLOOKUP(E236,Cat_Municipios!$D$6:$M$64,11)","v":{"$error":"#REF!"}}]
[24,"003","Aquismón","0005","La Caldera (0005)","R","Aquismón (003)La Caldera (0005)",21.718699999999998,-99.103695999999999,893,436,457,180,240030005,"SI","Muy alto","Alto",{"$f":"IFERROR(VLOOKUP(CONCATENATE(B237,D237),Padrón_Indígenas!$A$2:$G$988,7,0),\"No\")","v":"Sí"},{"$f":"VLOOKUP(E237,Cat_Municipios!$D$6:$M$64,11)","v":{"$error":"#REF!"}}]
[24,"003","Aquismón","0093","La Cañada (Los Corrales) (0093)","R","Aquismón (003)La Cañada (Los Corrales) (0093)",21.868825000000001,-99.151944,152,79,73,48,240030093,"SI","Alto","Medio",{"$f":"IFERROR(VLOOKUP(CONCATENATE(B238,D238),Padrón_Indígenas!$A$2:$G$988,7,0),\"No\")","v":"No"},{"$f":"VLOOKUP(E238,Cat_Municipios!$D$6:$M$64,11)","v":{"$error":"#REF!"}}]
[24,"003","Aquismón","0143","La Ceiba (Los Corrales) (0143)","R","Aquismón (003)La Ceiba (Los Corrales) (0143)",21.844366999999998,-99.145512999999994,0,0,0,0,240030143,null,null,null,{"$f":"IFERROR(VLOOKUP(CONCATENATE(B239,D239),Padrón_Indígenas!$A$2:$G$988,7,0),\"No\")","v":"No"},{"$f":"VLOOKUP(E239,Cat_Municipios!$D$6:$M$64,11)","v":{"$error":"#REF!"}}]
[24,"003","Aquismón","0082","La Cruz de Guadalupe (0082)","R","Aquismón (003)La Cruz de Guadalupe (0082)",21.647584999999999,-99.161682999999996,59,30,29,13,240030082,"SI","Muy alto","Alto",{"$f":"IFERROR(VLOOKUP(CONCATENATE(B240,D240),Padrón_Indígenas!$A$2:$G$988,7,0),\"No\")","v":"Sí"},{"$f":"VLOOKUP(E240,Cat_Municipios!$D$6:$M$64,11)","v":{"$error":"#REF!"}}]
[24,"003","Aquismón","0008","La Cuchilla (0008)","R","Aquismón (003)La Cuchilla (0008)",21.687287999999999,-99.178648999999993,420,223,197,99,240030008,"SI","Alto","Medio",{"$f":"IFERROR(VLOOKUP(CONCATENATE(B241,D241),Padrón_Indígenas!$A$2:$G$988,7,0),\"No\")","v":"No"},{"$f":"VLOOKUP(E241,Cat_Municipios!$D$6:$M$64,11)","v":{"$error":"#REF!"}}]
[24,"003","Aquismón","0112","La Cueva (El Rezago) (0112)","R","Aquismón (003)La Cueva (El Rezago) (0112)",21.690287000000001,-99.145916,9,"*","*",2,240030112,null,null,null,{"$f":"IFERROR(VLOOKUP(CONCATENATE(B242,D242),Padrón_Indígenas!$A$2:$G$988,7,0),\"No\")","v":"No"},{"$f":"VLOOKUP(E242,Cat_Municipios!$D$6:$M$64,11)","v":{"$error":"#REF!"}}]
[24,"003","Aquismón","0262","La Escondida (0262)","R","Aquismón (003)La Escondida (0262)",21.881339000000001,-99.183136000000005,0,0,0,0,240030262,null,null,null,{"$f":"IFERROR(VLOOKUP(CONCATENATE(B243,D243),Padrón_Indígenas!$A$2:$G$988,7,0),\"No\")","v":"No"},{"$f":"VLOOKUP(E243,Cat_Municipios!$D$6:$M$64,11)","v":{"$error":"#REF!"}}]
[24,"003","Aquismón","0236","La Esperanza (0236)","R","Aquismón (003)La Esperanza (0236)",21.497851000000001,-99.097363000000001,24,11,13,4,240030236,"SI","Muy alto","Alto",{"$f":"IFERROR(VLOOKUP(CONCATENATE(B244,D244),Padrón_Indígenas!$A$2:$G$988,7,0),\"No\")","v":"No"},{"$f":"VLOOKUP(E244,Cat_Municipios!$D$6:$M$64,11)","v":{"$error":"#REF!"}}]
[24,"003","Aquismón","0075","La Garita Tambaque (0075)","R","Aquismón (003)La Garita Tambaque (0075)",21.681702000000001,-99.041562999999996,106,47,59,29,240030075,"SI","Alto","Medio",{"$f":"IFERROR(VLOOKUP(CONCATENATE(B245,D245),Padrón_Indígenas!$A$2:$G$988,7,0),\"No\")","v":"No"},{"$f":"VLOOKUP(E245,Cat_Municipios!$D$6:$M$64,11)","v":{"$error":"#REF!"}}]
[24,"003","Aquismón","0137","La Hierbabuena (Rancho San Antonio) (0137)","R","Aquismón (003)La Hierbabuena (Rancho San Antonio) (0137)",21.898652999999999,-99.158152999999999,0,0,0,0,240030137,null,null,null,{"$f":"IFERROR(VLOOKUP(CONCATENATE(B246,D246),Padrón_Indígenas!$A$2:$G$988,7,0),\"No\")","v":"No"},{"$f":"VLOOKUP(E246,Cat_Municipios!$D$6:$M$64,11)","v":{"$error":"#REF!"}}]
[24,"003","Aquismón","0302","La Ilusión (0302)","R","Aquismón (003)La Ilusión (0302)",21.744178999999999,-99.025766000000004,0,0,0,0,240030302,null,null,null,{"$f":"IFERROR(VLOOKUP(CONCATENATE(B247,D247),Padrón_Indígenas!$A$2:$G$988,7,0),\"No\")","v":"No"},{"$f":"VLOOKUP(E247,Cat_Municipios!$D$6:$M$64,11)","v":{"$error":"#REF!"}}]
[24,"003","Aquismón","0065","La Laguna (0065)","R","Aquismón (003)La Laguna (0065)",21.735182999999999,-99.005345000000005,0,0,0,0,240030065,null,null,null,{"$f":"IFERROR(VLOOKUP(CONCATENATE(B248,D248),Padrón_Indígenas!$A$2:$G$988,7,0),\"No\")","v":"No"},{"$f":"VLOOKUP(E248,Cat_Municipios!$D$6:$M$64,11)","v":{"$error":"#REF!"}}]
[24,"003","Aquismón","0083","La Laja (0083)","R","Aquismón (003)La Laja (0083)",21.601367,-99.058777000000006,115,64,51,22,240030083,"SI","Alto","Medio",{"$f":"IFERROR(VLOOKUP(CONCATENATE(B249,D249),Padrón_Indígenas!$A$2:$G$988,7,0),\"No\")","v":"Sí"},{"$f":"VLOOKUP(E249,Cat_Municipios!$D$6:$M$64,11)","v":{"$error":"#REF!"}}]
[24,"003","Aquismón","0273","La Loma (0273)","R","Aquismón (003)La Loma (0273)",21.872437999999999,-99.237836999999999,5,"*","*",1,240030273,null,null,null,{"$f":"IFERROR(VLOOKUP(CONCATENATE(B250,D250),Padrón_Indígenas!$A$2:$G$988,7,0),\"No\")","v":"No"},{"$f":"VLOOKUP(E250,Cat_Municipios!$D$6:$M$64,11)","v":{"$error":"#REF!"}}]
[24,"003","Aquismón","0239","La Manteca (0239)","R","Aquismón (003)La Manteca (0239)",21.506674,-99.087953999999996,1,"*","*",1,240030239,null,null,null,{"$f":"IFERROR(VLOOKUP(CONCATENATE(B251,D251),Padrón_Indígenas!$A$2:$G$988,7,0),\"No\")","v":"No"},{"$f":"VLOOKUP(E251,Cat_Municipios!$D$6:$M$64,11)","v":{"$error":"#REF!"}}]
[24,"003","Aquismón","0014","La Mesa (0014)","R","Aquismón (003)La Mesa (0014)",21.634699000000001,-99.150045000000006,125,65,60,27,240030014,"SI","Muy alto","Alto",{"$f":"IFERROR(VLOOKUP(CONCATENATE(B252,D252),Padrón_Indígenas!$A$2:$G$988,7,0),\"No\")","v":"Sí"},{"$f":"VLOOKUP(E252,Cat_Municipios!$D$6:$M$64,11)","v":{"$error":"#REF!"}}]
[24,"003","Aquismón","0036","La Mesa (0036)","R","Aquismón (003)La Mesa (0036)",21.505689,-99.073057000000006,228,116,112,49,240030036,"SI","Alto","Medio",{"$f":"IFERROR(VLOOKUP(CONCATENATE(B253,D253),Padrón_Indígenas!$A$2:$G$988,7,0),\"No\")","v":"Sí"},{"$f":"VLOOKUP(E253,Cat_Municipios!$D$6:$M$64,11)","v":{"$error":"#REF!"}}]
[24,"003","Aquismón","0123","La Mora (El Lindero) (0123)","R","Aquismón (003)La Mora (El Lindero) (0123)",21.662175000000001,-99.139773000000005,17,8,9,3,240030123,"SI","Muy alto","Alto",{"$f":"IFERROR(VLOOKUP(CONCATENATE(B254,D254),Padrón_Indígenas!$A$2:$G$988,7,0),\"No\")","v":"Sí"},{"$f":"VLOOKUP(E254,Cat_Municipios!$D$6:$M$64,11)","v":{"$error":"#REF!"}}]
[24,"003","Aquismón","0016","La Morena (0016)","R","Aquismón (003)La Morena (0016)",21.794279,-99.138368,306,154,152,78,240030016,null,"Alto","Medio",{"$f":"IFERROR(VLOOKUP(CONCATENATE(B255,D255),Padrón_Indígenas!$A$2:$G$988,7,0),\"No\")","v":"No"},{"$f":"VLOOKUP(E255,Cat_Municipios!$D$6:$M$64,11)","v":{"$error":"#REF!"}}]
[24,"003","Aquismón","0280","La Paloma (0280)","R","Aquismón (003)La Paloma (0280)",21.676632999999999,-99.129562000000007,3,"*","*",1,240030280,null,null,null,{"$f":"IFERROR(VLOOKUP(CONCATENATE(B256,D256),Padrón_Indígenas!$A$2:$G$988,7,0),\"No\")","v":"No"},{"$f":"VLOOKUP(E256,Cat_Municipios!$D$6:$M$64,11)","v":{"$error":"#REF!"}}]
[24,"003","Aquismón","0127","La Peña (0127)","R","Aquismón (003)La Peña (0127)",21.662751,-99.177424999999999,34,15,19,5,240030127,null,"Alto","Medio",{"$f":"IFERROR(VLOOKUP(CONCATENATE(B257,D257),Padrón_Indígenas!$A$2:$G$988,7,0),\"No\")","v":"No"},{"$f":"VLOOKUP(E257,Cat_Municipios!$D$6:$M$64,11)","v":{"$error":"#REF!"}}]
[24,"003","Aquismón","0076","La Peña Blanca (0076)","R","Aquismón (003)La Peña Blanca (0076)",21.534428999999999,-99.114749000000003,34,17,17,8,240030076,"SI","Muy alto","Alto",{"$f":"IFERROR(VLOOKUP(CONCATENATE(B258,D258),Padrón_Indígenas!$A$2:$G$988,7,0),\"No\")","v":"Sí"},{"$f":"VLOOKUP(E258,Cat_Municipios!$D$6:$M$64,11)","v":{"$error":"#REF!"}}]
[24,"003","Aquismón","0073","La Reforma (0073)","R","Aquismón (003)La Reforma (0073)",21.540555999999999,-99.107500000000002,7,"*","*",2,240030073,"SI",null,null,{"$f":"IFERROR(VLOOKUP(CONCATENATE(B259,D259),Padrón_Indígenas!$A$2:$G$988,7,0),\"No\")","v":"Sí"},{"$f":"VLOOKUP(E259,Cat_Municipios!$D$6:$M$64,11)","v":{"$error":"#REF!"}}]
[24,"003","Aquismón","0088","La Reforma (0088)","R","Aquismón (003)La Reforma (0088)",21.641010999999999,-99.150120000000001,246,130,116,56,240030088,"SI","Muy alto","Alto",{"$f":"IFERROR(VLOOKUP(CONCATENATE(B260,D260),Padrón_Indígenas!$A$2:$G$988,7,0),\"No\")","v":"Sí"},{"$f":"VLOOKUP(E260,Cat_Municipios!$D$6:$M$64,11)","v":{"$error":"#REF!"}}]
[24,"003","Aquismón","0122","La Soledad (0122)","R","Aquismón (003)La Soledad (0122)",21.487812999999999,-99.044272000000007,218,110,108,44,240030122,"SI","Alto","Medio",{"$f":"IFERROR(VLOOKUP(CONCATENATE(B261,D261),Padrón_Indígenas!$A$2:$G$988,7,0),\"No\")","v":"Sí"},{"$f":"VLOOKUP(E261,Cat_Municipios!$D$6:$M$64,11)","v":{"$error":"#REF!"}}]
[24,"003","Aquismón","0139","La Sonadora Uno (Maclovio Medellín) (0139)","R","Aquismón (003)La Sonadora Uno (Maclovio Medellín) (0139)",21.871110999999999,-99.150833000000006,0,0,0,0,240030139,null,null,null,{"$f":"IFERROR(VLOOKUP(CONCATENATE(B262,D262),Padrón_Indígenas!$A$2:$G$988,7,0),\"No\")","v":"No"},{"$f":"VLOOKUP(E262,Cat_Municipios!$D$6:$M$64,11)","v":{"$error":"#REF!"}}]
[24,"003","Aquismón","0242","La Unión Catorce (0242)","R","Aquismón (003)La Unión Catorce (0242)",21.758333,-99.064999999999998,0,0,0,0,240030242,null,null,null,{"$f":"IFERROR(VLOOKUP(CONCATENATE(B263,D263),Padrón_Indígenas!$A$2:$G$988,7,0),\"No\")","v":"No"},{"$f":"VLOOKUP(E263,Cat_Municipios!$D$6:$M$64,11)","v":{"$error":"#REF!"}}]
[24,"003","Aquismón","0049","La Unión de Guadalupe (0049)","R","Aquismón (003)La Unión de Guadalupe (0049)",21.601837,-99.105709000000004,336,167,169,70,240030049,"SI","Alto","Medio",{"$f":"IFERROR(VLOOKUP(CONCATENATE(B264,D264),Padrón_Indígenas!$A$2:$G$988,7,0),\"No\")","v":"Sí"},{"$f":"VLOOKUP(E264,Cat_Municipios!$D$6:$M$64,11)","v":{"$error":"#REF!"}}]
[24,"003","Aquismón","0077","La Yerbabuena (0077)","R","Aquismón (003)La Yerbabuena (0077)",21.522228999999999,-99.088414999999998,28,15,13,4,240030077,"SI","Muy alto","Muy alto",{"$f":"IFERROR(VLOOKUP(CONCATENATE(B265,D265),Padrón_Indígenas!$A$2:$G$988,7,0),\"No\")","v":"Sí"},{"$f":"VLOOKUP(E265,Cat_Municipios!$D$6:$M$64,11)","v":{"$error":"#REF!"}}]
[24,"003","Aquismón","0103","Lanim (0103)","R","Aquismón (003)Lanim (0103)",21.610379999999999,-99.004784000000001,652,330,322,139,240030103,"SI","Alto","Medio",{"$f":"IFERROR(VLOOKUP(CONCATENATE(B266,D266),Padrón_Indígenas!$A$2:$G$988,7,0),\"No\")","v":"Sí"},{"$f":"VLOOKUP(E266,Cat_Municipios!$D$6:$M$64,11)","v":{"$error":"#REF!"}}]
[24,"003","Aquismón","0232","Las Ánimas (0232)","R","Aquismón (003)Las Ánimas (0232)",21.517444999999999,-99.068962999999997,117,61,56,25,240030232,"SI","Muy alto","Alto",{"$f":"IFERROR(VLOOKUP(CONCATENATE(B267,D267),Padrón_Indígenas!$A$2:$G$988,7,0),\"No\")","v":"No"},{"$f":"VLOOKUP(E267,Cat_Municipios!$D$6:$M$64,11)","v":{"$error":"#REF!"}}]
[24,"003","Aquismón","0059","Las Vegas (0059)","R","Aquismón (003)Las Vegas (0059)",21.821943999999998,-99.147221999999999,0,0,0,0,240030059,null,null,null,{"$f":"IFERROR(VLOOKUP(CONCATENATE(B268,D268),Padrón_Indígenas!$A$2:$G$988,7,0),\"No\")","v":"No"},{"$f":"VLOOKUP(E268,Cat_Municipios!$D$6:$M$64,11)","v":{"$error":"#REF!"}}]
[24,"003","Aquismón","0296","Lázaro Castillo (La Labor del Lienzo Charro) (0296)","R","Aquismón (003)Lázaro Castillo (La Labor del Lienzo Charro) (0296)",21.623867000000001,-99.012185000000002,1,"*","*",1,240030296,null,null,null,{"$f":"IFERROR(VLOOKUP(CONCATENATE(B269,D269),Padrón_Indígenas!$A$2:$G$988,7,0),\"No\")","v":"No"},{"$f":"VLOOKUP(E269,Cat_Municipios!$D$6:$M$64,11)","v":{"$error":"#REF!"}}]
[24,"003","Aquismón","0012","Linjá (0012)","R","Aquismón (003)Linjá (0012)",21.628665000000002,-99.081390999999996,463,234,229,90,240030012,"SI","Muy alto","Alto",{"$f":"IFERROR(VLOOKUP(CONCATENATE(B270,D270),Padrón_Indígenas!$A$2:$G$988,7,0),\"No\")","v":"Sí"},{"$f":"VLOOKUP(E270,Cat_Municipios!$D$6:$M$64,11)","v":{"$error":"#REF!"}}]
[24,"003","Aquismón","0313","Loma Bonita (0313)","R","Aquismón (003)Loma Bonita (0313)",21.634003,-99.061194,100,56,44,18,240030313,"SI","Muy alto","Muy alto",{"$f":"IFERROR(VLOOKUP(CONCATENATE(B271,D271),Padrón_Indígenas!$A$2:$G$988,7,0),\"No\")","v":"Sí"},{"$f":"VLOOKUP(E271,Cat_Municipios!$D$6:$M$64,11)","v":{"$error":"#REF!"}}]
[24,"003","Aquismón","0125","Loma Bonita (Charco) (0125)","R","Aquismón (003)Loma Bonita (Charco) (0125)",21.730402999999999,-99.172353000000001,0,0,0,0,240030125,null,null,null,{"$f":"IFERROR(VLOOKUP(CONCATENATE(B272,D272),Padrón_Indígenas!$A$2:$G$988,7,0),\"No\")","v":"No"},{"$f":"VLOOKUP(E272,Cat_Municipios!$D$6:$M$64,11)","v":{"$error":"#REF!"}}]
[24,"003","Aquismón","0274","Lorenzo Juárez Bueno (0274)","R","Aquismón (003)Lorenzo Juárez Bueno (0274)",21.901133000000002,-99.195812000000004,2,"*","*",1,240030274,null,null,null,{"$f":"IFERROR(VLOOKUP(CONCATENATE(B273,D273),Padrón_Indígenas!$A$2:$G$988,7,0),\"No\")","v":"No"},{"$f":"VLOOKUP(E273,Cat_Municipios!$D$6:$M$64,11)","v":{"$error":"#REF!"}}]
[24,"003","Aquismón","0250","Los Canelos (0250)","R","Aquismón (003)Los Canelos (0250)",21.640858000000001,-99.136898000000002,53,27,26,13,240030250,"SI","Muy alto","Alto",{"$f":"IFERROR(VLOOKUP(CONCATENATE(B274,D274),Padrón_Indígenas!$A$2:$G$988,7,0),\"No\")","v":"No"},{"$f":"VLOOKUP(E274,Cat_Municipios!$D$6:$M$64,11)","v":{"$error":"#REF!"}}]
[24,"003","Aquismón","0092","Los Charcos (0092)","R","Aquismón (003)Los Charcos (0092)",21.671019999999999,-99.141216999999997,80,42,38,17,240030092,"SI","Muy alto","Alto",{"$f":"IFERROR(VLOOKUP(CONCATENATE(B275,D275),Padrón_Indígenas!$A$2:$G$988,7,0),\"No\")","v":"Sí"},{"$f":"VLOOKUP(E275,Cat_Municipios!$D$6:$M$64,11)","v":{"$error":"#REF!"}}]
[24,"003","Aquismón","0057","Los Ciruelos (0057)","R","Aquismón (003)Los Ciruelos (0057)",21.745556000000001,-99.027221999999995,0,0,0,0,240030057,null,null,null,{"$f":"IFERROR(VLOOKUP(CONCATENATE(B276,D276),Padrón_Indígenas!$A$2:$G$988,7,0),\"No\")","v":"No"},{"$f":"VLOOKUP(E276,Cat_Municipios!$D$6:$M$64,11)","v":{"$error":"#REF!"}}]
[24,"003","Aquismón","0087","Los Hornos (0087)","R","Aquismón (003)Los Hornos (0087)",21.493258999999998,-99.071865000000003,370,192,178,79,240030087,"SI","Alto","Medio",{"$f":"IFERROR(VLOOKUP(CONCATENATE(B277,D277),Padrón_Indígenas!$A$2:$G$988,7,0),\"No\")","v":"Sí"},{"$f":"VLOOKUP(E277,Cat_Municipios!$D$6:$M$64,11)","v":{"$error":"#REF!"}}]
[24,"003","Aquismón","0238","Los Limones (0238)","R","Aquismón (003)Los Limones (0238)",21.510811,-99.073988,1,"*","*",1,240030238,null,null,null,{"$f":"IFERROR(VLOOKUP(CONCATENATE(B278,D278),Padrón_Indígenas!$A$2:$G$988,7,0),\"No\")","v":"No"},{"$f":"VLOOKUP(E278,Cat_Municipios!$D$6:$M$64,11)","v":{"$error":"#REF!"}}]
[24,"003","Aquismón","0120","Los Lirios (0120)","R","Aquismón (003)Los Lirios (0120)",21.509875000000001,-99.127762000000004,0,0,0,0,240030120,null,null,null,{"$f":"IFERROR(VLOOKUP(CONCATENATE(B279,D279),Padrón_Indígenas!$A$2:$G$988,7,0),\"No\")","v":"No"},{"$f":"VLOOKUP(E279,Cat_Municipios!$D$6:$M$64,11)","v":{"$error":"#REF!"}}]
[24,"003","Aquismón","0276","Los Naranjos (0276)","R","Aquismón (003)Los Naranjos (0276)",21.925364999999999,-99.240661000000003,0,0,0,0,240030276,null,null,null,{"$f":"IFERROR(VLOOKUP(CONCATENATE(B280,D280),Padrón_Indígenas!$A$2:$G$988,7,0),\"No\")","v":"No"},{"$f":"VLOOKUP(E280,Cat_Municipios!$D$6:$M$64,11)","v":{"$error":"#REF!"}}]
[24,"003","Aquismón","0020","Los Otates (0020)","R","Aquismón (003)Los Otates (0020)",22.003727999999999,-99.167586,603,332,271,163,240030020,"SI","Medio","Bajo",{"$f":"IFERROR(VLOOKUP(CONCATENATE(B281,D281),Padrón_Indígenas!$A$2:$G$988,7,0),\"No\")","v":"No"},{"$f":"VLOOKUP(E281,Cat_Municipios!$D$6:$M$64,11)","v":{"$error":"#REF!"}}]
[24,"003","Aquismón","0060","Los Remedios (0060)","R","Aquismón (003)Los Remedios (0060)",21.909884999999999,-99.162807000000001,341,184,157,81,240030060,"SI","Alto","Medio",{"$f":"IFERROR(VLOOKUP(CONCATENATE(B282,D282),Padrón_Indígenas!$A$2:$G$988,7,0),\"No\")","v":"No"},{"$f":"VLOOKUP(E282,Cat_Municipios!$D$6:$M$64,11)","v":{"$error":"#REF!"}}]
[24,"003","Aquismón","0303","Los Vidales (0303)","R","Aquismón (003)Los Vidales (0303)",21.513501000000002,-99.034090000000006,57,30,27,14,240030303,"SI","Muy alto","Alto",{"$f":"IFERROR(VLOOKUP(CONCATENATE(B283,D283),Padrón_Indígenas!$A$2:$G$988,7,0),\"No\")","v":"No"},{"$f":"VLOOKUP(E283,Cat_Municipios!$D$6:$M$64,11)","v":{"$error":"#REF!"}}]
[24,"003","Aquismón","0326","Luis Gambino Heredia (0326)","R","Aquismón (003)Luis Gambino Heredia (0326)",21.97128,-99.192254000000005,"-","-","-","-",240030326,null,null,null,{"$f":"IFERROR(VLOOKUP(CONCATENATE(B284,D284),Padrón_Indígenas!$A$2:$G$988,7,0),\"No\")","v":"No"},{"$f":"VLOOKUP(E284,Cat_Municipios!$D$6:$M$64,11)","v":{"$error":"#REF!"}}]
[24,"003","Aquismón","0086","Manja (0086)","R","Aquismón (003)Manja (0086)",21.597916000000001,-99.045389999999998,127,69,58,25,240030086,"SI","Alto","Medio",{"$f":"IFERROR(VLOOKUP(CONCATENATE(B285,D285),Padrón_Indígenas!$A$2:$G$988,7,0),\"No\")","v":"Sí"},{"$f":"VLOOKUP(E285,Cat_Municipios!$D$6:$M$64,11)","v":{"$error":"#REF!"}}]
[24,"003","Aquismón","0013","Mantezulel (0013)","R","Aquismón (003)Mantezulel (0013)",21.628926,-99.054494000000005,520,255,265,107,240030013,"SI","Muy alto","Alto",{"$f":"IFERROR(VLOOKUP(CONCATENATE(B286,D286),Padrón_Indígenas!$A$2:$G$988,7,0),\"No\")","v":"Sí"},{"$f":"VLOOKUP(E286,Cat_Municipios!$D$6:$M$64,11)","v":{"$error":"#REF!"}}]
[24,"003","Aquismón","0275","Marcos Luis Santiago (Santa Anita) (0275)","R","Aquismón (003)Marcos Luis Santiago (Santa Anita) (0275)",21.715578000000001,-99.005977999999999,6,"*","*",2,240030275,"SI",null,null,{"$f":"IFERROR(VLOOKUP(CONCATENATE(B287,D287),Padrón_Indígenas!$A$2:$G$988,7,0),\"No\")","v":"No"},{"$f":"VLOOKUP(E287,Cat_Municipios!$D$6:$M$64,11)","v":{"$error":"#REF!"}}]
[24,"003","Aquismón","0240","Mina de Belemont (0240)","R","Aquismón (003)Mina de Belemont (0240)",21.536998000000001,-99.064412000000004,111,58,53,20,240030240,"SI","Muy alto","Alto",{"$f":"IFERROR(VLOOKUP(CONCATENATE(B288,D288),Padrón_Indígenas!$A$2:$G$988,7,0),\"No\")","v":"Sí"},{"$f":"VLOOKUP(E288,Cat_Municipios!$D$6:$M$64,11)","v":{"$error":"#REF!"}}]
[24,"003","Aquismón","0062","Moctezuma (0062)","R","Aquismón (003)Moctezuma (0062)",21.851737,-99.236137999999997,394,205,189,83,240030062,"SI","Alto","Medio",{"$f":"IFERROR(VLOOKUP(CONCATENATE(B289,D289),Padrón_Indígenas!$A$2:$G$988,7,0),\"No\")","v":"Sí"},{"$f":"VLOOKUP(E289,Cat_Municipios!$D$6:$M$64,11)","v":{"$error":"#REF!"}}]
[24,"003","Aquismón","0017","Múhuatl (0017)","R","Aquismón (003)Múhuatl (0017)",21.551656999999999,-99.075969000000001,722,369,353,152,240030017,"SI","Muy alto","Alto",{"$f":"IFERROR(VLOOKUP(CONCATENATE(B290,D290),Padrón_Indígenas!$A$2:$G$988,7,0),\"No\")","v":"Sí"},{"$f":"VLOOKUP(E290,Cat_Municipios!$D$6:$M$64,11)","v":{"$error":"#REF!"}}]
[24,"003","Aquismón","0314","NCPE Santa Anita (0314)","R","Aquismón (003)NCPE Santa Anita (0314)",21.759466,-98.975543000000002,10,7,3,4,240030314,"SI","Muy alto","Alto",{"$f":"IFERROR(VLOOKUP(CONCATENATE(B291,D291),Padrón_Indígenas!$A$2:$G$988,7,0),\"No\")","v":"No"},{"$f":"VLOOKUP(E291,Cat_Municipios!$D$6:$M$64,11)","v":{"$error":"#REF!"}}]
[24,"003","Aquismón","0079","Octujub o Campeche (0079)","R","Aquismón (003)Octujub o Campeche (0079)",21.559179,-99.097532999999999,621,310,311,145,240030079,"SI","Muy alto","Alto",{"$f":"IFERROR(VLOOKUP(CONCATENATE(B292,D292),Padrón_Indígenas!$A$2:$G$988,7,0),\"No\")","v":"Sí"},{"$f":"VLOOKUP(E292,Cat_Municipios!$D$6:$M$64,11)","v":{"$error":"#REF!"}}]
[24,"003","Aquismón","0277","Octzén (0277)","R","Aquismón (003)Octzén (0277)",21.563915999999999,-99.018589000000006,38,22,16,6,240030277,"SI","Muy alto","Alto",{"$f":"IFERROR(VLOOKUP(CONCATENATE(B293,D293),Padrón_Indígenas!$A$2:$G$988,7,0),\"No\")","v":"No"},{"$f":"VLOOKUP(E293,Cat_Municipios!$D$6:$M$64,11)","v":{"$error":"#REF!"}}]
[24,"003","Aquismón","0279","Oxitipa (0279)","R","Aquismón (003)Oxitipa (0279)",21.624444,-98.994167000000004,0,0,0,0,240030279,null,null,null,{"$f":"IFERROR(VLOOKUP(CONCATENATE(B294,D294),Padrón_Indígenas!$A$2:$G$988,7,0),\"No\")","v":"No"},{"$f":"VLOOKUP(E294,Cat_Municipios!$D$6:$M$64,11)","v":{"$error":"#REF!"}}]
[24,"003","Aquismón","0021","Oxmolón (0021)","R","Aquismón (003)Oxmolón (0021)",21.709368999999999,-99.162233000000001,2,"*","*",1,240030021,null,null,null,{"$f":"IFERROR(VLOOKUP(CONCATENATE(B295,D295),Padrón_Indígenas!$A$2:$G$988,7,0),\"No\")","v":"No"},{"$f":"VLOOKUP(E295,Cat_Municipios!$D$6:$M$64,11)","v":{"$error":"#REF!"}}]
[24,"003","Aquismón","0022","Palo de Arco (0022)","R","Aquismón (003)Palo de Arco (0022)",21.926458,-99.170213000000004,367,172,195,79,240030022,"SI","Alto","Medio",{"$f":"IFERROR(VLOOKUP(CONCATENATE(B296,D296),Padrón_Indígenas!$A$2:$G$988,7,0),\"No\")","v":"Sí"},{"$f":"VLOOKUP(E296,Cat_Municipios!$D$6:$M$64,11)","v":{"$error":"#REF!"}}]
[24,"003","Aquismón","0023","Paxaljá (0023)","R","Aquismón (003)Paxaljá (0023)",21.575379000000002,-99.068689000000006,1062,546,516,224,240030023,"SI","Alto","Medio",{"$f":"IFERROR(VLOOKUP(CONCATENATE(B297,D297),Padrón_Indígenas!$A$2:$G$988,7,0),\"No\")","v":"Sí"},{"$f":"VLOOKUP(E297,Cat_Municipios!$D$6:$M$64,11)","v":{"$error":"#REF!"}}]
[24,"003","Aquismón","0281","Pedro Castillo Sánchez (El Volantín) (0281)","R","Aquismón (003)Pedro Castillo Sánchez (El Volantín) (0281)",21.740870000000001,-99.031706999999997,11,"*","*",2,240030281,"SI",null,null,{"$f":"IFERROR(VLOOKUP(CONCATENATE(B298,D298),Padrón_Indígenas!$A$2:$G$988,7,0),\"No\")","v":"No"},{"$f":"VLOOKUP(E298,Cat_Municipios!$D$6:$M$64,11)","v":{"$error":"#REF!"}}]
[24,"003","Aquismón","0216","Puente de Dios (Paso Alto) (0216)","R","Aquismón (003)Puente de Dios (Paso Alto) (0216)",21.798611000000001,-99.064443999999995,4,"*","*",1,240030216,"SI",null,null,{"$f":"IFERROR(VLOOKUP(CONCATENATE(B299,D299),Padrón_Indígenas!$A$2:$G$988,7,0),\"No\")","v":"No"},{"$f":"VLOOKUP(E299,Cat_Municipios!$D$6:$M$64,11)","v":{"$error":"#REF!"}}]
[24,"003","Aquismón","0129","Puerto de Guaymas (0129)","R","Aquismón (003)Puerto de Guaymas (0129)",21.95252,-99.225964000000005,265,129,136,68,240030129,"SI","Alto","Bajo",{"$f":"IFERROR(VLOOKUP(CONCATENATE(B300,D300),Padrón_Indígenas!$A$2:$G$988,7,0),\"No\")","v":"No"},{"$f":"VLOOKUP(E300,Cat_Municipios!$D$6:$M$64,11)","v":{"$error":"#REF!"}}]
[24,"003","Aquismón","0114","Puerto de Tantzotzob (0114)","R","Aquismón (003)Puerto de Tantzotzob (0114)",21.621096000000001,-99.121129999999994,324,156,168,73,240030114,"SI","Alto","Medio",{"$f":"IFERROR(VLOOKUP(CONCATENATE(B301,D301),Padrón_Indígenas!$A$2:$G$988,7,0),\"No\")","v":"Sí"},{"$f":"VLOOKUP(E301,Cat_Municipios!$D$6:$M$64,11)","v":{"$error":"#REF!"}}]
[24,"003","Aquismón","0283","Puerto del Jonote (0283)","R","Aquismón (003)Puerto del Jonote (0283)",21.546327000000002,-99.112086000000005,0,0,0,0,240030283,null,null,null,{"$f":"IFERROR(VLOOKUP(CONCATENATE(B302,D302),Padrón_Indígenas!$A$2:$G$988,7,0),\"No\")","v":"No"},{"$f":"VLOOKUP(E302,Cat_Municipios!$D$6:$M$64,11)","v":{"$error":"#REF!"}}]
[24,"003","Aquismón","0135","Puerto Tampete (0135)","R","Aquismón (003)Puerto Tampete (0135)",21.534506,-99.086535999999995,8,"*","*",2,240030135,"SI",null,null,{"$f":"IFERROR(VLOOKUP(CONCATENATE(B303,D303),Padrón_Indígenas!$A$2:$G$988,7,0),\"No\")","v":"No"},{"$f":"VLOOKUP(E303,Cat_Municipios!$D$6:$M$64,11)","v":{"$error":"#REF!"}}]
[24,"003","Aquismón","0024","Puhuitzé (0024)","R","Aquismón (003)Puhuitzé (0024)",21.676030999999998,-99.067403999999996,787,386,401,177,240030024,"SI","Muy alto","Alto",{"$f":"IFERROR(VLOOKUP(CONCATENATE(B304,D304),Padrón_Indígenas!$A$2:$G$988,7,0),\"No\")","v":"Sí"},{"$f":"VLOOKUP(E304,Cat_Municipios!$D$6:$M$64,11)","v":{"$error":"#REF!"}}]
[24,"003","Aquismón","0229","Rancho Acuario (0229)","R","Aquismón (003)Rancho Acuario (0229)",21.780684000000001,-99.132431999999994,0,0,0,0,240030229,null,null,null,{"$f":"IFERROR(VLOOKUP(CONCATENATE(B305,D305),Padrón_Indígenas!$A$2:$G$988,7,0),\"No\")","v":"No"},{"$f":"VLOOKUP(E305,Cat_Municipios!$D$6:$M$64,11)","v":{"$error":"#REF!"}}]
[24,"003","Aquismón","0284","Rancho Agua de la Mona (0284)","R","Aquismón (003)Rancho Agua de la Mona (0284)",21.946667000000001,-99.182500000000005,6,"*","*",1,240030284,"SI",null,null,{"$f":"IFERROR(VLOOKUP(CONCATENATE(B306,D306),Padrón_Indígenas!$A$2:$G$988,7,0),\"No\")","v":"No"},{"$f":"VLOOKUP(E306,Cat_Municipios!$D$6:$M$64,11)","v":{"$error":"#REF!"}}]
[24,"003","Aquismón","0251","Rancho Alegre (El Cañón) (0251)","R","Aquismón (003)Rancho Alegre (El Cañón) (0251)",21.657442,-99.167492999999993,12,6,6,3,240030251,null,"Alto","Alto",{"$f":"IFERROR(VLOOKUP(CONCATENATE(B307,D307),Padrón_Indígenas!$A$2:$G$988,7,0),\"No\")","v":"No"},{"$f":"VLOOKUP(E307,Cat_Municipios!$D$6:$M$64,11)","v":{"$error":"#REF!"}}]
[24,"003","Aquismón","0285","Rancho Bertita (0285)","R","Aquismón (003)Rancho Bertita (0285)",21.967656999999999,-99.175282999999993,3,"*","*",1,240030285,null,null,null,{"$f":"IFERROR(VLOOKUP(CONCATENATE(B308,D308),Padrón_Indígenas!$A$2:$G$988,7,0),\"No\")","v":"No"},{"$f":"VLOOKUP(E308,Cat_Municipios!$D$6:$M$64,11)","v":{"$error":"#REF!"}}]
[24,"003","Aquismón","0142","Rancho el Afán (La Choyosa) (0142)","R","Aquismón (003)Rancho el Afán (La Choyosa) (0142)",21.847746000000001,-99.148398,0,0,0,0,240030142,null,null,null,{"$f":"IFERROR(VLOOKUP(CONCATENATE(B309,D309),Padrón_Indígenas!$A$2:$G$988,7,0),\"No\")","v":"No"},{"$f":"VLOOKUP(E309,Cat_Municipios!$D$6:$M$64,11)","v":{"$error":"#REF!"}}]
[24,"003","Aquismón","0286","Rancho el Milagro (0286)","R","Aquismón (003)Rancho el Milagro (0286)",21.943905999999998,-99.180441000000002,0,0,0,0,240030286,null,null,null,{"$f":"IFERROR(VLOOKUP(CONCATENATE(B310,D310),Padrón_Indígenas!$A$2:$G$988,7,0),\"No\")","v":"No"},{"$f":"VLOOKUP(E310,Cat_Municipios!$D$6:$M$64,11)","v":{"$error":"#REF!"}}]
[24,"003","Aquismón","0300","Rancho el Plan de Limón (0300)","R","Aquismón (003)Rancho el Plan de Limón (0300)",21.772834,-99.015925999999993,0,0,0,0,240030300,null,null,null,{"$f":"IFERROR(VLOOKUP(CONCATENATE(B311,D311),Padrón_Indígenas!$A$2:$G$988,7,0),\"No\")","v":"No"},{"$f":"VLOOKUP(E311,Cat_Municipios!$D$6:$M$64,11)","v":{"$error":"#REF!"}}]
[24,"003","Aquismón","0320","Rancho Japazum (0320)","R","Aquismón (003)Rancho Japazum (0320)",21.673670999999999,-99.021270999999999,0,0,0,0,240030320,null,null,null,{"$f":"IFERROR(VLOOKUP(CONCATENATE(B312,D312),Padrón_Indígenas!$A$2:$G$988,7,0),\"No\")","v":"No"},{"$f":"VLOOKUP(E312,Cat_Municipios!$D$6:$M$64,11)","v":{"$error":"#REF!"}}]
[24,"003","Aquismón","0264","Rancho la Ilusión (0264)","R","Aquismón (003)Rancho la Ilusión (0264)",21.917950000000001,-99.200896999999998,7,"*","*",1,240030264,null,null,null,{"$f":"IFERROR(VLOOKUP(CONCATENATE(B313,D313),Padrón_Indígenas!$A$2:$G$988,7,0),\"No\")","v":"No"},{"$f":"VLOOKUP(E313,Cat_Municipios!$D$6:$M$64,11)","v":{"$error":"#REF!"}}]
[24,"003","Aquismón","0287","Rancho la Joya del Encino (0287)","R","Aquismón (003)Rancho la Joya del Encino (0287)",21.912267,-99.246094999999997,0,0,0,0,240030287,null,null,null,{"$f":"IFERROR(VLOOKUP(CONCATENATE(B314,D314),Padrón_Indígenas!$A$2:$G$988,7,0),\"No\")","v":"No"},{"$f":"VLOOKUP(E314,Cat_Municipios!$D$6:$M$64,11)","v":{"$error":"#REF!"}}]
[24,"003","Aquismón","0260","Rancho la Labor (0260)","R","Aquismón (003)Rancho la Labor (0260)",21.949166999999999,-99.183610999999999,3,"*","*",1,240030260,"SI",null,null,{"$f":"IFERROR(VLOOKUP(CONCATENATE(B315,D315),Padrón_Indígenas!$A$2:$G$988,7,0),\"No\")","v":"No"},{"$f":"VLOOKUP(E315,Cat_Municipios!$D$6:$M$64,11)","v":{"$error":"#REF!"}}]
[24,"003","Aquismón","0241","Rancho la Morena (0241)","R","Aquismón (003)Rancho la Morena (0241)",21.782778,-99.133611000000002,0,0,0,0,240030241,null,null,null,{"$f":"IFERROR(VLOOKUP(CONCATENATE(B316,D316),Padrón_Indígenas!$A$2:$G$988,7,0),\"No\")","v":"No"},{"$f":"VLOOKUP(E316,Cat_Municipios!$D$6:$M$64,11)","v":{"$error":"#REF!"}}]
[24,"003","Aquismón","0220","Rancho las Flores (0220)","R","Aquismón (003)Rancho las Flores (0220)",21.779693000000002,-99.006742000000003,3,"*","*",1,240030220,null,null,null,{"$f":"IFERROR(VLOOKUP(CONCATENATE(B317,D317),Padrón_Indígenas!$A$2:$G$988,7,0),\"No\")","v":"No"},{"$f":"VLOOKUP(E317,Cat_Municipios!$D$6:$M$64,11)","v":{"$error":"#REF!"}}]
[24,"003","Aquismón","0145","Rancho las Mesas (0145)","R","Aquismón (003)Rancho las Mesas (0145)",21.773299999999999,-99.134302000000005,0,0,0,0,240030145,null,null,null,{"$f":"IFERROR(VLOOKUP(CONCATENATE(B318,D318),Padrón_Indígenas!$A$2:$G$988,7,0),\"No\")","v":"No"},{"$f":"VLOOKUP(E318,Cat_Municipios!$D$6:$M$64,11)","v":{"$error":"#REF!"}}]
[24,"003","Aquismón","0322","Rancho las Mesas (Javier González Ramírez) (0322)","R","Aquismón (003)Rancho las Mesas (Javier González Ramírez) (0322)",21.755555999999999,-99.124167,0,0,0,0,240030322,null,null,null,{"$f":"IFERROR(VLOOKUP(CONCATENATE(B319,D319),Padrón_Indígenas!$A$2:$G$988,7,0),\"No\")","v":"No"},{"$f":"VLOOKUP(E319,Cat_Municipios!$D$6:$M$64,11)","v":{"$error":"#REF!"}}]
[24,"003","Aquismón","0323","Rancho los Riachuelos (0323)","R","Aquismón (003)Rancho los Riachuelos (0323)",21.674671,-99.016092999999998,6,"*","*",2,240030323,null,null,null,{"$f":"IFERROR(VLOOKUP(CONCATENATE(B320,D320),Padrón_Indígenas!$A$2:$G$988,7,0),\"No\")","v":"No"},{"$f":"VLOOKUP(E320,Cat_Municipios!$D$6:$M$64,11)","v":{"$error":"#REF!"}}]
[24,"003","Aquismón","0316","Rancho María Bonita (0316)","R","Aquismón (003)Rancho María Bonita (0316)",21.896592999999999,-99.244899000000004,0,0,0,0,240030316,null,null,null,{"$f":"IFERROR(VLOOKUP(CONCATENATE(B321,D321),Padrón_Indígenas!$A$2:$G$988,7,0),\"No\")","v":"No"},{"$f":"VLOOKUP(E321,Cat_Municipios!$D$6:$M$64,11)","v":{"$error":"#REF!"}}]
[24,"003","Aquismón","0115","Rancho Nuevo (0115)","R","Aquismón (003)Rancho Nuevo (0115)",21.697500000000002,-99.036666999999994,895,462,433,170,240030115,"SI","Alto","Medio",{"$f":"IFERROR(VLOOKUP(CONCATENATE(B322,D322),Padrón_Indígenas!$A$2:$G$988,7,0),\"No\")","v":"No"},{"$f":"VLOOKUP(E322,Cat_Municipios!$D$6:$M$64,11)","v":{"$error":"#REF!"}}]
[24,"003","Aquismón","0130","Rancho Nuevo Tamalte (0130)","R","Aquismón (003)Rancho Nuevo Tamalte (0130)",21.748584000000001,-98.972973999999994,16,8,8,3,240030130,null,"Alto","Medio",{"$f":"IFERROR(VLOOKUP(CONCATENATE(B323,D323),Padrón_Indígenas!$A$2:$G$988,7,0),\"No\")","v":"No"},{"$f":"VLOOKUP(E323,Cat_Municipios!$D$6:$M$64,11)","v":{"$error":"#REF!"}}]
[24,"003","Aquismón","0288","Rancho San Francisco (0288)","R","Aquismón (003)Rancho San Francisco (0288)",21.935841,-99.173850000000002,4,"*","*",1,240030288,null,null,null,{"$f":"IFERROR(VLOOKUP(CONCATENATE(B324,D324),Padrón_Indígenas!$A$2:$G$988,7,0),\"No\")","v":"No"},{"$f":"VLOOKUP(E324,Cat_Municipios!$D$6:$M$64,11)","v":{"$error":"#REF!"}}]
[24,"003","Aquismón","0138","Rancho San Jorge (0138)","R","Aquismón (003)Rancho San Jorge (0138)",21.891193000000001,-99.154962999999995,5,"*","*",1,240030138,"SI",null,null,{"$f":"IFERROR(VLOOKUP(CONCATENATE(B325,D325),Padrón_Indígenas!$A$2:$G$988,7,0),\"No\")","v":"No"},{"$f":"VLOOKUP(E325,Cat_Municipios!$D$6:$M$64,11)","v":{"$error":"#REF!"}}]
[24,"003","Aquismón","0290","Rancho San Jorge (0290)","R","Aquismón (003)Rancho San Jorge (0290)",21.796917000000001,-99.052860999999993,0,0,0,0,240030290,null,null,null,{"$f":"IFERROR(VLOOKUP(CONCATENATE(B326,D326),Padrón_Indígenas!$A$2:$G$988,7,0),\"No\")","v":"No"},{"$f":"VLOOKUP(E326,Cat_Municipios!$D$6:$M$64,11)","v":{"$error":"#REF!"}}]
[24,"003","Aquismón","0140","Rancho Santa Isabel (0140)","R","Aquismón (003)Rancho Santa Isabel (0140)",21.878647000000001,-99.152371000000002,3,"*","*",1,240030140,"SI",null,null,{"$f":"IFERROR(VLOOKUP(CONCATENATE(B327,D327),Padrón_Indígenas!$A$2:$G$988,7,0),\"No\")","v":"No"},{"$f":"VLOOKUP(E327,Cat_Municipios!$D$6:$M$64,11)","v":{"$error":"#REF!"}}]
[24,"003","Aquismón","0324","Roberto Morales (0324)","R","Aquismón (003)Roberto Morales (0324)",21.79383,-99.030353000000005,5,"*","*",1,240030324,"SI",null,null,{"$f":"IFERROR(VLOOKUP(CONCATENATE(B328,D328),Padrón_Indígenas!$A$2:$G$988,7,0),\"No\")","v":"No"},{"$f":"VLOOKUP(E328,Cat_Municipios!$D$6:$M$64,11)","v":{"$error":"#REF!"}}]
[24,"003","Aquismón","0117","Salsipuedes (0117)","R","Aquismón (003)Salsipuedes (0117)",21.736281000000002,-98.977096000000003,6,"*","*",1,240030117,null,null,null,{"$f":"IFERROR(VLOOKUP(CONCATENATE(B329,D329),Padrón_Indígenas!$A$2:$G$988,7,0),\"No\")","v":"No"},{"$f":"VLOOKUP(E329,Cat_Municipios!$D$6:$M$64,11)","v":{"$error":"#REF!"}}]
[24,"003","Aquismón","0136","San Francisco (0136)","R","Aquismón (003)San Francisco (0136)",21.511085999999999,-99.065534,380,190,190,74,240030136,"SI","Muy alto","Medio",{"$f":"IFERROR(VLOOKUP(CONCATENATE(B330,D330),Padrón_Indígenas!$A$2:$G$988,7,0),\"No\")","v":"No"},{"$f":"VLOOKUP(E330,Cat_Municipios!$D$6:$M$64,11)","v":{"$error":"#REF!"}}]
[24,"003","Aquismón","0026","San Francisco de Asís (0026)","R","Aquismón (003)San Francisco de Asís (0026)",21.779980999999999,-99.055795000000003,214,111,103,52,240030026,"SI","Alto","Medio",{"$f":"IFERROR(VLOOKUP(CONCATENATE(B331,D331),Padrón_Indígenas!$A$2:$G$988,7,0),\"No\")","v":"No"},{"$f":"VLOOKUP(E331,Cat_Municipios!$D$6:$M$64,11)","v":{"$error":"#REF!"}}]
[24,"003","Aquismón","0098","San Isidro (0098)","R","Aquismón (003)San Isidro (0098)",21.523955999999998,-99.039435999999995,545,295,250,106,240030098,"SI","Muy alto","Alto",{"$f":"IFERROR(VLOOKUP(CONCATENATE(B332,D332),Padrón_Indígenas!$A$2:$G$988,7,0),\"No\")","v":"Sí"},{"$f":"VLOOKUP(E332,Cat_Municipios!$D$6:$M$64,11)","v":{"$error":"#REF!"}}]
[24,"003","Aquismón","0027","San José el Viejo (0027)","R","Aquismón (003)San José el Viejo (0027)",21.750736,-99.159143,184,87,97,44,240030027,"SI","Alto","Medio",{"$f":"IFERROR(VLOOKUP(CONCATENATE(B333,D333),Padrón_Indígenas!$A$2:$G$988,7,0),\"No\")","v":"No"},{"$f":"VLOOKUP(E333,Cat_Municipios!$D$6:$M$64,11)","v":{"$error":"#REF!"}}]
[24,"003","Aquismón","0028","San José Oija (0028)","R","Aquismón (003)San José Oija (0028)",21.498633000000002,-99.018375000000006,190,80,110,49,240030028,"SI","Alto","Medio",{"$f":"IFERROR(VLOOKUP(CONCATENATE(B334,D334),Padrón_Indígenas!$A$2:$G$988,7,0),\"No\")","v":"Sí"},{"$f":"VLOOKUP(E334,Cat_Municipios!$D$6:$M$64,11)","v":{"$error":"#REF!"}}]
[24,"003","Aquismón","0301","San Martín (0301)","R","Aquismón (003)San Martín (0301)",21.533736999999999,-99.097143000000003,240,124,116,46,240030301,"SI","Muy alto","Alto",{"$f":"IFERROR(VLOOKUP(CONCATENATE(B335,D335),Padrón_Indígenas!$A$2:$G$988,7,0),\"No\")","v":"Sí"},{"$f":"VLOOKUP(E335,Cat_Municipios!$D$6:$M$64,11)","v":{"$error":"#REF!"}}]
[24,"003","Aquismón","0223","San Pablo (0223)","R","Aquismón (003)San Pablo (0223)",21.745000000000001,-99.043610999999999,31,16,15,8,240030223,"SI","Muy alto","Alto",{"$f":"IFERROR(VLOOKUP(CONCATENATE(B336,D336),Padrón_Indígenas!$A$2:$G$988,7,0),\"No\")","v":"No"},{"$f":"VLOOKUP(E336,Cat_Municipios!$D$6:$M$64,11)","v":{"$error":"#REF!"}}]
[24,"003","Aquismón","0029","San Pedro de las Anonas (0029)","R","Aquismón (003)San Pedro de las Anonas (0029)",21.748393,-99.056335000000004,1484,765,719,330,240030029,"SI","Alto","Medio",{"$f":"IFERROR(VLOOKUP(CONCATENATE(B337,D337),Padrón_Indígenas!$A$2:$G$988,7,0),\"No\")","v":"Sí"},{"$f":"VLOOKUP(E337,Cat_Municipios!$D$6:$M$64,11)","v":{"$error":"#REF!"}}]
[24,"003","Aquismón","0030","San Rafael Tamápatz (0030)","R","Aquismón (003)San Rafael Tamápatz (0030)",21.613906,-99.116862999999995,566,288,278,131,240030030,"SI","Alto","Medio",{"$f":"IFERROR(VLOOKUP(CONCATENATE(B338,D338),Padrón_Indígenas!$A$2:$G$988,7,0),\"No\")","v":"Sí"},{"$f":"VLOOKUP(E338,Cat_Municipios!$D$6:$M$64,11)","v":{"$error":"#REF!"}}]
[24,"003","Aquismón","0031","San Rafael Tampaxal (0031)","R","Aquismón (003)San Rafael Tampaxal (0031)",21.508216000000001,-99.026420999999999,568,286,282,106,240030031,"SI","Alto","Medio",{"$f":"IFERROR(VLOOKUP(CONCATENATE(B339,D339),Padrón_Indígenas!$A$2:$G$988,7,0),\"No\")","v":"Sí"},{"$f":"VLOOKUP(E339,Cat_Municipios!$D$6:$M$64,11)","v":{"$error":"#REF!"}}]
[24,"003","Aquismón","0226","Sanjuanita (0226)","R","Aquismón (003)Sanjuanita (0226)",21.526358999999999,-99.046677000000003,150,77,73,34,240030226,"SI","Muy alto","Alto",{"$f":"IFERROR(VLOOKUP(CONCATENATE(B340,D340),Padrón_Indígenas!$A$2:$G$988,7,0),\"No\")","v":"Sí"},{"$f":"VLOOKUP(E340,Cat_Municipios!$D$6:$M$64,11)","v":{"$error":"#REF!"}}]
[24,"003","Aquismón","0032","Santa Anita (0032)","R","Aquismón (003)Santa Anita (0032)",21.714590000000001,-99.020809,393,197,196,82,240030032,"SI","Alto","Medio",{"$f":"IFERROR(VLOOKUP(CONCATENATE(B341,D341),Padrón_Indígenas!$A$2:$G$988,7,0),\"No\")","v":"Sí"},{"$f":"VLOOKUP(E341,Cat_Municipios!$D$6:$M$64,11)","v":{"$error":"#REF!"}}]
[24,"003","Aquismón","0061","Santa Anita Dos (0061)","R","Aquismón (003)Santa Anita Dos (0061)",21.975598000000002,-99.193064000000007,131,69,62,45,240030061,"SI","Muy alto","Alto",{"$f":"IFERROR(VLOOKUP(CONCATENATE(B342,D342),Padrón_Indígenas!$A$2:$G$988,7,0),\"No\")","v":"Sí"},{"$f":"VLOOKUP(E342,Cat_Municipios!$D$6:$M$64,11)","v":{"$error":"#REF!"}}]
[24,"003","Aquismón","0033","Santa Bárbara (0033)","R","Aquismón (003)Santa Bárbara (0033)",21.568296,-99.008814000000001,700,334,366,134,240030033,"SI","Muy alto","Medio",{"$f":"IFERROR(VLOOKUP(CONCATENATE(B343,D343),Padrón_Indígenas!$A$2:$G$988,7,0),\"No\")","v":"Sí"},{"$f":"VLOOKUP(E343,Cat_Municipios!$D$6:$M$64,11)","v":{"$error":"#REF!"}}]
[24,"003","Aquismón","0034","Santa Cruz (0034)","R","Aquismón (003)Santa Cruz (0034)",21.702434,-99.041580999999994,93,40,53,21,240030034,"SI","Alto","Bajo",{"$f":"IFERROR(VLOOKUP(CONCATENATE(B344,D344),Padrón_Indígenas!$A$2:$G$988,7,0),\"No\")","v":"Sí"},{"$f":"VLOOKUP(E344,Cat_Municipios!$D$6:$M$64,11)","v":{"$error":"#REF!"}}]
[24,"003","Aquismón","0132","Santa Elena (0132)","R","Aquismón (003)Santa Elena (0132)",21.746986,-98.991889999999998,0,0,0,0,240030132,null,null,null,{"$f":"IFERROR(VLOOKUP(CONCATENATE(B345,D345),Padrón_Indígenas!$A$2:$G$988,7,0),\"No\")","v":"No"},{"$f":"VLOOKUP(E345,Cat_Municipios!$D$6:$M$64,11)","v":{"$error":"#REF!"}}]
[24,"003","Aquismón","0255","Santa Martha (0255)","R","Aquismón (003)Santa Martha (0255)",21.955421999999999,-99.186259000000007,86,44,42,31,240030255,"SI","Muy alto","Alto",{"$f":"IFERROR(VLOOKUP(CONCATENATE(B346,D346),Padrón_Indígenas!$A$2:$G$988,7,0),\"No\")","v":"No"},{"$f":"VLOOKUP(E346,Cat_Municipios!$D$6:$M$64,11)","v":{"$error":"#REF!"}}]
[24,"003","Aquismón","0081","Santa Rita (0081)","R","Aquismón (003)Santa Rita (0081)",21.515514,-99.043093999999996,350,168,182,72,240030081,"SI","Alto","Medio",{"$f":"IFERROR(VLOOKUP(CONCATENATE(B347,D347),Padrón_Indígenas!$A$2:$G$988,7,0),\"No\")","v":"Sí"},{"$f":"VLOOKUP(E347,Cat_Municipios!$D$6:$M$64,11)","v":{"$error":"#REF!"}}]
[24,"003","Aquismón","0104","Tahuilatzén (0104)","R","Aquismón (003)Tahuilatzén (0104)",21.609812999999999,-99.014959000000005,382,188,194,82,240030104,"SI","Alto","Medio",{"$f":"IFERROR(VLOOKUP(CONCATENATE(B348,D348),Padrón_Indígenas!$A$2:$G$988,7,0),\"No\")","v":"Sí"},{"$f":"VLOOKUP(E348,Cat_Municipios!$D$6:$M$64,11)","v":{"$error":"#REF!"}}]
[24,"003","Aquismón","0213","Tamalte (0213)","R","Aquismón (003)Tamalte (0213)",21.757777999999998,-98.964721999999995,4,"*","*",1,240030213,null,null,null,{"$f":"IFERROR(VLOOKUP(CONCATENATE(B349,D349),Padrón_Indígenas!$A$2:$G$988,7,0),\"No\")","v":"No"},{"$f":"VLOOKUP(E349,Cat_Municipios!$D$6:$M$64,11)","v":{"$error":"#REF!"}}]
[24,"003","Aquismón","0038","Tamápatz (0038)","R","Aquismón (003)Tamápatz (0038)",21.565728,-99.077893000000003,1004,499,505,246,240030038,"SI","Alto","Medio",{"$f":"IFERROR(VLOOKUP(CONCATENATE(B350,D350),Padrón_Indígenas!$A$2:$G$988,7,0),\"No\")","v":"Sí"},{"$f":"VLOOKUP(E350,Cat_Municipios!$D$6:$M$64,11)","v":{"$error":"#REF!"}}]
[24,"003","Aquismón","0068","Tambaque (0068)","R","Aquismón (003)Tambaque (0068)",21.68731,-99.042845,46,20,26,10,240030068,"SI","Muy alto","Medio",{"$f":"IFERROR(VLOOKUP(CONCATENATE(B351,D351),Padrón_Indígenas!$A$2:$G$988,7,0),\"No\")","v":"Sí"},{"$f":"VLOOKUP(E351,Cat_Municipios!$D$6:$M$64,11)","v":{"$error":"#REF!"}}]
[24,"003","Aquismón","0042","Tamcuem (0042)","R","Aquismón (003)Tamcuem (0042)",21.537513000000001,-99.078616999999994,515,258,257,101,240030042,"SI","Muy alto","Alto",{"$f":"IFERROR(VLOOKUP(CONCATENATE(B352,D352),Padrón_Indígenas!$A$2:$G$988,7,0),\"No\")","v":"No"},{"$f":"VLOOKUP(E352,Cat_Municipios!$D$6:$M$64,11)","v":{"$error":"#REF!"}}]
[24,"003","Aquismón","0043","Tamcuime (0043)","R","Aquismón (003)Tamcuime (0043)",21.601666999999999,-99.010555999999994,2080,1030,1050,447,240030043,"SI","Alto","Medio",{"$f":"IFERROR(VLOOKUP(CONCATENATE(B353,D353),Padrón_Indígenas!$A$2:$G$988,7,0),\"No\")","v":"Sí"},{"$f":"VLOOKUP(E353,Cat_Municipios!$D$6:$M$64,11)","v":{"$error":"#REF!"}}]
[24,"003","Aquismón","0039","Tampate (0039)","R","Aquismón (003)Tampate (0039)",21.637858000000001,-99.026818000000006,3359,1640,1719,735,240030039,"SI","Alto","Medio",{"$f":"IFERROR(VLOOKUP(CONCATENATE(B354,D354),Padrón_Indígenas!$A$2:$G$988,7,0),\"No\")","v":"Sí"},{"$f":"VLOOKUP(E354,Cat_Municipios!$D$6:$M$64,11)","v":{"$error":"#REF!"}}]
[24,"003","Aquismón","0040","Tampaxal (0040)","R","Aquismón (003)Tampaxal (0040)",21.520282999999999,-99.053364999999999,868,418,450,210,240030040,"SI","Alto","Medio",{"$f":"IFERROR(VLOOKUP(CONCATENATE(B355,D355),Padrón_Indígenas!$A$2:$G$988,7,0),\"No\")","v":"Sí"},{"$f":"VLOOKUP(E355,Cat_Municipios!$D$6:$M$64,11)","v":{"$error":"#REF!"}}]
[24,"003","Aquismón","0041","Tampemoche (0041)","R","Aquismón (003)Tampemoche (0041)",21.689394,-99.081019999999995,1868,978,890,378,240030041,"SI","Alto","Medio",{"$f":"IFERROR(VLOOKUP(CONCATENATE(B356,D356),Padrón_Indígenas!$A$2:$G$988,7,0),\"No\")","v":"Sí"},{"$f":"VLOOKUP(E356,Cat_Municipios!$D$6:$M$64,11)","v":{"$error":"#REF!"}}]
[24,"003","Aquismón","0078","Tampete (0078)","R","Aquismón (003)Tampete (0078)",21.540185999999999,-99.092094000000003,55,26,29,14,240030078,"SI","Muy alto","Alto",{"$f":"IFERROR(VLOOKUP(CONCATENATE(B357,D357),Padrón_Indígenas!$A$2:$G$988,7,0),\"No\")","v":"No"},{"$f":"VLOOKUP(E357,Cat_Municipios!$D$6:$M$64,11)","v":{"$error":"#REF!"}}]
[24,"003","Aquismón","0133","Tan Tzajib (0133)","R","Aquismón (003)Tan Tzajib (0133)",21.561793999999999,-99.030907999999997,142,76,66,23,240030133,"SI","Muy alto","Alto",{"$f":"IFERROR(VLOOKUP(CONCATENATE(B358,D358),Padrón_Indígenas!$A$2:$G$988,7,0),\"No\")","v":"Sí"},{"$f":"VLOOKUP(E358,Cat_Municipios!$D$6:$M$64,11)","v":{"$error":"#REF!"}}]
[24,"003","Aquismón","0044","Tanchachín (0044)","R","Aquismón (003)Tanchachín (0044)",21.828094,-99.146062999999998,896,457,439,229,240030044,"SI","Alto","Bajo",{"$f":"IFERROR(VLOOKUP(CONCATENATE(B359,D359),Padrón_Indígenas!$A$2:$G$988,7,0),\"No\")","v":"No"},{"$f":"VLOOKUP(E359,Cat_Municipios!$D$6:$M$64,11)","v":{"$error":"#REF!"}}]
[24,"003","Aquismón","0045","Tanchanaco (0045)","R","Aquismón (003)Tanchanaco (0045)",21.666288999999999,-99.048623000000006,975,488,487,205,240030045,"SI","Alto","Medio",{"$f":"IFERROR(VLOOKUP(CONCATENATE(B360,D360),Padrón_Indígenas!$A$2:$G$988,7,0),\"No\")","v":"Sí"},{"$f":"VLOOKUP(E360,Cat_Municipios!$D$6:$M$64,11)","v":{"$error":"#REF!"}}]
[24,"003","Aquismón","0091","Tanchopol (0091)","R","Aquismón (003)Tanchopol (0091)",21.641736000000002,-99.128791000000007,261,136,125,47,240030091,"SI","Muy alto","Alto",{"$f":"IFERROR(VLOOKUP(CONCATENATE(B361,D361),Padrón_Indígenas!$A$2:$G$988,7,0),\"No\")","v":"No"},{"$f":"VLOOKUP(E361,Cat_Municipios!$D$6:$M$64,11)","v":{"$error":"#REF!"}}]
[24,"003","Aquismón","0100","Tangojo (0100)","R","Aquismón (003)Tangojo (0100)",21.504722000000001,-99.077222000000006,104,60,44,22,240030100,"SI","Alto","Medio",{"$f":"IFERROR(VLOOKUP(CONCATENATE(B362,D362),Padrón_Indígenas!$A$2:$G$988,7,0),\"No\")","v":"No"},{"$f":"VLOOKUP(E362,Cat_Municipios!$D$6:$M$64,11)","v":{"$error":"#REF!"}}]
[24,"003","Aquismón","0046","Tanquizul (0046)","R","Aquismón (003)Tanquizul (0046)",21.681774000000001,-99.126209000000003,275,133,142,57,240030046,"SI","Alto","Medio",{"$f":"IFERROR(VLOOKUP(CONCATENATE(B363,D363),Padrón_Indígenas!$A$2:$G$988,7,0),\"No\")","v":"No"},{"$f":"VLOOKUP(E363,Cat_Municipios!$D$6:$M$64,11)","v":{"$error":"#REF!"}}]
[24,"003","Aquismón","0047","Tantzotzob (0047)","R","Aquismón (003)Tantzotzob (0047)",21.628267999999998,-99.132591000000005,446,255,191,101,240030047,"SI","Alto","Medio",{"$f":"IFERROR(VLOOKUP(CONCATENATE(B364,D364),Padrón_Indígenas!$A$2:$G$988,7,0),\"No\")","v":"Sí"},{"$f":"VLOOKUP(E364,Cat_Municipios!$D$6:$M$64,11)","v":{"$error":"#REF!"}}]
[24,"003","Aquismón","0048","Tanute (0048)","R","Aquismón (003)Tanute (0048)",21.652726000000001,-99.037968000000006,1424,699,725,305,240030048,"SI","Alto","Medio",{"$f":"IFERROR(VLOOKUP(CONCATENATE(B365,D365),Padrón_Indígenas!$A$2:$G$988,7,0),\"No\")","v":"Sí"},{"$f":"VLOOKUP(E365,Cat_Municipios!$D$6:$M$64,11)","v":{"$error":"#REF!"}}]
[24,"003","Aquismón","0293","Ulush (El Nacimiento) (0293)","R","Aquismón (003)Ulush (El Nacimiento) (0293)",21.589721999999998,-99.122221999999994,2,"*","*",1,240030293,"SI",null,null,{"$f":"IFERROR(VLOOKUP(CONCATENATE(B366,D366),Padrón_Indígenas!$A$2:$G$988,7,0),\"No\")","v":"No"},{"$f":"VLOOKUP(E366,Cat_Municipios!$D$6:$M$64,11)","v":{"$error":"#REF!"}}]
[24,"003","Aquismón","0089","Yerbabuena (0089)","R","Aquismón (003)Yerbabuena (0089)",21.645388000000001,-99.120384999999999,172,92,80,37,240030089,"SI","Muy alto","Alto",{"$f":"IFERROR(VLOOKUP(CONCATENATE(B367,D367),Padrón_Indígenas!$A$2:$G$988,7,0),\"No\")","v":"Sí"},{"$f":"VLOOKUP(E367,Cat_Municipios!$D$6:$M$64,11)","v":{"$error":"#REF!"}}]
[24,"003","Aquismón","0294","Zanja Prieta (Los Támez) (0294)","R","Aquismón (003)Zanja Prieta (Los Támez) (0294)",21.783166000000001,-99.031475,6,"*","*",1,240030294,"SI",null,null,{"$f":"IFERROR(VLOOKUP(CONCATENATE(B368,D368),Padrón_Indígenas!$A$2:$G$988,7,0),\"No\")","v":"No"},{"$f":"VLOOKUP(E368,Cat_Municipios!$D$6:$M$64,11)","v":{"$error":"#REF!"}}]
[24,"003","Aquismón",null,"Todo el municipio ",null,{"$f":"_xlfn.CONCAT(C369,\" (\",B369,\")\",E369)","v":"Aquismón (003)Todo el municipio "},null,null,{"$f":"SUM(J154:J368)","v":47423}]
[24,"004","Armadillo_de_los_Infante","0001","Armadillo de los Infante (0001)","U","Armadillo de los Infante (004)Armadillo de los Infante (0001)",22.243590999999999,-100.654675,328,151,177,97,240040001,null,null,null,{"$f":"IFERROR(VLOOKUP(CONCATENATE(B370,D370),Padrón_Indígenas!$A$2:$G$988,7,0),\"No\")","v":"No"},{"$f":"VLOOKUP(E370,Cat_Municipios!$D$6:$M$64,11)","v":{"$error":"#REF!"}}]
[24,"004","Armadillo_de_los_Infante","0004","Arroyo Hondo (0004)","R","Armadillo de los Infante (004)Arroyo Hondo (0004)",22.271363000000001,-100.617502,38,19,19,13,240040004,null,"Medio","Muy bajo",{"$f":"IFERROR(VLOOKUP(CONCATENATE(B371,D371),Padrón_Indígenas!$A$2:$G$988,7,0),\"No\")","v":"No"},{"$f":"VLOOKUP(E371,Cat_Municipios!$D$6:$M$64,11)","v":{"$error":"#REF!"}}]
[24,"004","Armadillo_de_los_Infante","0005","Barranca de San Isidro (0005)","R","Armadillo de los Infante (004)Barranca de San Isidro (0005)",22.220915000000002,-100.579543,4,3,1,3,240040005,null,"Muy alto","Alto",{"$f":"IFERROR(VLOOKUP(CONCATENATE(B372,D372),Padrón_Indígenas!$A$2:$G$988,7,0),\"No\")","v":"No"},{"$f":"VLOOKUP(E372,Cat_Municipios!$D$6:$M$64,11)","v":{"$error":"#REF!"}}]
[24,"004","Armadillo_de_los_Infante","0006","Barranquita de San Rafael (0006)","R","Armadillo de los Infante (004)Barranquita de San Rafael (0006)",22.191441000000001,-100.604264,0,0,0,0,240040006,null,null,null,{"$f":"IFERROR(VLOOKUP(CONCATENATE(B373,D373),Padrón_Indígenas!$A$2:$G$988,7,0),\"No\")","v":"No"},{"$f":"VLOOKUP(E373,Cat_Municipios!$D$6:$M$64,11)","v":{"$error":"#REF!"}}]
[24,"004","Armadillo_de_los_Infante","0096","Cabañas de la Laguna (0096)","R","Armadillo de los Infante (004)Cabañas de la Laguna (0096)",22.215512,-100.632722,"-","-","-","-",240040096,null,null,null,{"$f":"IFERROR(VLOOKUP(CONCATENATE(B374,D374),Padrón_Indígenas!$A$2:$G$988,7,0),\"No\")","v":"No"},{"$f":"VLOOKUP(E374,Cat_Municipios!$D$6:$M$64,11)","v":{"$error":"#REF!"}}]
[24,"004","Armadillo_de_los_Infante","0087","Campamento el Chital (0087)","R","Armadillo de los Infante (004)Campamento el Chital (0087)",22.130555999999999,-100.60722199999999,0,0,0,0,240040087,null,null,null,{"$f":"IFERROR(VLOOKUP(CONCATENATE(B375,D375),Padrón_Indígenas!$A$2:$G$988,7,0),\"No\")","v":"No"},{"$f":"VLOOKUP(E375,Cat_Municipios!$D$6:$M$64,11)","v":{"$error":"#REF!"}}]
[24,"004","Armadillo_de_los_Infante","0099","Campamento Marista (0099)","R","Armadillo de los Infante (004)Campamento Marista (0099)",22.138017000000001,-100.63865800000001,"-","-","-","-",240040099,null,null,null,{"$f":"IFERROR(VLOOKUP(CONCATENATE(B376,D376),Padrón_Indígenas!$A$2:$G$988,7,0),\"No\")","v":"No"},{"$f":"VLOOKUP(E376,Cat_Municipios!$D$6:$M$64,11)","v":{"$error":"#REF!"}}]
[24,"004","Armadillo_de_los_Infante","0011","Cerro Grande (0011)","R","Armadillo de los Infante (004)Cerro Grande (0011)",22.427778,-100.49795399999999,132,64,68,32,240040011,null,"Alto","Bajo",{"$f":"IFERROR(VLOOKUP(CONCATENATE(B377,D377),Padrón_Indígenas!$A$2:$G$988,7,0),\"No\")","v":"No"},{"$f":"VLOOKUP(E377,Cat_Municipios!$D$6:$M$64,11)","v":{"$error":"#REF!"}}]
[24,"004","Armadillo_de_los_Infante","0012","Cieneguilla (0012)","R","Armadillo de los Infante (004)Cieneguilla (0012)",22.209669999999999,-100.610747,4,"*","*",2,240040012,null,null,null,{"$f":"IFERROR(VLOOKUP(CONCATENATE(B378,D378),Padrón_Indígenas!$A$2:$G$988,7,0),\"No\")","v":"No"},{"$f":"VLOOKUP(E378,Cat_Municipios!$D$6:$M$64,11)","v":{"$error":"#REF!"}}]
[24,"004","Armadillo_de_los_Infante","0014","Contrayerba (0014)","R","Armadillo de los Infante (004)Contrayerba (0014)",22.308852000000002,-100.77478600000001,70,33,37,20,240040014,null,"Bajo","Muy bajo",{"$f":"IFERROR(VLOOKUP(CONCATENATE(B379,D379),Padrón_Indígenas!$A$2:$G$988,7,0),\"No\")","v":"No"},{"$f":"VLOOKUP(E379,Cat_Municipios!$D$6:$M$64,11)","v":{"$error":"#REF!"}}]
[24,"004","Armadillo_de_los_Infante","0015","Corral de Piedra (0015)","R","Armadillo de los Infante (004)Corral de Piedra (0015)",22.141672,-100.62422599999999,4,"*","*",2,240040015,null,null,null,{"$f":"IFERROR(VLOOKUP(CONCATENATE(B380,D380),Padrón_Indígenas!$A$2:$G$988,7,0),\"No\")","v":"No"},{"$f":"VLOOKUP(E380,Cat_Municipios!$D$6:$M$64,11)","v":{"$error":"#REF!"}}]
[24,"004","Armadillo_de_los_Infante","0002","El Aguaje de los Castillos (0002)","R","Armadillo de los Infante (004)El Aguaje de los Castillos (0002)",22.319424000000001,-100.717691,37,18,19,16,240040002,null,"Alto","Bajo",{"$f":"IFERROR(VLOOKUP(CONCATENATE(B381,D381),Padrón_Indígenas!$A$2:$G$988,7,0),\"No\")","v":"No"},{"$f":"VLOOKUP(E381,Cat_Municipios!$D$6:$M$64,11)","v":{"$error":"#REF!"}}]
[24,"004","Armadillo_de_los_Infante","0003","El Alguacil (0003)","R","Armadillo de los Infante (004)El Alguacil (0003)",22.153282999999998,-100.60244400000001,9,"*","*",2,240040003,null,null,null,{"$f":"IFERROR(VLOOKUP(CONCATENATE(B382,D382),Padrón_Indígenas!$A$2:$G$988,7,0),\"No\")","v":"No"},{"$f":"VLOOKUP(E382,Cat_Municipios!$D$6:$M$64,11)","v":{"$error":"#REF!"}}]
[24,"004","Armadillo_de_los_Infante","0075","El Bolillo (0075)","R","Armadillo de los Infante (004)El Bolillo (0075)",22.187926999999998,-100.675482,0,0,0,0,240040075,null,null,null,{"$f":"IFERROR(VLOOKUP(CONCATENATE(B383,D383),Padrón_Indígenas!$A$2:$G$988,7,0),\"No\")","v":"No"},{"$f":"VLOOKUP(E383,Cat_Municipios!$D$6:$M$64,11)","v":{"$error":"#REF!"}}]
[24,"004","Armadillo_de_los_Infante","0008","El Capulín (0008)","R","Armadillo de los Infante (004)El Capulín (0008)",22.179791999999999,-100.583643,1,"*","*",1,240040008,null,null,null,{"$f":"IFERROR(VLOOKUP(CONCATENATE(B384,D384),Padrón_Indígenas!$A$2:$G$988,7,0),\"No\")","v":"No"},{"$f":"VLOOKUP(E384,Cat_Municipios!$D$6:$M$64,11)","v":{"$error":"#REF!"}}]
[24,"004","Armadillo_de_los_Infante","0059","El Caracol (0059)","R","Armadillo de los Infante (004)El Caracol (0059)",22.226944,-100.613056,0,0,0,0,240040059,null,null,null,{"$f":"IFERROR(VLOOKUP(CONCATENATE(B385,D385),Padrón_Indígenas!$A$2:$G$988,7,0),\"No\")","v":"No"},{"$f":"VLOOKUP(E385,Cat_Municipios!$D$6:$M$64,11)","v":{"$error":"#REF!"}}]
[24,"004","Armadillo_de_los_Infante","0100","El Chiquihuitillo (0100)","R","Armadillo de los Infante (004)El Chiquihuitillo (0100)",22.271560999999998,-100.670519,"-","-","-","-",240040100,null,null,null,{"$f":"IFERROR(VLOOKUP(CONCATENATE(B386,D386),Padrón_Indígenas!$A$2:$G$988,7,0),\"No\")","v":"No"},{"$f":"VLOOKUP(E386,Cat_Municipios!$D$6:$M$64,11)","v":{"$error":"#REF!"}}]
[24,"004","Armadillo_de_los_Infante","0088","El Chital (Manzanillas) (0088)","R","Armadillo de los Infante (004)El Chital (Manzanillas) (0088)",22.113889,-100.586389,0,0,0,0,240040088,null,null,null,{"$f":"IFERROR(VLOOKUP(CONCATENATE(B387,D387),Padrón_Indígenas!$A$2:$G$988,7,0),\"No\")","v":"No"},{"$f":"VLOOKUP(E387,Cat_Municipios!$D$6:$M$64,11)","v":{"$error":"#REF!"}}]
[24,"004","Armadillo_de_los_Infante","0092","El Desestrés (0092)","R","Armadillo de los Infante (004)El Desestrés (0092)",22.233250000000002,-100.648428,0,0,0,0,240040092,null,null,null,{"$f":"IFERROR(VLOOKUP(CONCATENATE(B388,D388),Padrón_Indígenas!$A$2:$G$988,7,0),\"No\")","v":"No"},{"$f":"VLOOKUP(E388,Cat_Municipios!$D$6:$M$64,11)","v":{"$error":"#REF!"}}]
[24,"004","Armadillo_de_los_Infante","0017","El Durazno (0017)","R","Armadillo de los Infante (004)El Durazno (0017)",22.331744,-100.497381,24,14,10,8,240040017,null,"Muy alto","Alto",{"$f":"IFERROR(VLOOKUP(CONCATENATE(B389,D389),Padrón_Indígenas!$A$2:$G$988,7,0),\"No\")","v":"No"},{"$f":"VLOOKUP(E389,Cat_Municipios!$D$6:$M$64,11)","v":{"$error":"#REF!"}}]
[24,"004","Armadillo_de_los_Infante","0034","El Pato (0034)","R","Armadillo de los Infante (004)El Pato (0034)",22.154406999999999,-100.62417000000001,4,"*","*",2,240040034,null,null,null,{"$f":"IFERROR(VLOOKUP(CONCATENATE(B390,D390),Padrón_Indígenas!$A$2:$G$988,7,0),\"No\")","v":"No"},{"$f":"VLOOKUP(E390,Cat_Municipios!$D$6:$M$64,11)","v":{"$error":"#REF!"}}]
[24,"004","Armadillo_de_los_Infante","0098","El Polvo (0098)","R","Armadillo de los Infante (004)El Polvo (0098)",22.283508999999999,-100.68643899999999,"-","-","-","-",240040098,null,null,null,{"$f":"IFERROR(VLOOKUP(CONCATENATE(B391,D391),Padrón_Indígenas!$A$2:$G$988,7,0),\"No\")","v":"No"},{"$f":"VLOOKUP(E391,Cat_Municipios!$D$6:$M$64,11)","v":{"$error":"#REF!"}}]
[24,"004","Armadillo_de_los_Infante","0039","El Ranchito de los Guzmán (0039)","R","Armadillo de los Infante (004)El Ranchito de los Guzmán (0039)",22.288499000000002,-100.697006,176,85,91,58,240040039,null,"Alto","Bajo",{"$f":"IFERROR(VLOOKUP(CONCATENATE(B392,D392),Padrón_Indígenas!$A$2:$G$988,7,0),\"No\")","v":"No"},{"$f":"VLOOKUP(E392,Cat_Municipios!$D$6:$M$64,11)","v":{"$error":"#REF!"}}]
[24,"004","Armadillo_de_los_Infante","0079","El Salitre (0079)","R","Armadillo de los Infante (004)El Salitre (0079)",22.280277999999999,-100.594167,0,0,0,0,240040079,null,null,null,{"$f":"IFERROR(VLOOKUP(CONCATENATE(B393,D393),Padrón_Indígenas!$A$2:$G$988,7,0),\"No\")","v":"No"},{"$f":"VLOOKUP(E393,Cat_Municipios!$D$6:$M$64,11)","v":{"$error":"#REF!"}}]
[24,"004","Armadillo_de_los_Infante","0043","El Salto del Agua (0043)","R","Armadillo de los Infante (004)El Salto del Agua (0043)",22.148416999999998,-100.66191600000001,1,"*","*",1,240040043,null,null,null,{"$f":"IFERROR(VLOOKUP(CONCATENATE(B394,D394),Padrón_Indígenas!$A$2:$G$988,7,0),\"No\")","v":"No"},{"$f":"VLOOKUP(E394,Cat_Municipios!$D$6:$M$64,11)","v":{"$error":"#REF!"}}]
[24,"004","Armadillo_de_los_Infante","0080","El Sauz (0080)","R","Armadillo de los Infante (004)El Sauz (0080)",22.265188999999999,-100.682158,2,"*","*",1,240040080,null,null,null,{"$f":"IFERROR(VLOOKUP(CONCATENATE(B395,D395),Padrón_Indígenas!$A$2:$G$988,7,0),\"No\")","v":"No"},{"$f":"VLOOKUP(E395,Cat_Municipios!$D$6:$M$64,11)","v":{"$error":"#REF!"}}]
[24,"004","Armadillo_de_los_Infante","0057","El Tanquecito (0057)","R","Armadillo de los Infante (004)El Tanquecito (0057)",22.301486000000001,-100.757035,3,"*","*",1,240040057,null,null,null,{"$f":"IFERROR(VLOOKUP(CONCATENATE(B396,D396),Padrón_Indígenas!$A$2:$G$988,7,0),\"No\")","v":"No"},{"$f":"VLOOKUP(E396,Cat_Municipios!$D$6:$M$64,11)","v":{"$error":"#REF!"}}]
[24,"004","Armadillo_de_los_Infante","0061","Hacienda Parada de Luna (0061)","R","Armadillo de los Infante (004)Hacienda Parada de Luna (0061)",22.329792000000001,-100.679125,0,0,0,0,240040061,null,null,null,{"$f":"IFERROR(VLOOKUP(CONCATENATE(B397,D397),Padrón_Indígenas!$A$2:$G$988,7,0),\"No\")","v":"No"},{"$f":"VLOOKUP(E397,Cat_Municipios!$D$6:$M$64,11)","v":{"$error":"#REF!"}}]
[24,"004","Armadillo_de_los_Infante","0101","La Bodega (0101)","R","Armadillo de los Infante (004)La Bodega (0101)",22.281538999999999,-100.63640599999999,"-","-","-","-",240040101,null,null,null,{"$f":"IFERROR(VLOOKUP(CONCATENATE(B398,D398),Padrón_Indígenas!$A$2:$G$988,7,0),\"No\")","v":"No"},{"$f":"VLOOKUP(E398,Cat_Municipios!$D$6:$M$64,11)","v":{"$error":"#REF!"}}]
[24,"004","Armadillo_de_los_Infante","0010","La Cardona (0010)","R","Armadillo de los Infante (004)La Cardona (0010)",22.121769,-100.648988,69,38,31,18,240040010,null,"Alto","Medio",{"$f":"IFERROR(VLOOKUP(CONCATENATE(B399,D399),Padrón_Indígenas!$A$2:$G$988,7,0),\"No\")","v":"No"},{"$f":"VLOOKUP(E399,Cat_Municipios!$D$6:$M$64,11)","v":{"$error":"#REF!"}}]
[24,"004","Armadillo_de_los_Infante","0093","La Chicharra (0093)","R","Armadillo de los Infante (004)La Chicharra (0093)",22.253640999999998,-100.655186,0,0,0,0,240040093,null,null,null,{"$f":"IFERROR(VLOOKUP(CONCATENATE(B400,D400),Padrón_Indígenas!$A$2:$G$988,7,0),\"No\")","v":"No"},{"$f":"VLOOKUP(E400,Cat_Municipios!$D$6:$M$64,11)","v":{"$error":"#REF!"}}]
[24,"004","Armadillo_de_los_Infante","0082","La Ciénaga (0082)","R","Armadillo de los Infante (004)La Ciénaga (0082)",22.213349999999998,-100.61515199999999,0,0,0,0,240040082,null,null,null,{"$f":"IFERROR(VLOOKUP(CONCATENATE(B401,D401),Padrón_Indígenas!$A$2:$G$988,7,0),\"No\")","v":"No"},{"$f":"VLOOKUP(E401,Cat_Municipios!$D$6:$M$64,11)","v":{"$error":"#REF!"}}]
[24,"004","Armadillo_de_los_Infante","0013","La Concordia (0013)","R","Armadillo de los Infante (004)La Concordia (0013)",22.353013000000001,-100.584436,831,396,435,175,240040013,"SI","Alto","Medio",{"$f":"IFERROR(VLOOKUP(CONCATENATE(B402,D402),Padrón_Indígenas!$A$2:$G$988,7,0),\"No\")","v":"No"},{"$f":"VLOOKUP(E402,Cat_Municipios!$D$6:$M$64,11)","v":{"$error":"#REF!"}}]
[24,"004","Armadillo_de_los_Infante","0018","La Escondida (0018)","R","Armadillo de los Infante (004)La Escondida (0018)",22.298068000000001,-100.70117399999999,44,23,21,11,240040018,null,"Alto","Medio",{"$f":"IFERROR(VLOOKUP(CONCATENATE(B403,D403),Padrón_Indígenas!$A$2:$G$988,7,0),\"No\")","v":"No"},{"$f":"VLOOKUP(E403,Cat_Municipios!$D$6:$M$64,11)","v":{"$error":"#REF!"}}]
[24,"004","Armadillo_de_los_Infante","0019","La Haciendita de Usquiano (0019)","R","Armadillo de los Infante (004)La Haciendita de Usquiano (0019)",22.155062000000001,-100.64978600000001,0,0,0,0,240040019,null,null,null,{"$f":"IFERROR(VLOOKUP(CONCATENATE(B404,D404),Padrón_Indígenas!$A$2:$G$988,7,0),\"No\")","v":"No"},{"$f":"VLOOKUP(E404,Cat_Municipios!$D$6:$M$64,11)","v":{"$error":"#REF!"}}]
[24,"004","Armadillo_de_los_Infante","0020","La Huerta de Manzano (0020)","R","Armadillo de los Infante (004)La Huerta de Manzano (0020)",22.225114000000001,-100.648876,0,0,0,0,240040020,null,null,null,{"$f":"IFERROR(VLOOKUP(CONCATENATE(B405,D405),Padrón_Indígenas!$A$2:$G$988,7,0),\"No\")","v":"No"},{"$f":"VLOOKUP(E405,Cat_Municipios!$D$6:$M$64,11)","v":{"$error":"#REF!"}}]
[24,"004","Armadillo_de_los_Infante","0026","La Mesa del Refugio (0026)","R","Armadillo de los Infante (004)La Mesa del Refugio (0026)",22.134722,-100.59222200000001,19,8,11,6,240040026,null,"Alto","Medio",{"$f":"IFERROR(VLOOKUP(CONCATENATE(B406,D406),Padrón_Indígenas!$A$2:$G$988,7,0),\"No\")","v":"No"},{"$f":"VLOOKUP(E406,Cat_Municipios!$D$6:$M$64,11)","v":{"$error":"#REF!"}}]
[24,"004","Armadillo_de_los_Infante","0074","La Palmita (0074)","R","Armadillo de los Infante (004)La Palmita (0074)",22.183333000000001,-100.67277799999999,0,0,0,0,240040074,null,null,null,{"$f":"IFERROR(VLOOKUP(CONCATENATE(B407,D407),Padrón_Indígenas!$A$2:$G$988,7,0),\"No\")","v":"No"},{"$f":"VLOOKUP(E407,Cat_Municipios!$D$6:$M$64,11)","v":{"$error":"#REF!"}}]
[24,"004","Armadillo_de_los_Infante","0021","Laguna de San Isidro (0021)","R","Armadillo de los Infante (004)Laguna de San Isidro (0021)",22.210833000000001,-100.632778,9,"*","*",2,240040021,null,null,null,{"$f":"IFERROR(VLOOKUP(CONCATENATE(B408,D408),Padrón_Indígenas!$A$2:$G$988,7,0),\"No\")","v":"No"},{"$f":"VLOOKUP(E408,Cat_Municipios!$D$6:$M$64,11)","v":{"$error":"#REF!"}}]
[24,"004","Armadillo_de_los_Infante","0022","Lagunita de San Juan (0022)","R","Armadillo de los Infante (004)Lagunita de San Juan (0022)",22.131786000000002,-100.608014,3,"*","*",1,240040022,null,null,null,{"$f":"IFERROR(VLOOKUP(CONCATENATE(B409,D409),Padrón_Indígenas!$A$2:$G$988,7,0),\"No\")","v":"No"},{"$f":"VLOOKUP(E409,Cat_Municipios!$D$6:$M$64,11)","v":{"$error":"#REF!"}}]
[24,"004","Armadillo_de_los_Infante","0094","Las Víboras (0094)","R","Armadillo de los Infante (004)Las Víboras (0094)",22.194306999999998,-100.672579,6,"*","*",1,240040094,null,null,null,{"$f":"IFERROR(VLOOKUP(CONCATENATE(B410,D410),Padrón_Indígenas!$A$2:$G$988,7,0),\"No\")","v":"No"},{"$f":"VLOOKUP(E410,Cat_Municipios!$D$6:$M$64,11)","v":{"$error":"#REF!"}}]
[24,"004","Armadillo_de_los_Infante","0090","Llano de los Patiño (0090)","R","Armadillo de los Infante (004)Llano de los Patiño (0090)",22.233180000000001,-100.67217599999999,0,0,0,0,240040090,null,null,null,{"$f":"IFERROR(VLOOKUP(CONCATENATE(B411,D411),Padrón_Indígenas!$A$2:$G$988,7,0),\"No\")","v":"No"},{"$f":"VLOOKUP(E411,Cat_Municipios!$D$6:$M$64,11)","v":{"$error":"#REF!"}}]
[24,"004","Armadillo_de_los_Infante","0023","Llano de los Saldaña (0023)","R","Armadillo de los Infante (004)Llano de los Saldaña (0023)",22.200167,-100.642959,63,34,29,16,240040023,null,"Medio","Muy bajo",{"$f":"IFERROR(VLOOKUP(CONCATENATE(B412,D412),Padrón_Indígenas!$A$2:$G$988,7,0),\"No\")","v":"No"},{"$f":"VLOOKUP(E412,Cat_Municipios!$D$6:$M$64,11)","v":{"$error":"#REF!"}}]
[24,"004","Armadillo_de_los_Infante","0062","Loma Alta (0062)","R","Armadillo de los Infante (004)Loma Alta (0062)",22.308420000000002,-100.728854,1,"*","*",1,240040062,null,null,null,{"$f":"IFERROR(VLOOKUP(CONCATENATE(B413,D413),Padrón_Indígenas!$A$2:$G$988,7,0),\"No\")","v":"No"},{"$f":"VLOOKUP(E413,Cat_Municipios!$D$6:$M$64,11)","v":{"$error":"#REF!"}}]
[24,"004","Armadillo_de_los_Infante","0095","Los Ángeles (0095)","R","Armadillo de los Infante (004)Los Ángeles (0095)",22.160278000000002,-100.648611,0,0,0,0,240040095,null,null,null,{"$f":"IFERROR(VLOOKUP(CONCATENATE(B414,D414),Padrón_Indígenas!$A$2:$G$988,7,0),\"No\")","v":"No"},{"$f":"VLOOKUP(E414,Cat_Municipios!$D$6:$M$64,11)","v":{"$error":"#REF!"}}]
[24,"004","Armadillo_de_los_Infante","0016","Los Charcos (0016)","R","Armadillo de los Infante (004)Los Charcos (0016)",22.308610999999999,-100.761111,0,0,0,0,240040016,null,null,null,{"$f":"IFERROR(VLOOKUP(CONCATENATE(B415,D415),Padrón_Indígenas!$A$2:$G$988,7,0),\"No\")","v":"No"},{"$f":"VLOOKUP(E415,Cat_Municipios!$D$6:$M$64,11)","v":{"$error":"#REF!"}}]
[24,"004","Armadillo_de_los_Infante","0028","Los Mireles (0028)","R","Armadillo de los Infante (004)Los Mireles (0028)",22.141190999999999,-100.644085,2,"*","*",1,240040028,null,null,null,{"$f":"IFERROR(VLOOKUP(CONCATENATE(B416,D416),Padrón_Indígenas!$A$2:$G$988,7,0),\"No\")","v":"No"},{"$f":"VLOOKUP(E416,Cat_Municipios!$D$6:$M$64,11)","v":{"$error":"#REF!"}}]
[24,"004","Armadillo_de_los_Infante","0058","Los Tanquitos (0058)","R","Armadillo de los Infante (004)Los Tanquitos (0058)",22.283041000000001,-100.669121,3,"*","*",1,240040058,null,null,null,{"$f":"IFERROR(VLOOKUP(CONCATENATE(B417,D417),Padrón_Indígenas!$A$2:$G$988,7,0),\"No\")","v":"No"},{"$f":"VLOOKUP(E417,Cat_Municipios!$D$6:$M$64,11)","v":{"$error":"#REF!"}}]
[24,"004","Armadillo_de_los_Infante","0064","Los Troncos (0064)","R","Armadillo de los Infante (004)Los Troncos (0064)",22.313794999999999,-100.82226799999999,0,0,0,0,240040064,null,null,null,{"$f":"IFERROR(VLOOKUP(CONCATENATE(B418,D418),Padrón_Indígenas!$A$2:$G$988,7,0),\"No\")","v":"No"},{"$f":"VLOOKUP(E418,Cat_Municipios!$D$6:$M$64,11)","v":{"$error":"#REF!"}}]
[24,"004","Armadillo_de_los_Infante","0027","Mezquitalillo (0027)","R","Armadillo de los Infante (004)Mezquitalillo (0027)",22.133713,-100.655916,179,90,89,55,240040027,"SI","Alto","Medio",{"$f":"IFERROR(VLOOKUP(CONCATENATE(B419,D419),Padrón_Indígenas!$A$2:$G$988,7,0),\"No\")","v":"No"},{"$f":"VLOOKUP(E419,Cat_Municipios!$D$6:$M$64,11)","v":{"$error":"#REF!"}}]
[24,"004","Armadillo_de_los_Infante","0029","Nogalitos de la Cruz (0029)","R","Armadillo de los Infante (004)Nogalitos de la Cruz (0029)",22.327120000000001,-100.656807,106,56,50,30,240040029,null,"Alto","Medio",{"$f":"IFERROR(VLOOKUP(CONCATENATE(B420,D420),Padrón_Indígenas!$A$2:$G$988,7,0),\"No\")","v":"No"},{"$f":"VLOOKUP(E420,Cat_Municipios!$D$6:$M$64,11)","v":{"$error":"#REF!"}}]
[24,"004","Armadillo_de_los_Infante","0030","Palomas (El Valle de Palomas) (0030)","R","Armadillo de los Infante (004)Palomas (El Valle de Palomas) (0030)",22.291996999999999,-100.764025,455,219,236,121,240040030,"SI","Medio","Muy bajo",{"$f":"IFERROR(VLOOKUP(CONCATENATE(B421,D421),Padrón_Indígenas!$A$2:$G$988,7,0),\"No\")","v":"No"},{"$f":"VLOOKUP(E421,Cat_Municipios!$D$6:$M$64,11)","v":{"$error":"#REF!"}}]
[24,"004","Armadillo_de_los_Infante","0031","Parada de San Rafael (0031)","R","Armadillo de los Infante (004)Parada de San Rafael (0031)",22.324966,-100.673593,17,9,8,5,240040031,null,"Alto","Bajo",{"$f":"IFERROR(VLOOKUP(CONCATENATE(B422,D422),Padrón_Indígenas!$A$2:$G$988,7,0),\"No\")","v":"No"},{"$f":"VLOOKUP(E422,Cat_Municipios!$D$6:$M$64,11)","v":{"$error":"#REF!"}}]
[24,"004","Armadillo_de_los_Infante","0032","Paradita del Refugio (0032)","R","Armadillo de los Infante (004)Paradita del Refugio (0032)",22.348458000000001,-100.527027,424,210,214,85,240040032,null,"Alto","Medio",{"$f":"IFERROR(VLOOKUP(CONCATENATE(B423,D423),Padrón_Indígenas!$A$2:$G$988,7,0),\"No\")","v":"No"},{"$f":"VLOOKUP(E423,Cat_Municipios!$D$6:$M$64,11)","v":{"$error":"#REF!"}}]
[24,"004","Armadillo_de_los_Infante","0033","Paso del Águila (0033)","R","Armadillo de los Infante (004)Paso del Águila (0033)",22.274663,-100.576004,178,88,90,43,240040033,null,"Medio","Muy bajo",{"$f":"IFERROR(VLOOKUP(CONCATENATE(B424,D424),Padrón_Indígenas!$A$2:$G$988,7,0),\"No\")","v":"No"},{"$f":"VLOOKUP(E424,Cat_Municipios!$D$6:$M$64,11)","v":{"$error":"#REF!"}}]
[24,"004","Armadillo_de_los_Infante","0072","Paso del Águila [COPLAMAR] (0072)","R","Armadillo de los Infante (004)Paso del Águila [COPLAMAR] (0072)",22.287047999999999,-100.58723500000001,0,0,0,0,240040072,null,null,null,{"$f":"IFERROR(VLOOKUP(CONCATENATE(B425,D425),Padrón_Indígenas!$A$2:$G$988,7,0),\"No\")","v":"No"},{"$f":"VLOOKUP(E425,Cat_Municipios!$D$6:$M$64,11)","v":{"$error":"#REF!"}}]
[24,"004","Armadillo_de_los_Infante","0035","Picacho de los Dolores (0035)","R","Armadillo de los Infante (004)Picacho de los Dolores (0035)",22.174688,-100.596817,22,10,12,7,240040035,null,"Muy alto","Alto",{"$f":"IFERROR(VLOOKUP(CONCATENATE(B426,D426),Padrón_Indígenas!$A$2:$G$988,7,0),\"No\")","v":"No"},{"$f":"VLOOKUP(E426,Cat_Municipios!$D$6:$M$64,11)","v":{"$error":"#REF!"}}]
[24,"004","Armadillo_de_los_Infante","0036","Piedra Agujereada (0036)","R","Armadillo de los Infante (004)Piedra Agujereada (0036)",22.100636999999999,-100.61089,1,"*","*",1,240040036,null,null,null,{"$f":"IFERROR(VLOOKUP(CONCATENATE(B427,D427),Padrón_Indígenas!$A$2:$G$988,7,0),\"No\")","v":"No"},{"$f":"VLOOKUP(E427,Cat_Municipios!$D$6:$M$64,11)","v":{"$error":"#REF!"}}]
[24,"004","Armadillo_de_los_Infante","0085","Potrero de Garrochitas (0085)","R","Armadillo de los Infante (004)Potrero de Garrochitas (0085)",22.173333,-100.697222,0,0,0,0,240040085,null,null,null,{"$f":"IFERROR(VLOOKUP(CONCATENATE(B428,D428),Padrón_Indígenas!$A$2:$G$988,7,0),\"No\")","v":"No"},{"$f":"VLOOKUP(E428,Cat_Municipios!$D$6:$M$64,11)","v":{"$error":"#REF!"}}]
[24,"004","Armadillo_de_los_Infante","0037","Pozo del Carmen (0037)","R","Armadillo de los Infante (004)Pozo del Carmen (0037)",22.305609,-100.61009,471,242,229,118,240040037,null,"Alto","Bajo",{"$f":"IFERROR(VLOOKUP(CONCATENATE(B429,D429),Padrón_Indígenas!$A$2:$G$988,7,0),\"No\")","v":"No"},{"$f":"VLOOKUP(E429,Cat_Municipios!$D$6:$M$64,11)","v":{"$error":"#REF!"}}]
[24,"004","Armadillo_de_los_Infante","0073","Pozo del Carmen [COPLAMAR] (0073)","R","Armadillo de los Infante (004)Pozo del Carmen [COPLAMAR] (0073)",22.322972,-100.610173,0,0,0,0,240040073,null,null,null,{"$f":"IFERROR(VLOOKUP(CONCATENATE(B430,D430),Padrón_Indígenas!$A$2:$G$988,7,0),\"No\")","v":"No"},{"$f":"VLOOKUP(E430,Cat_Municipios!$D$6:$M$64,11)","v":{"$error":"#REF!"}}]
[24,"004","Armadillo_de_los_Infante","0038","Puerta del Refugio (0038)","R","Armadillo de los Infante (004)Puerta del Refugio (0038)",22.288876999999999,-100.62288100000001,68,34,34,15,240040038,null,"Alto","Bajo",{"$f":"IFERROR(VLOOKUP(CONCATENATE(B431,D431),Padrón_Indígenas!$A$2:$G$988,7,0),\"No\")","v":"No"},{"$f":"VLOOKUP(E431,Cat_Municipios!$D$6:$M$64,11)","v":{"$error":"#REF!"}}]
[24,"004","Armadillo_de_los_Infante","0066","Puerto de Chagoya (0066)","R","Armadillo de los Infante (004)Puerto de Chagoya (0066)",22.168873999999999,-100.584333,5,"*","*",1,240040066,null,null,null,{"$f":"IFERROR(VLOOKUP(CONCATENATE(B432,D432),Padrón_Indígenas!$A$2:$G$988,7,0),\"No\")","v":"No"},{"$f":"VLOOKUP(E432,Cat_Municipios!$D$6:$M$64,11)","v":{"$error":"#REF!"}}]
[24,"004","Armadillo_de_los_Infante","0102","Rancho el Cerrito (0102)","R","Armadillo de los Infante (004)Rancho el Cerrito (0102)",22.156264,-100.557136,"-","-","-","-",240040102,null,null,null,{"$f":"IFERROR(VLOOKUP(CONCATENATE(B433,D433),Padrón_Indígenas!$A$2:$G$988,7,0),\"No\")","v":"No"},{"$f":"VLOOKUP(E433,Cat_Municipios!$D$6:$M$64,11)","v":{"$error":"#REF!"}}]
[24,"004","Armadillo_de_los_Infante","0009","Rancho el Chital (La Carbonera) (0009)","R","Armadillo de los Infante (004)Rancho el Chital (La Carbonera) (0009)",22.107381,-100.590261,0,0,0,0,240040009,null,null,null,{"$f":"IFERROR(VLOOKUP(CONCATENATE(B434,D434),Padrón_Indígenas!$A$2:$G$988,7,0),\"No\")","v":"No"},{"$f":"VLOOKUP(E434,Cat_Municipios!$D$6:$M$64,11)","v":{"$error":"#REF!"}}]
[24,"004","Armadillo_de_los_Infante","0076","Rancho los Tomates (0076)","R","Armadillo de los Infante (004)Rancho los Tomates (0076)",22.259722,-100.659013,0,0,0,0,240040076,null,null,null,{"$f":"IFERROR(VLOOKUP(CONCATENATE(B435,D435),Padrón_Indígenas!$A$2:$G$988,7,0),\"No\")","v":"No"},{"$f":"VLOOKUP(E435,Cat_Municipios!$D$6:$M$64,11)","v":{"$error":"#REF!"}}]
[24,"004","Armadillo_de_los_Infante","0040","Rancho Nuevo de la Cruz (0040)","R","Armadillo de los Infante (004)Rancho Nuevo de la Cruz (0040)",22.388332999999999,-100.55027800000001,153,77,76,36,240040040,null,"Alto","Medio",{"$f":"IFERROR(VLOOKUP(CONCATENATE(B436,D436),Padrón_Indígenas!$A$2:$G$988,7,0),\"No\")","v":"No"},{"$f":"VLOOKUP(E436,Cat_Municipios!$D$6:$M$64,11)","v":{"$error":"#REF!"}}]
[24,"004","Armadillo_de_los_Infante","0041","Rancho Nuevo de los Nájera (0041)","R","Armadillo de los Infante (004)Rancho Nuevo de los Nájera (0041)",22.202269000000001,-100.616563,2,"*","*",1,240040041,null,null,null,{"$f":"IFERROR(VLOOKUP(CONCATENATE(B437,D437),Padrón_Indígenas!$A$2:$G$988,7,0),\"No\")","v":"No"},{"$f":"VLOOKUP(E437,Cat_Municipios!$D$6:$M$64,11)","v":{"$error":"#REF!"}}]
[24,"004","Armadillo_de_los_Infante","0042","Rancho Nuevo del Tízar (0042)","R","Armadillo de los Infante (004)Rancho Nuevo del Tízar (0042)",22.163688,-100.65679799999999,11,5,6,4,240040042,null,"Muy alto","Alto",{"$f":"IFERROR(VLOOKUP(CONCATENATE(B438,D438),Padrón_Indígenas!$A$2:$G$988,7,0),\"No\")","v":"No"},{"$f":"VLOOKUP(E438,Cat_Municipios!$D$6:$M$64,11)","v":{"$error":"#REF!"}}]
[24,"004","Armadillo_de_los_Infante","0091","Salazar (El Gringo) (0091)","R","Armadillo de los Infante (004)Salazar (El Gringo) (0091)",22.251398999999999,-100.660158,0,0,0,0,240040091,null,null,null,{"$f":"IFERROR(VLOOKUP(CONCATENATE(B439,D439),Padrón_Indígenas!$A$2:$G$988,7,0),\"No\")","v":"No"},{"$f":"VLOOKUP(E439,Cat_Municipios!$D$6:$M$64,11)","v":{"$error":"#REF!"}}]
[24,"004","Armadillo_de_los_Infante","0097","Salsipuedes (0097)","R","Armadillo de los Infante (004)Salsipuedes (0097)",22.187622000000001,-100.610539,"-","-","-","-",240040097,null,null,null,{"$f":"IFERROR(VLOOKUP(CONCATENATE(B440,D440),Padrón_Indígenas!$A$2:$G$988,7,0),\"No\")","v":"No"},{"$f":"VLOOKUP(E440,Cat_Municipios!$D$6:$M$64,11)","v":{"$error":"#REF!"}}]
[24,"004","Armadillo_de_los_Infante","0044","San Antonio de Eguía (0044)","R","Armadillo de los Infante (004)San Antonio de Eguía (0044)",22.267713000000001,-100.755763,22,12,10,10,240040044,null,"Alto","Bajo",{"$f":"IFERROR(VLOOKUP(CONCATENATE(B441,D441),Padrón_Indígenas!$A$2:$G$988,7,0),\"No\")","v":"No"},{"$f":"VLOOKUP(E441,Cat_Municipios!$D$6:$M$64,11)","v":{"$error":"#REF!"}}]
[24,"004","Armadillo_de_los_Infante","0045","San Cayetano (0045)","R","Armadillo de los Infante (004)San Cayetano (0045)",22.126646999999998,-100.63841600000001,75,36,39,25,240040045,null,"Alto","Medio",{"$f":"IFERROR(VLOOKUP(CONCATENATE(B442,D442),Padrón_Indígenas!$A$2:$G$988,7,0),\"No\")","v":"No"},{"$f":"VLOOKUP(E442,Cat_Municipios!$D$6:$M$64,11)","v":{"$error":"#REF!"}}]
[24,"004","Armadillo_de_los_Infante","0046","San Elías (0046)","R","Armadillo de los Infante (004)San Elías (0046)",22.305216000000001,-100.782703,101,50,51,32,240040046,null,"Bajo","Muy bajo",{"$f":"IFERROR(VLOOKUP(CONCATENATE(B443,D443),Padrón_Indígenas!$A$2:$G$988,7,0),\"No\")","v":"No"},{"$f":"VLOOKUP(E443,Cat_Municipios!$D$6:$M$64,11)","v":{"$error":"#REF!"}}]
[24,"004","Armadillo_de_los_Infante","0047","San José de Álvarez (0047)","R","Armadillo de los Infante (004)San José de Álvarez (0047)",22.182500000000001,-100.629722,32,14,18,9,240040047,null,"Bajo","Muy bajo",{"$f":"IFERROR(VLOOKUP(CONCATENATE(B444,D444),Padrón_Indígenas!$A$2:$G$988,7,0),\"No\")","v":"No"},{"$f":"VLOOKUP(E444,Cat_Municipios!$D$6:$M$64,11)","v":{"$error":"#REF!"}}]
[24,"004","Armadillo_de_los_Infante","0048","San José de Barbosa (0048)","R","Armadillo de los Infante (004)San José de Barbosa (0048)",22.138055999999999,-100.598889,10,"*","*",2,240040048,null,null,null,{"$f":"IFERROR(VLOOKUP(CONCATENATE(B445,D445),Padrón_Indígenas!$A$2:$G$988,7,0),\"No\")","v":"No"},{"$f":"VLOOKUP(E445,Cat_Municipios!$D$6:$M$64,11)","v":{"$error":"#REF!"}}]
[24,"004","Armadillo_de_los_Infante","0049","San José de Magaña (0049)","R","Armadillo de los Infante (004)San José de Magaña (0049)",22.172694,-100.67705100000001,10,4,6,6,240040049,null,"Alto","Medio",{"$f":"IFERROR(VLOOKUP(CONCATENATE(B446,D446),Padrón_Indígenas!$A$2:$G$988,7,0),\"No\")","v":"No"},{"$f":"VLOOKUP(E446,Cat_Municipios!$D$6:$M$64,11)","v":{"$error":"#REF!"}}]
[24,"004","Armadillo_de_los_Infante","0050","San Miguel (0050)","R","Armadillo de los Infante (004)San Miguel (0050)",22.219442999999998,-100.616365,77,39,38,21,240040050,null,"Alto","Bajo",{"$f":"IFERROR(VLOOKUP(CONCATENATE(B447,D447),Padrón_Indígenas!$A$2:$G$988,7,0),\"No\")","v":"No"},{"$f":"VLOOKUP(E447,Cat_Municipios!$D$6:$M$64,11)","v":{"$error":"#REF!"}}]
[24,"004","Armadillo_de_los_Infante","0051","San Rafael (0051)","R","Armadillo de los Infante (004)San Rafael (0051)",22.17822,-100.644914,9,2,7,6,240040051,null,"Alto","Medio",{"$f":"IFERROR(VLOOKUP(CONCATENATE(B448,D448),Padrón_Indígenas!$A$2:$G$988,7,0),\"No\")","v":"No"},{"$f":"VLOOKUP(E448,Cat_Municipios!$D$6:$M$64,11)","v":{"$error":"#REF!"}}]
[24,"004","Armadillo_de_los_Infante","0056","Santa Lucía (0056)","R","Armadillo de los Infante (004)Santa Lucía (0056)",22.372488000000001,-100.548391,2,"*","*",1,240040056,null,null,null,{"$f":"IFERROR(VLOOKUP(CONCATENATE(B449,D449),Padrón_Indígenas!$A$2:$G$988,7,0),\"No\")","v":"No"},{"$f":"VLOOKUP(E449,Cat_Municipios!$D$6:$M$64,11)","v":{"$error":"#REF!"}}]
[24,"004","Armadillo_de_los_Infante","0103","Sierra de Chagoya (0103)","R","Armadillo de los Infante (004)Sierra de Chagoya (0103)",22.160447000000001,-100.579083,"-","-","-","-",240040103,null,null,null,{"$f":"IFERROR(VLOOKUP(CONCATENATE(B450,D450),Padrón_Indígenas!$A$2:$G$988,7,0),\"No\")","v":"No"},{"$f":"VLOOKUP(E450,Cat_Municipios!$D$6:$M$64,11)","v":{"$error":"#REF!"}}]
[24,"004","Armadillo_de_los_Infante","0052","Tanque de las Manzanas (0052)","R","Armadillo de los Infante (004)Tanque de las Manzanas (0052)",22.164444,-100.587706,0,0,0,0,240040052,null,null,null,{"$f":"IFERROR(VLOOKUP(CONCATENATE(B451,D451),Padrón_Indígenas!$A$2:$G$988,7,0),\"No\")","v":"No"},{"$f":"VLOOKUP(E451,Cat_Municipios!$D$6:$M$64,11)","v":{"$error":"#REF!"}}]
[24,"004","Armadillo_de_los_Infante","0053","Temazcal (0053)","R","Armadillo de los Infante (004)Temazcal (0053)",22.395696999999998,-100.51434399999999,99,49,50,36,240040053,null,"Alto","Medio",{"$f":"IFERROR(VLOOKUP(CONCATENATE(B452,D452),Padrón_Indígenas!$A$2:$G$988,7,0),\"No\")","v":"No"},{"$f":"VLOOKUP(E452,Cat_Municipios!$D$6:$M$64,11)","v":{"$error":"#REF!"}}]
[24,"004","Armadillo_de_los_Infante","0084","Tinajillas (0084)","R","Armadillo de los Infante (004)Tinajillas (0084)",22.339711999999999,-100.797078,5,"*","*",1,240040084,null,null,null,{"$f":"IFERROR(VLOOKUP(CONCATENATE(B453,D453),Padrón_Indígenas!$A$2:$G$988,7,0),\"No\")","v":"No"},{"$f":"VLOOKUP(E453,Cat_Municipios!$D$6:$M$64,11)","v":{"$error":"#REF!"}}]
[24,"004","Armadillo_de_los_Infante","0054","Tlaxcalilla (0054)","R","Armadillo de los Infante (004)Tlaxcalilla (0054)",22.271208000000001,-100.695733,15,6,9,5,240040054,null,"Alto","Bajo",{"$f":"IFERROR(VLOOKUP(CONCATENATE(B454,D454),Padrón_Indígenas!$A$2:$G$988,7,0),\"No\")","v":"No"},{"$f":"VLOOKUP(E454,Cat_Municipios!$D$6:$M$64,11)","v":{"$error":"#REF!"}}]
[24,"004","Armadillo_de_los_Infante","0086","Torres Corzo (0086)","R","Armadillo de los Infante (004)Torres Corzo (0086)",22.149840999999999,-100.640489,0,0,0,0,240040086,null,null,null,{"$f":"IFERROR(VLOOKUP(CONCATENATE(B455,D455),Padrón_Indígenas!$A$2:$G$988,7,0),\"No\")","v":"No"},{"$f":"VLOOKUP(E455,Cat_Municipios!$D$6:$M$64,11)","v":{"$error":"#REF!"}}]
[24,"004","Armadillo_de_los_Infante","0068","Tortugas (0068)","R","Armadillo de los Infante (004)Tortugas (0068)",22.166944000000001,-100.636944,0,0,0,0,240040068,null,null,null,{"$f":"IFERROR(VLOOKUP(CONCATENATE(B456,D456),Padrón_Indígenas!$A$2:$G$988,7,0),\"No\")","v":"No"},{"$f":"VLOOKUP(E456,Cat_Municipios!$D$6:$M$64,11)","v":{"$error":"#REF!"}}]
[24,"004","Armadillo_de_los_Infante",null,"Todo el municipio ",null,"Armadillo de los Infante (004)Todo el municipio ",null,null,{"$f":"SUM(J370:J456)","v":4436}]
[24,"053","Axtla_de_Terrazas","0003","Agua Fría (0003)","R","Axtla de Terrazas (053)Agua Fría (0003)",21.444337000000001,-98.824860999999999,11,"*","*",2,240530003,null,null,null,{"$f":"IFERROR(VLOOKUP(CONCATENATE(B458,D458),Padrón_Indígenas!$A$2:$G$988,7,0),\"No\")","v":"No"},{"$f":"VLOOKUP(E458,Cat_Municipios!$D$6:$M$64,11)","v":{"$error":"#N/A"}}]
[24,"053","Axtla_de_Terrazas","0082","Agua Fría Dos (0082)","R","Axtla de Terrazas (053)Agua Fría Dos (0082)",21.451661999999999,-98.876641000000006,27,16,11,6,240530082,"SI","Alto","Medio",{"$f":"IFERROR(VLOOKUP(CONCATENATE(B459,D459),Padrón_Indígenas!$A$2:$G$988,7,0),\"No\")","v":"No"},{"$f":"VLOOKUP(E459,Cat_Municipios!$D$6:$M$64,11)","v":{"$error":"#N/A"}}]
[24,"053","Axtla_de_Terrazas","0002","Ahuacatitla (0002)","R","Axtla de Terrazas (053)Ahuacatitla (0002)",21.422927000000001,-98.859585999999993,631,300,331,140,240530002,"SI","Alto","Bajo",{"$f":"IFERROR(VLOOKUP(CONCATENATE(B460,D460),Padrón_Indígenas!$A$2:$G$988,7,0),\"No\")","v":"Sí"},{"$f":"VLOOKUP(E460,Cat_Municipios!$D$6:$M$64,11)","v":{"$error":"#N/A"}}]
[24,"053","Axtla_de_Terrazas","0092","Ampliación Cuayo Buenavista (0092)","R","Axtla de Terrazas (053)Ampliación Cuayo Buenavista (0092)",21.482945000000001,-98.851703999999998,113,63,50,20,240530092,"SI","Alto","Medio",{"$f":"IFERROR(VLOOKUP(CONCATENATE(B461,D461),Padrón_Indígenas!$A$2:$G$988,7,0),\"No\")","v":"Sí"},{"$f":"VLOOKUP(E461,Cat_Municipios!$D$6:$M$64,11)","v":{"$error":"#REF!"}}]
[24,"053","Axtla_de_Terrazas","0005","Arroyo de En Medio (0005)","R","Axtla de Terrazas (053)Arroyo de En Medio (0005)",21.461908999999999,-98.874795000000006,356,176,180,89,240530005,"SI","Alto","Medio",{"$f":"IFERROR(VLOOKUP(CONCATENATE(B462,D462),Padrón_Indígenas!$A$2:$G$988,7,0),\"No\")","v":"Sí"},{"$f":"VLOOKUP(E462,Cat_Municipios!$D$6:$M$64,11)","v":{"$error":"#REF!"}}]
[24,"053","Axtla_de_Terrazas","0006","Arroyo Seco (0006)","R","Axtla de Terrazas (053)Arroyo Seco (0006)",21.435317999999999,-98.908894000000004,24,14,10,4,240530006,null,"Alto","Muy bajo",{"$f":"IFERROR(VLOOKUP(CONCATENATE(B463,D463),Padrón_Indígenas!$A$2:$G$988,7,0),\"No\")","v":"No"},{"$f":"VLOOKUP(E463,Cat_Municipios!$D$6:$M$64,11)","v":{"$error":"#REF!"}}]
[24,"053","Axtla_de_Terrazas","0001","Axtla de Terrazas (0001)","U","Axtla de Terrazas (053)Axtla de Terrazas (0001)",21.436388999999998,-98.875,7714,3709,4005,1902,240530001,"SI",null,null,{"$f":"IFERROR(VLOOKUP(CONCATENATE(B464,D464),Padrón_Indígenas!$A$2:$G$988,7,0),\"No\")","v":"No"},{"$f":"VLOOKUP(E464,Cat_Municipios!$D$6:$M$64,11)","v":{"$error":"#REF!"}}]
[24,"053","Axtla_de_Terrazas","0126","Barrio Choteco (0126)","R","Axtla de Terrazas (053)Barrio Choteco (0126)",21.447838000000001,-98.855880999999997,13,8,5,3,240530126,null,"Medio","Muy bajo",{"$f":"IFERROR(VLOOKUP(CONCATENATE(B465,D465),Padrón_Indígenas!$A$2:$G$988,7,0),\"No\")","v":"Sí"},{"$f":"VLOOKUP(E465,Cat_Municipios!$D$6:$M$64,11)","v":{"$error":"#REF!"}}]
[24,"053","Axtla_de_Terrazas","0097","Barrio el Saucito (0097)","R","Axtla de Terrazas (053)Barrio el Saucito (0097)",21.457082,-98.879812999999999,136,68,68,28,240530097,"SI","Alto","Medio",{"$f":"IFERROR(VLOOKUP(CONCATENATE(B466,D466),Padrón_Indígenas!$A$2:$G$988,7,0),\"No\")","v":"Sí"},{"$f":"VLOOKUP(E466,Cat_Municipios!$D$6:$M$64,11)","v":{"$error":"#REF!"}}]
[24,"053","Axtla_de_Terrazas","0098","Barrio el Tamarindo (0098)","R","Axtla de Terrazas (053)Barrio el Tamarindo (0098)",21.428891,-98.933271000000005,320,158,162,76,240530098,"SI","Alto","Medio",{"$f":"IFERROR(VLOOKUP(CONCATENATE(B467,D467),Padrón_Indígenas!$A$2:$G$988,7,0),\"No\")","v":"Sí"},{"$f":"VLOOKUP(E467,Cat_Municipios!$D$6:$M$64,11)","v":{"$error":"#REF!"}}]
[24,"053","Axtla_de_Terrazas","0099","Barrio Santa Fe (0099)","R","Axtla de Terrazas (053)Barrio Santa Fe (0099)",21.420888000000001,-98.928763000000004,187,91,96,45,240530099,"SI","Alto","Medio",{"$f":"IFERROR(VLOOKUP(CONCATENATE(B468,D468),Padrón_Indígenas!$A$2:$G$988,7,0),\"No\")","v":"Sí"},{"$f":"VLOOKUP(E468,Cat_Municipios!$D$6:$M$64,11)","v":{"$error":"#REF!"}}]
[24,"053","Axtla_de_Terrazas","0008","Buenos Aires (0008)","R","Axtla de Terrazas (053)Buenos Aires (0008)",21.41375,-98.923326000000003,0,0,0,0,240530008,null,null,null,{"$f":"IFERROR(VLOOKUP(CONCATENATE(B469,D469),Padrón_Indígenas!$A$2:$G$988,7,0),\"No\")","v":"No"},{"$f":"VLOOKUP(E469,Cat_Municipios!$D$6:$M$64,11)","v":{"$error":"#REF!"}}]
[24,"053","Axtla_de_Terrazas","0009","Calcahual (0009)","R","Axtla de Terrazas (053)Calcahual (0009)",21.469183999999998,-98.892735000000002,197,103,94,40,240530009,"SI","Alto","Medio",{"$f":"IFERROR(VLOOKUP(CONCATENATE(B470,D470),Padrón_Indígenas!$A$2:$G$988,7,0),\"No\")","v":"Sí"},{"$f":"VLOOKUP(E470,Cat_Municipios!$D$6:$M$64,11)","v":{"$error":"#REF!"}}]
[24,"053","Axtla_de_Terrazas","0021","Chacuala (0021)","R","Axtla de Terrazas (053)Chacuala (0021)",21.424626,-98.826463000000004,5,"*","*",2,240530021,"SI",null,null,{"$f":"IFERROR(VLOOKUP(CONCATENATE(B471,D471),Padrón_Indígenas!$A$2:$G$988,7,0),\"No\")","v":"No"},{"$f":"VLOOKUP(E471,Cat_Municipios!$D$6:$M$64,11)","v":{"$error":"#REF!"}}]
[24,"053","Axtla_de_Terrazas","0118","Chacuala (Mario Acosta) (0118)","R","Axtla de Terrazas (053)Chacuala (Mario Acosta) (0118)",21.410556,-98.815832999999998,7,"*","*",1,240530118,"SI",null,null,{"$f":"IFERROR(VLOOKUP(CONCATENATE(B472,D472),Padrón_Indígenas!$A$2:$G$988,7,0),\"No\")","v":"No"},{"$f":"VLOOKUP(E472,Cat_Municipios!$D$6:$M$64,11)","v":{"$error":"#REF!"}}]
[24,"053","Axtla_de_Terrazas","0084","Chenico (0084)","R","Axtla de Terrazas (053)Chenico (0084)",21.466099,-98.830886000000007,0,0,0,0,240530084,null,null,null,{"$f":"IFERROR(VLOOKUP(CONCATENATE(B473,D473),Padrón_Indígenas!$A$2:$G$988,7,0),\"No\")","v":"No"},{"$f":"VLOOKUP(E473,Cat_Municipios!$D$6:$M$64,11)","v":{"$error":"#REF!"}}]
[24,"053","Axtla_de_Terrazas","0024","Chicaxtitla (0024)","R","Axtla de Terrazas (053)Chicaxtitla (0024)",21.425256999999998,-98.917060000000006,119,61,58,34,240530024,"SI","Medio","Bajo",{"$f":"IFERROR(VLOOKUP(CONCATENATE(B474,D474),Padrón_Indígenas!$A$2:$G$988,7,0),\"No\")","v":"Sí"},{"$f":"VLOOKUP(E474,Cat_Municipios!$D$6:$M$64,11)","v":{"$error":"#REF!"}}]
[24,"053","Axtla_de_Terrazas","0025","Chimalaco (0025)","R","Axtla de Terrazas (053)Chimalaco (0025)",21.460747999999999,-98.938376000000005,714,336,378,152,240530025,"SI","Alto","Medio",{"$f":"IFERROR(VLOOKUP(CONCATENATE(B475,D475),Padrón_Indígenas!$A$2:$G$988,7,0),\"No\")","v":"Sí"},{"$f":"VLOOKUP(E475,Cat_Municipios!$D$6:$M$64,11)","v":{"$error":"#REF!"}}]
[24,"053","Axtla_de_Terrazas","0026","Choteco (0026)","R","Axtla de Terrazas (053)Choteco (0026)",21.449241000000001,-98.853916999999996,106,51,55,22,240530026,"SI","Alto","Bajo",{"$f":"IFERROR(VLOOKUP(CONCATENATE(B476,D476),Padrón_Indígenas!$A$2:$G$988,7,0),\"No\")","v":"Sí"},{"$f":"VLOOKUP(E476,Cat_Municipios!$D$6:$M$64,11)","v":{"$error":"#REF!"}}]
[24,"053","Axtla_de_Terrazas","0013","Coamila (0013)","R","Axtla de Terrazas (053)Coamila (0013)",21.448758999999999,-98.882604000000001,223,114,109,59,240530013,"SI","Alto","Bajo",{"$f":"IFERROR(VLOOKUP(CONCATENATE(B477,D477),Padrón_Indígenas!$A$2:$G$988,7,0),\"No\")","v":"Sí"},{"$f":"VLOOKUP(E477,Cat_Municipios!$D$6:$M$64,11)","v":{"$error":"#REF!"}}]
[24,"053","Axtla_de_Terrazas","0100","Coamízatl (0100)","R","Axtla de Terrazas (053)Coamízatl (0100)",21.450296999999999,-98.913608999999994,181,96,85,38,240530100,"SI","Alto","Medio",{"$f":"IFERROR(VLOOKUP(CONCATENATE(B478,D478),Padrón_Indígenas!$A$2:$G$988,7,0),\"No\")","v":"Sí"},{"$f":"VLOOKUP(E478,Cat_Municipios!$D$6:$M$64,11)","v":{"$error":"#REF!"}}]
[24,"053","Axtla_de_Terrazas","0014","Coatzontitla (0014)","R","Axtla de Terrazas (053)Coatzontitla (0014)",21.441417000000001,-98.901764,943,489,454,192,240530014,"SI","Alto","Bajo",{"$f":"IFERROR(VLOOKUP(CONCATENATE(B479,D479),Padrón_Indígenas!$A$2:$G$988,7,0),\"No\")","v":"Sí"},{"$f":"VLOOKUP(E479,Cat_Municipios!$D$6:$M$64,11)","v":{"$error":"#REF!"}}]
[24,"053","Axtla_de_Terrazas","0128","Colonia Guadalupe (0128)","R","Axtla de Terrazas (053)Colonia Guadalupe (0128)",21.447374,-98.865735999999998,47,24,23,13,240530128,"SI","Muy alto","Medio",{"$f":"IFERROR(VLOOKUP(CONCATENATE(B480,D480),Padrón_Indígenas!$A$2:$G$988,7,0),\"No\")","v":"No"},{"$f":"VLOOKUP(E480,Cat_Municipios!$D$6:$M$64,11)","v":{"$error":"#REF!"}}]
[24,"053","Axtla_de_Terrazas","0015","Comoca Ahuacatitla (0015)","R","Axtla de Terrazas (053)Comoca Ahuacatitla (0015)",21.418448000000001,-98.891498999999996,281,125,156,59,240530015,"SI","Alto","Bajo",{"$f":"IFERROR(VLOOKUP(CONCATENATE(B481,D481),Padrón_Indígenas!$A$2:$G$988,7,0),\"No\")","v":"Sí"},{"$f":"VLOOKUP(E481,Cat_Municipios!$D$6:$M$64,11)","v":{"$error":"#REF!"}}]
[24,"053","Axtla_de_Terrazas","0089","Comunidad Jalpilla (Jalpilla Viejo) (0089)","R","Axtla de Terrazas (053)Comunidad Jalpilla (Jalpilla Viejo) (0089)",21.409389000000001,-98.866022999999998,29,15,14,8,240530089,"SI","Muy alto","Alto",{"$f":"IFERROR(VLOOKUP(CONCATENATE(B482,D482),Padrón_Indígenas!$A$2:$G$988,7,0),\"No\")","v":"No"},{"$f":"VLOOKUP(E482,Cat_Municipios!$D$6:$M$64,11)","v":{"$error":"#REF!"}}]
[24,"053","Axtla_de_Terrazas","0091","Comunidad la Purísima (0091)","R","Axtla de Terrazas (053)Comunidad la Purísima (0091)",21.46593,-98.897293000000005,172,90,82,40,240530091,"SI","Alto","Bajo",{"$f":"IFERROR(VLOOKUP(CONCATENATE(B483,D483),Padrón_Indígenas!$A$2:$G$988,7,0),\"No\")","v":"No"},{"$f":"VLOOKUP(E483,Cat_Municipios!$D$6:$M$64,11)","v":{"$error":"#REF!"}}]
[24,"053","Axtla_de_Terrazas","0090","Comunidad Picholco (Picholco Viejo) (0090)","R","Axtla de Terrazas (053)Comunidad Picholco (Picholco Viejo) (0090)",21.396937000000001,-98.843462000000002,131,68,63,30,240530090,"SI","Alto","Alto",{"$f":"IFERROR(VLOOKUP(CONCATENATE(B484,D484),Padrón_Indígenas!$A$2:$G$988,7,0),\"No\")","v":"No"},{"$f":"VLOOKUP(E484,Cat_Municipios!$D$6:$M$64,11)","v":{"$error":"#REF!"}}]
[24,"053","Axtla_de_Terrazas","0072","Copalo (Chalco) (0072)","R","Axtla de Terrazas (053)Copalo (Chalco) (0072)",21.374012,-98.811588999999998,635,317,318,154,240530072,"SI","Alto","Medio",{"$f":"IFERROR(VLOOKUP(CONCATENATE(B485,D485),Padrón_Indígenas!$A$2:$G$988,7,0),\"No\")","v":"Sí"},{"$f":"VLOOKUP(E485,Cat_Municipios!$D$6:$M$64,11)","v":{"$error":"#REF!"}}]
[24,"053","Axtla_de_Terrazas","0101","Crucero de Comoca (0101)","R","Axtla de Terrazas (053)Crucero de Comoca (0101)",21.424647,-98.890315999999999,72,34,38,17,240530101,"SI","Medio","Muy bajo",{"$f":"IFERROR(VLOOKUP(CONCATENATE(B486,D486),Padrón_Indígenas!$A$2:$G$988,7,0),\"No\")","v":"No"},{"$f":"VLOOKUP(E486,Cat_Municipios!$D$6:$M$64,11)","v":{"$error":"#REF!"}}]
[24,"053","Axtla_de_Terrazas","0017","Cuatecoyo (0017)","R","Axtla de Terrazas (053)Cuatecoyo (0017)",21.466258,-98.868825999999999,213,122,91,50,240530017,"SI","Alto","Medio",{"$f":"IFERROR(VLOOKUP(CONCATENATE(B487,D487),Padrón_Indígenas!$A$2:$G$988,7,0),\"No\")","v":"Sí"},{"$f":"VLOOKUP(E487,Cat_Municipios!$D$6:$M$64,11)","v":{"$error":"#REF!"}}]
[24,"053","Axtla_de_Terrazas","0018","Cuatlácatl (0018)","R","Axtla de Terrazas (053)Cuatlácatl (0018)",21.455182000000001,-98.890718000000007,13,"*","*",2,240530018,"SI",null,null,{"$f":"IFERROR(VLOOKUP(CONCATENATE(B488,D488),Padrón_Indígenas!$A$2:$G$988,7,0),\"No\")","v":"No"},{"$f":"VLOOKUP(E488,Cat_Municipios!$D$6:$M$64,11)","v":{"$error":"#REF!"}}]
[24,"053","Axtla_de_Terrazas","0071","Cuayo (Chalco) (0071)","R","Axtla de Terrazas (053)Cuayo (Chalco) (0071)",21.381737000000001,-98.813063999999997,505,254,251,117,240530071,"SI","Alto","Medio",{"$f":"IFERROR(VLOOKUP(CONCATENATE(B489,D489),Padrón_Indígenas!$A$2:$G$988,7,0),\"No\")","v":"Sí"},{"$f":"VLOOKUP(E489,Cat_Municipios!$D$6:$M$64,11)","v":{"$error":"#REF!"}}]
[24,"053","Axtla_de_Terrazas","0062","Cuayo Buenavista (0062)","R","Axtla de Terrazas (053)Cuayo Buenavista (0062)",21.475763000000001,-98.893710999999996,196,93,103,38,240530062,"SI","Alto","Medio",{"$f":"IFERROR(VLOOKUP(CONCATENATE(B490,D490),Padrón_Indígenas!$A$2:$G$988,7,0),\"No\")","v":"Sí"},{"$f":"VLOOKUP(E490,Cat_Municipios!$D$6:$M$64,11)","v":{"$error":"#REF!"}}]
[24,"053","Axtla_de_Terrazas","0019","Cuayo Cerro (0019)","R","Axtla de Terrazas (053)Cuayo Cerro (0019)",21.463495999999999,-98.917750999999996,449,226,223,114,240530019,"SI","Alto","Medio",{"$f":"IFERROR(VLOOKUP(CONCATENATE(B491,D491),Padrón_Indígenas!$A$2:$G$988,7,0),\"No\")","v":"Sí"},{"$f":"VLOOKUP(E491,Cat_Municipios!$D$6:$M$64,11)","v":{"$error":"#REF!"}}]
[24,"053","Axtla_de_Terrazas","0083","Cuixcoatitla (Chalco) (0083)","R","Axtla de Terrazas (053)Cuixcoatitla (Chalco) (0083)",21.363575999999998,-98.809149000000005,623,312,311,132,240530083,"SI","Alto","Medio",{"$f":"IFERROR(VLOOKUP(CONCATENATE(B492,D492),Padrón_Indígenas!$A$2:$G$988,7,0),\"No\")","v":"Sí"},{"$f":"VLOOKUP(E492,Cat_Municipios!$D$6:$M$64,11)","v":{"$error":"#REF!"}}]
[24,"053","Axtla_de_Terrazas","0119","Doña Pilar (0119)","R","Axtla de Terrazas (053)Doña Pilar (0119)",21.455832999999998,-98.849166999999994,0,0,0,0,240530119,null,null,null,{"$f":"IFERROR(VLOOKUP(CONCATENATE(B493,D493),Padrón_Indígenas!$A$2:$G$988,7,0),\"No\")","v":"No"},{"$f":"VLOOKUP(E493,Cat_Municipios!$D$6:$M$64,11)","v":{"$error":"#REF!"}}]
[24,"053","Axtla_de_Terrazas","0004","El Aquichal (0004)","R","Axtla de Terrazas (053)El Aquichal (0004)",21.485465999999999,-98.830808000000005,338,163,175,84,240530004,"SI","Alto","Bajo",{"$f":"IFERROR(VLOOKUP(CONCATENATE(B494,D494),Padrón_Indígenas!$A$2:$G$988,7,0),\"No\")","v":"Sí"},{"$f":"VLOOKUP(E494,Cat_Municipios!$D$6:$M$64,11)","v":{"$error":"#REF!"}}]
[24,"053","Axtla_de_Terrazas","0012","El Cerro (0012)","R","Axtla de Terrazas (053)El Cerro (0012)",21.437189,-98.836560000000006,152,71,81,37,240530012,"SI","Alto","Medio",{"$f":"IFERROR(VLOOKUP(CONCATENATE(B495,D495),Padrón_Indígenas!$A$2:$G$988,7,0),\"No\")","v":"Sí"},{"$f":"VLOOKUP(E495,Cat_Municipios!$D$6:$M$64,11)","v":{"$error":"#REF!"}}]
[24,"053","Axtla_de_Terrazas","0027","El Danubio (0027)","R","Axtla de Terrazas (053)El Danubio (0027)",21.415552000000002,-98.896519999999995,9,4,5,3,240530027,"SI","Bajo","Muy bajo",{"$f":"IFERROR(VLOOKUP(CONCATENATE(B496,D496),Padrón_Indígenas!$A$2:$G$988,7,0),\"No\")","v":"No"},{"$f":"VLOOKUP(E496,Cat_Municipios!$D$6:$M$64,11)","v":{"$error":"#REF!"}}]
[24,"053","Axtla_de_Terrazas","0109","El Encinal (0109)","R","Axtla de Terrazas (053)El Encinal (0109)",21.387979000000001,-98.896148999999994,2,"*","*",1,240530109,"SI",null,null,{"$f":"IFERROR(VLOOKUP(CONCATENATE(B497,D497),Padrón_Indígenas!$A$2:$G$988,7,0),\"No\")","v":"No"},{"$f":"VLOOKUP(E497,Cat_Municipios!$D$6:$M$64,11)","v":{"$error":"#REF!"}}]
[24,"053","Axtla_de_Terrazas","0085","El Laurel (0085)","R","Axtla de Terrazas (053)El Laurel (0085)",21.432141000000001,-98.896620999999996,57,28,29,12,240530085,"SI","Alto","Medio",{"$f":"IFERROR(VLOOKUP(CONCATENATE(B498,D498),Padrón_Indígenas!$A$2:$G$988,7,0),\"No\")","v":"No"},{"$f":"VLOOKUP(E498,Cat_Municipios!$D$6:$M$64,11)","v":{"$error":"#REF!"}}]
[24,"053","Axtla_de_Terrazas","0034","El Madrigal (0034)","R","Axtla de Terrazas (053)El Madrigal (0034)",21.423333,-98.908784999999995,7,"*","*",2,240530034,"SI",null,null,{"$f":"IFERROR(VLOOKUP(CONCATENATE(B499,D499),Padrón_Indígenas!$A$2:$G$988,7,0),\"No\")","v":"No"},{"$f":"VLOOKUP(E499,Cat_Municipios!$D$6:$M$64,11)","v":{"$error":"#REF!"}}]
[24,"053","Axtla_de_Terrazas","0038","El Mirador (0038)","R","Axtla de Terrazas (053)El Mirador (0038)",21.457974,-98.831836999999993,20,13,7,4,240530038,"SI","Alto","Medio",{"$f":"IFERROR(VLOOKUP(CONCATENATE(B500,D500),Padrón_Indígenas!$A$2:$G$988,7,0),\"No\")","v":"No"},{"$f":"VLOOKUP(E500,Cat_Municipios!$D$6:$M$64,11)","v":{"$error":"#REF!"}}]
[24,"053","Axtla_de_Terrazas","0040","El Paraíso (0040)","R","Axtla de Terrazas (053)El Paraíso (0040)",21.424484,-98.893795999999995,25,14,11,6,240530040,"SI","Muy bajo","Muy bajo",{"$f":"IFERROR(VLOOKUP(CONCATENATE(B501,D501),Padrón_Indígenas!$A$2:$G$988,7,0),\"No\")","v":"No"},{"$f":"VLOOKUP(E501,Cat_Municipios!$D$6:$M$64,11)","v":{"$error":"#REF!"}}]
[24,"053","Axtla_de_Terrazas","0078","El Progreso (0078)","R","Axtla de Terrazas (053)El Progreso (0078)",21.400631000000001,-98.815164999999993,122,58,64,31,240530078,"SI","Alto","Medio",{"$f":"IFERROR(VLOOKUP(CONCATENATE(B502,D502),Padrón_Indígenas!$A$2:$G$988,7,0),\"No\")","v":"No"},{"$f":"VLOOKUP(E502,Cat_Municipios!$D$6:$M$64,11)","v":{"$error":"#REF!"}}]
[24,"053","Axtla_de_Terrazas","0113","El Rincón (0113)","R","Axtla de Terrazas (053)El Rincón (0113)",21.449704000000001,-98.948841999999999,158,73,85,33,240530113,"SI","Alto","Medio",{"$f":"IFERROR(VLOOKUP(CONCATENATE(B503,D503),Padrón_Indígenas!$A$2:$G$988,7,0),\"No\")","v":"Sí"},{"$f":"VLOOKUP(E503,Cat_Municipios!$D$6:$M$64,11)","v":{"$error":"#REF!"}}]
[24,"053","Axtla_de_Terrazas","0046","El Sacrificio (0046)","R","Axtla de Terrazas (053)El Sacrificio (0046)",21.409298,-98.928833999999995,8,"*","*",2,240530046,"SI",null,null,{"$f":"IFERROR(VLOOKUP(CONCATENATE(B504,D504),Padrón_Indígenas!$A$2:$G$988,7,0),\"No\")","v":"No"},{"$f":"VLOOKUP(E504,Cat_Municipios!$D$6:$M$64,11)","v":{"$error":"#REF!"}}]
[24,"053","Axtla_de_Terrazas","0087","El Sacrificio (0087)","R","Axtla de Terrazas (053)El Sacrificio (0087)",21.477898,-98.842757000000006,16,10,6,4,240530087,"SI","Alto","Medio",{"$f":"IFERROR(VLOOKUP(CONCATENATE(B505,D505),Padrón_Indígenas!$A$2:$G$988,7,0),\"No\")","v":"No"},{"$f":"VLOOKUP(E505,Cat_Municipios!$D$6:$M$64,11)","v":{"$error":"#REF!"}}]
[24,"053","Axtla_de_Terrazas","0074","Ensenada (Chalco) (0074)","R","Axtla de Terrazas (053)Ensenada (Chalco) (0074)",21.388701000000001,-98.800967,577,272,305,134,240530074,"SI","Alto","Medio",{"$f":"IFERROR(VLOOKUP(CONCATENATE(B506,D506),Padrón_Indígenas!$A$2:$G$988,7,0),\"No\")","v":"Sí"},{"$f":"VLOOKUP(E506,Cat_Municipios!$D$6:$M$64,11)","v":{"$error":"#REF!"}}]
[24,"053","Axtla_de_Terrazas","0028","Escalante (0028)","R","Axtla de Terrazas (053)Escalante (0028)",21.454203,-98.853070000000002,38,22,16,10,240530028,"SI","Alto","Medio",{"$f":"IFERROR(VLOOKUP(CONCATENATE(B507,D507),Padrón_Indígenas!$A$2:$G$988,7,0),\"No\")","v":"No"},{"$f":"VLOOKUP(E507,Cat_Municipios!$D$6:$M$64,11)","v":{"$error":"#REF!"}}]
[24,"053","Axtla_de_Terrazas","0095","Fracción Ahuehueyo (0095)","R","Axtla de Terrazas (053)Fracción Ahuehueyo (0095)",21.461791999999999,-98.892253999999994,168,88,80,38,240530095,"SI","Alto","Bajo",{"$f":"IFERROR(VLOOKUP(CONCATENATE(B508,D508),Padrón_Indígenas!$A$2:$G$988,7,0),\"No\")","v":"Sí"},{"$f":"VLOOKUP(E508,Cat_Municipios!$D$6:$M$64,11)","v":{"$error":"#REF!"}}]
[24,"053","Axtla_de_Terrazas","0125","Fracción Cuatecoyo (0125)","R","Axtla de Terrazas (053)Fracción Cuatecoyo (0125)",21.462154999999999,-98.863054000000005,0,0,0,0,240530125,null,null,null,{"$f":"IFERROR(VLOOKUP(CONCATENATE(B509,D509),Padrón_Indígenas!$A$2:$G$988,7,0),\"No\")","v":"No"},{"$f":"VLOOKUP(E509,Cat_Municipios!$D$6:$M$64,11)","v":{"$error":"#REF!"}}]
[24,"053","Axtla_de_Terrazas","0094","Fracción el Cerro (0094)","R","Axtla de Terrazas (053)Fracción el Cerro (0094)",21.48366,-98.828325000000007,28,13,15,9,240530094,"SI","Muy alto","Medio",{"$f":"IFERROR(VLOOKUP(CONCATENATE(B510,D510),Padrón_Indígenas!$A$2:$G$988,7,0),\"No\")","v":"Sí"},{"$f":"VLOOKUP(E510,Cat_Municipios!$D$6:$M$64,11)","v":{"$error":"#REF!"}}]
[24,"053","Axtla_de_Terrazas","0093","Fraccionamiento la Purísima (0093)","R","Axtla de Terrazas (053)Fraccionamiento la Purísima (0093)",21.471778,-98.877161000000001,63,32,31,15,240530093,"SI","Alto","Medio",{"$f":"IFERROR(VLOOKUP(CONCATENATE(B511,D511),Padrón_Indígenas!$A$2:$G$988,7,0),\"No\")","v":"Sí"},{"$f":"VLOOKUP(E511,Cat_Municipios!$D$6:$M$64,11)","v":{"$error":"#REF!"}}]
[24,"053","Axtla_de_Terrazas","0103","Hacienda Tampochocho (0103)","R","Axtla de Terrazas (053)Hacienda Tampochocho (0103)",21.491717000000001,-98.861023000000003,0,0,0,0,240530103,null,null,null,{"$f":"IFERROR(VLOOKUP(CONCATENATE(B512,D512),Padrón_Indígenas!$A$2:$G$988,7,0),\"No\")","v":"No"},{"$f":"VLOOKUP(E512,Cat_Municipios!$D$6:$M$64,11)","v":{"$error":"#REF!"}}]
[24,"053","Axtla_de_Terrazas","0031","Jalpilla (0031)","U","Axtla de Terrazas (053)Jalpilla (0031)",21.3947,-98.871573999999995,2479,1203,1276,571,240530031,"SI",null,null,{"$f":"IFERROR(VLOOKUP(CONCATENATE(B513,D513),Padrón_Indígenas!$A$2:$G$988,7,0),\"No\")","v":"No"},{"$f":"VLOOKUP(E513,Cat_Municipios!$D$6:$M$64,11)","v":{"$error":"#REF!"}}]
[24,"053","Axtla_de_Terrazas","0104","Joaquín Jonguitud (0104)","R","Axtla de Terrazas (053)Joaquín Jonguitud (0104)",21.406728999999999,-98.915058999999999,5,"*","*",1,240530104,"SI",null,null,{"$f":"IFERROR(VLOOKUP(CONCATENATE(B514,D514),Padrón_Indígenas!$A$2:$G$988,7,0),\"No\")","v":"No"},{"$f":"VLOOKUP(E514,Cat_Municipios!$D$6:$M$64,11)","v":{"$error":"#REF!"}}]
[24,"053","Axtla_de_Terrazas","0105","Juan José (0105)","R","Axtla de Terrazas (053)Juan José (0105)",21.426566999999999,-98.868553000000006,0,0,0,0,240530105,null,null,null,{"$f":"IFERROR(VLOOKUP(CONCATENATE(B515,D515),Padrón_Indígenas!$A$2:$G$988,7,0),\"No\")","v":"No"},{"$f":"VLOOKUP(E515,Cat_Municipios!$D$6:$M$64,11)","v":{"$error":"#REF!"}}]
[24,"053","Axtla_de_Terrazas","0116","La Ceiba (0116)","R","Axtla de Terrazas (053)La Ceiba (0116)",21.427842999999999,-98.862612999999996,5,"*","*",1,240530116,"SI",null,null,{"$f":"IFERROR(VLOOKUP(CONCATENATE(B516,D516),Padrón_Indígenas!$A$2:$G$988,7,0),\"No\")","v":"Sí"},{"$f":"VLOOKUP(E516,Cat_Municipios!$D$6:$M$64,11)","v":{"$error":"#REF!"}}]
[24,"053","Axtla_de_Terrazas","0117","La Ceiba (Ezequiel Terrazas) (0117)","R","Axtla de Terrazas (053)La Ceiba (Ezequiel Terrazas) (0117)",21.427983000000001,-98.868767000000005,6,"*","*",1,240530117,"SI",null,null,{"$f":"IFERROR(VLOOKUP(CONCATENATE(B517,D517),Padrón_Indígenas!$A$2:$G$988,7,0),\"No\")","v":"Sí"},{"$f":"VLOOKUP(E517,Cat_Municipios!$D$6:$M$64,11)","v":{"$error":"#REF!"}}]
[24,"053","Axtla_de_Terrazas","0070","La Esmeralda (0070)","R","Axtla de Terrazas (053)La Esmeralda (0070)",21.456818999999999,-98.845701000000005,2,"*","*",1,240530070,"SI",null,null,{"$f":"IFERROR(VLOOKUP(CONCATENATE(B518,D518),Padrón_Indígenas!$A$2:$G$988,7,0),\"No\")","v":"No"},{"$f":"VLOOKUP(E518,Cat_Municipios!$D$6:$M$64,11)","v":{"$error":"#REF!"}}]
[24,"053","Axtla_de_Terrazas","0120","La Garita (0120)","R","Axtla de Terrazas (053)La Garita (0120)",21.387578000000001,-98.906422000000006,473,234,239,89,240530120,"SI","Alto","Medio",{"$f":"IFERROR(VLOOKUP(CONCATENATE(B519,D519),Padrón_Indígenas!$A$2:$G$988,7,0),\"No\")","v":"Sí"},{"$f":"VLOOKUP(E519,Cat_Municipios!$D$6:$M$64,11)","v":{"$error":"#REF!"}}]
[24,"053","Axtla_de_Terrazas","0069","La Gloria (0069)","R","Axtla de Terrazas (053)La Gloria (0069)",21.446324000000001,-98.823926999999998,0,0,0,0,240530069,null,null,null,{"$f":"IFERROR(VLOOKUP(CONCATENATE(B520,D520),Padrón_Indígenas!$A$2:$G$988,7,0),\"No\")","v":"No"},{"$f":"VLOOKUP(E520,Cat_Municipios!$D$6:$M$64,11)","v":{"$error":"#REF!"}}]
[24,"053","Axtla_de_Terrazas","0032","La Laja (0032)","R","Axtla de Terrazas (053)La Laja (0032)",21.479367,-98.871498000000003,121,70,51,34,240530032,"SI","Alto","Medio",{"$f":"IFERROR(VLOOKUP(CONCATENATE(B521,D521),Padrón_Indígenas!$A$2:$G$988,7,0),\"No\")","v":"Sí"},{"$f":"VLOOKUP(E521,Cat_Municipios!$D$6:$M$64,11)","v":{"$error":"#REF!"}}]
[24,"053","Axtla_de_Terrazas","0033","La Libertad (Ejido la Libertad) (0033)","R","Axtla de Terrazas (053)La Libertad (Ejido la Libertad) (0033)",21.505769000000001,-98.867838000000006,255,122,133,53,240530033,"SI","Alto","Medio",{"$f":"IFERROR(VLOOKUP(CONCATENATE(B522,D522),Padrón_Indígenas!$A$2:$G$988,7,0),\"No\")","v":"Sí"},{"$f":"VLOOKUP(E522,Cat_Municipios!$D$6:$M$64,11)","v":{"$error":"#REF!"}}]
[24,"053","Axtla_de_Terrazas","0106","La Libertad Segunda Sección (0106)","R","Axtla de Terrazas (053)La Libertad Segunda Sección (0106)",21.486813999999999,-98.846435999999997,64,35,29,13,240530106,"SI","Muy alto","Medio",{"$f":"IFERROR(VLOOKUP(CONCATENATE(B523,D523),Padrón_Indígenas!$A$2:$G$988,7,0),\"No\")","v":"Sí"},{"$f":"VLOOKUP(E523,Cat_Municipios!$D$6:$M$64,11)","v":{"$error":"#REF!"}}]
[24,"053","Axtla_de_Terrazas","0107","La Mora (0107)","R","Axtla de Terrazas (053)La Mora (0107)",21.451514,-98.883742999999996,3,"*","*",1,240530107,"SI",null,null,{"$f":"IFERROR(VLOOKUP(CONCATENATE(B524,D524),Padrón_Indígenas!$A$2:$G$988,7,0),\"No\")","v":"No"},{"$f":"VLOOKUP(E524,Cat_Municipios!$D$6:$M$64,11)","v":{"$error":"#REF!"}}]
[24,"053","Axtla_de_Terrazas","0110","La Noria (0110)","R","Axtla de Terrazas (053)La Noria (0110)",21.423524,-98.855643999999998,8,"*","*",2,240530110,"SI",null,null,{"$f":"IFERROR(VLOOKUP(CONCATENATE(B525,D525),Padrón_Indígenas!$A$2:$G$988,7,0),\"No\")","v":"No"},{"$f":"VLOOKUP(E525,Cat_Municipios!$D$6:$M$64,11)","v":{"$error":"#REF!"}}]
[24,"053","Axtla_de_Terrazas","0043","La Purísima (0043)","R","Axtla de Terrazas (053)La Purísima (0043)",21.463863,-98.894520999999997,628,305,323,136,240530043,"SI","Alto","Medio",{"$f":"IFERROR(VLOOKUP(CONCATENATE(B526,D526),Padrón_Indígenas!$A$2:$G$988,7,0),\"No\")","v":"Sí"},{"$f":"VLOOKUP(E526,Cat_Municipios!$D$6:$M$64,11)","v":{"$error":"#REF!"}}]
[24,"053","Axtla_de_Terrazas","0065","La Purísima (0065)","R","Axtla de Terrazas (053)La Purísima (0065)",21.466691999999998,-98.899860000000004,7,"*","*",2,240530065,null,null,null,{"$f":"IFERROR(VLOOKUP(CONCATENATE(B527,D527),Padrón_Indígenas!$A$2:$G$988,7,0),\"No\")","v":"Sí"},{"$f":"VLOOKUP(E527,Cat_Municipios!$D$6:$M$64,11)","v":{"$error":"#REF!"}}]
[24,"053","Axtla_de_Terrazas","0020","Las Cuevas (0020)","R","Axtla de Terrazas (053)Las Cuevas (0020)",21.363509000000001,-98.874848,766,406,360,169,240530020,"SI","Alto","Medio",{"$f":"IFERROR(VLOOKUP(CONCATENATE(B528,D528),Padrón_Indígenas!$A$2:$G$988,7,0),\"No\")","v":"Sí"},{"$f":"VLOOKUP(E528,Cat_Municipios!$D$6:$M$64,11)","v":{"$error":"#REF!"}}]
[24,"053","Axtla_de_Terrazas","0029","Las Flores (0029)","R","Axtla de Terrazas (053)Las Flores (0029)",21.450876000000001,-98.853994999999998,20,9,11,6,240530029,"SI","Alto","Medio",{"$f":"IFERROR(VLOOKUP(CONCATENATE(B529,D529),Padrón_Indígenas!$A$2:$G$988,7,0),\"No\")","v":"No"},{"$f":"VLOOKUP(E529,Cat_Municipios!$D$6:$M$64,11)","v":{"$error":"#REF!"}}]
[24,"053","Axtla_de_Terrazas","0115","Loma Bonita Choteco (0115)","R","Axtla de Terrazas (053)Loma Bonita Choteco (0115)",21.441901999999999,-98.860619999999997,57,26,31,12,240530115,"SI","Muy alto","Medio",{"$f":"IFERROR(VLOOKUP(CONCATENATE(B530,D530),Padrón_Indígenas!$A$2:$G$988,7,0),\"No\")","v":"No"},{"$f":"VLOOKUP(E530,Cat_Municipios!$D$6:$M$64,11)","v":{"$error":"#REF!"}}]
[24,"053","Axtla_de_Terrazas","0035","Mapaxtla (0035)","R","Axtla de Terrazas (053)Mapaxtla (0035)",21.473966000000001,-98.885834000000003,0,0,0,0,240530035,null,null,null,{"$f":"IFERROR(VLOOKUP(CONCATENATE(B531,D531),Padrón_Indígenas!$A$2:$G$988,7,0),\"No\")","v":"No"},{"$f":"VLOOKUP(E531,Cat_Municipios!$D$6:$M$64,11)","v":{"$error":"#REF!"}}]
[24,"053","Axtla_de_Terrazas","0036","Mapotla (0036)","R","Axtla de Terrazas (053)Mapotla (0036)",21.465107,-98.887298000000001,235,121,114,53,240530036,"SI","Alto","Medio",{"$f":"IFERROR(VLOOKUP(CONCATENATE(B532,D532),Padrón_Indígenas!$A$2:$G$988,7,0),\"No\")","v":"Sí"},{"$f":"VLOOKUP(E532,Cat_Municipios!$D$6:$M$64,11)","v":{"$error":"#REF!"}}]
[24,"053","Axtla_de_Terrazas","0037","Matlalapa (0037)","R","Axtla de Terrazas (053)Matlalapa (0037)",21.431612999999999,-98.894389000000004,220,115,105,50,240530037,"SI","Alto","Medio",{"$f":"IFERROR(VLOOKUP(CONCATENATE(B533,D533),Padrón_Indígenas!$A$2:$G$988,7,0),\"No\")","v":"Sí"},{"$f":"VLOOKUP(E533,Cat_Municipios!$D$6:$M$64,11)","v":{"$error":"#REF!"}}]
[24,"053","Axtla_de_Terrazas","0075","Michotlayo (Chalco) (0075)","R","Axtla de Terrazas (053)Michotlayo (Chalco) (0075)",21.371970999999998,-98.799586000000005,323,156,167,71,240530075,"SI","Alto","Medio",{"$f":"IFERROR(VLOOKUP(CONCATENATE(B534,D534),Padrón_Indígenas!$A$2:$G$988,7,0),\"No\")","v":"No"},{"$f":"VLOOKUP(E534,Cat_Municipios!$D$6:$M$64,11)","v":{"$error":"#REF!"}}]
[24,"053","Axtla_de_Terrazas","0076","Nuevo Ayotoxco (0076)","R","Axtla de Terrazas (053)Nuevo Ayotoxco (0076)",21.456441999999999,-98.841222000000002,570,287,283,138,240530076,"SI","Medio","Bajo",{"$f":"IFERROR(VLOOKUP(CONCATENATE(B535,D535),Padrón_Indígenas!$A$2:$G$988,7,0),\"No\")","v":"Sí"},{"$f":"VLOOKUP(E535,Cat_Municipios!$D$6:$M$64,11)","v":{"$error":"#REF!"}}]
[24,"053","Axtla_de_Terrazas","0030","Ostatitla (0030)","R","Axtla de Terrazas (053)Ostatitla (0030)",21.425149999999999,-98.855002999999996,0,0,0,0,240530030,null,null,null,{"$f":"IFERROR(VLOOKUP(CONCATENATE(B536,D536),Padrón_Indígenas!$A$2:$G$988,7,0),\"No\")","v":"No"},{"$f":"VLOOKUP(E536,Cat_Municipios!$D$6:$M$64,11)","v":{"$error":"#REF!"}}]
[24,"053","Axtla_de_Terrazas","0077","Otlasxuaco (0077)","R","Axtla de Terrazas (053)Otlasxuaco (0077)",21.435174,-98.846648000000002,100,49,51,24,240530077,"SI","Alto","Medio",{"$f":"IFERROR(VLOOKUP(CONCATENATE(B537,D537),Padrón_Indígenas!$A$2:$G$988,7,0),\"No\")","v":"Sí"},{"$f":"VLOOKUP(E537,Cat_Municipios!$D$6:$M$64,11)","v":{"$error":"#REF!"}}]
[24,"053","Axtla_de_Terrazas","0039","Papatlayo (0039)","R","Axtla de Terrazas (053)Papatlayo (0039)",21.451564999999999,-98.907769999999999,96,52,44,21,240530039,"SI","Alto","Medio",{"$f":"IFERROR(VLOOKUP(CONCATENATE(B538,D538),Padrón_Indígenas!$A$2:$G$988,7,0),\"No\")","v":"Sí"},{"$f":"VLOOKUP(E538,Cat_Municipios!$D$6:$M$64,11)","v":{"$error":"#REF!"}}]
[24,"053","Axtla_de_Terrazas","0041","Picholco (0041)","R","Axtla de Terrazas (053)Picholco (0041)",21.387439000000001,-98.852130000000002,1413,707,706,348,240530041,"SI","Medio","Bajo",{"$f":"IFERROR(VLOOKUP(CONCATENATE(B539,D539),Padrón_Indígenas!$A$2:$G$988,7,0),\"No\")","v":"Sí"},{"$f":"VLOOKUP(E539,Cat_Municipios!$D$6:$M$64,11)","v":{"$error":"#REF!"}}]
[24,"053","Axtla_de_Terrazas","0042","Pomoco (0042)","R","Axtla de Terrazas (053)Pomoco (0042)",21.462140999999999,-98.853126000000003,10,5,5,4,240530042,"SI","Alto","Medio",{"$f":"IFERROR(VLOOKUP(CONCATENATE(B540,D540),Padrón_Indígenas!$A$2:$G$988,7,0),\"No\")","v":"No"},{"$f":"VLOOKUP(E540,Cat_Municipios!$D$6:$M$64,11)","v":{"$error":"#REF!"}}]
[24,"053","Axtla_de_Terrazas","0102","Rancho Ahuehueyo (0102)","R","Axtla de Terrazas (053)Rancho Ahuehueyo (0102)",21.455925000000001,-98.882153000000002,10,"*","*",2,240530102,"SI",null,null,{"$f":"IFERROR(VLOOKUP(CONCATENATE(B541,D541),Padrón_Indígenas!$A$2:$G$988,7,0),\"No\")","v":"No"},{"$f":"VLOOKUP(E541,Cat_Municipios!$D$6:$M$64,11)","v":{"$error":"#REF!"}}]
[24,"053","Axtla_de_Terrazas","0127","Rancho Axtlán (0127)","R","Axtla de Terrazas (053)Rancho Axtlán (0127)",21.426514000000001,-98.878536999999994,3,"*","*",1,240530127,null,null,null,{"$f":"IFERROR(VLOOKUP(CONCATENATE(B542,D542),Padrón_Indígenas!$A$2:$G$988,7,0),\"No\")","v":"No"},{"$f":"VLOOKUP(E542,Cat_Municipios!$D$6:$M$64,11)","v":{"$error":"#REF!"}}]
[24,"053","Axtla_de_Terrazas","0016","Rancho Coyocala (0016)","R","Axtla de Terrazas (053)Rancho Coyocala (0016)",21.419767,-98.880369000000002,6,"*","*",1,240530016,"SI",null,null,{"$f":"IFERROR(VLOOKUP(CONCATENATE(B543,D543),Padrón_Indígenas!$A$2:$G$988,7,0),\"No\")","v":"No"},{"$f":"VLOOKUP(E543,Cat_Municipios!$D$6:$M$64,11)","v":{"$error":"#REF!"}}]
[24,"053","Axtla_de_Terrazas","0108","Rancho el Avión (0108)","R","Axtla de Terrazas (053)Rancho el Avión (0108)",21.477499999999999,-98.801666999999995,0,0,0,0,240530108,null,null,null,{"$f":"IFERROR(VLOOKUP(CONCATENATE(B544,D544),Padrón_Indígenas!$A$2:$G$988,7,0),\"No\")","v":"No"},{"$f":"VLOOKUP(E544,Cat_Municipios!$D$6:$M$64,11)","v":{"$error":"#REF!"}}]
[24,"053","Axtla_de_Terrazas","0122","Rancho Huasteco el Pino (0122)","R","Axtla de Terrazas (053)Rancho Huasteco el Pino (0122)",21.464638999999998,-98.851410999999999,0,0,0,0,240530122,null,null,null,{"$f":"IFERROR(VLOOKUP(CONCATENATE(B545,D545),Padrón_Indígenas!$A$2:$G$988,7,0),\"No\")","v":"No"},{"$f":"VLOOKUP(E545,Cat_Municipios!$D$6:$M$64,11)","v":{"$error":"#REF!"}}]
[24,"053","Axtla_de_Terrazas","0111","Rancho las Huastecas (0111)","R","Axtla de Terrazas (053)Rancho las Huastecas (0111)",21.470388,-98.815790000000007,1,"*","*",1,240530111,null,null,null,{"$f":"IFERROR(VLOOKUP(CONCATENATE(B546,D546),Padrón_Indígenas!$A$2:$G$988,7,0),\"No\")","v":"No"},{"$f":"VLOOKUP(E546,Cat_Municipios!$D$6:$M$64,11)","v":{"$error":"#REF!"}}]
[24,"053","Axtla_de_Terrazas","0044","Rancho Nuevo (0044)","R","Axtla de Terrazas (053)Rancho Nuevo (0044)",21.453502,-98.932907,841,404,437,204,240530044,"SI","Alto","Bajo",{"$f":"IFERROR(VLOOKUP(CONCATENATE(B547,D547),Padrón_Indígenas!$A$2:$G$988,7,0),\"No\")","v":"Sí"},{"$f":"VLOOKUP(E547,Cat_Municipios!$D$6:$M$64,11)","v":{"$error":"#REF!"}}]
[24,"053","Axtla_de_Terrazas","0066","Rancho Nuevo (0066)","R","Axtla de Terrazas (053)Rancho Nuevo (0066)",21.487067,-98.822806999999997,6,"*","*",1,240530066,"SI",null,null,{"$f":"IFERROR(VLOOKUP(CONCATENATE(B548,D548),Padrón_Indígenas!$A$2:$G$988,7,0),\"No\")","v":"Sí"},{"$f":"VLOOKUP(E548,Cat_Municipios!$D$6:$M$64,11)","v":{"$error":"#REF!"}}]
[24,"053","Axtla_de_Terrazas","0011","Rancho Tres Hermanos (0011)","R","Axtla de Terrazas (053)Rancho Tres Hermanos (0011)",21.468453,-98.875003000000007,0,0,0,0,240530011,null,null,null,{"$f":"IFERROR(VLOOKUP(CONCATENATE(B549,D549),Padrón_Indígenas!$A$2:$G$988,7,0),\"No\")","v":"No"},{"$f":"VLOOKUP(E549,Cat_Municipios!$D$6:$M$64,11)","v":{"$error":"#REF!"}}]
[24,"053","Axtla_de_Terrazas","0086","Rancho Tres Negro (0086)","R","Axtla de Terrazas (053)Rancho Tres Negro (0086)",21.463346000000001,-98.814321000000007,0,0,0,0,240530086,null,null,null,{"$f":"IFERROR(VLOOKUP(CONCATENATE(B550,D550),Padrón_Indígenas!$A$2:$G$988,7,0),\"No\")","v":"No"},{"$f":"VLOOKUP(E550,Cat_Municipios!$D$6:$M$64,11)","v":{"$error":"#REF!"}}]
[24,"053","Axtla_de_Terrazas","0079","Rancho Viejo (0079)","R","Axtla de Terrazas (053)Rancho Viejo (0079)",21.471926,-98.84451,11,6,5,3,240530079,"SI","Alto","Medio",{"$f":"IFERROR(VLOOKUP(CONCATENATE(B551,D551),Padrón_Indígenas!$A$2:$G$988,7,0),\"No\")","v":"No"},{"$f":"VLOOKUP(E551,Cat_Municipios!$D$6:$M$64,11)","v":{"$error":"#REF!"}}]
[24,"053","Axtla_de_Terrazas","0047","San José (0047)","R","Axtla de Terrazas (053)San José (0047)",21.431058,-98.881810000000002,27,14,13,7,240530047,"SI","Alto","Medio",{"$f":"IFERROR(VLOOKUP(CONCATENATE(B552,D552),Padrón_Indígenas!$A$2:$G$988,7,0),\"No\")","v":"No"},{"$f":"VLOOKUP(E552,Cat_Municipios!$D$6:$M$64,11)","v":{"$error":"#REF!"}}]
[24,"053","Axtla_de_Terrazas","0048","San Miguel (0048)","R","Axtla de Terrazas (053)San Miguel (0048)",21.435521000000001,-98.893733999999995,81,44,37,23,240530048,"SI","Alto","Medio",{"$f":"IFERROR(VLOOKUP(CONCATENATE(B553,D553),Padrón_Indígenas!$A$2:$G$988,7,0),\"No\")","v":"Sí"},{"$f":"VLOOKUP(E553,Cat_Municipios!$D$6:$M$64,11)","v":{"$error":"#REF!"}}]
[24,"053","Axtla_de_Terrazas","0114","Santa Cecilia (Tamoss) (0114)","R","Axtla de Terrazas (053)Santa Cecilia (Tamoss) (0114)",21.419889000000001,-98.878120999999993,6,"*","*",2,240530114,"SI",null,null,{"$f":"IFERROR(VLOOKUP(CONCATENATE(B554,D554),Padrón_Indígenas!$A$2:$G$988,7,0),\"No\")","v":"No"},{"$f":"VLOOKUP(E554,Cat_Municipios!$D$6:$M$64,11)","v":{"$error":"#REF!"}}]
[24,"053","Axtla_de_Terrazas","0049","Santa Fe Texacal (Centro Urbano) (0049)","R","Axtla de Terrazas (053)Santa Fe Texacal (Centro Urbano) (0049)",21.435473999999999,-98.923349000000002,411,209,202,91,240530049,"SI","Alto","Medio",{"$f":"IFERROR(VLOOKUP(CONCATENATE(B555,D555),Padrón_Indígenas!$A$2:$G$988,7,0),\"No\")","v":"Sí"},{"$f":"VLOOKUP(E555,Cat_Municipios!$D$6:$M$64,11)","v":{"$error":"#REF!"}}]
[24,"053","Axtla_de_Terrazas","0050","Santa Rita (0050)","R","Axtla de Terrazas (053)Santa Rita (0050)",21.428737999999999,-98.881984000000003,46,24,22,10,240530050,"SI","Alto","Bajo",{"$f":"IFERROR(VLOOKUP(CONCATENATE(B556,D556),Padrón_Indígenas!$A$2:$G$988,7,0),\"No\")","v":"No"},{"$f":"VLOOKUP(E556,Cat_Municipios!$D$6:$M$64,11)","v":{"$error":"#REF!"}}]
[24,"053","Axtla_de_Terrazas","0051","Santo Tomás (0051)","R","Axtla de Terrazas (053)Santo Tomás (0051)",21.411389,-98.919721999999993,0,0,0,0,240530051,null,null,null,{"$f":"IFERROR(VLOOKUP(CONCATENATE(B557,D557),Padrón_Indígenas!$A$2:$G$988,7,0),\"No\")","v":"No"},{"$f":"VLOOKUP(E557,Cat_Municipios!$D$6:$M$64,11)","v":{"$error":"#REF!"}}]
[24,"053","Axtla_de_Terrazas","0052","Tampochocho (0052)","R","Axtla de Terrazas (053)Tampochocho (0052)",21.490857999999999,-98.871465000000001,952,503,449,216,240530052,"SI","Alto","Medio",{"$f":"IFERROR(VLOOKUP(CONCATENATE(B558,D558),Padrón_Indígenas!$A$2:$G$988,7,0),\"No\")","v":"Sí"},{"$f":"VLOOKUP(E558,Cat_Municipios!$D$6:$M$64,11)","v":{"$error":"#REF!"}}]
[24,"053","Axtla_de_Terrazas","0053","Temalacaco (0053)","R","Axtla de Terrazas (053)Temalacaco (0053)",21.413739,-98.846841999999995,1613,806,807,374,240530053,"SI","Alto","Medio",{"$f":"IFERROR(VLOOKUP(CONCATENATE(B559,D559),Padrón_Indígenas!$A$2:$G$988,7,0),\"No\")","v":"Sí"},{"$f":"VLOOKUP(E559,Cat_Municipios!$D$6:$M$64,11)","v":{"$error":"#REF!"}}]
[24,"053","Axtla_de_Terrazas","0067","Tempixco (Sihuapilco) (0067)","R","Axtla de Terrazas (053)Tempixco (Sihuapilco) (0067)",21.465736,-98.852125999999998,0,0,0,0,240530067,null,null,null,{"$f":"IFERROR(VLOOKUP(CONCATENATE(B560,D560),Padrón_Indígenas!$A$2:$G$988,7,0),\"No\")","v":"No"},{"$f":"VLOOKUP(E560,Cat_Municipios!$D$6:$M$64,11)","v":{"$error":"#REF!"}}]
[24,"053","Axtla_de_Terrazas","0010","Tenexcalco (La Ceiba) (0010)","R","Axtla de Terrazas (053)Tenexcalco (La Ceiba) (0010)",21.388072999999999,-98.904266000000007,1220,628,592,228,240530010,"SI","Alto","Medio",{"$f":"IFERROR(VLOOKUP(CONCATENATE(B561,D561),Padrón_Indígenas!$A$2:$G$988,7,0),\"No\")","v":"Sí"},{"$f":"VLOOKUP(E561,Cat_Municipios!$D$6:$M$64,11)","v":{"$error":"#REF!"}}]
[24,"053","Axtla_de_Terrazas","0055","Tenexio (0055)","R","Axtla de Terrazas (053)Tenexio (0055)",21.376716999999999,-98.879628999999994,1174,594,580,231,240530055,"SI","Alto","Medio",{"$f":"IFERROR(VLOOKUP(CONCATENATE(B562,D562),Padrón_Indígenas!$A$2:$G$988,7,0),\"No\")","v":"Sí"},{"$f":"VLOOKUP(E562,Cat_Municipios!$D$6:$M$64,11)","v":{"$error":"#REF!"}}]
[24,"053","Axtla_de_Terrazas","0068","Tepetlaco (0068)","R","Axtla de Terrazas (053)Tepetlaco (0068)",21.436420999999999,-98.829295999999999,9,"*","*",2,240530068,"SI",null,null,{"$f":"IFERROR(VLOOKUP(CONCATENATE(B563,D563),Padrón_Indígenas!$A$2:$G$988,7,0),\"No\")","v":"No"},{"$f":"VLOOKUP(E563,Cat_Municipios!$D$6:$M$64,11)","v":{"$error":"#REF!"}}]
[24,"053","Axtla_de_Terrazas","0056","Texacal (0056)","R","Axtla de Terrazas (053)Texacal (0056)",21.403801000000001,-98.9255,12,"*","*",2,240530056,"SI",null,null,{"$f":"IFERROR(VLOOKUP(CONCATENATE(B564,D564),Padrón_Indígenas!$A$2:$G$988,7,0),\"No\")","v":"No"},{"$f":"VLOOKUP(E564,Cat_Municipios!$D$6:$M$64,11)","v":{"$error":"#REF!"}}]
[24,"053","Axtla_de_Terrazas","0007","Viejo Ayotoxco (0007)","R","Axtla de Terrazas (053)Viejo Ayotoxco (0007)",21.431469,-98.854507999999996,210,107,103,44,240530007,"SI","Alto","Medio",{"$f":"IFERROR(VLOOKUP(CONCATENATE(B565,D565),Padrón_Indígenas!$A$2:$G$988,7,0),\"No\")","v":"No"},{"$f":"VLOOKUP(E565,Cat_Municipios!$D$6:$M$64,11)","v":{"$error":"#REF!"}}]
[24,"053","Axtla_de_Terrazas","0129","Xochititla (0129)","R","Axtla de Terrazas (053)Xochititla (0129)",21.433430000000001,-98.862958000000006,11,"*","*",1,240530129,"SI",null,null,{"$f":"IFERROR(VLOOKUP(CONCATENATE(B566,D566),Padrón_Indígenas!$A$2:$G$988,7,0),\"No\")","v":"No"},{"$f":"VLOOKUP(E566,Cat_Municipios!$D$6:$M$64,11)","v":{"$error":"#REF!"}}]
[24,"053","Axtla_de_Terrazas","0080","Xocoyo (Chalco) (0080)","R","Axtla de Terrazas (053)Xocoyo (Chalco) (0080)",21.389565999999999,-98.817083999999994,439,214,225,106,240530080,"SI","Alto","Medio",{"$f":"IFERROR(VLOOKUP(CONCATENATE(B567,D567),Padrón_Indígenas!$A$2:$G$988,7,0),\"No\")","v":"Sí"},{"$f":"VLOOKUP(E567,Cat_Municipios!$D$6:$M$64,11)","v":{"$error":"#REF!"}}]
[24,"053","Axtla_de_Terrazas","0059","Xoloco (0059)","R","Axtla de Terrazas (053)Xoloco (0059)",21.470950999999999,-98.896021000000005,654,311,343,153,240530059,"SI","Alto","Medio",{"$f":"IFERROR(VLOOKUP(CONCATENATE(B568,D568),Padrón_Indígenas!$A$2:$G$988,7,0),\"No\")","v":"Sí"},{"$f":"VLOOKUP(E568,Cat_Municipios!$D$6:$M$64,11)","v":{"$error":"#REF!"}}]
[24,"053","Axtla_de_Terrazas","0060","Zacayuhual (0060)","R","Axtla de Terrazas (053)Zacayuhual (0060)",21.459174000000001,-98.864617999999993,111,61,50,24,240530060,"SI","Alto","Medio",{"$f":"IFERROR(VLOOKUP(CONCATENATE(B569,D569),Padrón_Indígenas!$A$2:$G$988,7,0),\"No\")","v":"Sí"},{"$f":"VLOOKUP(E569,Cat_Municipios!$D$6:$M$64,11)","v":{"$error":"#REF!"}}]
[24,"053","Axtla_de_Terrazas","0081","Zojualo (Chalco) (0081)","R","Axtla de Terrazas (053)Zojualo (Chalco) (0081)",21.392996,-98.816198999999997,323,160,163,69,240530081,"SI","Alto","Medio",{"$f":"IFERROR(VLOOKUP(CONCATENATE(B570,D570),Padrón_Indígenas!$A$2:$G$988,7,0),\"No\")","v":"Sí"},{"$f":"VLOOKUP(E570,Cat_Municipios!$D$6:$M$64,11)","v":{"$error":"#REF!"}}]
[24,"053","Axtla_de_Terrazas",null,"Todo el municipio ",null,"Axtla de Terrazas (053)Todo el municipio ",null,null,{"$f":"SUM(J458:J570)","v":33224}]
[24,"005","Cárdenas","0043","Abel Calderón (0043)","R","Cárdenas (005)Abel Calderón (0043)",21.944721999999999,-99.698333000000005,0,0,0,0,240050043,null,null,null,{"$f":"IFERROR(VLOOKUP(CONCATENATE(B572,D572),Padrón_Indígenas!$A$2:$G$988,7,0),\"No\")","v":"No"},{"$f":"VLOOKUP(E572,Cat_Municipios!$D$6:$M$64,11)","v":{"$error":"#N/A"}}]
[24,"005","Cárdenas","0023","Agua Zarca (0023)","R","Cárdenas (005)Agua Zarca (0023)",21.939457999999998,-99.716055999999995,2,"*","*",1,240050023,null,null,null,{"$f":"IFERROR(VLOOKUP(CONCATENATE(B573,D573),Padrón_Indígenas!$A$2:$G$988,7,0),\"No\")","v":"No"},{"$f":"VLOOKUP(E573,Cat_Municipios!$D$6:$M$64,11)","v":{"$error":"#N/A"}}]
[24,"005","Cárdenas","0092","Anexo la Atarjea (0092)","R","Cárdenas (005)Anexo la Atarjea (0092)",21.985368000000001,-99.661949000000007,4,"*","*",2,240050092,null,null,null,{"$f":"IFERROR(VLOOKUP(CONCATENATE(B574,D574),Padrón_Indígenas!$A$2:$G$988,7,0),\"No\")","v":"No"},{"$f":"VLOOKUP(E574,Cat_Municipios!$D$6:$M$64,11)","v":{"$error":"#REF!"}}]
[24,"005","Cárdenas","0034","Arroyo del Tabaco (0034)","R","Cárdenas (005)Arroyo del Tabaco (0034)",22.041720000000002,-99.636898000000002,12,"*","*",2,240050034,null,null,null,{"$f":"IFERROR(VLOOKUP(CONCATENATE(B575,D575),Padrón_Indígenas!$A$2:$G$988,7,0),\"No\")","v":"No"},{"$f":"VLOOKUP(E575,Cat_Municipios!$D$6:$M$64,11)","v":{"$error":"#REF!"}}]
[24,"005","Cárdenas","0044","Bernardo Vargas Gámez (0044)","R","Cárdenas (005)Bernardo Vargas Gámez (0044)",21.989706000000002,-99.705393000000001,0,0,0,0,240050044,null,null,null,{"$f":"IFERROR(VLOOKUP(CONCATENATE(B576,D576),Padrón_Indígenas!$A$2:$G$988,7,0),\"No\")","v":"No"},{"$f":"VLOOKUP(E576,Cat_Municipios!$D$6:$M$64,11)","v":{"$error":"#REF!"}}]
[24,"005","Cárdenas","0005","Bugambilia (0005)","R","Cárdenas (005)Bugambilia (0005)",21.978971000000001,-99.746362000000005,3,"*","*",1,240050005,null,null,null,{"$f":"IFERROR(VLOOKUP(CONCATENATE(B577,D577),Padrón_Indígenas!$A$2:$G$988,7,0),\"No\")","v":"No"},{"$f":"VLOOKUP(E577,Cat_Municipios!$D$6:$M$64,11)","v":{"$error":"#REF!"}}]
[24,"005","Cárdenas","0007","Cañada de Pastores (0007)","R","Cárdenas (005)Cañada de Pastores (0007)",21.971508,-99.611334999999997,243,110,133,61,240050007,null,"Alto","Medio",{"$f":"IFERROR(VLOOKUP(CONCATENATE(B578,D578),Padrón_Indígenas!$A$2:$G$988,7,0),\"No\")","v":"No"},{"$f":"VLOOKUP(E578,Cat_Municipios!$D$6:$M$64,11)","v":{"$error":"#REF!"}}]
[24,"005","Cárdenas","0001","Cárdenas (0001)","U","Cárdenas (005)Cárdenas (0001)",22.000903999999998,-99.642505,15469,7371,8098,3958,240050001,"SI",null,null,{"$f":"IFERROR(VLOOKUP(CONCATENATE(B579,D579),Padrón_Indígenas!$A$2:$G$988,7,0),\"No\")","v":"No"},{"$f":"VLOOKUP(E579,Cat_Municipios!$D$6:$M$64,11)","v":{"$error":"#REF!"}}]
[24,"005","Cárdenas","0068","Cárdenas (Olegario Castro) (0068)","R","Cárdenas (005)Cárdenas (Olegario Castro) (0068)",21.996210999999999,-99.627686999999995,0,0,0,0,240050068,null,null,null,{"$f":"IFERROR(VLOOKUP(CONCATENATE(B580,D580),Padrón_Indígenas!$A$2:$G$988,7,0),\"No\")","v":"No"},{"$f":"VLOOKUP(E580,Cat_Municipios!$D$6:$M$64,11)","v":{"$error":"#REF!"}}]
[24,"005","Cárdenas","0047","Cirilo Mendoza Díaz (0047)","R","Cárdenas (005)Cirilo Mendoza Díaz (0047)",22.089565,-99.714725999999999,0,0,0,0,240050047,null,null,null,{"$f":"IFERROR(VLOOKUP(CONCATENATE(B581,D581),Padrón_Indígenas!$A$2:$G$988,7,0),\"No\")","v":"No"},{"$f":"VLOOKUP(E581,Cat_Municipios!$D$6:$M$64,11)","v":{"$error":"#REF!"}}]
[24,"005","Cárdenas","0014","Colonia Agrícola el Naranjo (0014)","R","Cárdenas (005)Colonia Agrícola el Naranjo (0014)",21.996959,-99.541308000000001,260,139,121,70,240050014,null,"Alto","Bajo",{"$f":"IFERROR(VLOOKUP(CONCATENATE(B582,D582),Padrón_Indígenas!$A$2:$G$988,7,0),\"No\")","v":"No"},{"$f":"VLOOKUP(E582,Cat_Municipios!$D$6:$M$64,11)","v":{"$error":"#REF!"}}]
[24,"005","Cárdenas","0002","El Aguaje (0002)","R","Cárdenas (005)El Aguaje (0002)",22.029464999999998,-99.634321,462,244,218,128,240050002,null,"Alto","Bajo",{"$f":"IFERROR(VLOOKUP(CONCATENATE(B583,D583),Padrón_Indígenas!$A$2:$G$988,7,0),\"No\")","v":"No"},{"$f":"VLOOKUP(E583,Cat_Municipios!$D$6:$M$64,11)","v":{"$error":"#REF!"}}]
[24,"005","Cárdenas","0027","El Alazán (0027)","R","Cárdenas (005)El Alazán (0027)",22.048586,-99.750069999999994,0,0,0,0,240050027,null,null,null,{"$f":"IFERROR(VLOOKUP(CONCATENATE(B584,D584),Padrón_Indígenas!$A$2:$G$988,7,0),\"No\")","v":"No"},{"$f":"VLOOKUP(E584,Cat_Municipios!$D$6:$M$64,11)","v":{"$error":"#REF!"}}]
[24,"005","Cárdenas","0046","El Charco (0046)","R","Cárdenas (005)El Charco (0046)",22.118701999999999,-99.698447999999999,0,0,0,0,240050046,null,null,null,{"$f":"IFERROR(VLOOKUP(CONCATENATE(B585,D585),Padrón_Indígenas!$A$2:$G$988,7,0),\"No\")","v":"No"},{"$f":"VLOOKUP(E585,Cat_Municipios!$D$6:$M$64,11)","v":{"$error":"#REF!"}}]
[24,"005","Cárdenas","0041","El Derramadero (0041)","R","Cárdenas (005)El Derramadero (0041)",22.02,-99.655833000000001,8,"*","*",1,240050041,null,null,null,{"$f":"IFERROR(VLOOKUP(CONCATENATE(B586,D586),Padrón_Indígenas!$A$2:$G$988,7,0),\"No\")","v":"No"},{"$f":"VLOOKUP(E586,Cat_Municipios!$D$6:$M$64,11)","v":{"$error":"#REF!"}}]
[24,"005","Cárdenas","0029","El Duraznillo (0029)","R","Cárdenas (005)El Duraznillo (0029)",22.036183000000001,-99.731763999999998,0,0,0,0,240050029,null,null,null,{"$f":"IFERROR(VLOOKUP(CONCATENATE(B587,D587),Padrón_Indígenas!$A$2:$G$988,7,0),\"No\")","v":"No"},{"$f":"VLOOKUP(E587,Cat_Municipios!$D$6:$M$64,11)","v":{"$error":"#REF!"}}]
[24,"005","Cárdenas","0051","El Mirador (0051)","R","Cárdenas (005)El Mirador (0051)",22.042221999999999,-99.76,0,0,0,0,240050051,null,null,null,{"$f":"IFERROR(VLOOKUP(CONCATENATE(B588,D588),Padrón_Indígenas!$A$2:$G$988,7,0),\"No\")","v":"No"},{"$f":"VLOOKUP(E588,Cat_Municipios!$D$6:$M$64,11)","v":{"$error":"#REF!"}}]
[24,"005","Cárdenas","0079","El Mirador (Pozo Número Uno) (0079)","R","Cárdenas (005)El Mirador (Pozo Número Uno) (0079)",21.996901000000001,-99.659953999999999,0,0,0,0,240050079,null,null,null,{"$f":"IFERROR(VLOOKUP(CONCATENATE(B589,D589),Padrón_Indígenas!$A$2:$G$988,7,0),\"No\")","v":"No"},{"$f":"VLOOKUP(E589,Cat_Municipios!$D$6:$M$64,11)","v":{"$error":"#REF!"}}]
[24,"005","Cárdenas","0013","El Naranjo (0013)","R","Cárdenas (005)El Naranjo (0013)",21.967872,-99.543605999999997,94,43,51,29,240050013,null,"Alto","Medio",{"$f":"IFERROR(VLOOKUP(CONCATENATE(B590,D590),Padrón_Indígenas!$A$2:$G$988,7,0),\"No\")","v":"No"},{"$f":"VLOOKUP(E590,Cat_Municipios!$D$6:$M$64,11)","v":{"$error":"#REF!"}}]
[24,"005","Cárdenas","0037","El Palo Alto (0037)","R","Cárdenas (005)El Palo Alto (0037)",22.034821999999998,-99.621976000000004,8,5,3,3,240050037,null,"Muy alto","Muy alto",{"$f":"IFERROR(VLOOKUP(CONCATENATE(B591,D591),Padrón_Indígenas!$A$2:$G$988,7,0),\"No\")","v":"No"},{"$f":"VLOOKUP(E591,Cat_Municipios!$D$6:$M$64,11)","v":{"$error":"#REF!"}}]
[24,"005","Cárdenas","0073","El Ranchito (0073)","R","Cárdenas (005)El Ranchito (0073)",21.949891000000001,-99.544686999999996,6,"*","*",1,240050073,null,null,null,{"$f":"IFERROR(VLOOKUP(CONCATENATE(B592,D592),Padrón_Indígenas!$A$2:$G$988,7,0),\"No\")","v":"No"},{"$f":"VLOOKUP(E592,Cat_Municipios!$D$6:$M$64,11)","v":{"$error":"#REF!"}}]
[24,"005","Cárdenas","0020","El Remigio (0020)","R","Cárdenas (005)El Remigio (0020)",22.058785,-99.770717000000005,0,0,0,0,240050020,null,null,null,{"$f":"IFERROR(VLOOKUP(CONCATENATE(B593,D593),Padrón_Indígenas!$A$2:$G$988,7,0),\"No\")","v":"No"},{"$f":"VLOOKUP(E593,Cat_Municipios!$D$6:$M$64,11)","v":{"$error":"#REF!"}}]
[24,"005","Cárdenas","0039","El Salitrillo (0039)","R","Cárdenas (005)El Salitrillo (0039)",22.046875,-99.702325999999999,0,0,0,0,240050039,null,null,null,{"$f":"IFERROR(VLOOKUP(CONCATENATE(B594,D594),Padrón_Indígenas!$A$2:$G$988,7,0),\"No\")","v":"No"},{"$f":"VLOOKUP(E594,Cat_Municipios!$D$6:$M$64,11)","v":{"$error":"#REF!"}}]
[24,"005","Cárdenas","0088","El Trompillal (0088)","R","Cárdenas (005)El Trompillal (0088)",22.013097999999999,-99.635265000000004,16,10,6,4,240050088,null,"Muy alto","Alto",{"$f":"IFERROR(VLOOKUP(CONCATENATE(B595,D595),Padrón_Indígenas!$A$2:$G$988,7,0),\"No\")","v":"No"},{"$f":"VLOOKUP(E595,Cat_Municipios!$D$6:$M$64,11)","v":{"$error":"#REF!"}}]
[24,"005","Cárdenas","0022","El Tulillo (0022)","R","Cárdenas (005)El Tulillo (0022)",22.023429,-99.603509000000003,23,12,11,4,240050022,null,"Alto","Medio",{"$f":"IFERROR(VLOOKUP(CONCATENATE(B596,D596),Padrón_Indígenas!$A$2:$G$988,7,0),\"No\")","v":"No"},{"$f":"VLOOKUP(E596,Cat_Municipios!$D$6:$M$64,11)","v":{"$error":"#REF!"}}]
[24,"005","Cárdenas","0021","El Vaquero (0021)","R","Cárdenas (005)El Vaquero (0021)",22.068439999999999,-99.740673999999999,5,3,2,3,240050021,null,"Muy alto","Muy alto",{"$f":"IFERROR(VLOOKUP(CONCATENATE(B597,D597),Padrón_Indígenas!$A$2:$G$988,7,0),\"No\")","v":"No"},{"$f":"VLOOKUP(E597,Cat_Municipios!$D$6:$M$64,11)","v":{"$error":"#REF!"}}]
[24,"005","Cárdenas","0048","Epifanio Guzmán (0048)","R","Cárdenas (005)Epifanio Guzmán (0048)",22.043061999999999,-99.692368999999999,1,"*","*",1,240050048,null,null,null,{"$f":"IFERROR(VLOOKUP(CONCATENATE(B598,D598),Padrón_Indígenas!$A$2:$G$988,7,0),\"No\")","v":"No"},{"$f":"VLOOKUP(E598,Cat_Municipios!$D$6:$M$64,11)","v":{"$error":"#REF!"}}]
[24,"005","Cárdenas","0090","Familia Lozano (0090)","R","Cárdenas (005)Familia Lozano (0090)",21.999739000000002,-99.672970000000007,0,0,0,0,240050090,null,null,null,{"$f":"IFERROR(VLOOKUP(CONCATENATE(B599,D599),Padrón_Indígenas!$A$2:$G$988,7,0),\"No\")","v":"No"},{"$f":"VLOOKUP(E599,Cat_Municipios!$D$6:$M$64,11)","v":{"$error":"#REF!"}}]
[24,"005","Cárdenas","0077","Flavio Contreras (0077)","R","Cárdenas (005)Flavio Contreras (0077)",22.027221999999998,-99.646944000000005,0,0,0,0,240050077,null,null,null,{"$f":"IFERROR(VLOOKUP(CONCATENATE(B600,D600),Padrón_Indígenas!$A$2:$G$988,7,0),\"No\")","v":"No"},{"$f":"VLOOKUP(E600,Cat_Municipios!$D$6:$M$64,11)","v":{"$error":"#REF!"}}]
[24,"005","Cárdenas","0091","Granja María Dolores (0091)","R","Cárdenas (005)Granja María Dolores (0091)",21.997077000000001,-99.664224000000004,0,0,0,0,240050091,null,null,null,{"$f":"IFERROR(VLOOKUP(CONCATENATE(B601,D601),Padrón_Indígenas!$A$2:$G$988,7,0),\"No\")","v":"No"},{"$f":"VLOOKUP(E601,Cat_Municipios!$D$6:$M$64,11)","v":{"$error":"#REF!"}}]
[24,"005","Cárdenas","0008","Higinio Olivo (La Labor) (0008)","R","Cárdenas (005)Higinio Olivo (La Labor) (0008)",21.984173999999999,-99.577589000000003,1203,593,610,365,240050008,"SI","Alto","Bajo",{"$f":"IFERROR(VLOOKUP(CONCATENATE(B602,D602),Padrón_Indígenas!$A$2:$G$988,7,0),\"No\")","v":"No"},{"$f":"VLOOKUP(E602,Cat_Municipios!$D$6:$M$64,11)","v":{"$error":"#REF!"}}]
[24,"005","Cárdenas","0093","Isabel Gómez (0093)","R","Cárdenas (005)Isabel Gómez (0093)",22.011944,-99.627222000000003,0,0,0,0,240050093,null,null,null,{"$f":"IFERROR(VLOOKUP(CONCATENATE(B603,D603),Padrón_Indígenas!$A$2:$G$988,7,0),\"No\")","v":"No"},{"$f":"VLOOKUP(E603,Cat_Municipios!$D$6:$M$64,11)","v":{"$error":"#REF!"}}]
[24,"005","Cárdenas","0075","La Atarjea (Pozo Número Dos) (0075)","R","Cárdenas (005)La Atarjea (Pozo Número Dos) (0075)",21.987929999999999,-99.658499000000006,0,0,0,0,240050075,null,null,null,{"$f":"IFERROR(VLOOKUP(CONCATENATE(B604,D604),Padrón_Indígenas!$A$2:$G$988,7,0),\"No\")","v":"No"},{"$f":"VLOOKUP(E604,Cat_Municipios!$D$6:$M$64,11)","v":{"$error":"#REF!"}}]
[24,"005","Cárdenas","0076","La Borreguita (0076)","R","Cárdenas (005)La Borreguita (0076)",22.066531000000001,-99.674127999999996,2,"*","*",1,240050076,null,null,null,{"$f":"IFERROR(VLOOKUP(CONCATENATE(B605,D605),Padrón_Indígenas!$A$2:$G$988,7,0),\"No\")","v":"No"},{"$f":"VLOOKUP(E605,Cat_Municipios!$D$6:$M$64,11)","v":{"$error":"#REF!"}}]
[24,"005","Cárdenas","0045","La Capilla (0045)","R","Cárdenas (005)La Capilla (0045)",22.079764000000001,-99.719209000000006,0,0,0,0,240050045,null,null,null,{"$f":"IFERROR(VLOOKUP(CONCATENATE(B606,D606),Padrón_Indígenas!$A$2:$G$988,7,0),\"No\")","v":"No"},{"$f":"VLOOKUP(E606,Cat_Municipios!$D$6:$M$64,11)","v":{"$error":"#REF!"}}]
[24,"005","Cárdenas","0036","La Cinta (0036)","R","Cárdenas (005)La Cinta (0036)",22.101376999999999,-99.713498999999999,2,"*","*",1,240050036,null,null,null,{"$f":"IFERROR(VLOOKUP(CONCATENATE(B607,D607),Padrón_Indígenas!$A$2:$G$988,7,0),\"No\")","v":"No"},{"$f":"VLOOKUP(E607,Cat_Municipios!$D$6:$M$64,11)","v":{"$error":"#REF!"}}]
[24,"005","Cárdenas","0015","La Noria (0015)","R","Cárdenas (005)La Noria (0015)",21.981733999999999,-99.725988000000001,327,169,158,75,240050015,"SI","Alto","Bajo",{"$f":"IFERROR(VLOOKUP(CONCATENATE(B608,D608),Padrón_Indígenas!$A$2:$G$988,7,0),\"No\")","v":"No"},{"$f":"VLOOKUP(E608,Cat_Municipios!$D$6:$M$64,11)","v":{"$error":"#REF!"}}]
[24,"005","Cárdenas","0056","La Piedad (0056)","R","Cárdenas (005)La Piedad (0056)",21.937334,-99.722279,0,0,0,0,240050056,null,null,null,{"$f":"IFERROR(VLOOKUP(CONCATENATE(B609,D609),Padrón_Indígenas!$A$2:$G$988,7,0),\"No\")","v":"No"},{"$f":"VLOOKUP(E609,Cat_Municipios!$D$6:$M$64,11)","v":{"$error":"#REF!"}}]
[24,"005","Cárdenas","0080","La Pista (0080)","R","Cárdenas (005)La Pista (0080)",21.997668999999998,-99.606487000000001,0,0,0,0,240050080,null,null,null,{"$f":"IFERROR(VLOOKUP(CONCATENATE(B610,D610),Padrón_Indígenas!$A$2:$G$988,7,0),\"No\")","v":"No"},{"$f":"VLOOKUP(E610,Cat_Municipios!$D$6:$M$64,11)","v":{"$error":"#REF!"}}]
[24,"005","Cárdenas","0083","La Puerta [Potrero los Desmontes] (0083)","R","Cárdenas (005)La Puerta [Potrero los Desmontes] (0083)",21.951111000000001,-99.676666999999995,0,0,0,0,240050083,null,null,null,{"$f":"IFERROR(VLOOKUP(CONCATENATE(B611,D611),Padrón_Indígenas!$A$2:$G$988,7,0),\"No\")","v":"No"},{"$f":"VLOOKUP(E611,Cat_Municipios!$D$6:$M$64,11)","v":{"$error":"#REF!"}}]
[24,"005","Cárdenas","0062","La Puerta de la Esperanza (0062)","R","Cárdenas (005)La Puerta de la Esperanza (0062)",22.028333,-99.689443999999995,0,0,0,0,240050062,null,null,null,{"$f":"IFERROR(VLOOKUP(CONCATENATE(B612,D612),Padrón_Indígenas!$A$2:$G$988,7,0),\"No\")","v":"No"},{"$f":"VLOOKUP(E612,Cat_Municipios!$D$6:$M$64,11)","v":{"$error":"#REF!"}}]
[24,"005","Cárdenas","0009","Lagunitas (0009)","R","Cárdenas (005)Lagunitas (0009)",21.944613,-99.542868999999996,2,"*","*",1,240050009,null,null,null,{"$f":"IFERROR(VLOOKUP(CONCATENATE(B613,D613),Padrón_Indígenas!$A$2:$G$988,7,0),\"No\")","v":"No"},{"$f":"VLOOKUP(E613,Cat_Municipios!$D$6:$M$64,11)","v":{"$error":"#REF!"}}]
[24,"005","Cárdenas","0006","Las Canoas (0006)","R","Cárdenas (005)Las Canoas (0006)",21.947842000000001,-99.510947999999999,225,100,125,62,240050006,"SI","Alto","Muy bajo",{"$f":"IFERROR(VLOOKUP(CONCATENATE(B614,D614),Padrón_Indígenas!$A$2:$G$988,7,0),\"No\")","v":"No"},{"$f":"VLOOKUP(E614,Cat_Municipios!$D$6:$M$64,11)","v":{"$error":"#REF!"}}]
[24,"005","Cárdenas","0011","Las Lomas (0011)","R","Cárdenas (005)Las Lomas (0011)",21.943038000000001,-99.517932999999999,34,14,20,10,240050011,null,"Alto","Medio",{"$f":"IFERROR(VLOOKUP(CONCATENATE(B615,D615),Padrón_Indígenas!$A$2:$G$988,7,0),\"No\")","v":"No"},{"$f":"VLOOKUP(E615,Cat_Municipios!$D$6:$M$64,11)","v":{"$error":"#REF!"}}]
[24,"005","Cárdenas","0052","Las Moras (0052)","R","Cárdenas (005)Las Moras (0052)",21.977786999999999,-99.634136999999996,0,0,0,0,240050052,null,null,null,{"$f":"IFERROR(VLOOKUP(CONCATENATE(B616,D616),Padrón_Indígenas!$A$2:$G$988,7,0),\"No\")","v":"No"},{"$f":"VLOOKUP(E616,Cat_Municipios!$D$6:$M$64,11)","v":{"$error":"#REF!"}}]
[24,"005","Cárdenas","0054","Las Peñitas (0054)","R","Cárdenas (005)Las Peñitas (0054)",21.928056000000002,-99.707499999999996,0,0,0,0,240050054,null,null,null,{"$f":"IFERROR(VLOOKUP(CONCATENATE(B617,D617),Padrón_Indígenas!$A$2:$G$988,7,0),\"No\")","v":"No"},{"$f":"VLOOKUP(E617,Cat_Municipios!$D$6:$M$64,11)","v":{"$error":"#REF!"}}]
[24,"005","Cárdenas","0010","Lobos (0010)","R","Cárdenas (005)Lobos (0010)",21.950230999999999,-99.642825999999999,384,200,184,92,240050010,null,"Alto","Bajo",{"$f":"IFERROR(VLOOKUP(CONCATENATE(B618,D618),Padrón_Indígenas!$A$2:$G$988,7,0),\"No\")","v":"No"},{"$f":"VLOOKUP(E618,Cat_Municipios!$D$6:$M$64,11)","v":{"$error":"#REF!"}}]
[24,"005","Cárdenas","0040","Los Desmontes (0040)","R","Cárdenas (005)Los Desmontes (0040)",21.942174999999999,-99.706112000000005,1,"*","*",1,240050040,null,null,null,{"$f":"IFERROR(VLOOKUP(CONCATENATE(B619,D619),Padrón_Indígenas!$A$2:$G$988,7,0),\"No\")","v":"No"},{"$f":"VLOOKUP(E619,Cat_Municipios!$D$6:$M$64,11)","v":{"$error":"#REF!"}}]
[24,"005","Cárdenas","0063","Los Tachos (0063)","R","Cárdenas (005)Los Tachos (0063)",22.049800999999999,-99.715862999999999,0,0,0,0,240050063,null,null,null,{"$f":"IFERROR(VLOOKUP(CONCATENATE(B620,D620),Padrón_Indígenas!$A$2:$G$988,7,0),\"No\")","v":"No"},{"$f":"VLOOKUP(E620,Cat_Municipios!$D$6:$M$64,11)","v":{"$error":"#REF!"}}]
[24,"005","Cárdenas","0012","Miramar (0012)","R","Cárdenas (005)Miramar (0012)",21.954671999999999,-99.529261000000005,3,"*","*",2,240050012,null,null,null,{"$f":"IFERROR(VLOOKUP(CONCATENATE(B621,D621),Padrón_Indígenas!$A$2:$G$988,7,0),\"No\")","v":"No"},{"$f":"VLOOKUP(E621,Cat_Municipios!$D$6:$M$64,11)","v":{"$error":"#REF!"}}]
[24,"005","Cárdenas","0053","Narciso Linares (0053)","R","Cárdenas (005)Narciso Linares (0053)",22.051964999999999,-99.721132999999995,1,"*","*",1,240050053,null,null,null,{"$f":"IFERROR(VLOOKUP(CONCATENATE(B622,D622),Padrón_Indígenas!$A$2:$G$988,7,0),\"No\")","v":"No"},{"$f":"VLOOKUP(E622,Cat_Municipios!$D$6:$M$64,11)","v":{"$error":"#REF!"}}]
[24,"005","Cárdenas","0094","Ninguno (0094)","R","Cárdenas (005)Ninguno (0094)",22.006530000000001,-99.631656000000007,"-","-","-","-",240050094,null,null,null,{"$f":"IFERROR(VLOOKUP(CONCATENATE(B623,D623),Padrón_Indígenas!$A$2:$G$988,7,0),\"No\")","v":"No"},{"$f":"VLOOKUP(E623,Cat_Municipios!$D$6:$M$64,11)","v":{"$error":"#REF!"}}]
[24,"005","Cárdenas","0095","Ninguno (0095)","R","Cárdenas (005)Ninguno (0095)",22.002875,-99.632412000000002,"-","-","-","-",240050095,null,null,null,{"$f":"IFERROR(VLOOKUP(CONCATENATE(B624,D624),Padrón_Indígenas!$A$2:$G$988,7,0),\"No\")","v":"No"},{"$f":"VLOOKUP(E624,Cat_Municipios!$D$6:$M$64,11)","v":{"$error":"#REF!"}}]
[24,"005","Cárdenas","0050","Ninguno [Estación de Microondas] (0050)","R","Cárdenas (005)Ninguno [Estación de Microondas] (0050)",21.964309,-99.636967999999996,0,0,0,0,240050050,null,null,null,{"$f":"IFERROR(VLOOKUP(CONCATENATE(B625,D625),Padrón_Indígenas!$A$2:$G$988,7,0),\"No\")","v":"No"},{"$f":"VLOOKUP(E625,Cat_Municipios!$D$6:$M$64,11)","v":{"$error":"#REF!"}}]
[24,"005","Cárdenas","0017","Pantano (0017)","R","Cárdenas (005)Pantano (0017)",21.933333000000001,-99.755832999999996,132,61,71,40,240050017,null,"Medio","Bajo",{"$f":"IFERROR(VLOOKUP(CONCATENATE(B626,D626),Padrón_Indígenas!$A$2:$G$988,7,0),\"No\")","v":"No"},{"$f":"VLOOKUP(E626,Cat_Municipios!$D$6:$M$64,11)","v":{"$error":"#REF!"}}]
[24,"005","Cárdenas","0072","Pascual Rodríguez (0072)","R","Cárdenas (005)Pascual Rodríguez (0072)",21.966414,-99.645144000000002,3,"*","*",1,240050072,null,null,null,{"$f":"IFERROR(VLOOKUP(CONCATENATE(B627,D627),Padrón_Indígenas!$A$2:$G$988,7,0),\"No\")","v":"No"},{"$f":"VLOOKUP(E627,Cat_Municipios!$D$6:$M$64,11)","v":{"$error":"#REF!"}}]
[24,"005","Cárdenas","0057","Potrero de la Tinajilla (0057)","R","Cárdenas (005)Potrero de la Tinajilla (0057)",22.004566000000001,-99.664539000000005,1,"*","*",1,240050057,null,null,null,{"$f":"IFERROR(VLOOKUP(CONCATENATE(B628,D628),Padrón_Indígenas!$A$2:$G$988,7,0),\"No\")","v":"No"},{"$f":"VLOOKUP(E628,Cat_Municipios!$D$6:$M$64,11)","v":{"$error":"#REF!"}}]
[24,"005","Cárdenas","0033","Potrero de las Ánimas (0033)","R","Cárdenas (005)Potrero de las Ánimas (0033)",22.017999,-99.665075000000002,0,0,0,0,240050033,null,null,null,{"$f":"IFERROR(VLOOKUP(CONCATENATE(B629,D629),Padrón_Indígenas!$A$2:$G$988,7,0),\"No\")","v":"No"},{"$f":"VLOOKUP(E629,Cat_Municipios!$D$6:$M$64,11)","v":{"$error":"#REF!"}}]
[24,"005","Cárdenas","0081","Potrero de las Parejas (Ignacio Martínez) (0081)","R","Cárdenas (005)Potrero de las Parejas (Ignacio Martínez) (0081)",22.003352,-99.593283,0,0,0,0,240050081,null,null,null,{"$f":"IFERROR(VLOOKUP(CONCATENATE(B630,D630),Padrón_Indígenas!$A$2:$G$988,7,0),\"No\")","v":"No"},{"$f":"VLOOKUP(E630,Cat_Municipios!$D$6:$M$64,11)","v":{"$error":"#REF!"}}]
[24,"005","Cárdenas","0058","Potrero el Savial (0058)","R","Cárdenas (005)Potrero el Savial (0058)",21.974553,-99.633698999999993,0,0,0,0,240050058,null,null,null,{"$f":"IFERROR(VLOOKUP(CONCATENATE(B631,D631),Padrón_Indígenas!$A$2:$G$988,7,0),\"No\")","v":"No"},{"$f":"VLOOKUP(E631,Cat_Municipios!$D$6:$M$64,11)","v":{"$error":"#REF!"}}]
[24,"005","Cárdenas","0059","Pozo Número Diez (0059)","R","Cárdenas (005)Pozo Número Diez (0059)",21.971081000000002,-99.646591999999998,0,0,0,0,240050059,null,null,null,{"$f":"IFERROR(VLOOKUP(CONCATENATE(B632,D632),Padrón_Indígenas!$A$2:$G$988,7,0),\"No\")","v":"No"},{"$f":"VLOOKUP(E632,Cat_Municipios!$D$6:$M$64,11)","v":{"$error":"#REF!"}}]
[24,"005","Cárdenas","0060","Pozo Número Tres (0060)","R","Cárdenas (005)Pozo Número Tres (0060)",21.965751000000001,-99.647163000000006,0,0,0,0,240050060,null,null,null,{"$f":"IFERROR(VLOOKUP(CONCATENATE(B633,D633),Padrón_Indígenas!$A$2:$G$988,7,0),\"No\")","v":"No"},{"$f":"VLOOKUP(E633,Cat_Municipios!$D$6:$M$64,11)","v":{"$error":"#REF!"}}]
[24,"005","Cárdenas","0084","Rancho Avestruces (0084)","R","Cárdenas (005)Rancho Avestruces (0084)",22.016963000000001,-99.643412999999995,0,0,0,0,240050084,null,null,null,{"$f":"IFERROR(VLOOKUP(CONCATENATE(B634,D634),Padrón_Indígenas!$A$2:$G$988,7,0),\"No\")","v":"No"},{"$f":"VLOOKUP(E634,Cat_Municipios!$D$6:$M$64,11)","v":{"$error":"#REF!"}}]
[24,"005","Cárdenas","0085","Rancho Bellavista (0085)","R","Cárdenas (005)Rancho Bellavista (0085)",21.935189000000001,-99.666242999999994,0,0,0,0,240050085,null,null,null,{"$f":"IFERROR(VLOOKUP(CONCATENATE(B635,D635),Padrón_Indígenas!$A$2:$G$988,7,0),\"No\")","v":"No"},{"$f":"VLOOKUP(E635,Cat_Municipios!$D$6:$M$64,11)","v":{"$error":"#REF!"}}]
[24,"005","Cárdenas","0086","Rancho Espiricueta (0086)","R","Cárdenas (005)Rancho Espiricueta (0086)",21.956914000000001,-99.660668999999999,0,0,0,0,240050086,null,null,null,{"$f":"IFERROR(VLOOKUP(CONCATENATE(B636,D636),Padrón_Indígenas!$A$2:$G$988,7,0),\"No\")","v":"No"},{"$f":"VLOOKUP(E636,Cat_Municipios!$D$6:$M$64,11)","v":{"$error":"#REF!"}}]
[24,"005","Cárdenas","0074","Rancho la Brecha (0074)","R","Cárdenas (005)Rancho la Brecha (0074)",22.036771999999999,-99.682952999999998,0,0,0,0,240050074,null,null,null,{"$f":"IFERROR(VLOOKUP(CONCATENATE(B637,D637),Padrón_Indígenas!$A$2:$G$988,7,0),\"No\")","v":"No"},{"$f":"VLOOKUP(E637,Cat_Municipios!$D$6:$M$64,11)","v":{"$error":"#REF!"}}]
[24,"005","Cárdenas","0026","Rancho Leal (0026)","R","Cárdenas (005)Rancho Leal (0026)",22.033514,-99.690843000000001,0,0,0,0,240050026,null,null,null,{"$f":"IFERROR(VLOOKUP(CONCATENATE(B638,D638),Padrón_Indígenas!$A$2:$G$988,7,0),\"No\")","v":"No"},{"$f":"VLOOKUP(E638,Cat_Municipios!$D$6:$M$64,11)","v":{"$error":"#REF!"}}]
[24,"005","Cárdenas","0089","Rancho los Rivera (0089)","R","Cárdenas (005)Rancho los Rivera (0089)",21.895578,-99.692091000000005,0,0,0,0,240050089,null,null,null,{"$f":"IFERROR(VLOOKUP(CONCATENATE(B639,D639),Padrón_Indígenas!$A$2:$G$988,7,0),\"No\")","v":"No"},{"$f":"VLOOKUP(E639,Cat_Municipios!$D$6:$M$64,11)","v":{"$error":"#REF!"}}]
[24,"005","Cárdenas","0087","Rancho Moy Báez (0087)","R","Cárdenas (005)Rancho Moy Báez (0087)",22.014552999999999,-99.641334000000001,1,"*","*",1,240050087,null,null,null,{"$f":"IFERROR(VLOOKUP(CONCATENATE(B640,D640),Padrón_Indígenas!$A$2:$G$988,7,0),\"No\")","v":"No"},{"$f":"VLOOKUP(E640,Cat_Municipios!$D$6:$M$64,11)","v":{"$error":"#REF!"}}]
[24,"005","Cárdenas","0064","Tanque de la Guerra (0064)","R","Cárdenas (005)Tanque de la Guerra (0064)",22.049247000000001,-99.739666,0,0,0,0,240050064,null,null,null,{"$f":"IFERROR(VLOOKUP(CONCATENATE(B641,D641),Padrón_Indígenas!$A$2:$G$988,7,0),\"No\")","v":"No"},{"$f":"VLOOKUP(E641,Cat_Municipios!$D$6:$M$64,11)","v":{"$error":"#REF!"}}]
[24,"005","Cárdenas","0065","Unidad de Riego Cárdenas (Jesús de León) (0065)","R","Cárdenas (005)Unidad de Riego Cárdenas (Jesús de León) (0065)",21.979478,-99.649305999999996,0,0,0,0,240050065,null,null,null,{"$f":"IFERROR(VLOOKUP(CONCATENATE(B642,D642),Padrón_Indígenas!$A$2:$G$988,7,0),\"No\")","v":"No"},{"$f":"VLOOKUP(E642,Cat_Municipios!$D$6:$M$64,11)","v":{"$error":"#REF!"}}]
[24,"005","Cárdenas",null,"Todo el municipio ",null,{"$f":"_xlfn.CONCAT(C643,\" (\",B643,\")\",E643)","v":"Cárdenas (005)Todo el municipio "},null,null,{"$f":"SUM(J572:J642)","v":18937}]
[24,"006","Catorce","0003","Agua Blanca (0003)","R","Catorce (006)Agua Blanca (0003)",23.723793000000001,-100.898843,13,6,7,4,240060003,null,"Muy alto","Medio",{"$f":"IFERROR(VLOOKUP(CONCATENATE(B644,D644),Padrón_Indígenas!$A$2:$G$988,7,0),\"No\")","v":"No"},{"$f":"VLOOKUP(E644,Cat_Municipios!D642:M700,11)","v":{"$error":"#N/A"}}]
[24,"006","Catorce","0004","Alamaritos de Coronados (0004)","R","Catorce (006)Alamaritos de Coronados (0004)",23.612400999999998,-100.860153,8,"*","*",2,240060004,null,null,null,{"$f":"IFERROR(VLOOKUP(CONCATENATE(B645,D645),Padrón_Indígenas!$A$2:$G$988,7,0),\"No\")","v":"No"},{"$f":"VLOOKUP(E645,Cat_Municipios!D643:M701,11)","v":{"$error":"#N/A"}}]
[24,"006","Catorce","0005","Alamitos de los Díaz (0005)","R","Catorce (006)Alamitos de los Díaz (0005)",23.633790999999999,-100.853776,239,121,118,63,240060005,null,"Alto","Medio",{"$f":"IFERROR(VLOOKUP(CONCATENATE(B646,D646),Padrón_Indígenas!$A$2:$G$988,7,0),\"No\")","v":"No"},{"$f":"VLOOKUP(E646,Cat_Municipios!D644:M702,11)","v":{"$error":"#N/A"}}]
[24,"006","Catorce","0007","Ave María (0007)","R","Catorce (006)Ave María (0007)",23.684999999999999,-100.86111099999999,4,"*","*",1,240060007,null,null,null,{"$f":"IFERROR(VLOOKUP(CONCATENATE(B647,D647),Padrón_Indígenas!$A$2:$G$988,7,0),\"No\")","v":"No"},{"$f":"VLOOKUP(E647,Cat_Municipios!D645:M703,11)","v":{"$error":"#N/A"}}]
[24,"006","Catorce","0008","Becerras (0008)","R","Catorce (006)Becerras (0008)",23.565728,-100.85814499999999,15,5,10,3,240060008,null,"Alto","Medio",{"$f":"IFERROR(VLOOKUP(CONCATENATE(B648,D648),Padrón_Indígenas!$A$2:$G$988,7,0),\"No\")","v":"No"},{"$f":"VLOOKUP(E648,Cat_Municipios!D646:M704,11)","v":{"$error":"#N/A"}}]
[24,"006","Catorce","0103","Bedao (0103)","R","Catorce (006)Bedao (0103)",23.581292999999999,-100.825266,8,"*","*",1,240060103,null,null,null,{"$f":"IFERROR(VLOOKUP(CONCATENATE(B649,D649),Padrón_Indígenas!$A$2:$G$988,7,0),\"No\")","v":"No"},{"$f":"VLOOKUP(E649,Cat_Municipios!D647:M705,11)","v":{"$error":"#N/A"}}]
[24,"006","Catorce","0179","Boquilla de Barrabás (0179)","R","Catorce (006)Boquilla de Barrabás (0179)",23.498441,-101.060619,7,"*","*",1,240060179,null,null,null,{"$f":"IFERROR(VLOOKUP(CONCATENATE(B650,D650),Padrón_Indígenas!$A$2:$G$988,7,0),\"No\")","v":"No"},{"$f":"VLOOKUP(E650,Cat_Municipios!D648:M706,11)","v":{"$error":"#N/A"}}]
[24,"006","Catorce","0011","Castañón (0011)","R","Catorce (006)Castañón (0011)",23.829231,-101.26746900000001,34,18,16,11,240060011,null,"Alto","Bajo",{"$f":"IFERROR(VLOOKUP(CONCATENATE(B651,D651),Padrón_Indígenas!$A$2:$G$988,7,0),\"No\")","v":"No"},{"$f":"VLOOKUP(E651,Cat_Municipios!D649:M707,11)","v":{"$error":"#N/A"}}]
[24,"006","Catorce","0182","Cerrito Blanco (0182)","R","Catorce (006)Cerrito Blanco (0182)",23.445952999999999,-101.11959899999999,1,"*","*",1,240060182,null,null,null,{"$f":"IFERROR(VLOOKUP(CONCATENATE(B652,D652),Padrón_Indígenas!$A$2:$G$988,7,0),\"No\")","v":"No"},{"$f":"VLOOKUP(E652,Cat_Municipios!D650:M708,11)","v":{"$error":"#N/A"}}]
[24,"006","Catorce","0163","Cerrito de la Piedra (0163)","R","Catorce (006)Cerrito de la Piedra (0163)",23.651634999999999,-101.167523,0,0,0,0,240060163,null,null,null,{"$f":"IFERROR(VLOOKUP(CONCATENATE(B653,D653),Padrón_Indígenas!$A$2:$G$988,7,0),\"No\")","v":"No"},{"$f":"VLOOKUP(E653,Cat_Municipios!D651:M709,11)","v":{"$error":"#N/A"}}]
[24,"006","Catorce","0189","Cerrito de San José (0189)","R","Catorce (006)Cerrito de San José (0189)",23.571735,-100.882778,1,"*","*",1,240060189,null,null,null,{"$f":"IFERROR(VLOOKUP(CONCATENATE(B654,D654),Padrón_Indígenas!$A$2:$G$988,7,0),\"No\")","v":"No"},{"$f":"VLOOKUP(E654,Cat_Municipios!D652:M710,11)","v":{"$error":"#N/A"}}]
[24,"006","Catorce","0089","Charco Colorado (0089)","R","Catorce (006)Charco Colorado (0089)",23.795327,-101.29949999999999,3,"*","*",1,240060089,null,null,null,{"$f":"IFERROR(VLOOKUP(CONCATENATE(B655,D655),Padrón_Indígenas!$A$2:$G$988,7,0),\"No\")","v":"No"},{"$f":"VLOOKUP(E655,Cat_Municipios!D653:M711,11)","v":{"$error":"#N/A"}}]
[24,"006","Catorce","0088","Charco del Mono (0088)","R","Catorce (006)Charco del Mono (0088)",23.805816,-101.244129,1,"*","*",1,240060088,null,null,null,{"$f":"IFERROR(VLOOKUP(CONCATENATE(B656,D656),Padrón_Indígenas!$A$2:$G$988,7,0),\"No\")","v":"No"},{"$f":"VLOOKUP(E656,Cat_Municipios!D654:M712,11)","v":{"$error":"#N/A"}}]
[24,"006","Catorce","0014","Charco Largo (0014)","R","Catorce (006)Charco Largo (0014)",23.852318,-101.21223500000001,182,98,84,42,240060014,null,"Alto","Medio",{"$f":"IFERROR(VLOOKUP(CONCATENATE(B657,D657),Padrón_Indígenas!$A$2:$G$988,7,0),\"No\")","v":"No"},{"$f":"VLOOKUP(E657,Cat_Municipios!D655:M713,11)","v":{"$error":"#N/A"}}]
[24,"006","Catorce","0164","Cieneguita de Quijano (0164)","R","Catorce (006)Cieneguita de Quijano (0164)",23.658574000000002,-100.84038700000001,0,0,0,0,240060164,null,null,null,{"$f":"IFERROR(VLOOKUP(CONCATENATE(B658,D658),Padrón_Indígenas!$A$2:$G$988,7,0),\"No\")","v":"No"},{"$f":"VLOOKUP(E658,Cat_Municipios!D656:M714,11)","v":{"$error":"#N/A"}}]
[24,"006","Catorce","0122","Collado (0122)","R","Catorce (006)Collado (0122)",23.801957999999999,-100.965199,3,"*","*",1,240060122,null,null,null,{"$f":"IFERROR(VLOOKUP(CONCATENATE(B659,D659),Padrón_Indígenas!$A$2:$G$988,7,0),\"No\")","v":"No"},{"$f":"VLOOKUP(E659,Cat_Municipios!D657:M715,11)","v":{"$error":"#N/A"}}]
[24,"006","Catorce","0183","Desmontes de Catorce (Los Tahonitas) (0183)","R","Catorce (006)Desmontes de Catorce (Los Tahonitas) (0183)",23.823202999999999,-100.94158899999999,14,8,6,3,240060183,null,"Muy alto","Alto",{"$f":"IFERROR(VLOOKUP(CONCATENATE(B660,D660),Padrón_Indígenas!$A$2:$G$988,7,0),\"No\")","v":"No"},{"$f":"VLOOKUP(E660,Cat_Municipios!D658:M716,11)","v":{"$error":"#N/A"}}]
[24,"006","Catorce","0165","Ejido las Lechuzas [COPLAMAR] (0165)","R","Catorce (006)Ejido las Lechuzas [COPLAMAR] (0165)",23.587443,-101.011869,0,0,0,0,240060165,null,null,null,{"$f":"IFERROR(VLOOKUP(CONCATENATE(B661,D661),Padrón_Indígenas!$A$2:$G$988,7,0),\"No\")","v":"No"},{"$f":"VLOOKUP(E661,Cat_Municipios!D659:M717,11)","v":{"$error":"#N/A"}}]
[24,"006","Catorce","0115","El Arrastradero (El Barranco) (0115)","R","Catorce (006)El Arrastradero (El Barranco) (0115)",23.426110999999999,-100.92611100000001,6,"*","*",1,240060115,null,null,null,{"$f":"IFERROR(VLOOKUP(CONCATENATE(B662,D662),Padrón_Indígenas!$A$2:$G$988,7,0),\"No\")","v":"No"},{"$f":"VLOOKUP(E662,Cat_Municipios!D660:M718,11)","v":{"$error":"#N/A"}}]
[24,"006","Catorce","0085","El Barranco (0085)","R","Catorce (006)El Barranco (0085)",23.625344999999999,-100.94168500000001,20,8,12,3,240060085,null,"Muy alto","Medio",{"$f":"IFERROR(VLOOKUP(CONCATENATE(B663,D663),Padrón_Indígenas!$A$2:$G$988,7,0),\"No\")","v":"No"},{"$f":"VLOOKUP(E663,Cat_Municipios!D661:M719,11)","v":{"$error":"#N/A"}}]
[24,"006","Catorce","0104","El Capadero (0104)","R","Catorce (006)El Capadero (0104)",23.616667,-101.21,0,0,0,0,240060104,null,null,null,{"$f":"IFERROR(VLOOKUP(CONCATENATE(B664,D664),Padrón_Indígenas!$A$2:$G$988,7,0),\"No\")","v":"No"},{"$f":"VLOOKUP(E664,Cat_Municipios!D662:M720,11)","v":{"$error":"#N/A"}}]
[24,"006","Catorce","0105","El Cedro (0105)","R","Catorce (006)El Cedro (0105)",23.651564,-100.848686,0,0,0,0,240060105,null,null,null,{"$f":"IFERROR(VLOOKUP(CONCATENATE(B665,D665),Padrón_Indígenas!$A$2:$G$988,7,0),\"No\")","v":"No"},{"$f":"VLOOKUP(E665,Cat_Municipios!D663:M721,11)","v":{"$error":"#N/A"}}]
[24,"006","Catorce","0149","El Duraznillal (San Francisco) (0149)","R","Catorce (006)El Duraznillal (San Francisco) (0149)",23.745784,-101.301739,0,0,0,0,240060149,null,null,null,{"$f":"IFERROR(VLOOKUP(CONCATENATE(B666,D666),Padrón_Indígenas!$A$2:$G$988,7,0),\"No\")","v":"No"},{"$f":"VLOOKUP(E666,Cat_Municipios!D664:M722,11)","v":{"$error":"#N/A"}}]
[24,"006","Catorce","0107","El Duraznillo (0107)","R","Catorce (006)El Duraznillo (0107)",23.615853000000001,-101.155828,11,5,6,3,240060107,null,"Muy alto","Medio",{"$f":"IFERROR(VLOOKUP(CONCATENATE(B667,D667),Padrón_Indígenas!$A$2:$G$988,7,0),\"No\")","v":"No"},{"$f":"VLOOKUP(E667,Cat_Municipios!D665:M723,11)","v":{"$error":"#N/A"}}]
[24,"006","Catorce","0134","El Espolón (0134)","R","Catorce (006)El Espolón (0134)",23.696486,-100.854069,73,39,34,16,240060134,null,"Alto","Bajo",{"$f":"IFERROR(VLOOKUP(CONCATENATE(B668,D668),Padrón_Indígenas!$A$2:$G$988,7,0),\"No\")","v":"No"},{"$f":"VLOOKUP(E668,Cat_Municipios!D666:M724,11)","v":{"$error":"#N/A"}}]
[24,"006","Catorce","0073","El Garabato (0073)","R","Catorce (006)El Garabato (0073)",23.641672,-100.93271900000001,71,37,34,15,240060073,null,"Alto","Bajo",{"$f":"IFERROR(VLOOKUP(CONCATENATE(B669,D669),Padrón_Indígenas!$A$2:$G$988,7,0),\"No\")","v":"No"},{"$f":"VLOOKUP(E669,Cat_Municipios!D667:M725,11)","v":{"$error":"#N/A"}}]
[24,"006","Catorce","0079","El Huizachal (0079)","R","Catorce (006)El Huizachal (0079)",23.405107999999998,-100.923163,43,24,19,9,240060079,null,"Alto","Medio",{"$f":"IFERROR(VLOOKUP(CONCATENATE(B670,D670),Padrón_Indígenas!$A$2:$G$988,7,0),\"No\")","v":"No"},{"$f":"VLOOKUP(E670,Cat_Municipios!D668:M726,11)","v":{"$error":"#N/A"}}]
[24,"006","Catorce","0018","El Jordán (0018)","R","Catorce (006)El Jordán (0018)",23.535433000000001,-100.84379300000001,74,37,37,15,240060018,null,"Alto","Bajo",{"$f":"IFERROR(VLOOKUP(CONCATENATE(B671,D671),Padrón_Indígenas!$A$2:$G$988,7,0),\"No\")","v":"No"},{"$f":"VLOOKUP(E671,Cat_Municipios!D669:M727,11)","v":{"$error":"#N/A"}}]
[24,"006","Catorce","0184","El Magueyal (0184)","R","Catorce (006)El Magueyal (0184)",23.575583999999999,-100.879305,3,"*","*",1,240060184,null,null,null,{"$f":"IFERROR(VLOOKUP(CONCATENATE(B672,D672),Padrón_Indígenas!$A$2:$G$988,7,0),\"No\")","v":"No"},{"$f":"VLOOKUP(E672,Cat_Municipios!D670:M728,11)","v":{"$error":"#N/A"}}]
[24,"006","Catorce","0023","El Mastranto (0023)","R","Catorce (006)El Mastranto (0023)",23.647158000000001,-100.95089900000001,283,133,150,68,240060023,null,"Alto","Bajo",{"$f":"IFERROR(VLOOKUP(CONCATENATE(B673,D673),Padrón_Indígenas!$A$2:$G$988,7,0),\"No\")","v":"No"},{"$f":"VLOOKUP(E673,Cat_Municipios!D671:M729,11)","v":{"$error":"#N/A"}}]
[24,"006","Catorce","0171","El Oreganal (0171)","R","Catorce (006)El Oreganal (0171)",23.546364000000001,-100.857856,26,12,14,6,240060171,null,"Muy alto","Alto",{"$f":"IFERROR(VLOOKUP(CONCATENATE(B674,D674),Padrón_Indígenas!$A$2:$G$988,7,0),\"No\")","v":"No"},{"$f":"VLOOKUP(E674,Cat_Municipios!D672:M730,11)","v":{"$error":"#N/A"}}]
[24,"006","Catorce","0028","El Pastor de Coronados (0028)","R","Catorce (006)El Pastor de Coronados (0028)",23.586162999999999,-100.879952,9,4,5,3,240060028,null,"Muy alto","Alto",{"$f":"IFERROR(VLOOKUP(CONCATENATE(B675,D675),Padrón_Indígenas!$A$2:$G$988,7,0),\"No\")","v":"No"},{"$f":"VLOOKUP(E675,Cat_Municipios!D673:M731,11)","v":{"$error":"#N/A"}}]
[24,"006","Catorce","0160","El Pelotazo (0160)","R","Catorce (006)El Pelotazo (0160)",23.557459999999999,-101.226568,0,0,0,0,240060160,null,null,null,{"$f":"IFERROR(VLOOKUP(CONCATENATE(B676,D676),Padrón_Indígenas!$A$2:$G$988,7,0),\"No\")","v":"No"},{"$f":"VLOOKUP(E676,Cat_Municipios!D674:M732,11)","v":{"$error":"#N/A"}}]
[24,"006","Catorce","0068","El Picacho (0068)","R","Catorce (006)El Picacho (0068)",23.613116999999999,-101.260395,1,"*","*",1,240060068,null,null,null,{"$f":"IFERROR(VLOOKUP(CONCATENATE(B677,D677),Padrón_Indígenas!$A$2:$G$988,7,0),\"No\")","v":"No"},{"$f":"VLOOKUP(E677,Cat_Municipios!D675:M733,11)","v":{"$error":"#N/A"}}]
[24,"006","Catorce","0032","El Potrero (0032)","R","Catorce (006)El Potrero (0032)",23.708078,-100.851252,340,164,176,95,240060032,null,"Alto","Bajo",{"$f":"IFERROR(VLOOKUP(CONCATENATE(B678,D678),Padrón_Indígenas!$A$2:$G$988,7,0),\"No\")","v":"No"},{"$f":"VLOOKUP(E678,Cat_Municipios!D676:M734,11)","v":{"$error":"#N/A"}}]
[24,"006","Catorce","0114","El Pozo Viejo (0114)","R","Catorce (006)El Pozo Viejo (0114)",23.670088,-101.02897900000001,11,7,4,3,240060114,null,"Muy alto","Alto",{"$f":"IFERROR(VLOOKUP(CONCATENATE(B679,D679),Padrón_Indígenas!$A$2:$G$988,7,0),\"No\")","v":"No"},{"$f":"VLOOKUP(E679,Cat_Municipios!D677:M735,11)","v":{"$error":"#N/A"}}]
[24,"006","Catorce","0118","El Puerto de San Jacobo (0118)","R","Catorce (006)El Puerto de San Jacobo (0118)",23.544039000000001,-100.856268,3,"*","*",1,240060118,null,null,null,{"$f":"IFERROR(VLOOKUP(CONCATENATE(B680,D680),Padrón_Indígenas!$A$2:$G$988,7,0),\"No\")","v":"No"},{"$f":"VLOOKUP(E680,Cat_Municipios!D678:M736,11)","v":{"$error":"#N/A"}}]
[24,"006","Catorce","0061","El Rayito (0061)","R","Catorce (006)El Rayito (0061)",23.652056999999999,-101.220297,17,9,8,5,240060061,null,"Alto","Medio",{"$f":"IFERROR(VLOOKUP(CONCATENATE(B681,D681),Padrón_Indígenas!$A$2:$G$988,7,0),\"No\")","v":"No"},{"$f":"VLOOKUP(E681,Cat_Municipios!D679:M737,11)","v":{"$error":"#N/A"}}]
[24,"006","Catorce","0036","El Refugio (La Luz) (0036)","R","Catorce (006)El Refugio (La Luz) (0036)",23.689131,-100.858614,144,64,80,32,240060036,"SI","Alto","Muy bajo",{"$f":"IFERROR(VLOOKUP(CONCATENATE(B682,D682),Padrón_Indígenas!$A$2:$G$988,7,0),\"No\")","v":"No"},{"$f":"VLOOKUP(E682,Cat_Municipios!D680:M738,11)","v":{"$error":"#N/A"}}]
[24,"006","Catorce","0034","El Refugio de Coronados (0034)","R","Catorce (006)El Refugio de Coronados (0034)",23.585661000000002,-101.004599,21,10,11,6,240060034,null,"Alto","Bajo",{"$f":"IFERROR(VLOOKUP(CONCATENATE(B683,D683),Padrón_Indígenas!$A$2:$G$988,7,0),\"No\")","v":"No"},{"$f":"VLOOKUP(E683,Cat_Municipios!D681:M739,11)","v":{"$error":"#N/A"}}]
[24,"006","Catorce","0037","El Salto (0037)","R","Catorce (006)El Salto (0037)",23.757477999999999,-100.899089,115,56,59,22,240060037,null,"Alto","Medio",{"$f":"IFERROR(VLOOKUP(CONCATENATE(B684,D684),Padrón_Indígenas!$A$2:$G$988,7,0),\"No\")","v":"No"},{"$f":"VLOOKUP(E684,Cat_Municipios!D682:M740,11)","v":{"$error":"#N/A"}}]
[24,"006","Catorce","0060","El Tecolote (0060)","R","Catorce (006)El Tecolote (0060)",23.699904,-101.12812599999999,42,22,20,11,240060060,null,"Alto","Medio",{"$f":"IFERROR(VLOOKUP(CONCATENATE(B685,D685),Padrón_Indígenas!$A$2:$G$988,7,0),\"No\")","v":"No"},{"$f":"VLOOKUP(E685,Cat_Municipios!D683:M741,11)","v":{"$error":"#N/A"}}]
[24,"006","Catorce","0154","El Tejón (0154)","R","Catorce (006)El Tejón (0154)",23.630759000000001,-101.08095299999999,0,0,0,0,240060154,null,null,null,{"$f":"IFERROR(VLOOKUP(CONCATENATE(B686,D686),Padrón_Indígenas!$A$2:$G$988,7,0),\"No\")","v":"No"},{"$f":"VLOOKUP(E686,Cat_Municipios!D684:M742,11)","v":{"$error":"#N/A"}}]
[24,"006","Catorce","0057","El Verde (0057)","R","Catorce (006)El Verde (0057)",23.677412,-100.85554,0,0,0,0,240060057,null,null,null,{"$f":"IFERROR(VLOOKUP(CONCATENATE(B687,D687),Padrón_Indígenas!$A$2:$G$988,7,0),\"No\")","v":"No"},{"$f":"VLOOKUP(E687,Cat_Municipios!D685:M743,11)","v":{"$error":"#N/A"}}]
[24,"006","Catorce","0113","El Vergel (0113)","R","Catorce (006)El Vergel (0113)",23.564748999999999,-100.84101200000001,6,"*","*",1,240060113,null,null,null,{"$f":"IFERROR(VLOOKUP(CONCATENATE(B688,D688),Padrón_Indígenas!$A$2:$G$988,7,0),\"No\")","v":"No"},{"$f":"VLOOKUP(E688,Cat_Municipios!D686:M744,11)","v":{"$error":"#N/A"}}]
[24,"006","Catorce","0012","Estación Catorce (0012)","R","Catorce (006)Estación Catorce (0012)",23.689959999999999,-100.986079,1180,579,601,304,240060012,"SI","Bajo","Muy bajo",{"$f":"IFERROR(VLOOKUP(CONCATENATE(B689,D689),Padrón_Indígenas!$A$2:$G$988,7,0),\"No\")","v":"No"},{"$f":"VLOOKUP(E689,Cat_Municipios!D687:M745,11)","v":{"$error":"#N/A"}}]
[24,"006","Catorce","0059","Estación Wadley (0059)","R","Catorce (006)Estación Wadley (0059)",23.612067,-100.98949,567,286,281,166,240060059,"SI","Medio","Muy bajo",{"$f":"IFERROR(VLOOKUP(CONCATENATE(B690,D690),Padrón_Indígenas!$A$2:$G$988,7,0),\"No\")","v":"No"},{"$f":"VLOOKUP(E690,Cat_Municipios!D688:M746,11)","v":{"$error":"#N/A"}}]
[24,"006","Catorce","0015","Guadalupe del Carnicero (La Maroma) (0015)","R","Catorce (006)Guadalupe del Carnicero (La Maroma) (0015)",23.466322999999999,-100.988964,374,193,181,103,240060015,"SI","Alto","Bajo",{"$f":"IFERROR(VLOOKUP(CONCATENATE(B691,D691),Padrón_Indígenas!$A$2:$G$988,7,0),\"No\")","v":"No"},{"$f":"VLOOKUP(E691,Cat_Municipios!D689:M747,11)","v":{"$error":"#N/A"}}]
[24,"006","Catorce","0017","Jesús de Coronados (0017)","R","Catorce (006)Jesús de Coronados (0017)",23.599464000000001,-100.88267,74,34,40,17,240060017,null,"Alto","Medio",{"$f":"IFERROR(VLOOKUP(CONCATENATE(B692,D692),Padrón_Indígenas!$A$2:$G$988,7,0),\"No\")","v":"No"},{"$f":"VLOOKUP(E692,Cat_Municipios!D690:M748,11)","v":{"$error":"#N/A"}}]
[24,"006","Catorce","0006","La Alberca (0006)","R","Catorce (006)La Alberca (0006)",23.545097999999999,-100.86892899999999,57,29,28,9,240060006,"SI","Alto","Medio",{"$f":"IFERROR(VLOOKUP(CONCATENATE(B693,D693),Padrón_Indígenas!$A$2:$G$988,7,0),\"No\")","v":"No"},{"$f":"VLOOKUP(E693,Cat_Municipios!D691:M749,11)","v":{"$error":"#N/A"}}]
[24,"006","Catorce","0127","La Biznaga (0127)","R","Catorce (006)La Biznaga (0127)",23.746110999999999,-101.256292,0,0,0,0,240060127,null,null,null,{"$f":"IFERROR(VLOOKUP(CONCATENATE(B694,D694),Padrón_Indígenas!$A$2:$G$988,7,0),\"No\")","v":"No"},{"$f":"VLOOKUP(E694,Cat_Municipios!D692:M750,11)","v":{"$error":"#N/A"}}]
[24,"006","Catorce","0096","La Borrega (0096)","R","Catorce (006)La Borrega (0096)",23.712986999999998,-101.052847,39,22,17,10,240060096,null,"Alto","Medio",{"$f":"IFERROR(VLOOKUP(CONCATENATE(B695,D695),Padrón_Indígenas!$A$2:$G$988,7,0),\"No\")","v":"No"},{"$f":"VLOOKUP(E695,Cat_Municipios!D693:M751,11)","v":{"$error":"#N/A"}}]
[24,"006","Catorce","0159","La Cantera (0159)","R","Catorce (006)La Cantera (0159)",23.418842000000001,-101.043036,9,"*","*",1,240060159,null,null,null,{"$f":"IFERROR(VLOOKUP(CONCATENATE(B696,D696),Padrón_Indígenas!$A$2:$G$988,7,0),\"No\")","v":"No"},{"$f":"VLOOKUP(E696,Cat_Municipios!D694:M752,11)","v":{"$error":"#N/A"}}]
[24,"006","Catorce","0009","La Cañada (0009)","R","Catorce (006)La Cañada (0009)",23.730803000000002,-100.91249999999999,81,41,40,21,240060009,null,"Alto","Bajo",{"$f":"IFERROR(VLOOKUP(CONCATENATE(B697,D697),Padrón_Indígenas!$A$2:$G$988,7,0),\"No\")","v":"No"},{"$f":"VLOOKUP(E697,Cat_Municipios!D695:M753,11)","v":{"$error":"#N/A"}}]
[24,"006","Catorce","0010","La Cardoncita (0010)","R","Catorce (006)La Cardoncita (0010)",23.590447999999999,-101.236656,363,186,177,87,240060010,"SI","Alto","Bajo",{"$f":"IFERROR(VLOOKUP(CONCATENATE(B698,D698),Padrón_Indígenas!$A$2:$G$988,7,0),\"No\")","v":"No"},{"$f":"VLOOKUP(E698,Cat_Municipios!D696:M754,11)","v":{"$error":"#N/A"}}]
[24,"006","Catorce","0082","La Cieneguita de Sosa (0082)","R","Catorce (006)La Cieneguita de Sosa (0082)",23.561736,-100.88444800000001,8,"*","*",2,240060082,null,null,null,{"$f":"IFERROR(VLOOKUP(CONCATENATE(B699,D699),Padrón_Indígenas!$A$2:$G$988,7,0),\"No\")","v":"No"},{"$f":"VLOOKUP(E699,Cat_Municipios!D697:M755,11)","v":{"$error":"#N/A"}}]
[24,"006","Catorce","0131","La Continental (La Fábrica) (0131)","R","Catorce (006)La Continental (La Fábrica) (0131)",23.695066000000001,-100.98751,1,"*","*",1,240060131,null,null,null,{"$f":"IFERROR(VLOOKUP(CONCATENATE(B700,D700),Padrón_Indígenas!$A$2:$G$988,7,0),\"No\")","v":"No"},{"$f":"VLOOKUP(E700,Cat_Municipios!D698:M756,11)","v":{"$error":"#N/A"}}]
[24,"006","Catorce","0016","La Hediondilla (0016)","R","Catorce (006)La Hediondilla (0016)",23.678512999999999,-100.888791,2,"*","*",1,240060016,null,null,null,{"$f":"IFERROR(VLOOKUP(CONCATENATE(B701,D701),Padrón_Indígenas!$A$2:$G$988,7,0),\"No\")","v":"No"},{"$f":"VLOOKUP(E701,Cat_Municipios!D699:M757,11)","v":{"$error":"#N/A"}}]
[24,"006","Catorce","0135","La Laguna (0135)","R","Catorce (006)La Laguna (0135)",23.772718000000001,-101.22175300000001,0,0,0,0,240060135,null,null,null,{"$f":"IFERROR(VLOOKUP(CONCATENATE(B702,D702),Padrón_Indígenas!$A$2:$G$988,7,0),\"No\")","v":"No"},{"$f":"VLOOKUP(E702,Cat_Municipios!D700:M758,11)","v":{"$error":"#N/A"}}]
[24,"006","Catorce","0083","La Lagunita (0083)","R","Catorce (006)La Lagunita (0083)",23.542278,-100.90021400000001,4,"*","*",1,240060083,null,null,null,{"$f":"IFERROR(VLOOKUP(CONCATENATE(B703,D703),Padrón_Indígenas!$A$2:$G$988,7,0),\"No\")","v":"No"},{"$f":"VLOOKUP(E703,Cat_Municipios!D701:M759,11)","v":{"$error":"#N/A"}}]
[24,"006","Catorce","0137","La Lagunita (Maguey Mocho) (0137)","R","Catorce (006)La Lagunita (Maguey Mocho) (0137)",23.549073,-100.89270500000001,15,8,7,3,240060137,null,"Muy alto","Alto",{"$f":"IFERROR(VLOOKUP(CONCATENATE(B704,D704),Padrón_Indígenas!$A$2:$G$988,7,0),\"No\")","v":"No"},{"$f":"VLOOKUP(E704,Cat_Municipios!D702:M760,11)","v":{"$error":"#N/A"}}]
[24,"006","Catorce","0019","La Leona (0019)","R","Catorce (006)La Leona (0019)",23.649122999999999,-100.86469,13,"*","*",2,240060019,null,null,null,{"$f":"IFERROR(VLOOKUP(CONCATENATE(B705,D705),Padrón_Indígenas!$A$2:$G$988,7,0),\"No\")","v":"No"},{"$f":"VLOOKUP(E705,Cat_Municipios!D703:M761,11)","v":{"$error":"#N/A"}}]
[24,"006","Catorce","0166","La Majada de Tacho (0166)","R","Catorce (006)La Majada de Tacho (0166)",23.780664000000002,-101.23107400000001,0,0,0,0,240060166,null,null,null,{"$f":"IFERROR(VLOOKUP(CONCATENATE(B706,D706),Padrón_Indígenas!$A$2:$G$988,7,0),\"No\")","v":"No"},{"$f":"VLOOKUP(E706,Cat_Municipios!D704:M762,11)","v":{"$error":"#N/A"}}]
[24,"006","Catorce","0140","La Mesa (0140)","R","Catorce (006)La Mesa (0140)",23.568117999999998,-101.25653800000001,10,"*","*",1,240060140,null,null,null,{"$f":"IFERROR(VLOOKUP(CONCATENATE(B707,D707),Padrón_Indígenas!$A$2:$G$988,7,0),\"No\")","v":"No"},{"$f":"VLOOKUP(E707,Cat_Municipios!D705:M763,11)","v":{"$error":"#N/A"}}]
[24,"006","Catorce","0078","La Milpita (0078)","R","Catorce (006)La Milpita (0078)",23.49898,-100.89716900000001,16,9,7,4,240060078,null,"Muy alto","Alto",{"$f":"IFERROR(VLOOKUP(CONCATENATE(B708,D708),Padrón_Indígenas!$A$2:$G$988,7,0),\"No\")","v":"No"},{"$f":"VLOOKUP(E708,Cat_Municipios!D706:M764,11)","v":{"$error":"#N/A"}}]
[24,"006","Catorce","0101","La Noria de San Rafael de Torres (0101)","R","Catorce (006)La Noria de San Rafael de Torres (0101)",23.632283000000001,-101.001673,3,"*","*",2,240060101,null,null,null,{"$f":"IFERROR(VLOOKUP(CONCATENATE(B709,D709),Padrón_Indígenas!$A$2:$G$988,7,0),\"No\")","v":"No"},{"$f":"VLOOKUP(E709,Cat_Municipios!D707:M765,11)","v":{"$error":"#N/A"}}]
[24,"006","Catorce","0027","La Palma (0027)","R","Catorce (006)La Palma (0027)",23.761316999999998,-100.903873,35,20,15,8,240060027,null,"Alto","Medio",{"$f":"IFERROR(VLOOKUP(CONCATENATE(B710,D710),Padrón_Indígenas!$A$2:$G$988,7,0),\"No\")","v":"No"},{"$f":"VLOOKUP(E710,Cat_Municipios!D708:M766,11)","v":{"$error":"#N/A"}}]
[24,"006","Catorce","0196","La Pasadita (0196)","R","Catorce (006)La Pasadita (0196)",23.823089,-100.94149400000001,"-","-","-","-",240060196,null,null,null,{"$f":"IFERROR(VLOOKUP(CONCATENATE(B711,D711),Padrón_Indígenas!$A$2:$G$988,7,0),\"No\")","v":"No"},{"$f":"VLOOKUP(E711,Cat_Municipios!D709:M767,11)","v":{"$error":"#N/A"}}]
[24,"006","Catorce","0190","La Peña (0190)","R","Catorce (006)La Peña (0190)",23.651275999999999,-100.879848,0,0,0,0,240060190,null,null,null,{"$f":"IFERROR(VLOOKUP(CONCATENATE(B712,D712),Padrón_Indígenas!$A$2:$G$988,7,0),\"No\")","v":"No"},{"$f":"VLOOKUP(E712,Cat_Municipios!D710:M768,11)","v":{"$error":"#N/A"}}]
[24,"006","Catorce","0180","La Pila (0180)","R","Catorce (006)La Pila (0180)",23.733650000000001,-100.946603,21,12,9,5,240060180,null,"Alto","Medio",{"$f":"IFERROR(VLOOKUP(CONCATENATE(B713,D713),Padrón_Indígenas!$A$2:$G$988,7,0),\"No\")","v":"No"},{"$f":"VLOOKUP(E713,Cat_Municipios!D711:M769,11)","v":{"$error":"#N/A"}}]
[24,"006","Catorce","0148","La Sabanilla (0148)","R","Catorce (006)La Sabanilla (0148)",23.743790000000001,-101.28660600000001,0,0,0,0,240060148,null,null,null,{"$f":"IFERROR(VLOOKUP(CONCATENATE(B714,D714),Padrón_Indígenas!$A$2:$G$988,7,0),\"No\")","v":"No"},{"$f":"VLOOKUP(E714,Cat_Municipios!D712:M770,11)","v":{"$error":"#N/A"}}]
[24,"006","Catorce","0002","Las Adjuntas (0002)","R","Catorce (006)Las Adjuntas (0002)",23.636261000000001,-100.902939,85,42,43,20,240060002,null,"Alto","Bajo",{"$f":"IFERROR(VLOOKUP(CONCATENATE(B715,D715),Padrón_Indígenas!$A$2:$G$988,7,0),\"No\")","v":"No"},{"$f":"VLOOKUP(E715,Cat_Municipios!D713:M771,11)","v":{"$error":"#N/A"}}]
[24,"006","Catorce","0084","Las Adjuntas (0084)","R","Catorce (006)Las Adjuntas (0084)",23.528258999999998,-100.836342,69,30,39,16,240060084,null,"Alto","Bajo",{"$f":"IFERROR(VLOOKUP(CONCATENATE(B716,D716),Padrón_Indígenas!$A$2:$G$988,7,0),\"No\")","v":"No"},{"$f":"VLOOKUP(E716,Cat_Municipios!D714:M772,11)","v":{"$error":"#N/A"}}]
[24,"006","Catorce","0125","Las Amapolas (0125)","R","Catorce (006)Las Amapolas (0125)",23.685393000000001,-101.034125,4,"*","*",1,240060125,null,null,null,{"$f":"IFERROR(VLOOKUP(CONCATENATE(B717,D717),Padrón_Indígenas!$A$2:$G$988,7,0),\"No\")","v":"No"},{"$f":"VLOOKUP(E717,Cat_Municipios!D715:M773,11)","v":{"$error":"#N/A"}}]
[24,"006","Catorce","0076","Las Amarillas (0076)","R","Catorce (006)Las Amarillas (0076)",23.613610999999999,-101.13888900000001,0,0,0,0,240060076,null,null,null,{"$f":"IFERROR(VLOOKUP(CONCATENATE(B718,D718),Padrón_Indígenas!$A$2:$G$988,7,0),\"No\")","v":"No"},{"$f":"VLOOKUP(E718,Cat_Municipios!D716:M774,11)","v":{"$error":"#N/A"}}]
[24,"006","Catorce","0095","Las Auras (0095)","R","Catorce (006)Las Auras (0095)",23.699363999999999,-101.00883899999999,9,"*","*",2,240060095,null,null,null,{"$f":"IFERROR(VLOOKUP(CONCATENATE(B719,D719),Padrón_Indígenas!$A$2:$G$988,7,0),\"No\")","v":"No"},{"$f":"VLOOKUP(E719,Cat_Municipios!D717:M775,11)","v":{"$error":"#N/A"}}]
[24,"006","Catorce","0128","Las Cabecitas (0128)","R","Catorce (006)Las Cabecitas (0128)",23.593229999999998,-101.15920699999999,8,"*","*",2,240060128,null,null,null,{"$f":"IFERROR(VLOOKUP(CONCATENATE(B720,D720),Padrón_Indígenas!$A$2:$G$988,7,0),\"No\")","v":"No"},{"$f":"VLOOKUP(E720,Cat_Municipios!D718:M776,11)","v":{"$error":"#N/A"}}]
[24,"006","Catorce","0021","Las Margaritas (0021)","R","Catorce (006)Las Margaritas (0021)",23.558824999999999,-101.03808100000001,54,27,27,15,240060021,null,"Alto","Bajo",{"$f":"IFERROR(VLOOKUP(CONCATENATE(B721,D721),Padrón_Indígenas!$A$2:$G$988,7,0),\"No\")","v":"No"},{"$f":"VLOOKUP(E721,Cat_Municipios!D719:M777,11)","v":{"$error":"#N/A"}}]
[24,"006","Catorce","0176","Las Relaciones (0176)","R","Catorce (006)Las Relaciones (0176)",23.648557,-100.93379299999999,13,6,7,4,240060176,null,"Alto","Medio",{"$f":"IFERROR(VLOOKUP(CONCATENATE(B722,D722),Padrón_Indígenas!$A$2:$G$988,7,0),\"No\")","v":"No"},{"$f":"VLOOKUP(E722,Cat_Municipios!D720:M778,11)","v":{"$error":"#N/A"}}]
[24,"006","Catorce","0119","Las Sevillas (0119)","R","Catorce (006)Las Sevillas (0119)",23.397221999999999,-100.976111,8,"*","*",2,240060119,null,null,null,{"$f":"IFERROR(VLOOKUP(CONCATENATE(B723,D723),Padrón_Indígenas!$A$2:$G$988,7,0),\"No\")","v":"No"},{"$f":"VLOOKUP(E723,Cat_Municipios!D721:M779,11)","v":{"$error":"#N/A"}}]
[24,"006","Catorce","0075","Lavaderos (0075)","R","Catorce (006)Lavaderos (0075)",23.603161,-101.087858,18,10,8,6,240060075,null,"Muy alto","Medio",{"$f":"IFERROR(VLOOKUP(CONCATENATE(B724,D724),Padrón_Indígenas!$A$2:$G$988,7,0),\"No\")","v":"No"},{"$f":"VLOOKUP(E724,Cat_Municipios!D722:M780,11)","v":{"$error":"#N/A"}}]
[24,"006","Catorce","0020","Loma Blanca (0020)","R","Catorce (006)Loma Blanca (0020)",23.626432999999999,-101.06198999999999,5,"*","*",2,240060020,null,null,null,{"$f":"IFERROR(VLOOKUP(CONCATENATE(B725,D725),Padrón_Indígenas!$A$2:$G$988,7,0),\"No\")","v":"No"},{"$f":"VLOOKUP(E725,Cat_Municipios!D723:M781,11)","v":{"$error":"#N/A"}}]
[24,"006","Catorce","0136","Loma Blanca Dos (0136)","R","Catorce (006)Loma Blanca Dos (0136)",23.636963999999999,-101.059594,4,"*","*",1,240060136,null,null,null,{"$f":"IFERROR(VLOOKUP(CONCATENATE(B726,D726),Padrón_Indígenas!$A$2:$G$988,7,0),\"No\")","v":"No"},{"$f":"VLOOKUP(E726,Cat_Municipios!D724:M782,11)","v":{"$error":"#N/A"}}]
[24,"006","Catorce","0120","Los Azules (0120)","R","Catorce (006)Los Azules (0120)",23.776661000000001,-101.166332,25,11,14,5,240060120,null,"Muy alto","Alto",{"$f":"IFERROR(VLOOKUP(CONCATENATE(B727,D727),Padrón_Indígenas!$A$2:$G$988,7,0),\"No\")","v":"No"},{"$f":"VLOOKUP(E727,Cat_Municipios!D725:M783,11)","v":{"$error":"#N/A"}}]
[24,"006","Catorce","0013","Los Catorce (0013)","R","Catorce (006)Los Catorce (0013)",23.701924000000002,-100.913791,187,95,92,43,240060013,"SI","Alto","Bajo",{"$f":"IFERROR(VLOOKUP(CONCATENATE(B728,D728),Padrón_Indígenas!$A$2:$G$988,7,0),\"No\")","v":"No"},{"$f":"VLOOKUP(E728,Cat_Municipios!D726:M784,11)","v":{"$error":"#N/A"}}]
[24,"006","Catorce","0191","Los Colorines (0191)","R","Catorce (006)Los Colorines (0191)",23.612777999999999,-101.04861099999999,0,0,0,0,240060191,null,null,null,{"$f":"IFERROR(VLOOKUP(CONCATENATE(B729,D729),Padrón_Indígenas!$A$2:$G$988,7,0),\"No\")","v":"No"},{"$f":"VLOOKUP(E729,Cat_Municipios!D727:M785,11)","v":{"$error":"#N/A"}}]
[24,"006","Catorce","0121","Los Cuatro Caminos (0121)","R","Catorce (006)Los Cuatro Caminos (0121)",23.754349000000001,-100.99299999999999,6,"*","*",2,240060121,null,null,null,{"$f":"IFERROR(VLOOKUP(CONCATENATE(B730,D730),Padrón_Indígenas!$A$2:$G$988,7,0),\"No\")","v":"No"},{"$f":"VLOOKUP(E730,Cat_Municipios!D728:M786,11)","v":{"$error":"#N/A"}}]
[24,"006","Catorce","0116","Los Huíngaros (0116)","R","Catorce (006)Los Huíngaros (0116)",23.526713000000001,-100.866272,18,12,6,3,240060116,"SI","Muy alto","Muy alto",{"$f":"IFERROR(VLOOKUP(CONCATENATE(B731,D731),Padrón_Indígenas!$A$2:$G$988,7,0),\"No\")","v":"No"},{"$f":"VLOOKUP(E731,Cat_Municipios!D729:M787,11)","v":{"$error":"#N/A"}}]
[24,"006","Catorce","0142","Los Muertos (0142)","R","Catorce (006)Los Muertos (0142)",23.623313,-101.21609100000001,0,0,0,0,240060142,null,null,null,{"$f":"IFERROR(VLOOKUP(CONCATENATE(B732,D732),Padrón_Indígenas!$A$2:$G$988,7,0),\"No\")","v":"No"},{"$f":"VLOOKUP(E732,Cat_Municipios!D730:M788,11)","v":{"$error":"#N/A"}}]
[24,"006","Catorce","0143","Los Negritos (0143)","R","Catorce (006)Los Negritos (0143)",23.635528999999998,-101.22711,6,"*","*",1,240060143,null,null,null,{"$f":"IFERROR(VLOOKUP(CONCATENATE(B733,D733),Padrón_Indígenas!$A$2:$G$988,7,0),\"No\")","v":"No"},{"$f":"VLOOKUP(E733,Cat_Municipios!D731:M789,11)","v":{"$error":"#N/A"}}]
[24,"006","Catorce","0170","Los Ojitos de Agua (0170)","R","Catorce (006)Los Ojitos de Agua (0170)",23.538153999999999,-100.853328,20,12,8,4,240060170,null,"Alto","Bajo",{"$f":"IFERROR(VLOOKUP(CONCATENATE(B734,D734),Padrón_Indígenas!$A$2:$G$988,7,0),\"No\")","v":"No"},{"$f":"VLOOKUP(E734,Cat_Municipios!D732:M790,11)","v":{"$error":"#N/A"}}]
[24,"006","Catorce","0093","Los Pames (0093)","R","Catorce (006)Los Pames (0093)",23.783166000000001,-101.185366,10,"*","*",2,240060093,null,null,null,{"$f":"IFERROR(VLOOKUP(CONCATENATE(B735,D735),Padrón_Indígenas!$A$2:$G$988,7,0),\"No\")","v":"No"},{"$f":"VLOOKUP(E735,Cat_Municipios!D733:M791,11)","v":{"$error":"#N/A"}}]
[24,"006","Catorce","0147","Los Rayos (0147)","R","Catorce (006)Los Rayos (0147)",23.538402000000001,-100.88786399999999,5,"*","*",1,240060147,null,null,null,{"$f":"IFERROR(VLOOKUP(CONCATENATE(B736,D736),Padrón_Indígenas!$A$2:$G$988,7,0),\"No\")","v":"No"},{"$f":"VLOOKUP(E736,Cat_Municipios!D734:M792,11)","v":{"$error":"#N/A"}}]
[24,"006","Catorce","0094","Los Reyes (0094)","R","Catorce (006)Los Reyes (0094)",23.740617,-101.16462799999999,0,0,0,0,240060094,null,null,null,{"$f":"IFERROR(VLOOKUP(CONCATENATE(B737,D737),Padrón_Indígenas!$A$2:$G$988,7,0),\"No\")","v":"No"},{"$f":"VLOOKUP(E737,Cat_Municipios!D735:M793,11)","v":{"$error":"#N/A"}}]
[24,"006","Catorce","0138","Majada Antonio Vallejo (0138)","R","Catorce (006)Majada Antonio Vallejo (0138)",23.753534999999999,-101.32941599999999,0,0,0,0,240060138,null,null,null,{"$f":"IFERROR(VLOOKUP(CONCATENATE(B738,D738),Padrón_Indígenas!$A$2:$G$988,7,0),\"No\")","v":"No"},{"$f":"VLOOKUP(E738,Cat_Municipios!D736:M794,11)","v":{"$error":"#N/A"}}]
[24,"006","Catorce","0185","Mesa del Venado (0185)","R","Catorce (006)Mesa del Venado (0185)",23.547778000000001,-100.901667,8,"*","*",1,240060185,null,null,null,{"$f":"IFERROR(VLOOKUP(CONCATENATE(B739,D739),Padrón_Indígenas!$A$2:$G$988,7,0),\"No\")","v":"No"},{"$f":"VLOOKUP(E739,Cat_Municipios!D737:M795,11)","v":{"$error":"#N/A"}}]
[24,"006","Catorce","0141","Mezquite Chino (0141)","R","Catorce (006)Mezquite Chino (0141)",23.786764999999999,-101.286753,0,0,0,0,240060141,null,null,null,{"$f":"IFERROR(VLOOKUP(CONCATENATE(B740,D740),Padrón_Indígenas!$A$2:$G$988,7,0),\"No\")","v":"No"},{"$f":"VLOOKUP(E740,Cat_Municipios!D738:M796,11)","v":{"$error":"#N/A"}}]
[24,"006","Catorce","0167","Mina de Concepción (0167)","R","Catorce (006)Mina de Concepción (0167)",23.688794999999999,-100.88066499999999,11,"*","*",1,240060167,null,null,null,{"$f":"IFERROR(VLOOKUP(CONCATENATE(B741,D741),Padrón_Indígenas!$A$2:$G$988,7,0),\"No\")","v":"No"},{"$f":"VLOOKUP(E741,Cat_Municipios!D739:M797,11)","v":{"$error":"#N/A"}}]
[24,"006","Catorce","0168","Mina la Fortuna (0168)","R","Catorce (006)Mina la Fortuna (0168)",23.729369999999999,-101.302283,0,0,0,0,240060168,null,null,null,{"$f":"IFERROR(VLOOKUP(CONCATENATE(B742,D742),Padrón_Indígenas!$A$2:$G$988,7,0),\"No\")","v":"No"},{"$f":"VLOOKUP(E742,Cat_Municipios!D740:M798,11)","v":{"$error":"#N/A"}}]
[24,"006","Catorce","0025","Ojo de Agua (0025)","R","Catorce (006)Ojo de Agua (0025)",23.730376,-100.900003,31,14,17,10,240060025,null,"Alto","Bajo",{"$f":"IFERROR(VLOOKUP(CONCATENATE(B743,D743),Padrón_Indígenas!$A$2:$G$988,7,0),\"No\")","v":"No"},{"$f":"VLOOKUP(E743,Cat_Municipios!D741:M799,11)","v":{"$error":"#N/A"}}]
[24,"006","Catorce","0026","Palma del Arco (0026)","R","Catorce (006)Palma del Arco (0026)",23.682464,-101.087395,0,0,0,0,240060026,null,null,null,{"$f":"IFERROR(VLOOKUP(CONCATENATE(B744,D744),Padrón_Indígenas!$A$2:$G$988,7,0),\"No\")","v":"No"},{"$f":"VLOOKUP(E744,Cat_Municipios!D742:M800,11)","v":{"$error":"#N/A"}}]
[24,"006","Catorce","0029","Perros Duros (0029)","R","Catorce (006)Perros Duros (0029)",23.682383999999999,-100.99070399999999,7,"*","*",1,240060029,null,null,null,{"$f":"IFERROR(VLOOKUP(CONCATENATE(B745,D745),Padrón_Indígenas!$A$2:$G$988,7,0),\"No\")","v":"No"},{"$f":"VLOOKUP(E745,Cat_Municipios!D743:M801,11)","v":{"$error":"#N/A"}}]
[24,"006","Catorce","0030","Poblazón (0030)","R","Catorce (006)Poblazón (0030)",23.737783,-100.94264099999999,94,52,42,17,240060030,null,"Medio","Muy bajo",{"$f":"IFERROR(VLOOKUP(CONCATENATE(B746,D746),Padrón_Indígenas!$A$2:$G$988,7,0),\"No\")","v":"No"},{"$f":"VLOOKUP(E746,Cat_Municipios!D744:M802,11)","v":{"$error":"#N/A"}}]
[24,"006","Catorce","0192","Poca Luz (0192)","R","Catorce (006)Poca Luz (0192)",23.672035999999999,-100.98801400000001,0,0,0,0,240060192,null,null,null,{"$f":"IFERROR(VLOOKUP(CONCATENATE(B747,D747),Padrón_Indígenas!$A$2:$G$988,7,0),\"No\")","v":"No"},{"$f":"VLOOKUP(E747,Cat_Municipios!D745:M803,11)","v":{"$error":"#N/A"}}]
[24,"006","Catorce","0031","Potrerillos (0031)","R","Catorce (006)Potrerillos (0031)",23.755151999999999,-100.876614,152,77,75,31,240060031,"SI","Alto","Medio",{"$f":"IFERROR(VLOOKUP(CONCATENATE(B748,D748),Padrón_Indígenas!$A$2:$G$988,7,0),\"No\")","v":"No"},{"$f":"VLOOKUP(E748,Cat_Municipios!D746:M804,11)","v":{"$error":"#N/A"}}]
[24,"006","Catorce","0173","Pozo Nueva Esperanza (0173)","R","Catorce (006)Pozo Nueva Esperanza (0173)",23.573934000000001,-101.019082,0,0,0,0,240060173,null,null,null,{"$f":"IFERROR(VLOOKUP(CONCATENATE(B749,D749),Padrón_Indígenas!$A$2:$G$988,7,0),\"No\")","v":"No"},{"$f":"VLOOKUP(E749,Cat_Municipios!D747:M805,11)","v":{"$error":"#N/A"}}]
[24,"006","Catorce","0123","Puerto de la Cruz (0123)","R","Catorce (006)Puerto de la Cruz (0123)",23.567827000000001,-100.873892,0,0,0,0,240060123,null,null,null,{"$f":"IFERROR(VLOOKUP(CONCATENATE(B750,D750),Padrón_Indígenas!$A$2:$G$988,7,0),\"No\")","v":"No"},{"$f":"VLOOKUP(E750,Cat_Municipios!D748:M806,11)","v":{"$error":"#N/A"}}]
[24,"006","Catorce","0117","Puerto de las Vacas (0117)","R","Catorce (006)Puerto de las Vacas (0117)",23.472930999999999,-101.047859,3,"*","*",1,240060117,null,null,null,{"$f":"IFERROR(VLOOKUP(CONCATENATE(B751,D751),Padrón_Indígenas!$A$2:$G$988,7,0),\"No\")","v":"No"},{"$f":"VLOOKUP(E751,Cat_Municipios!D749:M807,11)","v":{"$error":"#N/A"}}]
[24,"006","Catorce","0161","Puerto del Palillo (0161)","R","Catorce (006)Puerto del Palillo (0161)",23.680551000000001,-100.892292,0,0,0,0,240060161,null,null,null,{"$f":"IFERROR(VLOOKUP(CONCATENATE(B752,D752),Padrón_Indígenas!$A$2:$G$988,7,0),\"No\")","v":"No"},{"$f":"VLOOKUP(E752,Cat_Municipios!D750:M808,11)","v":{"$error":"#N/A"}}]
[24,"006","Catorce","0033","Ranchito de Coronados (0033)","R","Catorce (006)Ranchito de Coronados (0033)",23.536504999999998,-100.960283,287,144,143,90,240060033,null,"Medio","Muy bajo",{"$f":"IFERROR(VLOOKUP(CONCATENATE(B753,D753),Padrón_Indígenas!$A$2:$G$988,7,0),\"No\")","v":"No"},{"$f":"VLOOKUP(E753,Cat_Municipios!D751:M809,11)","v":{"$error":"#N/A"}}]
[24,"006","Catorce","0124","Rancho Cocuy (0124)","R","Catorce (006)Rancho Cocuy (0124)",23.773700999999999,-100.980996,4,"*","*",1,240060124,null,null,null,{"$f":"IFERROR(VLOOKUP(CONCATENATE(B754,D754),Padrón_Indígenas!$A$2:$G$988,7,0),\"No\")","v":"No"},{"$f":"VLOOKUP(E754,Cat_Municipios!D752:M810,11)","v":{"$error":"#N/A"}}]
[24,"006","Catorce","0181","Rancho el Pollo (0181)","R","Catorce (006)Rancho el Pollo (0181)",23.66338,-100.985063,0,0,0,0,240060181,null,null,null,{"$f":"IFERROR(VLOOKUP(CONCATENATE(B755,D755),Padrón_Indígenas!$A$2:$G$988,7,0),\"No\")","v":"No"},{"$f":"VLOOKUP(E755,Cat_Municipios!D753:M811,11)","v":{"$error":"#N/A"}}]
[24,"006","Catorce","0145","Rancho Nuevo (0145)","R","Catorce (006)Rancho Nuevo (0145)",23.680183,-101.032495,38,23,15,7,240060145,null,"Alto","Medio",{"$f":"IFERROR(VLOOKUP(CONCATENATE(B756,D756),Padrón_Indígenas!$A$2:$G$988,7,0),\"No\")","v":"No"},{"$f":"VLOOKUP(E756,Cat_Municipios!D754:M812,11)","v":{"$error":"#N/A"}}]
[24,"006","Catorce","0193","Rancho Nuevo (0193)","R","Catorce (006)Rancho Nuevo (0193)",23.566486999999999,-100.881981,2,"*","*",1,240060193,null,null,null,{"$f":"IFERROR(VLOOKUP(CONCATENATE(B757,D757),Padrón_Indígenas!$A$2:$G$988,7,0),\"No\")","v":"No"},{"$f":"VLOOKUP(E757,Cat_Municipios!D755:M813,11)","v":{"$error":"#N/A"}}]
[24,"006","Catorce","0001","Real de Catorce (0001)","U","Catorce (006)Real de Catorce (0001)",23.690449000000001,-100.886253,1392,669,723,356,240060001,"SI",null,null,{"$f":"IFERROR(VLOOKUP(CONCATENATE(B758,D758),Padrón_Indígenas!$A$2:$G$988,7,0),\"No\")","v":"No"},{"$f":"VLOOKUP(E758,Cat_Municipios!D756:M814,11)","v":{"$error":"#N/A"}}]
[24,"006","Catorce","0175","Real de Catorce (0175)","R","Catorce (006)Real de Catorce (0175)",23.696414000000001,-100.88853899999999,2,"*","*",2,240060175,null,null,null,{"$f":"IFERROR(VLOOKUP(CONCATENATE(B759,D759),Padrón_Indígenas!$A$2:$G$988,7,0),\"No\")","v":"No"},{"$f":"VLOOKUP(E759,Cat_Municipios!D757:M815,11)","v":{"$error":"#N/A"}}]
[24,"006","Catorce","0187","Real de Catorce (0187)","R","Catorce (006)Real de Catorce (0187)",23.687151,-100.88748,25,14,11,6,240060187,null,"Alto","Bajo",{"$f":"IFERROR(VLOOKUP(CONCATENATE(B760,D760),Padrón_Indígenas!$A$2:$G$988,7,0),\"No\")","v":"No"},{"$f":"VLOOKUP(E760,Cat_Municipios!D758:M816,11)","v":{"$error":"#N/A"}}]
[24,"006","Catorce","0188","Real de Catorce (0188)","R","Catorce (006)Real de Catorce (0188)",23.688533,-100.882687,4,"*","*",1,240060188,null,null,null,{"$f":"IFERROR(VLOOKUP(CONCATENATE(B761,D761),Padrón_Indígenas!$A$2:$G$988,7,0),\"No\")","v":"No"},{"$f":"VLOOKUP(E761,Cat_Municipios!D759:M817,11)","v":{"$error":"#N/A"}}]
[24,"006","Catorce","0022","Real de Maroma (0022)","R","Catorce (006)Real de Maroma (0022)",23.515256000000001,-100.83250700000001,117,64,53,27,240060022,null,"Alto","Bajo",{"$f":"IFERROR(VLOOKUP(CONCATENATE(B762,D762),Padrón_Indígenas!$A$2:$G$988,7,0),\"No\")","v":"No"},{"$f":"VLOOKUP(E762,Cat_Municipios!D760:M818,11)","v":{"$error":"#N/A"}}]
[24,"006","Catorce","0035","Refugio de los Amayas (0035)","R","Catorce (006)Refugio de los Amayas (0035)",23.745916000000001,-100.977575,18,10,8,5,240060035,null,"Alto","Bajo",{"$f":"IFERROR(VLOOKUP(CONCATENATE(B763,D763),Padrón_Indígenas!$A$2:$G$988,7,0),\"No\")","v":"No"},{"$f":"VLOOKUP(E763,Cat_Municipios!D761:M819,11)","v":{"$error":"#N/A"}}]
[24,"006","Catorce","0108","Retas (0108)","R","Catorce (006)Retas (0108)",23.651395999999998,-101.200785,1,"*","*",1,240060108,null,null,null,{"$f":"IFERROR(VLOOKUP(CONCATENATE(B764,D764),Padrón_Indígenas!$A$2:$G$988,7,0),\"No\")","v":"No"},{"$f":"VLOOKUP(E764,Cat_Municipios!D762:M820,11)","v":{"$error":"#N/A"}}]
[24,"006","Catorce","0038","San Antonio de Coronados (0038)","R","Catorce (006)San Antonio de Coronados (0038)",23.529014,-100.94009699999999,318,155,163,96,240060038,null,"Alto","Bajo",{"$f":"IFERROR(VLOOKUP(CONCATENATE(B765,D765),Padrón_Indígenas!$A$2:$G$988,7,0),\"No\")","v":"No"},{"$f":"VLOOKUP(E765,Cat_Municipios!D763:M821,11)","v":{"$error":"#N/A"}}]
[24,"006","Catorce","0039","San Antonio de la Cruz (0039)","R","Catorce (006)San Antonio de la Cruz (0039)",23.776888,-100.84485100000001,23,14,9,5,240060039,null,"Alto","Medio",{"$f":"IFERROR(VLOOKUP(CONCATENATE(B766,D766),Padrón_Indígenas!$A$2:$G$988,7,0),\"No\")","v":"No"},{"$f":"VLOOKUP(E766,Cat_Municipios!D764:M822,11)","v":{"$error":"#N/A"}}]
[24,"006","Catorce","0040","San Cristóbal (0040)","R","Catorce (006)San Cristóbal (0040)",23.725010000000001,-101.005366,212,113,99,52,240060040,null,"Alto","Bajo",{"$f":"IFERROR(VLOOKUP(CONCATENATE(B767,D767),Padrón_Indígenas!$A$2:$G$988,7,0),\"No\")","v":"No"},{"$f":"VLOOKUP(E767,Cat_Municipios!D765:M823,11)","v":{"$error":"#N/A"}}]
[24,"006","Catorce","0041","San Francisco del Refugio (0041)","R","Catorce (006)San Francisco del Refugio (0041)",23.706658999999998,-101.310704,59,31,28,16,240060041,null,"Alto","Medio",{"$f":"IFERROR(VLOOKUP(CONCATENATE(B768,D768),Padrón_Indígenas!$A$2:$G$988,7,0),\"No\")","v":"No"},{"$f":"VLOOKUP(E768,Cat_Municipios!D766:M824,11)","v":{"$error":"#N/A"}}]
[24,"006","Catorce","0177","San Gabriel (0177)","R","Catorce (006)San Gabriel (0177)",23.671281,-100.845912,3,"*","*",1,240060177,null,null,null,{"$f":"IFERROR(VLOOKUP(CONCATENATE(B769,D769),Padrón_Indígenas!$A$2:$G$988,7,0),\"No\")","v":"No"},{"$f":"VLOOKUP(E769,Cat_Municipios!D767:M825,11)","v":{"$error":"#N/A"}}]
[24,"006","Catorce","0162","San Isidro (0162)","R","Catorce (006)San Isidro (0162)",23.637183,-100.997816,0,0,0,0,240060162,null,null,null,{"$f":"IFERROR(VLOOKUP(CONCATENATE(B770,D770),Padrón_Indígenas!$A$2:$G$988,7,0),\"No\")","v":"No"},{"$f":"VLOOKUP(E770,Cat_Municipios!D768:M826,11)","v":{"$error":"#N/A"}}]
[24,"006","Catorce","0042","San José de Coronados (0042)","R","Catorce (006)San José de Coronados (0042)",23.594691999999998,-100.909458,138,76,62,35,240060042,null,"Alto","Medio",{"$f":"IFERROR(VLOOKUP(CONCATENATE(B771,D771),Padrón_Indígenas!$A$2:$G$988,7,0),\"No\")","v":"No"},{"$f":"VLOOKUP(E771,Cat_Municipios!D769:M827,11)","v":{"$error":"#N/A"}}]
[24,"006","Catorce","0111","San José de los Lucas (0111)","R","Catorce (006)San José de los Lucas (0111)",23.676507000000001,-101.000062,1,"*","*",1,240060111,null,null,null,{"$f":"IFERROR(VLOOKUP(CONCATENATE(B772,D772),Padrón_Indígenas!$A$2:$G$988,7,0),\"No\")","v":"No"},{"$f":"VLOOKUP(E772,Cat_Municipios!D770:M828,11)","v":{"$error":"#N/A"}}]
[24,"006","Catorce","0043","San José de los Quintos (0043)","R","Catorce (006)San José de los Quintos (0043)",23.688488,-101.00250699999999,40,24,16,11,240060043,null,"Alto","Bajo",{"$f":"IFERROR(VLOOKUP(CONCATENATE(B773,D773),Padrón_Indígenas!$A$2:$G$988,7,0),\"No\")","v":"No"},{"$f":"VLOOKUP(E773,Cat_Municipios!D771:M829,11)","v":{"$error":"#N/A"}}]
[24,"006","Catorce","0024","San José de Milpitas (0024)","R","Catorce (006)San José de Milpitas (0024)",23.703289000000002,-100.952519,12,7,5,4,240060024,null,"Muy alto","Alto",{"$f":"IFERROR(VLOOKUP(CONCATENATE(B774,D774),Padrón_Indígenas!$A$2:$G$988,7,0),\"No\")","v":"No"},{"$f":"VLOOKUP(E774,Cat_Municipios!D772:M830,11)","v":{"$error":"#N/A"}}]
[24,"006","Catorce","0044","San Juan de Matanzas (0044)","R","Catorce (006)San Juan de Matanzas (0044)",23.645357000000001,-100.88411499999999,59,34,25,14,240060044,null,"Alto","Medio",{"$f":"IFERROR(VLOOKUP(CONCATENATE(B775,D775),Padrón_Indígenas!$A$2:$G$988,7,0),\"No\")","v":"No"},{"$f":"VLOOKUP(E775,Cat_Municipios!D773:M831,11)","v":{"$error":"#N/A"}}]
[24,"006","Catorce","0045","San Miguel (0045)","R","Catorce (006)San Miguel (0045)",23.697106999999999,-101.018069,3,"*","*",1,240060045,null,null,null,{"$f":"IFERROR(VLOOKUP(CONCATENATE(B776,D776),Padrón_Indígenas!$A$2:$G$988,7,0),\"No\")","v":"No"},{"$f":"VLOOKUP(E776,Cat_Municipios!D774:M832,11)","v":{"$error":"#N/A"}}]
[24,"006","Catorce","0047","San Rafael de Torres (0047)","R","Catorce (006)San Rafael de Torres (0047)",23.621100999999999,-100.99236399999999,7,"*","*",2,240060047,null,null,null,{"$f":"IFERROR(VLOOKUP(CONCATENATE(B777,D777),Padrón_Indígenas!$A$2:$G$988,7,0),\"No\")","v":"No"},{"$f":"VLOOKUP(E777,Cat_Municipios!D775:M833,11)","v":{"$error":"#N/A"}}]
[24,"006","Catorce","0150","San Vicente (0150)","R","Catorce (006)San Vicente (0150)",23.658549000000001,-101.021131,0,0,0,0,240060150,null,null,null,{"$f":"IFERROR(VLOOKUP(CONCATENATE(B778,D778),Padrón_Indígenas!$A$2:$G$988,7,0),\"No\")","v":"No"},{"$f":"VLOOKUP(E778,Cat_Municipios!D776:M834,11)","v":{"$error":"#N/A"}}]
[24,"006","Catorce","0197","Santa Clara (0197)","R","Catorce (006)Santa Clara (0197)",23.809705999999998,-100.955342,"-","-","-","-",240060197,null,null,null,{"$f":"IFERROR(VLOOKUP(CONCATENATE(B779,D779),Padrón_Indígenas!$A$2:$G$988,7,0),\"No\")","v":"No"},{"$f":"VLOOKUP(E779,Cat_Municipios!D777:M835,11)","v":{"$error":"#N/A"}}]
[24,"006","Catorce","0049","Santa Cruz de Carretas (0049)","R","Catorce (006)Santa Cruz de Carretas (0049)",23.692335,-100.940127,236,131,105,56,240060049,null,"Alto","Bajo",{"$f":"IFERROR(VLOOKUP(CONCATENATE(B780,D780),Padrón_Indígenas!$A$2:$G$988,7,0),\"No\")","v":"No"},{"$f":"VLOOKUP(E780,Cat_Municipios!D778:M836,11)","v":{"$error":"#N/A"}}]
[24,"006","Catorce","0050","Santa Cruz del Mogote (0050)","R","Catorce (006)Santa Cruz del Mogote (0050)",23.420221000000002,-100.96124399999999,133,71,62,27,240060050,null,"Alto","Medio",{"$f":"IFERROR(VLOOKUP(CONCATENATE(B781,D781),Padrón_Indígenas!$A$2:$G$988,7,0),\"No\")","v":"No"},{"$f":"VLOOKUP(E781,Cat_Municipios!D779:M837,11)","v":{"$error":"#N/A"}}]
[24,"006","Catorce","0051","Santa María del Refugio (0051)","R","Catorce (006)Santa María del Refugio (0051)",23.733612999999998,-101.224609,326,162,164,82,240060051,"SI","Alto","Bajo",{"$f":"IFERROR(VLOOKUP(CONCATENATE(B782,D782),Padrón_Indígenas!$A$2:$G$988,7,0),\"No\")","v":"No"},{"$f":"VLOOKUP(E782,Cat_Municipios!D780:M838,11)","v":{"$error":"#N/A"}}]
[24,"006","Catorce","0086","Santa Rita (0086)","R","Catorce (006)Santa Rita (0086)",23.592103999999999,-100.880483,3,"*","*",1,240060086,null,null,null,{"$f":"IFERROR(VLOOKUP(CONCATENATE(B783,D783),Padrón_Indígenas!$A$2:$G$988,7,0),\"No\")","v":"No"},{"$f":"VLOOKUP(E783,Cat_Municipios!D781:M839,11)","v":{"$error":"#N/A"}}]
[24,"006","Catorce","0130","Santa Rita [Compañía Minera] (0130)","R","Catorce (006)Santa Rita [Compañía Minera] (0130)",23.590098000000001,-100.913939,0,0,0,0,240060130,null,null,null,{"$f":"IFERROR(VLOOKUP(CONCATENATE(B784,D784),Padrón_Indígenas!$A$2:$G$988,7,0),\"No\")","v":"No"},{"$f":"VLOOKUP(E784,Cat_Municipios!D782:M840,11)","v":{"$error":"#N/A"}}]
[24,"006","Catorce","0151","Santo Niño (0151)","R","Catorce (006)Santo Niño (0151)",23.688889,-101.05470699999999,0,0,0,0,240060151,null,null,null,{"$f":"IFERROR(VLOOKUP(CONCATENATE(B785,D785),Padrón_Indígenas!$A$2:$G$988,7,0),\"No\")","v":"No"},{"$f":"VLOOKUP(E785,Cat_Municipios!D783:M841,11)","v":{"$error":"#N/A"}}]
[24,"006","Catorce","0194","Sierra Hermosa (0194)","R","Catorce (006)Sierra Hermosa (0194)",23.547778000000001,-101.22583299999999,2,"*","*",1,240060194,null,null,null,{"$f":"IFERROR(VLOOKUP(CONCATENATE(B786,D786),Padrón_Indígenas!$A$2:$G$988,7,0),\"No\")","v":"No"},{"$f":"VLOOKUP(E786,Cat_Municipios!D784:M842,11)","v":{"$error":"#N/A"}}]
[24,"006","Catorce","0099","Socavón de Purísima (0099)","R","Catorce (006)Socavón de Purísima (0099)",23.694599,-100.894891,2,"*","*",1,240060099,null,null,null,{"$f":"IFERROR(VLOOKUP(CONCATENATE(B787,D787),Padrón_Indígenas!$A$2:$G$988,7,0),\"No\")","v":"No"},{"$f":"VLOOKUP(E787,Cat_Municipios!D785:M843,11)","v":{"$error":"#N/A"}}]
[24,"006","Catorce","0052","Tahonas del Jordán (0052)","R","Catorce (006)Tahonas del Jordán (0052)",23.568643000000002,-100.854885,52,31,21,14,240060052,null,"Muy alto","Alto",{"$f":"IFERROR(VLOOKUP(CONCATENATE(B788,D788),Padrón_Indígenas!$A$2:$G$988,7,0),\"No\")","v":"No"},{"$f":"VLOOKUP(E788,Cat_Municipios!D786:M844,11)","v":{"$error":"#N/A"}}]
[24,"006","Catorce","0053","Tahonitas del Salto (0053)","R","Catorce (006)Tahonitas del Salto (0053)",23.764251999999999,-100.897687,75,41,34,12,240060053,null,"Muy alto","Medio",{"$f":"IFERROR(VLOOKUP(CONCATENATE(B789,D789),Padrón_Indígenas!$A$2:$G$988,7,0),\"No\")","v":"No"},{"$f":"VLOOKUP(E789,Cat_Municipios!D787:M845,11)","v":{"$error":"#N/A"}}]
[24,"006","Catorce","0071","Tanque Charco Cercado (0071)","R","Catorce (006)Tanque Charco Cercado (0071)",23.581764,-101.13242200000001,8,"*","*",2,240060071,null,null,null,{"$f":"IFERROR(VLOOKUP(CONCATENATE(B790,D790),Padrón_Indígenas!$A$2:$G$988,7,0),\"No\")","v":"No"},{"$f":"VLOOKUP(E790,Cat_Municipios!D788:M846,11)","v":{"$error":"#N/A"}}]
[24,"006","Catorce","0054","Tanque de Arenas (0054)","R","Catorce (006)Tanque de Arenas (0054)",23.688973000000001,-101.198674,123,60,63,29,240060054,null,"Alto","Bajo",{"$f":"IFERROR(VLOOKUP(CONCATENATE(B791,D791),Padrón_Indígenas!$A$2:$G$988,7,0),\"No\")","v":"No"},{"$f":"VLOOKUP(E791,Cat_Municipios!D789:M847,11)","v":{"$error":"#N/A"}}]
[24,"006","Catorce","0055","Tanque de Dolores (0055)","R","Catorce (006)Tanque de Dolores (0055)",23.658943000000001,-101.16367200000001,296,168,128,87,240060055,"SI","Alto","Bajo",{"$f":"IFERROR(VLOOKUP(CONCATENATE(B792,D792),Padrón_Indígenas!$A$2:$G$988,7,0),\"No\")","v":"No"},{"$f":"VLOOKUP(E792,Cat_Municipios!D790:M848,11)","v":{"$error":"#N/A"}}]
[24,"006","Catorce","0195","Tanque de Pulgas (0195)","R","Catorce (006)Tanque de Pulgas (0195)",23.391110999999999,-100.9975,3,"*","*",1,240060195,null,null,null,{"$f":"IFERROR(VLOOKUP(CONCATENATE(B793,D793),Padrón_Indígenas!$A$2:$G$988,7,0),\"No\")","v":"No"},{"$f":"VLOOKUP(E793,Cat_Municipios!D791:M849,11)","v":{"$error":"#N/A"}}]
[24,"006","Catorce","0056","Tierras Negras (0056)","R","Catorce (006)Tierras Negras (0056)",23.590132000000001,-100.885901,5,"*","*",1,240060056,null,null,null,{"$f":"IFERROR(VLOOKUP(CONCATENATE(B794,D794),Padrón_Indígenas!$A$2:$G$988,7,0),\"No\")","v":"No"},{"$f":"VLOOKUP(E794,Cat_Municipios!D792:M850,11)","v":{"$error":"#N/A"}}]
[24,"006","Catorce","0178","Valle Verde (0178)","R","Catorce (006)Valle Verde (0178)",23.578472999999999,-101.234342,16,9,7,3,240060178,null,"Muy alto","Alto",{"$f":"IFERROR(VLOOKUP(CONCATENATE(B795,D795),Padrón_Indígenas!$A$2:$G$988,7,0),\"No\")","v":"No"},{"$f":"VLOOKUP(E795,Cat_Municipios!D793:M851,11)","v":{"$error":"#N/A"}}]
[24,"006","Catorce","0156","Viborillas (0156)","R","Catorce (006)Viborillas (0156)",23.811610999999999,-100.948123,13,8,5,4,240060156,null,"Muy alto","Alto",{"$f":"IFERROR(VLOOKUP(CONCATENATE(B796,D796),Padrón_Indígenas!$A$2:$G$988,7,0),\"No\")","v":"No"},{"$f":"VLOOKUP(E796,Cat_Municipios!D794:M852,11)","v":{"$error":"#N/A"}}]
[24,"006","Catorce","0058","Vigas de Coronados (0058)","R","Catorce (006)Vigas de Coronados (0058)",23.626062000000001,-100.918342,74,34,40,19,240060058,"SI","Alto","Medio",{"$f":"IFERROR(VLOOKUP(CONCATENATE(B797,D797),Padrón_Indígenas!$A$2:$G$988,7,0),\"No\")","v":"No"},{"$f":"VLOOKUP(E797,Cat_Municipios!D795:M853,11)","v":{"$error":"#N/A"}}]
[24,"006","Catorce",null,"Todo el municipio ",null,{"$f":"_xlfn.CONCAT(C798,\" (\",B798,\")\",E798)","v":"Catorce (006)Todo el municipio "},null,null,{"$f":"SUM(J644:J797)","v":9716}]
[24,"007","Cedral","0138","Buenavista (0138)","R","Cedral (007)Buenavista (0138)",23.853946000000001,-100.70960100000001,0,0,0,0,240070138,null,null,null,{"$f":"IFERROR(VLOOKUP(CONCATENATE(B799,D799),Padrón_Indígenas!$A$2:$G$988,7,0),\"No\")","v":"No"},{"$f":"VLOOKUP(E799,Cat_Municipios!D796:M854,11)","v":{"$error":"#N/A"}}]
[24,"007","Cedral","0143","Casa Blanca (Majada Ejido Zamarripa) (0143)","R","Cedral (007)Casa Blanca (Majada Ejido Zamarripa) (0143)",23.998992999999999,-100.598438,1,"*","*",1,240070143,null,null,null,{"$f":"IFERROR(VLOOKUP(CONCATENATE(B800,D800),Padrón_Indígenas!$A$2:$G$988,7,0),\"No\")","v":"No"},{"$f":"VLOOKUP(E800,Cat_Municipios!D797:M855,11)","v":{"$error":"#N/A"}}]
[24,"007","Cedral","0158","Casa Ejidal Santa Rita del Sotol (0158)","R","Cedral (007)Casa Ejidal Santa Rita del Sotol (0158)",24.087582999999999,-100.597391,0,0,0,0,240070158,null,null,null,{"$f":"IFERROR(VLOOKUP(CONCATENATE(B801,D801),Padrón_Indígenas!$A$2:$G$988,7,0),\"No\")","v":"No"},{"$f":"VLOOKUP(E801,Cat_Municipios!D798:M856,11)","v":{"$error":"#N/A"}}]
[24,"007","Cedral","0001","Cedral (0001)","U","Cedral (007)Cedral (0001)",23.819331999999999,-100.726606,11468,5460,6008,2616,240070001,"SI",null,null,{"$f":"IFERROR(VLOOKUP(CONCATENATE(B802,D802),Padrón_Indígenas!$A$2:$G$988,7,0),\"No\")","v":"No"},{"$f":"VLOOKUP(E802,Cat_Municipios!D799:M857,11)","v":{"$error":"#N/A"}}]
[24,"007","Cedral","0007","Cerro de Flores (0007)","R","Cedral (007)Cerro de Flores (0007)",23.877842000000001,-100.690214,331,164,167,72,240070007,null,"Alto","Muy bajo",{"$f":"IFERROR(VLOOKUP(CONCATENATE(B803,D803),Padrón_Indígenas!$A$2:$G$988,7,0),\"No\")","v":"No"},{"$f":"VLOOKUP(E803,Cat_Municipios!D800:M858,11)","v":{"$error":"#N/A"}}]
[24,"007","Cedral","0129","Cocina Mexicana [Restaurante] (0129)","R","Cedral (007)Cocina Mexicana [Restaurante] (0129)",23.799775,-100.567773,0,0,0,0,240070129,null,null,null,{"$f":"IFERROR(VLOOKUP(CONCATENATE(B804,D804),Padrón_Indígenas!$A$2:$G$988,7,0),\"No\")","v":"No"},{"$f":"VLOOKUP(E804,Cat_Municipios!D801:M859,11)","v":{"$error":"#N/A"}}]
[24,"007","Cedral","0168","Colonia Real (0168)","R","Cedral (007)Colonia Real (0168)",23.831422,-100.726367,"-","-","-","-",240070168,null,null,null,{"$f":"IFERROR(VLOOKUP(CONCATENATE(B805,D805),Padrón_Indígenas!$A$2:$G$988,7,0),\"No\")","v":"No"},{"$f":"VLOOKUP(E805,Cat_Municipios!D802:M860,11)","v":{"$error":"#N/A"}}]
[24,"007","Cedral","0142","David Ortega de León (0142)","R","Cedral (007)David Ortega de León (0142)",23.930620000000001,-100.63404300000001,0,0,0,0,240070142,null,null,null,{"$f":"IFERROR(VLOOKUP(CONCATENATE(B806,D806),Padrón_Indígenas!$A$2:$G$988,7,0),\"No\")","v":"No"},{"$f":"VLOOKUP(E806,Cat_Municipios!D803:M861,11)","v":{"$error":"#N/A"}}]
[24,"007","Cedral","0013","Ejido Hidalgo (0013)","R","Cedral (007)Ejido Hidalgo (0013)",23.936543,-100.68505999999999,194,101,93,49,240070013,null,"Alto","Bajo",{"$f":"IFERROR(VLOOKUP(CONCATENATE(B807,D807),Padrón_Indígenas!$A$2:$G$988,7,0),\"No\")","v":"No"},{"$f":"VLOOKUP(E807,Cat_Municipios!D804:M862,11)","v":{"$error":"#N/A"}}]
[24,"007","Cedral","0159","Ejido Victoria San Manuel (0159)","R","Cedral (007)Ejido Victoria San Manuel (0159)",23.796334999999999,-100.698916,12,6,6,3,240070159,null,"Muy bajo","Muy bajo",{"$f":"IFERROR(VLOOKUP(CONCATENATE(B808,D808),Padrón_Indígenas!$A$2:$G$988,7,0),\"No\")","v":"No"},{"$f":"VLOOKUP(E808,Cat_Municipios!D805:M863,11)","v":{"$error":"#N/A"}}]
[24,"007","Cedral","0166","El Aljibe de Procuro (0166)","R","Cedral (007)El Aljibe de Procuro (0166)",23.826779999999999,-100.675803,0,0,0,0,240070166,null,null,null,{"$f":"IFERROR(VLOOKUP(CONCATENATE(B809,D809),Padrón_Indígenas!$A$2:$G$988,7,0),\"No\")","v":"No"},{"$f":"VLOOKUP(E809,Cat_Municipios!D806:M864,11)","v":{"$error":"#N/A"}}]
[24,"007","Cedral","0005","El Blanco (0005)","R","Cedral (007)El Blanco (0005)",23.738769000000001,-100.743121,470,231,239,112,240070005,"SI","Alto","Bajo",{"$f":"IFERROR(VLOOKUP(CONCATENATE(B810,D810),Padrón_Indígenas!$A$2:$G$988,7,0),\"No\")","v":"No"},{"$f":"VLOOKUP(E810,Cat_Municipios!D807:M865,11)","v":{"$error":"#N/A"}}]
[24,"007","Cedral","0105","El Bonito (0105)","R","Cedral (007)El Bonito (0105)",23.826433999999999,-100.709333,"-","-","-","-",240070105,null,null,null,{"$f":"IFERROR(VLOOKUP(CONCATENATE(B811,D811),Padrón_Indígenas!$A$2:$G$988,7,0),\"No\")","v":"No"},{"$f":"VLOOKUP(E811,Cat_Municipios!D808:M866,11)","v":{"$error":"#N/A"}}]
[24,"007","Cedral","0122","El Carmen (0122)","R","Cedral (007)El Carmen (0122)",23.813506,-100.738944,0,0,0,0,240070122,null,null,null,{"$f":"IFERROR(VLOOKUP(CONCATENATE(B812,D812),Padrón_Indígenas!$A$2:$G$988,7,0),\"No\")","v":"No"},{"$f":"VLOOKUP(E812,Cat_Municipios!D809:M867,11)","v":{"$error":"#N/A"}}]
[24,"007","Cedral","0124","El Consuelo (0124)","R","Cedral (007)El Consuelo (0124)",23.835097999999999,-100.716762,0,0,0,0,240070124,null,null,null,{"$f":"IFERROR(VLOOKUP(CONCATENATE(B813,D813),Padrón_Indígenas!$A$2:$G$988,7,0),\"No\")","v":"No"},{"$f":"VLOOKUP(E813,Cat_Municipios!D810:M868,11)","v":{"$error":"#N/A"}}]
[24,"007","Cedral","0010","El Cuarejo (0010)","R","Cedral (007)El Cuarejo (0010)",23.830953999999998,-100.575568,195,102,93,56,240070010,null,"Bajo","Muy bajo",{"$f":"IFERROR(VLOOKUP(CONCATENATE(B814,D814),Padrón_Indígenas!$A$2:$G$988,7,0),\"No\")","v":"No"},{"$f":"VLOOKUP(E814,Cat_Municipios!D811:M869,11)","v":{"$error":"#N/A"}}]
[24,"007","Cedral","0011","El Espíritu (0011)","R","Cedral (007)El Espíritu (0011)",23.826430999999999,-100.573986,58,30,28,19,240070011,null,"Alto","Bajo",{"$f":"IFERROR(VLOOKUP(CONCATENATE(B815,D815),Padrón_Indígenas!$A$2:$G$988,7,0),\"No\")","v":"No"},{"$f":"VLOOKUP(E815,Cat_Municipios!D812:M870,11)","v":{"$error":"#N/A"}}]
[24,"007","Cedral","0128","El Jobián (0128)","R","Cedral (007)El Jobián (0128)",23.833333,-100.72833300000001,5,"*","*",1,240070128,null,null,null,{"$f":"IFERROR(VLOOKUP(CONCATENATE(B816,D816),Padrón_Indígenas!$A$2:$G$988,7,0),\"No\")","v":"No"},{"$f":"VLOOKUP(E816,Cat_Municipios!D813:M871,11)","v":{"$error":"#N/A"}}]
[24,"007","Cedral","0082","El Llano (0082)","R","Cedral (007)El Llano (0082)",23.829982999999999,-100.718547,0,0,0,0,240070082,null,null,null,{"$f":"IFERROR(VLOOKUP(CONCATENATE(B817,D817),Padrón_Indígenas!$A$2:$G$988,7,0),\"No\")","v":"No"},{"$f":"VLOOKUP(E817,Cat_Municipios!D814:M872,11)","v":{"$error":"#N/A"}}]
[24,"007","Cedral","0017","El Llano del Pinto (0017)","R","Cedral (007)El Llano del Pinto (0017)",24.073014000000001,-100.53918299999999,60,28,32,11,240070017,null,"Medio","Muy bajo",{"$f":"IFERROR(VLOOKUP(CONCATENATE(B818,D818),Padrón_Indígenas!$A$2:$G$988,7,0),\"No\")","v":"No"},{"$f":"VLOOKUP(E818,Cat_Municipios!D815:M873,11)","v":{"$error":"#N/A"}}]
[24,"007","Cedral","0057","El Mirador (0057)","R","Cedral (007)El Mirador (0057)",24.064962999999999,-100.622771,5,"*","*",2,240070057,null,null,null,{"$f":"IFERROR(VLOOKUP(CONCATENATE(B819,D819),Padrón_Indígenas!$A$2:$G$988,7,0),\"No\")","v":"No"},{"$f":"VLOOKUP(E819,Cat_Municipios!D816:M874,11)","v":{"$error":"#N/A"}}]
[24,"007","Cedral","0088","El Pequeño (0088)","R","Cedral (007)El Pequeño (0088)",23.833573000000001,-100.76184000000001,11,"*","*",2,240070088,null,null,null,{"$f":"IFERROR(VLOOKUP(CONCATENATE(B820,D820),Padrón_Indígenas!$A$2:$G$988,7,0),\"No\")","v":"No"},{"$f":"VLOOKUP(E820,Cat_Municipios!D817:M875,11)","v":{"$error":"#N/A"}}]
[24,"007","Cedral","0169","El Puerto (0169)","R","Cedral (007)El Puerto (0169)",23.863305,-100.67149499999999,"-","-","-","-",240070169,null,null,null,{"$f":"IFERROR(VLOOKUP(CONCATENATE(B821,D821),Padrón_Indígenas!$A$2:$G$988,7,0),\"No\")","v":"No"},{"$f":"VLOOKUP(E821,Cat_Municipios!D818:M876,11)","v":{"$error":"#N/A"}}]
[24,"007","Cedral","0031","El Saladito (0031)","R","Cedral (007)El Saladito (0031)",23.806115999999999,-100.62798100000001,66,37,29,21,240070031,null,"Alto","Bajo",{"$f":"IFERROR(VLOOKUP(CONCATENATE(B822,D822),Padrón_Indígenas!$A$2:$G$988,7,0),\"No\")","v":"No"},{"$f":"VLOOKUP(E822,Cat_Municipios!D819:M877,11)","v":{"$error":"#N/A"}}]
[24,"007","Cedral","0048","El Saucito (0048)","R","Cedral (007)El Saucito (0048)",23.838698999999998,-100.65302800000001,12,8,4,3,240070048,null,"Muy alto","Alto",{"$f":"IFERROR(VLOOKUP(CONCATENATE(B823,D823),Padrón_Indígenas!$A$2:$G$988,7,0),\"No\")","v":"No"},{"$f":"VLOOKUP(E823,Cat_Municipios!D820:M878,11)","v":{"$error":"#N/A"}}]
[24,"007","Cedral","0065","El Sauz (0065)","R","Cedral (007)El Sauz (0065)",23.755831000000001,-100.726963,30,17,13,9,240070065,null,"Alto","Bajo",{"$f":"IFERROR(VLOOKUP(CONCATENATE(B824,D824),Padrón_Indígenas!$A$2:$G$988,7,0),\"No\")","v":"No"},{"$f":"VLOOKUP(E824,Cat_Municipios!D821:M879,11)","v":{"$error":"#N/A"}}]
[24,"007","Cedral","0126","Entronque del Real (0126)","R","Cedral (007)Entronque del Real (0126)",23.840208000000001,-100.817007,9,6,3,3,240070126,"SI","Muy alto","Alto",{"$f":"IFERROR(VLOOKUP(CONCATENATE(B825,D825),Padrón_Indígenas!$A$2:$G$988,7,0),\"No\")","v":"No"},{"$f":"VLOOKUP(E825,Cat_Municipios!D822:M880,11)","v":{"$error":"#N/A"}}]
[24,"007","Cedral","0156","Fraccionamiento Llanos de San Gabriel (0156)","R","Cedral (007)Fraccionamiento Llanos de San Gabriel (0156)",23.801527,-100.704944,13,6,7,3,240070156,null,"Muy bajo","Muy bajo",{"$f":"IFERROR(VLOOKUP(CONCATENATE(B826,D826),Padrón_Indígenas!$A$2:$G$988,7,0),\"No\")","v":"No"},{"$f":"VLOOKUP(E826,Cat_Municipios!D823:M881,11)","v":{"$error":"#N/A"}}]
[24,"007","Cedral","0146","Francisco Gloria (0146)","R","Cedral (007)Francisco Gloria (0146)",23.860278000000001,-100.751389,0,0,0,0,240070146,null,null,null,{"$f":"IFERROR(VLOOKUP(CONCATENATE(B827,D827),Padrón_Indígenas!$A$2:$G$988,7,0),\"No\")","v":"No"},{"$f":"VLOOKUP(E827,Cat_Municipios!D824:M882,11)","v":{"$error":"#N/A"}}]
[24,"007","Cedral","0012","Gallos Blancos (0012)","R","Cedral (007)Gallos Blancos (0012)",24.025849000000001,-100.69568700000001,239,120,119,53,240070012,"SI","Alto","Medio",{"$f":"IFERROR(VLOOKUP(CONCATENATE(B828,D828),Padrón_Indígenas!$A$2:$G$988,7,0),\"No\")","v":"No"},{"$f":"VLOOKUP(E828,Cat_Municipios!D825:M883,11)","v":{"$error":"#N/A"}}]
[24,"007","Cedral","0147","Héctor Ávila (0147)","R","Cedral (007)Héctor Ávila (0147)",23.823540000000001,-100.712609,1,"*","*",1,240070147,null,null,null,{"$f":"IFERROR(VLOOKUP(CONCATENATE(B829,D829),Padrón_Indígenas!$A$2:$G$988,7,0),\"No\")","v":"No"},{"$f":"VLOOKUP(E829,Cat_Municipios!D826:M884,11)","v":{"$error":"#N/A"}}]
[24,"007","Cedral","0170","Huerta de los Díaz (0170)","R","Cedral (007)Huerta de los Díaz (0170)",23.826053000000002,-100.76059100000001,"-","-","-","-",240070170,null,null,null,{"$f":"IFERROR(VLOOKUP(CONCATENATE(B830,D830),Padrón_Indígenas!$A$2:$G$988,7,0),\"No\")","v":"No"},{"$f":"VLOOKUP(E830,Cat_Municipios!D827:M885,11)","v":{"$error":"#N/A"}}]
[24,"007","Cedral","0014","Jesús María (0014)","R","Cedral (007)Jesús María (0014)",23.865352999999999,-100.63255599999999,106,60,46,28,240070014,null,"Medio","Muy bajo",{"$f":"IFERROR(VLOOKUP(CONCATENATE(B831,D831),Padrón_Indígenas!$A$2:$G$988,7,0),\"No\")","v":"No"},{"$f":"VLOOKUP(E831,Cat_Municipios!D828:M886,11)","v":{"$error":"#N/A"}}]
[24,"007","Cedral","0006","La Boquilla (0006)","R","Cedral (007)La Boquilla (0006)",23.815808000000001,-100.56108399999999,118,62,56,28,240070006,null,"Alto","Muy bajo",{"$f":"IFERROR(VLOOKUP(CONCATENATE(B832,D832),Padrón_Indígenas!$A$2:$G$988,7,0),\"No\")","v":"No"},{"$f":"VLOOKUP(E832,Cat_Municipios!D829:M887,11)","v":{"$error":"#N/A"}}]
[24,"007","Cedral","0052","La Candelaria (0052)","R","Cedral (007)La Candelaria (0052)",23.930364999999998,-100.58841700000001,12,7,5,3,240070052,null,"Bajo","Muy bajo",{"$f":"IFERROR(VLOOKUP(CONCATENATE(B833,D833),Padrón_Indígenas!$A$2:$G$988,7,0),\"No\")","v":"No"},{"$f":"VLOOKUP(E833,Cat_Municipios!D830:M888,11)","v":{"$error":"#N/A"}}]
[24,"007","Cedral","0121","La Candelaria (0121)","R","Cedral (007)La Candelaria (0121)",23.863142,-100.76162100000001,3,"*","*",1,240070121,null,null,null,{"$f":"IFERROR(VLOOKUP(CONCATENATE(B834,D834),Padrón_Indígenas!$A$2:$G$988,7,0),\"No\")","v":"No"},{"$f":"VLOOKUP(E834,Cat_Municipios!D831:M889,11)","v":{"$error":"#N/A"}}]
[24,"007","Cedral","0144","La Concordia (0144)","R","Cedral (007)La Concordia (0144)",23.841998,-100.737149,0,0,0,0,240070144,null,null,null,{"$f":"IFERROR(VLOOKUP(CONCATENATE(B835,D835),Padrón_Indígenas!$A$2:$G$988,7,0),\"No\")","v":"No"},{"$f":"VLOOKUP(E835,Cat_Municipios!D832:M890,11)","v":{"$error":"#N/A"}}]
[24,"007","Cedral","0008","La Crucita (0008)","R","Cedral (007)La Crucita (0008)",23.814724999999999,-100.57854500000001,71,35,36,22,240070008,null,"Medio","Bajo",{"$f":"IFERROR(VLOOKUP(CONCATENATE(B836,D836),Padrón_Indígenas!$A$2:$G$988,7,0),\"No\")","v":"No"},{"$f":"VLOOKUP(E836,Cat_Municipios!D833:M891,11)","v":{"$error":"#N/A"}}]
[24,"007","Cedral","0009","La Cruz (0009)","R","Cedral (007)La Cruz (0009)",23.764247999999998,-100.68719,107,59,48,25,240070009,null,"Medio","Bajo",{"$f":"IFERROR(VLOOKUP(CONCATENATE(B837,D837),Padrón_Indígenas!$A$2:$G$988,7,0),\"No\")","v":"No"},{"$f":"VLOOKUP(E837,Cat_Municipios!D834:M892,11)","v":{"$error":"#N/A"}}]
[24,"007","Cedral","0160","La Esperanza (0160)","R","Cedral (007)La Esperanza (0160)",23.828357,-100.637489,0,0,0,0,240070160,null,null,null,{"$f":"IFERROR(VLOOKUP(CONCATENATE(B838,D838),Padrón_Indígenas!$A$2:$G$988,7,0),\"No\")","v":"No"},{"$f":"VLOOKUP(E838,Cat_Municipios!D835:M893,11)","v":{"$error":"#N/A"}}]
[24,"007","Cedral","0053","La Estancia (0053)","R","Cedral (007)La Estancia (0053)",23.821569,-100.696314,3,"*","*",1,240070053,null,null,null,{"$f":"IFERROR(VLOOKUP(CONCATENATE(B839,D839),Padrón_Indígenas!$A$2:$G$988,7,0),\"No\")","v":"No"},{"$f":"VLOOKUP(E839,Cat_Municipios!D836:M894,11)","v":{"$error":"#N/A"}}]
[24,"007","Cedral","0161","La Joya (0161)","R","Cedral (007)La Joya (0161)",24.023056,-100.546944,0,0,0,0,240070161,null,null,null,{"$f":"IFERROR(VLOOKUP(CONCATENATE(B840,D840),Padrón_Indígenas!$A$2:$G$988,7,0),\"No\")","v":"No"},{"$f":"VLOOKUP(E840,Cat_Municipios!D837:M895,11)","v":{"$error":"#N/A"}}]
[24,"007","Cedral","0162","La Joya (0162)","R","Cedral (007)La Joya (0162)",23.802731000000001,-100.719649,0,0,0,0,240070162,null,null,null,{"$f":"IFERROR(VLOOKUP(CONCATENATE(B841,D841),Padrón_Indígenas!$A$2:$G$988,7,0),\"No\")","v":"No"},{"$f":"VLOOKUP(E841,Cat_Municipios!D838:M896,11)","v":{"$error":"#N/A"}}]
[24,"007","Cedral","0130","La Joya de Elías (0130)","R","Cedral (007)La Joya de Elías (0130)",24.124112,-100.604313,0,0,0,0,240070130,null,null,null,{"$f":"IFERROR(VLOOKUP(CONCATENATE(B842,D842),Padrón_Indígenas!$A$2:$G$988,7,0),\"No\")","v":"No"},{"$f":"VLOOKUP(E842,Cat_Municipios!D839:M897,11)","v":{"$error":"#N/A"}}]
[24,"007","Cedral","0080","La Joyita (0080)","R","Cedral (007)La Joyita (0080)",24.050509000000002,-100.544335,7,"*","*",2,240070080,null,null,null,{"$f":"IFERROR(VLOOKUP(CONCATENATE(B843,D843),Padrón_Indígenas!$A$2:$G$988,7,0),\"No\")","v":"No"},{"$f":"VLOOKUP(E843,Cat_Municipios!D840:M898,11)","v":{"$error":"#N/A"}}]
[24,"007","Cedral","0056","La Laguna (0056)","R","Cedral (007)La Laguna (0056)",23.807755,-100.710708,0,0,0,0,240070056,null,null,null,{"$f":"IFERROR(VLOOKUP(CONCATENATE(B844,D844),Padrón_Indígenas!$A$2:$G$988,7,0),\"No\")","v":"No"},{"$f":"VLOOKUP(E844,Cat_Municipios!D841:M899,11)","v":{"$error":"#N/A"}}]
[24,"007","Cedral","0164","La Loma (0164)","R","Cedral (007)La Loma (0164)",23.825534000000001,-100.67271599999999,0,0,0,0,240070164,null,null,null,{"$f":"IFERROR(VLOOKUP(CONCATENATE(B845,D845),Padrón_Indígenas!$A$2:$G$988,7,0),\"No\")","v":"No"},{"$f":"VLOOKUP(E845,Cat_Municipios!D842:M900,11)","v":{"$error":"#N/A"}}]
[24,"007","Cedral","0132","La Pasta (0132)","R","Cedral (007)La Pasta (0132)",23.878119999999999,-100.560241,0,0,0,0,240070132,null,null,null,{"$f":"IFERROR(VLOOKUP(CONCATENATE(B846,D846),Padrón_Indígenas!$A$2:$G$988,7,0),\"No\")","v":"No"},{"$f":"VLOOKUP(E846,Cat_Municipios!D843:M901,11)","v":{"$error":"#N/A"}}]
[24,"007","Cedral","0085","La Perla (Nogalar) (0085)","R","Cedral (007)La Perla (Nogalar) (0085)",23.768878000000001,-100.699502,0,0,0,0,240070085,null,null,null,{"$f":"IFERROR(VLOOKUP(CONCATENATE(B847,D847),Padrón_Indígenas!$A$2:$G$988,7,0),\"No\")","v":"No"},{"$f":"VLOOKUP(E847,Cat_Municipios!D844:M902,11)","v":{"$error":"#N/A"}}]
[24,"007","Cedral","0022","La Pinta (0022)","R","Cedral (007)La Pinta (0022)",23.908477000000001,-100.617676,59,31,28,15,240070022,null,"Alto","Muy bajo",{"$f":"IFERROR(VLOOKUP(CONCATENATE(B848,D848),Padrón_Indígenas!$A$2:$G$988,7,0),\"No\")","v":"No"},{"$f":"VLOOKUP(E848,Cat_Municipios!D845:M903,11)","v":{"$error":"#N/A"}}]
[24,"007","Cedral","0030","La Rinconada (0030)","R","Cedral (007)La Rinconada (0030)",23.76662,-100.656836,114,57,57,25,240070030,null,"Alto","Bajo",{"$f":"IFERROR(VLOOKUP(CONCATENATE(B849,D849),Padrón_Indígenas!$A$2:$G$988,7,0),\"No\")","v":"No"},{"$f":"VLOOKUP(E849,Cat_Municipios!D846:M904,11)","v":{"$error":"#N/A"}}]
[24,"007","Cedral","0015","Lagunillas (0015)","R","Cedral (007)Lagunillas (0015)",23.782378999999999,-100.570981,279,135,144,65,240070015,null,"Alto","Bajo",{"$f":"IFERROR(VLOOKUP(CONCATENATE(B850,D850),Padrón_Indígenas!$A$2:$G$988,7,0),\"No\")","v":"No"},{"$f":"VLOOKUP(E850,Cat_Municipios!D847:M905,11)","v":{"$error":"#N/A"}}]
[24,"007","Cedral","0171","Las Joyas (0171)","R","Cedral (007)Las Joyas (0171)",23.775941,-100.687534,"-","-","-","-",240070171,null,null,null,{"$f":"IFERROR(VLOOKUP(CONCATENATE(B851,D851),Padrón_Indígenas!$A$2:$G$988,7,0),\"No\")","v":"No"},{"$f":"VLOOKUP(E851,Cat_Municipios!D848:M906,11)","v":{"$error":"#N/A"}}]
[24,"007","Cedral","0018","Las Majadas (0018)","R","Cedral (007)Las Majadas (0018)",23.776574,-100.832714,0,0,0,0,240070018,null,null,null,{"$f":"IFERROR(VLOOKUP(CONCATENATE(B852,D852),Padrón_Indígenas!$A$2:$G$988,7,0),\"No\")","v":"No"},{"$f":"VLOOKUP(E852,Cat_Municipios!D849:M907,11)","v":{"$error":"#N/A"}}]
[24,"007","Cedral","0117","Loma Linda (0117)","R","Cedral (007)Loma Linda (0117)",23.850622000000001,-100.556901,3,"*","*",1,240070117,null,null,null,{"$f":"IFERROR(VLOOKUP(CONCATENATE(B853,D853),Padrón_Indígenas!$A$2:$G$988,7,0),\"No\")","v":"No"},{"$f":"VLOOKUP(E853,Cat_Municipios!D850:M908,11)","v":{"$error":"#N/A"}}]
[24,"007","Cedral","0165","Los Arrieros (0165)","R","Cedral (007)Los Arrieros (0165)",24.045278,-100.708056,0,0,0,0,240070165,null,null,null,{"$f":"IFERROR(VLOOKUP(CONCATENATE(B854,D854),Padrón_Indígenas!$A$2:$G$988,7,0),\"No\")","v":"No"},{"$f":"VLOOKUP(E854,Cat_Municipios!D851:M909,11)","v":{"$error":"#N/A"}}]
[24,"007","Cedral","0145","Los Desmontes (0145)","R","Cedral (007)Los Desmontes (0145)",23.797833000000001,-100.72255800000001,0,0,0,0,240070145,null,null,null,{"$f":"IFERROR(VLOOKUP(CONCATENATE(B855,D855),Padrón_Indígenas!$A$2:$G$988,7,0),\"No\")","v":"No"},{"$f":"VLOOKUP(E855,Cat_Municipios!D852:M910,11)","v":{"$error":"#N/A"}}]
[24,"007","Cedral","0172","Los Nogales (0172)","R","Cedral (007)Los Nogales (0172)",23.786376000000001,-100.68871,"-","-","-","-",240070172,null,null,null,{"$f":"IFERROR(VLOOKUP(CONCATENATE(B856,D856),Padrón_Indígenas!$A$2:$G$988,7,0),\"No\")","v":"No"},{"$f":"VLOOKUP(E856,Cat_Municipios!D853:M911,11)","v":{"$error":"#N/A"}}]
[24,"007","Cedral","0058","Los Orozco (0058)","R","Cedral (007)Los Orozco (0058)",23.855108000000001,-100.569154,12,"*","*",2,240070058,null,null,null,{"$f":"IFERROR(VLOOKUP(CONCATENATE(B857,D857),Padrón_Indígenas!$A$2:$G$988,7,0),\"No\")","v":"No"},{"$f":"VLOOKUP(E857,Cat_Municipios!D854:M912,11)","v":{"$error":"#N/A"}}]
[24,"007","Cedral","0155","Los Segovia (0155)","R","Cedral (007)Los Segovia (0155)",23.830501000000002,-100.716871,0,0,0,0,240070155,null,null,null,{"$f":"IFERROR(VLOOKUP(CONCATENATE(B858,D858),Padrón_Indígenas!$A$2:$G$988,7,0),\"No\")","v":"No"},{"$f":"VLOOKUP(E858,Cat_Municipios!D855:M913,11)","v":{"$error":"#N/A"}}]
[24,"007","Cedral","0173","Los Vázquez (0173)","R","Cedral (007)Los Vázquez (0173)",23.772786,-100.677959,"-","-","-","-",240070173,null,null,null,{"$f":"IFERROR(VLOOKUP(CONCATENATE(B859,D859),Padrón_Indígenas!$A$2:$G$988,7,0),\"No\")","v":"No"},{"$f":"VLOOKUP(E859,Cat_Municipios!D856:M914,11)","v":{"$error":"#N/A"}}]
[24,"007","Cedral","0083","Majada del Cerro Chato (0083)","R","Cedral (007)Majada del Cerro Chato (0083)",23.939043999999999,-100.780671,0,0,0,0,240070083,null,null,null,{"$f":"IFERROR(VLOOKUP(CONCATENATE(B860,D860),Padrón_Indígenas!$A$2:$G$988,7,0),\"No\")","v":"No"},{"$f":"VLOOKUP(E860,Cat_Municipios!D857:M915,11)","v":{"$error":"#N/A"}}]
[24,"007","Cedral","0148","Majada José de León (0148)","R","Cedral (007)Majada José de León (0148)",24.093893999999999,-100.56534000000001,0,0,0,0,240070148,null,null,null,{"$f":"IFERROR(VLOOKUP(CONCATENATE(B861,D861),Padrón_Indígenas!$A$2:$G$988,7,0),\"No\")","v":"No"},{"$f":"VLOOKUP(E861,Cat_Municipios!D858:M916,11)","v":{"$error":"#N/A"}}]
[24,"007","Cedral","0084","Majada la Perra (0084)","R","Cedral (007)Majada la Perra (0084)",23.920511000000001,-100.73846,0,0,0,0,240070084,null,null,null,{"$f":"IFERROR(VLOOKUP(CONCATENATE(B862,D862),Padrón_Indígenas!$A$2:$G$988,7,0),\"No\")","v":"No"},{"$f":"VLOOKUP(E862,Cat_Municipios!D859:M917,11)","v":{"$error":"#N/A"}}]
[24,"007","Cedral","0096","Majadas Joyas del Alto (0096)","R","Cedral (007)Majadas Joyas del Alto (0096)",23.803106,-100.796621,0,0,0,0,240070096,null,null,null,{"$f":"IFERROR(VLOOKUP(CONCATENATE(B863,D863),Padrón_Indígenas!$A$2:$G$988,7,0),\"No\")","v":"No"},{"$f":"VLOOKUP(E863,Cat_Municipios!D860:M918,11)","v":{"$error":"#N/A"}}]
[24,"007","Cedral","0066","Mesa de los Molina (0066)","R","Cedral (007)Mesa de los Molina (0066)",24.084503000000002,-100.637243,5,"*","*",1,240070066,null,null,null,{"$f":"IFERROR(VLOOKUP(CONCATENATE(B864,D864),Padrón_Indígenas!$A$2:$G$988,7,0),\"No\")","v":"No"},{"$f":"VLOOKUP(E864,Cat_Municipios!D861:M919,11)","v":{"$error":"#N/A"}}]
[24,"007","Cedral","0163","Ninguno (0163)","R","Cedral (007)Ninguno (0163)",23.842222,-100.790278,0,0,0,0,240070163,null,null,null,{"$f":"IFERROR(VLOOKUP(CONCATENATE(B865,D865),Padrón_Indígenas!$A$2:$G$988,7,0),\"No\")","v":"No"},{"$f":"VLOOKUP(E865,Cat_Municipios!D862:M920,11)","v":{"$error":"#N/A"}}]
[24,"007","Cedral","0019","Noria de Dolores (0019)","R","Cedral (007)Noria de Dolores (0019)",23.875684,-100.758191,325,168,157,74,240070019,null,"Medio","Muy bajo",{"$f":"IFERROR(VLOOKUP(CONCATENATE(B866,D866),Padrón_Indígenas!$A$2:$G$988,7,0),\"No\")","v":"No"},{"$f":"VLOOKUP(E866,Cat_Municipios!D863:M921,11)","v":{"$error":"#N/A"}}]
[24,"007","Cedral","0020","Noria de San Pedro (0020)","R","Cedral (007)Noria de San Pedro (0020)",23.886745999999999,-100.807762,164,87,77,39,240070020,null,"Alto","Bajo",{"$f":"IFERROR(VLOOKUP(CONCATENATE(B867,D867),Padrón_Indígenas!$A$2:$G$988,7,0),\"No\")","v":"No"},{"$f":"VLOOKUP(E867,Cat_Municipios!D864:M922,11)","v":{"$error":"#N/A"}}]
[24,"007","Cedral","0131","Nueva Rosita (0131)","R","Cedral (007)Nueva Rosita (0131)",23.846225,-100.736148,4,"*","*",1,240070131,null,null,null,{"$f":"IFERROR(VLOOKUP(CONCATENATE(B868,D868),Padrón_Indígenas!$A$2:$G$988,7,0),\"No\")","v":"No"},{"$f":"VLOOKUP(E868,Cat_Municipios!D865:M923,11)","v":{"$error":"#N/A"}}]
[24,"007","Cedral","0021","Palo Blanco (0021)","R","Cedral (007)Palo Blanco (0021)",24.057974000000002,-100.57245899999999,55,26,29,15,240070021,null,"Alto","Bajo",{"$f":"IFERROR(VLOOKUP(CONCATENATE(B869,D869),Padrón_Indígenas!$A$2:$G$988,7,0),\"No\")","v":"No"},{"$f":"VLOOKUP(E869,Cat_Municipios!D866:M924,11)","v":{"$error":"#N/A"}}]
[24,"007","Cedral","0087","Perpetuo Socorro (0087)","R","Cedral (007)Perpetuo Socorro (0087)",23.821968999999999,-100.70918899999999,25,11,14,4,240070087,null,"Alto","Muy bajo",{"$f":"IFERROR(VLOOKUP(CONCATENATE(B870,D870),Padrón_Indígenas!$A$2:$G$988,7,0),\"No\")","v":"No"},{"$f":"VLOOKUP(E870,Cat_Municipios!D867:M925,11)","v":{"$error":"#N/A"}}]
[24,"007","Cedral","0134","Pozo Número Diecinueve SAPSA (0134)","R","Cedral (007)Pozo Número Diecinueve SAPSA (0134)",23.836428000000002,-100.730712,0,0,0,0,240070134,null,null,null,{"$f":"IFERROR(VLOOKUP(CONCATENATE(B871,D871),Padrón_Indígenas!$A$2:$G$988,7,0),\"No\")","v":"No"},{"$f":"VLOOKUP(E871,Cat_Municipios!D868:M926,11)","v":{"$error":"#N/A"}}]
[24,"007","Cedral","0023","Presa Verde (0023)","R","Cedral (007)Presa Verde (0023)",23.974004000000001,-100.700552,444,224,220,113,240070023,null,"Alto","Bajo",{"$f":"IFERROR(VLOOKUP(CONCATENATE(B872,D872),Padrón_Indígenas!$A$2:$G$988,7,0),\"No\")","v":"No"},{"$f":"VLOOKUP(E872,Cat_Municipios!D869:M927,11)","v":{"$error":"#N/A"}}]
[24,"007","Cedral","0062","Progreso (0062)","R","Cedral (007)Progreso (0062)",23.864861999999999,-100.548422,25,12,13,9,240070062,null,"Alto","Bajo",{"$f":"IFERROR(VLOOKUP(CONCATENATE(B873,D873),Padrón_Indígenas!$A$2:$G$988,7,0),\"No\")","v":"No"},{"$f":"VLOOKUP(E873,Cat_Municipios!D870:M928,11)","v":{"$error":"#N/A"}}]
[24,"007","Cedral","0086","Quinta Hawai (Los Orejanos) (0086)","R","Cedral (007)Quinta Hawai (Los Orejanos) (0086)",23.804763000000001,-100.70736100000001,0,0,0,0,240070086,null,null,null,{"$f":"IFERROR(VLOOKUP(CONCATENATE(B874,D874),Padrón_Indígenas!$A$2:$G$988,7,0),\"No\")","v":"No"},{"$f":"VLOOKUP(E874,Cat_Municipios!D871:M929,11)","v":{"$error":"#N/A"}}]
[24,"007","Cedral","0104","Rancho Acapulco (0104)","R","Cedral (007)Rancho Acapulco (0104)",23.793662999999999,-100.706858,0,0,0,0,240070104,null,null,null,{"$f":"IFERROR(VLOOKUP(CONCATENATE(B875,D875),Padrón_Indígenas!$A$2:$G$988,7,0),\"No\")","v":"No"},{"$f":"VLOOKUP(E875,Cat_Municipios!D872:M930,11)","v":{"$error":"#N/A"}}]
[24,"007","Cedral","0073","Rancho Covadonga (0073)","R","Cedral (007)Rancho Covadonga (0073)",23.848056,-100.738056,0,0,0,0,240070073,null,null,null,{"$f":"IFERROR(VLOOKUP(CONCATENATE(B876,D876),Padrón_Indígenas!$A$2:$G$988,7,0),\"No\")","v":"No"},{"$f":"VLOOKUP(E876,Cat_Municipios!D873:M931,11)","v":{"$error":"#N/A"}}]
[24,"007","Cedral","0135","Rancho del Perro (La Granja) (0135)","R","Cedral (007)Rancho del Perro (La Granja) (0135)",23.777293,-100.683604,0,0,0,0,240070135,null,null,null,{"$f":"IFERROR(VLOOKUP(CONCATENATE(B877,D877),Padrón_Indígenas!$A$2:$G$988,7,0),\"No\")","v":"No"},{"$f":"VLOOKUP(E877,Cat_Municipios!D874:M932,11)","v":{"$error":"#N/A"}}]
[24,"007","Cedral","0150","Rancho el Carmen (0150)","R","Cedral (007)Rancho el Carmen (0150)",23.822326,-100.713517,1,"*","*",1,240070150,null,null,null,{"$f":"IFERROR(VLOOKUP(CONCATENATE(B878,D878),Padrón_Indígenas!$A$2:$G$988,7,0),\"No\")","v":"No"},{"$f":"VLOOKUP(E878,Cat_Municipios!D875:M933,11)","v":{"$error":"#N/A"}}]
[24,"007","Cedral","0024","Rancho el Cono del Progreso (0024)","R","Cedral (007)Rancho el Cono del Progreso (0024)",23.803775000000002,-100.733599,5,"*","*",1,240070024,null,null,null,{"$f":"IFERROR(VLOOKUP(CONCATENATE(B879,D879),Padrón_Indígenas!$A$2:$G$988,7,0),\"No\")","v":"No"},{"$f":"VLOOKUP(E879,Cat_Municipios!D876:M934,11)","v":{"$error":"#N/A"}}]
[24,"007","Cedral","0102","Rancho la Joya (0102)","R","Cedral (007)Rancho la Joya (0102)",23.839268000000001,-100.71606300000001,0,0,0,0,240070102,null,null,null,{"$f":"IFERROR(VLOOKUP(CONCATENATE(B880,D880),Padrón_Indígenas!$A$2:$G$988,7,0),\"No\")","v":"No"},{"$f":"VLOOKUP(E880,Cat_Municipios!D877:M935,11)","v":{"$error":"#N/A"}}]
[24,"007","Cedral","0167","Rancho la Rinconada (0167)","R","Cedral (007)Rancho la Rinconada (0167)",23.801131000000002,-100.71681,0,0,0,0,240070167,null,null,null,{"$f":"IFERROR(VLOOKUP(CONCATENATE(B881,D881),Padrón_Indígenas!$A$2:$G$988,7,0),\"No\")","v":"No"},{"$f":"VLOOKUP(E881,Cat_Municipios!D878:M936,11)","v":{"$error":"#N/A"}}]
[24,"007","Cedral","0093","Rancho las Vegas (0093)","R","Cedral (007)Rancho las Vegas (0093)",23.844322999999999,-100.757802,0,0,0,0,240070093,null,null,null,{"$f":"IFERROR(VLOOKUP(CONCATENATE(B882,D882),Padrón_Indígenas!$A$2:$G$988,7,0),\"No\")","v":"No"},{"$f":"VLOOKUP(E882,Cat_Municipios!D879:M937,11)","v":{"$error":"#N/A"}}]
[24,"007","Cedral","0118","Rancho Maricar (0118)","R","Cedral (007)Rancho Maricar (0118)",23.858281000000002,-100.754532,0,0,0,0,240070118,null,null,null,{"$f":"IFERROR(VLOOKUP(CONCATENATE(B883,D883),Padrón_Indígenas!$A$2:$G$988,7,0),\"No\")","v":"No"},{"$f":"VLOOKUP(E883,Cat_Municipios!D880:M938,11)","v":{"$error":"#N/A"}}]
[24,"007","Cedral","0025","Rancho Nuevo (0025)","R","Cedral (007)Rancho Nuevo (0025)",23.951333000000002,-100.621585,50,26,24,12,240070025,null,"Alto","Muy bajo",{"$f":"IFERROR(VLOOKUP(CONCATENATE(B884,D884),Padrón_Indígenas!$A$2:$G$988,7,0),\"No\")","v":"No"},{"$f":"VLOOKUP(E884,Cat_Municipios!D881:M939,11)","v":{"$error":"#N/A"}}]
[24,"007","Cedral","0110","Rancho Paso del Norte (0110)","R","Cedral (007)Rancho Paso del Norte (0110)",23.849316999999999,-100.741434,0,0,0,0,240070110,null,null,null,{"$f":"IFERROR(VLOOKUP(CONCATENATE(B885,D885),Padrón_Indígenas!$A$2:$G$988,7,0),\"No\")","v":"No"},{"$f":"VLOOKUP(E885,Cat_Municipios!D882:M940,11)","v":{"$error":"#N/A"}}]
[24,"007","Cedral","0113","Rancho San Ángel (0113)","R","Cedral (007)Rancho San Ángel (0113)",23.830718000000001,-100.734796,0,0,0,0,240070113,null,null,null,{"$f":"IFERROR(VLOOKUP(CONCATENATE(B886,D886),Padrón_Indígenas!$A$2:$G$988,7,0),\"No\")","v":"No"},{"$f":"VLOOKUP(E886,Cat_Municipios!D883:M941,11)","v":{"$error":"#N/A"}}]
[24,"007","Cedral","0151","Rancho San Benito (0151)","R","Cedral (007)Rancho San Benito (0151)",23.829716999999999,-100.709869,0,0,0,0,240070151,null,null,null,{"$f":"IFERROR(VLOOKUP(CONCATENATE(B887,D887),Padrón_Indígenas!$A$2:$G$988,7,0),\"No\")","v":"No"},{"$f":"VLOOKUP(E887,Cat_Municipios!D884:M942,11)","v":{"$error":"#N/A"}}]
[24,"007","Cedral","0077","Rancho San Diego (0077)","R","Cedral (007)Rancho San Diego (0077)",23.845617000000001,-100.73857599999999,"-","-","-","-",240070077,null,null,null,{"$f":"IFERROR(VLOOKUP(CONCATENATE(B888,D888),Padrón_Indígenas!$A$2:$G$988,7,0),\"No\")","v":"No"},{"$f":"VLOOKUP(E888,Cat_Municipios!D885:M943,11)","v":{"$error":"#N/A"}}]
[24,"007","Cedral","0076","Rancho San Francisco (0076)","R","Cedral (007)Rancho San Francisco (0076)",23.82647,-100.716696,3,"*","*",1,240070076,null,null,null,{"$f":"IFERROR(VLOOKUP(CONCATENATE(B889,D889),Padrón_Indígenas!$A$2:$G$988,7,0),\"No\")","v":"No"},{"$f":"VLOOKUP(E889,Cat_Municipios!D886:M944,11)","v":{"$error":"#N/A"}}]
[24,"007","Cedral","0068","Rancho San Isidro (0068)","R","Cedral (007)Rancho San Isidro (0068)",23.86354,-100.76853300000001,0,0,0,0,240070068,null,null,null,{"$f":"IFERROR(VLOOKUP(CONCATENATE(B890,D890),Padrón_Indígenas!$A$2:$G$988,7,0),\"No\")","v":"No"},{"$f":"VLOOKUP(E890,Cat_Municipios!D887:M945,11)","v":{"$error":"#N/A"}}]
[24,"007","Cedral","0152","Rancho San Martín (0152)","R","Cedral (007)Rancho San Martín (0152)",23.863016999999999,-100.75726,4,"*","*",1,240070152,null,null,null,{"$f":"IFERROR(VLOOKUP(CONCATENATE(B891,D891),Padrón_Indígenas!$A$2:$G$988,7,0),\"No\")","v":"No"},{"$f":"VLOOKUP(E891,Cat_Municipios!D888:M946,11)","v":{"$error":"#N/A"}}]
[24,"007","Cedral","0061","Rancho San Miguel (0061)","R","Cedral (007)Rancho San Miguel (0061)",23.818919000000001,-100.68031499999999,0,0,0,0,240070061,null,null,null,{"$f":"IFERROR(VLOOKUP(CONCATENATE(B892,D892),Padrón_Indígenas!$A$2:$G$988,7,0),\"No\")","v":"No"},{"$f":"VLOOKUP(E892,Cat_Municipios!D889:M947,11)","v":{"$error":"#N/A"}}]
[24,"007","Cedral","0089","Rancho Santa Martha (0089)","R","Cedral (007)Rancho Santa Martha (0089)",23.867773,-100.75586800000001,1,"*","*",1,240070089,null,null,null,{"$f":"IFERROR(VLOOKUP(CONCATENATE(B893,D893),Padrón_Indígenas!$A$2:$G$988,7,0),\"No\")","v":"No"},{"$f":"VLOOKUP(E893,Cat_Municipios!D890:M948,11)","v":{"$error":"#N/A"}}]
[24,"007","Cedral","0090","Rancho Santa Rosa (0090)","R","Cedral (007)Rancho Santa Rosa (0090)",23.850024000000001,-100.732927,16,9,7,5,240070090,null,"Alto","Bajo",{"$f":"IFERROR(VLOOKUP(CONCATENATE(B894,D894),Padrón_Indígenas!$A$2:$G$988,7,0),\"No\")","v":"No"},{"$f":"VLOOKUP(E894,Cat_Municipios!D891:M949,11)","v":{"$error":"#N/A"}}]
[24,"007","Cedral","0139","Rancho Santo Domingo (0139)","R","Cedral (007)Rancho Santo Domingo (0139)",23.808301,-100.728453,8,"*","*",2,240070139,null,null,null,{"$f":"IFERROR(VLOOKUP(CONCATENATE(B895,D895),Padrón_Indígenas!$A$2:$G$988,7,0),\"No\")","v":"No"},{"$f":"VLOOKUP(E895,Cat_Municipios!D892:M950,11)","v":{"$error":"#N/A"}}]
[24,"007","Cedral","0092","Rancho Vallarta (0092)","R","Cedral (007)Rancho Vallarta (0092)",23.784904999999998,-100.70527199999999,29,"*","*",1,240070092,"SI",null,null,{"$f":"IFERROR(VLOOKUP(CONCATENATE(B896,D896),Padrón_Indígenas!$A$2:$G$988,7,0),\"No\")","v":"No"},{"$f":"VLOOKUP(E896,Cat_Municipios!D893:M951,11)","v":{"$error":"#N/A"}}]
[24,"007","Cedral","0026","Rancho Viejo (0026)","R","Cedral (007)Rancho Viejo (0026)",23.799524000000002,-100.61325100000001,21,12,9,5,240070026,null,"Alto","Medio",{"$f":"IFERROR(VLOOKUP(CONCATENATE(B897,D897),Padrón_Indígenas!$A$2:$G$988,7,0),\"No\")","v":"No"},{"$f":"VLOOKUP(E897,Cat_Municipios!D894:M952,11)","v":{"$error":"#N/A"}}]
[24,"007","Cedral","0029","Refugio de las Monjas (0029)","R","Cedral (007)Refugio de las Monjas (0029)",23.743631000000001,-100.74489800000001,333,169,164,90,240070029,null,"Alto","Medio",{"$f":"IFERROR(VLOOKUP(CONCATENATE(B898,D898),Padrón_Indígenas!$A$2:$G$988,7,0),\"No\")","v":"No"},{"$f":"VLOOKUP(E898,Cat_Municipios!D895:M953,11)","v":{"$error":"#N/A"}}]
[24,"007","Cedral","0028","Refugio de Saladito (0028)","R","Cedral (007)Refugio de Saladito (0028)",23.826298000000001,-100.6133,45,24,21,10,240070028,null,"Alto","Bajo",{"$f":"IFERROR(VLOOKUP(CONCATENATE(B899,D899),Padrón_Indígenas!$A$2:$G$988,7,0),\"No\")","v":"No"},{"$f":"VLOOKUP(E899,Cat_Municipios!D896:M954,11)","v":{"$error":"#N/A"}}]
[24,"007","Cedral","0032","Salitrillos del Refugio (0032)","R","Cedral (007)Salitrillos del Refugio (0032)",23.744304,-100.641634,57,33,24,14,240070032,null,"Bajo","Muy bajo",{"$f":"IFERROR(VLOOKUP(CONCATENATE(B900,D900),Padrón_Indígenas!$A$2:$G$988,7,0),\"No\")","v":"No"},{"$f":"VLOOKUP(E900,Cat_Municipios!D897:M955,11)","v":{"$error":"#N/A"}}]
[24,"007","Cedral","0033","Saltillito (0033)","R","Cedral (007)Saltillito (0033)",23.797798,-100.64564300000001,65,32,33,15,240070033,null,"Medio","Muy bajo",{"$f":"IFERROR(VLOOKUP(CONCATENATE(B901,D901),Padrón_Indígenas!$A$2:$G$988,7,0),\"No\")","v":"No"},{"$f":"VLOOKUP(E901,Cat_Municipios!D898:M956,11)","v":{"$error":"#N/A"}}]
[24,"007","Cedral","0034","San Antonio de los Montoya (0034)","R","Cedral (007)San Antonio de los Montoya (0034)",23.828831999999998,-100.599294,85,42,43,21,240070034,null,"Medio","Muy bajo",{"$f":"IFERROR(VLOOKUP(CONCATENATE(B902,D902),Padrón_Indígenas!$A$2:$G$988,7,0),\"No\")","v":"No"},{"$f":"VLOOKUP(E902,Cat_Municipios!D899:M957,11)","v":{"$error":"#N/A"}}]
[24,"007","Cedral","0035","San Antonio del Sotol (0035)","R","Cedral (007)San Antonio del Sotol (0035)",24.133459999999999,-100.634103,115,61,54,28,240070035,"SI","Alto","Bajo",{"$f":"IFERROR(VLOOKUP(CONCATENATE(B903,D903),Padrón_Indígenas!$A$2:$G$988,7,0),\"No\")","v":"No"},{"$f":"VLOOKUP(E903,Cat_Municipios!D900:M958,11)","v":{"$error":"#N/A"}}]
[24,"007","Cedral","0115","San Elías (0115)","R","Cedral (007)San Elías (0115)",23.833130000000001,-100.70178300000001,0,0,0,0,240070115,null,null,null,{"$f":"IFERROR(VLOOKUP(CONCATENATE(B904,D904),Padrón_Indígenas!$A$2:$G$988,7,0),\"No\")","v":"No"},{"$f":"VLOOKUP(E904,Cat_Municipios!D901:M959,11)","v":{"$error":"#N/A"}}]
[24,"007","Cedral","0153","San Fernando (0153)","R","Cedral (007)San Fernando (0153)",23.816208,-100.678438,0,0,0,0,240070153,null,null,null,{"$f":"IFERROR(VLOOKUP(CONCATENATE(B905,D905),Padrón_Indígenas!$A$2:$G$988,7,0),\"No\")","v":"No"},{"$f":"VLOOKUP(E905,Cat_Municipios!D902:M960,11)","v":{"$error":"#N/A"}}]
[24,"007","Cedral","0136","San Francisco (0136)","R","Cedral (007)San Francisco (0136)",23.840720000000001,-100.73430399999999,0,0,0,0,240070136,null,null,null,{"$f":"IFERROR(VLOOKUP(CONCATENATE(B906,D906),Padrón_Indígenas!$A$2:$G$988,7,0),\"No\")","v":"No"},{"$f":"VLOOKUP(E906,Cat_Municipios!D903:M961,11)","v":{"$error":"#N/A"}}]
[24,"007","Cedral","0154","San Francisco (0154)","R","Cedral (007)San Francisco (0154)",23.821496,-100.67101099999999,0,0,0,0,240070154,null,null,null,{"$f":"IFERROR(VLOOKUP(CONCATENATE(B907,D907),Padrón_Indígenas!$A$2:$G$988,7,0),\"No\")","v":"No"},{"$f":"VLOOKUP(E907,Cat_Municipios!D904:M962,11)","v":{"$error":"#N/A"}}]
[24,"007","Cedral","0036","San Francisco de los Ejidos (0036)","R","Cedral (007)San Francisco de los Ejidos (0036)",23.854671,-100.67003800000001,0,0,0,0,240070036,null,null,null,{"$f":"IFERROR(VLOOKUP(CONCATENATE(B908,D908),Padrón_Indígenas!$A$2:$G$988,7,0),\"No\")","v":"No"},{"$f":"VLOOKUP(E908,Cat_Municipios!D905:M963,11)","v":{"$error":"#N/A"}}]
[24,"007","Cedral","0078","San Ignacio del Carmen (0078)","R","Cedral (007)San Ignacio del Carmen (0078)",23.851949000000001,-100.754768,0,0,0,0,240070078,null,null,null,{"$f":"IFERROR(VLOOKUP(CONCATENATE(B909,D909),Padrón_Indígenas!$A$2:$G$988,7,0),\"No\")","v":"No"},{"$f":"VLOOKUP(E909,Cat_Municipios!D906:M964,11)","v":{"$error":"#N/A"}}]
[24,"007","Cedral","0037","San Isidro (0037)","R","Cedral (007)San Isidro (0037)",23.86645,-100.77673799999999,1152,568,584,279,240070037,null,"Alto","Bajo",{"$f":"IFERROR(VLOOKUP(CONCATENATE(B910,D910),Padrón_Indígenas!$A$2:$G$988,7,0),\"No\")","v":"No"},{"$f":"VLOOKUP(E910,Cat_Municipios!D907:M965,11)","v":{"$error":"#N/A"}}]
[24,"007","Cedral","0059","San José de la Porra (0059)","R","Cedral (007)San José de la Porra (0059)",23.859943999999999,-100.758557,14,8,6,5,240070059,null,"Alto","Medio",{"$f":"IFERROR(VLOOKUP(CONCATENATE(B911,D911),Padrón_Indígenas!$A$2:$G$988,7,0),\"No\")","v":"No"},{"$f":"VLOOKUP(E911,Cat_Municipios!D908:M966,11)","v":{"$error":"#N/A"}}]
[24,"007","Cedral","0108","San José de los Gaytanes (0108)","R","Cedral (007)San José de los Gaytanes (0108)",23.830413,-100.74372700000001,"-","-","-","-",240070108,null,null,null,{"$f":"IFERROR(VLOOKUP(CONCATENATE(B912,D912),Padrón_Indígenas!$A$2:$G$988,7,0),\"No\")","v":"No"},{"$f":"VLOOKUP(E912,Cat_Municipios!D909:M967,11)","v":{"$error":"#N/A"}}]
[24,"007","Cedral","0081","San José del Ramillete (0081)","R","Cedral (007)San José del Ramillete (0081)",23.872133000000002,-100.768789,17,7,10,5,240070081,null,"Muy alto","Alto",{"$f":"IFERROR(VLOOKUP(CONCATENATE(B913,D913),Padrón_Indígenas!$A$2:$G$988,7,0),\"No\")","v":"No"},{"$f":"VLOOKUP(E913,Cat_Municipios!D910:M968,11)","v":{"$error":"#N/A"}}]
[24,"007","Cedral","0039","San Juanito (0039)","R","Cedral (007)San Juanito (0039)",23.809287000000001,-100.677601,0,0,0,0,240070039,null,null,null,{"$f":"IFERROR(VLOOKUP(CONCATENATE(B914,D914),Padrón_Indígenas!$A$2:$G$988,7,0),\"No\")","v":"No"},{"$f":"VLOOKUP(E914,Cat_Municipios!D911:M969,11)","v":{"$error":"#N/A"}}]
[24,"007","Cedral","0040","San Lorenzo (0040)","R","Cedral (007)San Lorenzo (0040)",24.007930999999999,-100.580164,274,151,123,71,240070040,null,"Alto","Bajo",{"$f":"IFERROR(VLOOKUP(CONCATENATE(B915,D915),Padrón_Indígenas!$A$2:$G$988,7,0),\"No\")","v":"No"},{"$f":"VLOOKUP(E915,Cat_Municipios!D912:M970,11)","v":{"$error":"#N/A"}}]
[24,"007","Cedral","0041","San Mateo (0041)","R","Cedral (007)San Mateo (0041)",24.129348,-100.56900400000001,136,71,65,28,240070041,null,"Alto","Bajo",{"$f":"IFERROR(VLOOKUP(CONCATENATE(B916,D916),Padrón_Indígenas!$A$2:$G$988,7,0),\"No\")","v":"No"},{"$f":"VLOOKUP(E916,Cat_Municipios!D913:M971,11)","v":{"$error":"#N/A"}}]
[24,"007","Cedral","0042","San Pablo (0042)","R","Cedral (007)San Pablo (0042)",23.825288,-100.64596899999999,60,25,35,17,240070042,null,"Alto","Bajo",{"$f":"IFERROR(VLOOKUP(CONCATENATE(B917,D917),Padrón_Indígenas!$A$2:$G$988,7,0),\"No\")","v":"No"},{"$f":"VLOOKUP(E917,Cat_Municipios!D914:M972,11)","v":{"$error":"#N/A"}}]
[24,"007","Cedral","0043","San Rafael (0043)","R","Cedral (007)San Rafael (0043)",23.859669,-100.65034300000001,1,"*","*",1,240070043,null,null,null,{"$f":"IFERROR(VLOOKUP(CONCATENATE(B918,D918),Padrón_Indígenas!$A$2:$G$988,7,0),\"No\")","v":"No"},{"$f":"VLOOKUP(E918,Cat_Municipios!D915:M973,11)","v":{"$error":"#N/A"}}]
[24,"007","Cedral","0044","San Rafael de los Facundos (0044)","R","Cedral (007)San Rafael de los Facundos (0044)",23.790171999999998,-100.583173,32,16,16,9,240070044,null,"Alto","Bajo",{"$f":"IFERROR(VLOOKUP(CONCATENATE(B919,D919),Padrón_Indígenas!$A$2:$G$988,7,0),\"No\")","v":"No"},{"$f":"VLOOKUP(E919,Cat_Municipios!D916:M974,11)","v":{"$error":"#N/A"}}]
[24,"007","Cedral","0112","San Roberto (0112)","R","Cedral (007)San Roberto (0112)",23.824975999999999,-100.706096,"-","-","-","-",240070112,null,null,null,{"$f":"IFERROR(VLOOKUP(CONCATENATE(B920,D920),Padrón_Indígenas!$A$2:$G$988,7,0),\"No\")","v":"No"},{"$f":"VLOOKUP(E920,Cat_Municipios!D917:M975,11)","v":{"$error":"#N/A"}}]
[24,"007","Cedral","0137","San Roque (0137)","R","Cedral (007)San Roque (0137)",23.836983,-100.71337,0,0,0,0,240070137,null,null,null,{"$f":"IFERROR(VLOOKUP(CONCATENATE(B921,D921),Padrón_Indígenas!$A$2:$G$988,7,0),\"No\")","v":"No"},{"$f":"VLOOKUP(E921,Cat_Municipios!D918:M976,11)","v":{"$error":"#N/A"}}]
[24,"007","Cedral","0141","Santa Catarina (0141)","R","Cedral (007)Santa Catarina (0141)",23.965022999999999,-100.618775,6,"*","*",2,240070141,null,null,null,{"$f":"IFERROR(VLOOKUP(CONCATENATE(B922,D922),Padrón_Indígenas!$A$2:$G$988,7,0),\"No\")","v":"No"},{"$f":"VLOOKUP(E922,Cat_Municipios!D919:M977,11)","v":{"$error":"#N/A"}}]
[24,"007","Cedral","0064","Santa Fe (0064)","R","Cedral (007)Santa Fe (0064)",23.858806999999999,-100.761746,0,0,0,0,240070064,null,null,null,{"$f":"IFERROR(VLOOKUP(CONCATENATE(B923,D923),Padrón_Indígenas!$A$2:$G$988,7,0),\"No\")","v":"No"},{"$f":"VLOOKUP(E923,Cat_Municipios!D920:M978,11)","v":{"$error":"#N/A"}}]
[24,"007","Cedral","0091","Santa Isabel (0091)","R","Cedral (007)Santa Isabel (0091)",23.843268999999999,-100.72504499999999,0,0,0,0,240070091,null,null,null,{"$f":"IFERROR(VLOOKUP(CONCATENATE(B924,D924),Padrón_Indígenas!$A$2:$G$988,7,0),\"No\")","v":"No"},{"$f":"VLOOKUP(E924,Cat_Municipios!D921:M979,11)","v":{"$error":"#N/A"}}]
[24,"007","Cedral","0045","Santa Rita del Sotol (0045)","R","Cedral (007)Santa Rita del Sotol (0045)",24.009658000000002,-100.63219599999999,335,155,180,81,240070045,null,"Alto","Muy bajo",{"$f":"IFERROR(VLOOKUP(CONCATENATE(B925,D925),Padrón_Indígenas!$A$2:$G$988,7,0),\"No\")","v":"No"},{"$f":"VLOOKUP(E925,Cat_Municipios!D922:M980,11)","v":{"$error":"#N/A"}}]
[24,"007","Cedral","0046","Santa Teresa (0046)","R","Cedral (007)Santa Teresa (0046)",23.756063999999999,-100.677522,147,77,70,31,240070046,null,"Bajo","Muy bajo",{"$f":"IFERROR(VLOOKUP(CONCATENATE(B926,D926),Padrón_Indígenas!$A$2:$G$988,7,0),\"No\")","v":"No"},{"$f":"VLOOKUP(E926,Cat_Municipios!D923:M981,11)","v":{"$error":"#N/A"}}]
[24,"007","Cedral","0050","Tanque Nuevo (0050)","R","Cedral (007)Tanque Nuevo (0050)",23.912192000000001,-100.568513,189,110,79,53,240070050,null,"Alto","Bajo",{"$f":"IFERROR(VLOOKUP(CONCATENATE(B927,D927),Padrón_Indígenas!$A$2:$G$988,7,0),\"No\")","v":"No"},{"$f":"VLOOKUP(E927,Cat_Municipios!D924:M982,11)","v":{"$error":"#N/A"}}]
[24,"007","Cedral","0051","Zamarripa (0051)","R","Cedral (007)Zamarripa (0051)",23.947099000000001,-100.581958,163,85,78,41,240070051,null,"Medio","Muy bajo",{"$f":"IFERROR(VLOOKUP(CONCATENATE(B928,D928),Padrón_Indígenas!$A$2:$G$988,7,0),\"No\")","v":"No"},{"$f":"VLOOKUP(E928,Cat_Municipios!D925:M983,11)","v":{"$error":"#N/A"}}]
[24,"007","Cedral",null,"Todo el municipio ",null,{"$f":"_xlfn.CONCAT(C929,\" (\",B929,\")\",E929)","v":"Cedral (007)Todo el municipio "},null,null,{"$f":"SUM(J799:J928)","v":18485}]
[24,"008","Cerritos","0003","Bosque y Caldera (0003)","R","Cerritos (008)Bosque y Caldera (0003)",22.488242,-100.195123,34,17,17,11,240080003,null,"Alto","Medio",{"$f":"IFERROR(VLOOKUP(CONCATENATE(B930,D930),Padrón_Indígenas!$A$2:$G$988,7,0),\"No\")","v":"No"},{"$f":"VLOOKUP(E930,Cat_Municipios!D926:M984,11)","v":{"$error":"#N/A"}}]
[24,"008","Cerritos","0004","Cerrito Blanco (0004)","R","Cerritos (008)Cerrito Blanco (0004)",22.381713999999999,-100.16376,179,91,88,45,240080004,null,"Alto","Bajo",{"$f":"IFERROR(VLOOKUP(CONCATENATE(B931,D931),Padrón_Indígenas!$A$2:$G$988,7,0),\"No\")","v":"No"},{"$f":"VLOOKUP(E931,Cat_Municipios!D927:M985,11)","v":{"$error":"#N/A"}}]
[24,"008","Cerritos","0001","Cerritos (0001)","U","Cerritos (008)Cerritos (0001)",22.427665999999999,-100.279597,14804,7112,7692,3876,240080001,"SI",null,null,{"$f":"IFERROR(VLOOKUP(CONCATENATE(B932,D932),Padrón_Indígenas!$A$2:$G$988,7,0),\"No\")","v":"No"},{"$f":"VLOOKUP(E932,Cat_Municipios!D928:M986,11)","v":{"$error":"#N/A"}}]
[24,"008","Cerritos","0022","Cerro de los Quiotes (0022)","R","Cerritos (008)Cerro de los Quiotes (0022)",22.458074,-100.319436,2,"*","*",1,240080022,null,null,null,{"$f":"IFERROR(VLOOKUP(CONCATENATE(B933,D933),Padrón_Indígenas!$A$2:$G$988,7,0),\"No\")","v":"No"},{"$f":"VLOOKUP(E933,Cat_Municipios!D929:M987,11)","v":{"$error":"#N/A"}}]
[24,"008","Cerritos","0005","Cerros Blancos (0005)","R","Cerritos (008)Cerros Blancos (0005)",22.539625000000001,-100.08613,204,106,98,42,240080005,null,"Alto","Medio",{"$f":"IFERROR(VLOOKUP(CONCATENATE(B934,D934),Padrón_Indígenas!$A$2:$G$988,7,0),\"No\")","v":"No"},{"$f":"VLOOKUP(E934,Cat_Municipios!D930:M988,11)","v":{"$error":"#N/A"}}]
[24,"008","Cerritos","0006","Charco Blanco (0006)","R","Cerritos (008)Charco Blanco (0006)",22.441735999999999,-100.33407099999999,5,"*","*",1,240080006,null,null,null,{"$f":"IFERROR(VLOOKUP(CONCATENATE(B935,D935),Padrón_Indígenas!$A$2:$G$988,7,0),\"No\")","v":"No"},{"$f":"VLOOKUP(E935,Cat_Municipios!D931:M989,11)","v":{"$error":"#N/A"}}]
[24,"008","Cerritos","0073","Charco el Venado (0073)","R","Cerritos (008)Charco el Venado (0073)",22.472778000000002,-100.031111,0,0,0,0,240080073,null,null,null,{"$f":"IFERROR(VLOOKUP(CONCATENATE(B936,D936),Padrón_Indígenas!$A$2:$G$988,7,0),\"No\")","v":"No"},{"$f":"VLOOKUP(E936,Cat_Municipios!D932:M990,11)","v":{"$error":"#N/A"}}]
[24,"008","Cerritos","0007","Derramaderos (0007)","R","Cerritos (008)Derramaderos (0007)",22.514316000000001,-100.275498,566,270,296,151,240080007,"SI","Medio","Muy bajo",{"$f":"IFERROR(VLOOKUP(CONCATENATE(B937,D937),Padrón_Indígenas!$A$2:$G$988,7,0),\"No\")","v":"No"},{"$f":"VLOOKUP(E937,Cat_Municipios!D933:M991,11)","v":{"$error":"#N/A"}}]
[24,"008","Cerritos","0047","El Cuchillo (0047)","R","Cerritos (008)El Cuchillo (0047)",22.449476000000001,-100.060714,0,0,0,0,240080047,null,null,null,{"$f":"IFERROR(VLOOKUP(CONCATENATE(B938,D938),Padrón_Indígenas!$A$2:$G$988,7,0),\"No\")","v":"No"},{"$f":"VLOOKUP(E938,Cat_Municipios!D934:M992,11)","v":{"$error":"#N/A"}}]
[24,"008","Cerritos","0081","El Fundador (Puerto de San José) (0081)","R","Cerritos (008)El Fundador (Puerto de San José) (0081)",22.554583000000001,-100.565977,4,"*","*",1,240080081,null,null,null,{"$f":"IFERROR(VLOOKUP(CONCATENATE(B939,D939),Padrón_Indígenas!$A$2:$G$988,7,0),\"No\")","v":"No"},{"$f":"VLOOKUP(E939,Cat_Municipios!D935:M993,11)","v":{"$error":"#N/A"}}]
[24,"008","Cerritos","0010","El Gavilán (0010)","R","Cerritos (008)El Gavilán (0010)",22.523305000000001,-100.04276299999999,147,75,72,27,240080010,null,"Alto","Bajo",{"$f":"IFERROR(VLOOKUP(CONCATENATE(B940,D940),Padrón_Indígenas!$A$2:$G$988,7,0),\"No\")","v":"No"},{"$f":"VLOOKUP(E940,Cat_Municipios!D936:M994,11)","v":{"$error":"#N/A"}}]
[24,"008","Cerritos","0020","El Palmarito (0020)","R","Cerritos (008)El Palmarito (0020)",22.498676,-100.268271,21,13,8,8,240080020,null,"Alto","Bajo",{"$f":"IFERROR(VLOOKUP(CONCATENATE(B941,D941),Padrón_Indígenas!$A$2:$G$988,7,0),\"No\")","v":"No"},{"$f":"VLOOKUP(E941,Cat_Municipios!D937:M995,11)","v":{"$error":"#N/A"}}]
[24,"008","Cerritos","0032","El Sauz (0032)","R","Cerritos (008)El Sauz (0032)",22.526139000000001,-100.234515,468,224,244,130,240080032,"SI","Alto","Bajo",{"$f":"IFERROR(VLOOKUP(CONCATENATE(B942,D942),Padrón_Indígenas!$A$2:$G$988,7,0),\"No\")","v":"No"},{"$f":"VLOOKUP(E942,Cat_Municipios!D938:M996,11)","v":{"$error":"#N/A"}}]
[24,"008","Cerritos","0035","El Tepetate (0035)","R","Cerritos (008)El Tepetate (0035)",22.42512,-100.328256,218,108,110,63,240080035,null,"Alto","Bajo",{"$f":"IFERROR(VLOOKUP(CONCATENATE(B943,D943),Padrón_Indígenas!$A$2:$G$988,7,0),\"No\")","v":"No"},{"$f":"VLOOKUP(E943,Cat_Municipios!D939:M997,11)","v":{"$error":"#N/A"}}]
[24,"008","Cerritos","0036","El Tepozán (0036)","R","Cerritos (008)El Tepozán (0036)",22.390764000000001,-100.349608,315,144,171,114,240080036,null,"Medio","Bajo",{"$f":"IFERROR(VLOOKUP(CONCATENATE(B944,D944),Padrón_Indígenas!$A$2:$G$988,7,0),\"No\")","v":"No"},{"$f":"VLOOKUP(E944,Cat_Municipios!D940:M998,11)","v":{"$error":"#N/A"}}]
[24,"008","Cerritos","0087","Galdino Guzmán (0087)","R","Cerritos (008)Galdino Guzmán (0087)",22.420179000000001,-100.25825399999999,0,0,0,0,240080087,null,null,null,{"$f":"IFERROR(VLOOKUP(CONCATENATE(B945,D945),Padrón_Indígenas!$A$2:$G$988,7,0),\"No\")","v":"No"},{"$f":"VLOOKUP(E945,Cat_Municipios!D941:M999,11)","v":{"$error":"#N/A"}}]
[24,"008","Cerritos","0085","Jesús Almazán (0085)","R","Cerritos (008)Jesús Almazán (0085)",22.465257000000001,-100.30622200000001,0,0,0,0,240080085,null,null,null,{"$f":"IFERROR(VLOOKUP(CONCATENATE(B946,D946),Padrón_Indígenas!$A$2:$G$988,7,0),\"No\")","v":"No"},{"$f":"VLOOKUP(E946,Cat_Municipios!D942:M1000,11)","v":{"$error":"#N/A"}}]
[24,"008","Cerritos","0011","Joya de Luna (0011)","R","Cerritos (008)Joya de Luna (0011)",22.435829999999999,-100.42161900000001,565,280,285,158,240080011,null,"Alto","Medio",{"$f":"IFERROR(VLOOKUP(CONCATENATE(B947,D947),Padrón_Indígenas!$A$2:$G$988,7,0),\"No\")","v":"No"},{"$f":"VLOOKUP(E947,Cat_Municipios!D943:M1001,11)","v":{"$error":"#N/A"}}]
[24,"008","Cerritos","0012","Joyitas de Guadalupe (0012)","R","Cerritos (008)Joyitas de Guadalupe (0012)",22.534990000000001,-100.167022,5,"*","*",2,240080012,null,null,null,{"$f":"IFERROR(VLOOKUP(CONCATENATE(B948,D948),Padrón_Indígenas!$A$2:$G$988,7,0),\"No\")","v":"No"},{"$f":"VLOOKUP(E948,Cat_Municipios!D944:M1002,11)","v":{"$error":"#N/A"}}]
[24,"008","Cerritos","0002","La Biznaga (0002)","R","Cerritos (008)La Biznaga (0002)",22.473969,-100.256426,22,11,11,8,240080002,null,"Alto","Bajo",{"$f":"IFERROR(VLOOKUP(CONCATENATE(B949,D949),Padrón_Indígenas!$A$2:$G$988,7,0),\"No\")","v":"No"},{"$f":"VLOOKUP(E949,Cat_Municipios!D945:M1003,11)","v":{"$error":"#N/A"}}]
[24,"008","Cerritos","0078","La Cañada (0078)","R","Cerritos (008)La Cañada (0078)",22.330988999999999,-100.432964,0,0,0,0,240080078,null,null,null,{"$f":"IFERROR(VLOOKUP(CONCATENATE(B950,D950),Padrón_Indígenas!$A$2:$G$988,7,0),\"No\")","v":"No"},{"$f":"VLOOKUP(E950,Cat_Municipios!D946:M1004,11)","v":{"$error":"#N/A"}}]
[24,"008","Cerritos","0008","La Escondida (0008)","R","Cerritos (008)La Escondida (0008)",22.462295999999998,-100.26038800000001,26,13,13,9,240080008,null,"Alto","Bajo",{"$f":"IFERROR(VLOOKUP(CONCATENATE(B951,D951),Padrón_Indígenas!$A$2:$G$988,7,0),\"No\")","v":"No"},{"$f":"VLOOKUP(E951,Cat_Municipios!D947:M1005,11)","v":{"$error":"#N/A"}}]
[24,"008","Cerritos","0009","La Escondida del Refugio (0009)","R","Cerritos (008)La Escondida del Refugio (0009)",22.500081000000002,-100.45903300000001,2,"*","*",1,240080009,null,null,null,{"$f":"IFERROR(VLOOKUP(CONCATENATE(B952,D952),Padrón_Indígenas!$A$2:$G$988,7,0),\"No\")","v":"No"},{"$f":"VLOOKUP(E952,Cat_Municipios!D948:M1006,11)","v":{"$error":"#N/A"}}]
[24,"008","Cerritos","0094","La Huerta (0094)","R","Cerritos (008)La Huerta (0094)",22.431231,-100.29888,0,0,0,0,240080094,null,null,null,{"$f":"IFERROR(VLOOKUP(CONCATENATE(B953,D953),Padrón_Indígenas!$A$2:$G$988,7,0),\"No\")","v":"No"},{"$f":"VLOOKUP(E953,Cat_Municipios!D949:M1007,11)","v":{"$error":"#N/A"}}]
[24,"008","Cerritos","0013","La Labor de San Diego (0013)","R","Cerritos (008)La Labor de San Diego (0013)",22.364077999999999,-100.42600899999999,21,10,11,8,240080013,null,"Alto","Medio",{"$f":"IFERROR(VLOOKUP(CONCATENATE(B954,D954),Padrón_Indígenas!$A$2:$G$988,7,0),\"No\")","v":"No"},{"$f":"VLOOKUP(E954,Cat_Municipios!D950:M1008,11)","v":{"$error":"#N/A"}}]
[24,"008","Cerritos","0079","La Labor Vieja (0079)","R","Cerritos (008)La Labor Vieja (0079)",22.318888999999999,-100.396389,5,"*","*",1,240080079,null,null,null,{"$f":"IFERROR(VLOOKUP(CONCATENATE(B955,D955),Padrón_Indígenas!$A$2:$G$988,7,0),\"No\")","v":"No"},{"$f":"VLOOKUP(E955,Cat_Municipios!D951:M1009,11)","v":{"$error":"#N/A"}}]
[24,"008","Cerritos","0039","La Liebre (0039)","R","Cerritos (008)La Liebre (0039)",22.453997999999999,-100.286502,17,8,9,5,240080039,null,"Alto","Bajo",{"$f":"IFERROR(VLOOKUP(CONCATENATE(B956,D956),Padrón_Indígenas!$A$2:$G$988,7,0),\"No\")","v":"No"},{"$f":"VLOOKUP(E956,Cat_Municipios!D952:M1010,11)","v":{"$error":"#N/A"}}]
[24,"008","Cerritos","0074","La Mezquitada [Parque Infantil] (0074)","R","Cerritos (008)La Mezquitada [Parque Infantil] (0074)",22.444202000000001,-100.273849,2,"*","*",1,240080074,null,null,null,{"$f":"IFERROR(VLOOKUP(CONCATENATE(B957,D957),Padrón_Indígenas!$A$2:$G$988,7,0),\"No\")","v":"No"},{"$f":"VLOOKUP(E957,Cat_Municipios!D953:M1011,11)","v":{"$error":"#N/A"}}]
[24,"008","Cerritos","0021","La Peña de Salazar (0021)","R","Cerritos (008)La Peña de Salazar (0021)",22.353173999999999,-100.48361,69,37,32,13,240080021,null,"Muy alto","Medio",{"$f":"IFERROR(VLOOKUP(CONCATENATE(B958,D958),Padrón_Indígenas!$A$2:$G$988,7,0),\"No\")","v":"No"},{"$f":"VLOOKUP(E958,Cat_Municipios!D954:M1012,11)","v":{"$error":"#N/A"}}]
[24,"008","Cerritos","0071","La Providencia (0071)","R","Cerritos (008)La Providencia (0071)",22.503215000000001,-100.31454100000001,0,0,0,0,240080071,null,null,null,{"$f":"IFERROR(VLOOKUP(CONCATENATE(B959,D959),Padrón_Indígenas!$A$2:$G$988,7,0),\"No\")","v":"No"},{"$f":"VLOOKUP(E959,Cat_Municipios!D955:M1013,11)","v":{"$error":"#N/A"}}]
[24,"008","Cerritos","0045","Las Maravillas (0045)","R","Cerritos (008)Las Maravillas (0045)",22.398281000000001,-100.222022,13,8,5,5,240080045,null,"Alto","Medio",{"$f":"IFERROR(VLOOKUP(CONCATENATE(B960,D960),Padrón_Indígenas!$A$2:$G$988,7,0),\"No\")","v":"No"},{"$f":"VLOOKUP(E960,Cat_Municipios!D956:M1014,11)","v":{"$error":"#N/A"}}]
[24,"008","Cerritos","0041","Las Moras (0041)","R","Cerritos (008)Las Moras (0041)",22.492253999999999,-100.40369,0,0,0,0,240080041,null,null,null,{"$f":"IFERROR(VLOOKUP(CONCATENATE(B961,D961),Padrón_Indígenas!$A$2:$G$988,7,0),\"No\")","v":"No"},{"$f":"VLOOKUP(E961,Cat_Municipios!D957:M1015,11)","v":{"$error":"#N/A"}}]
[24,"008","Cerritos","0056","Las Trojas (Las Trojes) (0056)","R","Cerritos (008)Las Trojas (Las Trojes) (0056)",22.413426999999999,-100.32084399999999,0,0,0,0,240080056,null,null,null,{"$f":"IFERROR(VLOOKUP(CONCATENATE(B962,D962),Padrón_Indígenas!$A$2:$G$988,7,0),\"No\")","v":"No"},{"$f":"VLOOKUP(E962,Cat_Municipios!D958:M1016,11)","v":{"$error":"#N/A"}}]
[24,"008","Cerritos","0014","Loma Verde (0014)","R","Cerritos (008)Loma Verde (0014)",22.393011000000001,-100.18706,18,9,9,4,240080014,null,"Muy alto","Alto",{"$f":"IFERROR(VLOOKUP(CONCATENATE(B963,D963),Padrón_Indígenas!$A$2:$G$988,7,0),\"No\")","v":"No"},{"$f":"VLOOKUP(E963,Cat_Municipios!D959:M1017,11)","v":{"$error":"#N/A"}}]
[24,"008","Cerritos","0092","Lomas de San Francisco (0092)","R","Cerritos (008)Lomas de San Francisco (0092)",22.412154999999998,-100.331571,11,"*","*",2,240080092,null,null,null,{"$f":"IFERROR(VLOOKUP(CONCATENATE(B964,D964),Padrón_Indígenas!$A$2:$G$988,7,0),\"No\")","v":"No"},{"$f":"VLOOKUP(E964,Cat_Municipios!D960:M1018,11)","v":{"$error":"#N/A"}}]
[24,"008","Cerritos","0069","Los Pozos (0069)","R","Cerritos (008)Los Pozos (0069)",22.445976999999999,-100.250463,1,"*","*",1,240080069,null,null,null,{"$f":"IFERROR(VLOOKUP(CONCATENATE(B965,D965),Padrón_Indígenas!$A$2:$G$988,7,0),\"No\")","v":"No"},{"$f":"VLOOKUP(E965,Cat_Municipios!D961:M1019,11)","v":{"$error":"#N/A"}}]
[24,"008","Cerritos","0015","Manzanillas (0015)","R","Cerritos (008)Manzanillas (0015)",22.408640999999999,-100.226251,132,69,63,36,240080015,null,"Medio","Bajo",{"$f":"IFERROR(VLOOKUP(CONCATENATE(B966,D966),Padrón_Indígenas!$A$2:$G$988,7,0),\"No\")","v":"No"},{"$f":"VLOOKUP(E966,Cat_Municipios!D962:M1020,11)","v":{"$error":"#N/A"}}]
[24,"008","Cerritos","0080","Mascorro (0080)","R","Cerritos (008)Mascorro (0080)",22.358051,-100.39512499999999,0,0,0,0,240080080,null,null,null,{"$f":"IFERROR(VLOOKUP(CONCATENATE(B967,D967),Padrón_Indígenas!$A$2:$G$988,7,0),\"No\")","v":"No"},{"$f":"VLOOKUP(E967,Cat_Municipios!D963:M1021,11)","v":{"$error":"#N/A"}}]
[24,"008","Cerritos","0016","Mezquites Chicos (0016)","R","Cerritos (008)Mezquites Chicos (0016)",22.394911,-100.31759099999999,247,124,123,74,240080016,null,"Alto","Bajo",{"$f":"IFERROR(VLOOKUP(CONCATENATE(B968,D968),Padrón_Indígenas!$A$2:$G$988,7,0),\"No\")","v":"No"},{"$f":"VLOOKUP(E968,Cat_Municipios!D964:M1022,11)","v":{"$error":"#N/A"}}]
[24,"008","Cerritos","0017","Mezquites Grandes (0017)","R","Cerritos (008)Mezquites Grandes (0017)",22.402425000000001,-100.317866,190,102,88,56,240080017,null,"Alto","Bajo",{"$f":"IFERROR(VLOOKUP(CONCATENATE(B969,D969),Padrón_Indígenas!$A$2:$G$988,7,0),\"No\")","v":"No"},{"$f":"VLOOKUP(E969,Cat_Municipios!D965:M1023,11)","v":{"$error":"#N/A"}}]
[24,"008","Cerritos","0018","Montaña (0018)","R","Cerritos (008)Montaña (0018)",22.479693999999999,-100.381125,407,201,206,113,240080018,"SI","Bajo","Muy bajo",{"$f":"IFERROR(VLOOKUP(CONCATENATE(B970,D970),Padrón_Indígenas!$A$2:$G$988,7,0),\"No\")","v":"No"},{"$f":"VLOOKUP(E970,Cat_Municipios!D966:M1024,11)","v":{"$error":"#N/A"}}]
[24,"008","Cerritos","0088","Ninguno [Gasera] (0088)","R","Cerritos (008)Ninguno [Gasera] (0088)",22.411829999999998,-100.28460200000001,0,0,0,0,240080088,null,null,null,{"$f":"IFERROR(VLOOKUP(CONCATENATE(B971,D971),Padrón_Indígenas!$A$2:$G$988,7,0),\"No\")","v":"No"},{"$f":"VLOOKUP(E971,Cat_Municipios!D967:M1025,11)","v":{"$error":"#N/A"}}]
[24,"008","Cerritos","0044","Nuevo Ejido San Pedro de los Hernández (Las Viborillas) (0044)","R","Cerritos (008)Nuevo Ejido San Pedro de los Hernández (Las Viborillas) (0044)",22.369598,-100.206874,173,78,95,47,240080044,null,"Alto","Bajo",{"$f":"IFERROR(VLOOKUP(CONCATENATE(B972,D972),Padrón_Indígenas!$A$2:$G$988,7,0),\"No\")","v":"No"},{"$f":"VLOOKUP(E972,Cat_Municipios!D968:M1026,11)","v":{"$error":"#N/A"}}]
[24,"008","Cerritos","0019","Ojo de Agua (0019)","R","Cerritos (008)Ojo de Agua (0019)",22.443504000000001,-100.09467100000001,1213,603,610,270,240080019,null,"Alto","Bajo",{"$f":"IFERROR(VLOOKUP(CONCATENATE(B973,D973),Padrón_Indígenas!$A$2:$G$988,7,0),\"No\")","v":"No"},{"$f":"VLOOKUP(E973,Cat_Municipios!D969:M1027,11)","v":{"$error":"#N/A"}}]
[24,"008","Cerritos","0067","Puerto de San José (El Puerto) (0067)","R","Cerritos (008)Puerto de San José (El Puerto) (0067)",22.549893000000001,-100.478866,136,64,72,41,240080067,null,"Alto","Bajo",{"$f":"IFERROR(VLOOKUP(CONCATENATE(B974,D974),Padrón_Indígenas!$A$2:$G$988,7,0),\"No\")","v":"No"},{"$f":"VLOOKUP(E974,Cat_Municipios!D970:M1028,11)","v":{"$error":"#N/A"}}]
[24,"008","Cerritos","0095","Quinta del Carmen (0095)","R","Cerritos (008)Quinta del Carmen (0095)",22.409617999999998,-100.28666800000001,2,"*","*",1,240080095,null,null,null,{"$f":"IFERROR(VLOOKUP(CONCATENATE(B975,D975),Padrón_Indígenas!$A$2:$G$988,7,0),\"No\")","v":"No"},{"$f":"VLOOKUP(E975,Cat_Municipios!D971:M1029,11)","v":{"$error":"#N/A"}}]
[24,"008","Cerritos","0023","Rancho de Banda (0023)","R","Cerritos (008)Rancho de Banda (0023)",22.476215,-100.44154899999999,1,"*","*",1,240080023,null,null,null,{"$f":"IFERROR(VLOOKUP(CONCATENATE(B976,D976),Padrón_Indígenas!$A$2:$G$988,7,0),\"No\")","v":"No"},{"$f":"VLOOKUP(E976,Cat_Municipios!D972:M1030,11)","v":{"$error":"#N/A"}}]
[24,"008","Cerritos","0083","Rancho el Mirasol (0083)","R","Cerritos (008)Rancho el Mirasol (0083)",22.466086000000001,-100.256165,0,0,0,0,240080083,null,null,null,{"$f":"IFERROR(VLOOKUP(CONCATENATE(B977,D977),Padrón_Indígenas!$A$2:$G$988,7,0),\"No\")","v":"No"},{"$f":"VLOOKUP(E977,Cat_Municipios!D973:M1031,11)","v":{"$error":"#N/A"}}]
[24,"008","Cerritos","0051","Rancho Viejo (0051)","R","Cerritos (008)Rancho Viejo (0051)",22.508089999999999,-100.155305,0,0,0,0,240080051,null,null,null,{"$f":"IFERROR(VLOOKUP(CONCATENATE(B978,D978),Padrón_Indígenas!$A$2:$G$988,7,0),\"No\")","v":"No"},{"$f":"VLOOKUP(E978,Cat_Municipios!D974:M1032,11)","v":{"$error":"#N/A"}}]
[24,"008","Cerritos","0025","Rincón de Banda (0025)","R","Cerritos (008)Rincón de Banda (0025)",22.439077000000001,-100.424514,115,54,61,33,240080025,null,"Alto","Medio",{"$f":"IFERROR(VLOOKUP(CONCATENATE(B979,D979),Padrón_Indígenas!$A$2:$G$988,7,0),\"No\")","v":"No"},{"$f":"VLOOKUP(E979,Cat_Municipios!D975:M1033,11)","v":{"$error":"#N/A"}}]
[24,"008","Cerritos","0026","Rincón de Turrubiartes (0026)","R","Cerritos (008)Rincón de Turrubiartes (0026)",22.464196999999999,-100.291566,159,71,88,43,240080026,null,"Bajo","Muy bajo",{"$f":"IFERROR(VLOOKUP(CONCATENATE(B980,D980),Padrón_Indígenas!$A$2:$G$988,7,0),\"No\")","v":"No"},{"$f":"VLOOKUP(E980,Cat_Municipios!D976:M1034,11)","v":{"$error":"#N/A"}}]
[24,"008","Cerritos","0050","Rinconada (0050)","R","Cerritos (008)Rinconada (0050)",22.452932000000001,-100.24003500000001,2,"*","*",1,240080050,null,null,null,{"$f":"IFERROR(VLOOKUP(CONCATENATE(B981,D981),Padrón_Indígenas!$A$2:$G$988,7,0),\"No\")","v":"No"},{"$f":"VLOOKUP(E981,Cat_Municipios!D977:M1035,11)","v":{"$error":"#N/A"}}]
[24,"008","Cerritos","0090","Rodolfo Ruiz (0090)","R","Cerritos (008)Rodolfo Ruiz (0090)",22.408631,-100.278983,0,0,0,0,240080090,null,null,null,{"$f":"IFERROR(VLOOKUP(CONCATENATE(B982,D982),Padrón_Indígenas!$A$2:$G$988,7,0),\"No\")","v":"No"},{"$f":"VLOOKUP(E982,Cat_Municipios!D978:M1036,11)","v":{"$error":"#N/A"}}]
[24,"008","Cerritos","0027","San Diego (0027)","R","Cerritos (008)San Diego (0027)",22.538913999999998,-100.31643099999999,24,14,10,12,240080027,null,"Alto","Bajo",{"$f":"IFERROR(VLOOKUP(CONCATENATE(B983,D983),Padrón_Indígenas!$A$2:$G$988,7,0),\"No\")","v":"No"},{"$f":"VLOOKUP(E983,Cat_Municipios!D979:M1037,11)","v":{"$error":"#N/A"}}]
[24,"008","Cerritos","0072","San Isidro (0072)","R","Cerritos (008)San Isidro (0072)",22.565532000000001,-100.074158,0,0,0,0,240080072,null,null,null,{"$f":"IFERROR(VLOOKUP(CONCATENATE(B984,D984),Padrón_Indígenas!$A$2:$G$988,7,0),\"No\")","v":"No"},{"$f":"VLOOKUP(E984,Cat_Municipios!D980:M1038,11)","v":{"$error":"#N/A"}}]
[24,"008","Cerritos","0040","San Isidro (San Lázaro) (0040)","R","Cerritos (008)San Isidro (San Lázaro) (0040)",22.488275999999999,-100.374807,26,11,15,7,240080040,null,"Alto","Medio",{"$f":"IFERROR(VLOOKUP(CONCATENATE(B985,D985),Padrón_Indígenas!$A$2:$G$988,7,0),\"No\")","v":"No"},{"$f":"VLOOKUP(E985,Cat_Municipios!D981:M1039,11)","v":{"$error":"#N/A"}}]
[24,"008","Cerritos","0046","San Isidro de los Leones (0046)","R","Cerritos (008)San Isidro de los Leones (0046)",22.396111000000001,-100.22750000000001,2,"*","*",1,240080046,null,null,null,{"$f":"IFERROR(VLOOKUP(CONCATENATE(B986,D986),Padrón_Indígenas!$A$2:$G$988,7,0),\"No\")","v":"No"},{"$f":"VLOOKUP(E986,Cat_Municipios!D982:M1040,11)","v":{"$error":"#N/A"}}]
[24,"008","Cerritos","0028","San José de Turrubiartes (El Zamandoque) (0028)","R","Cerritos (008)San José de Turrubiartes (El Zamandoque) (0028)",22.446884000000001,-100.26771599999999,127,60,67,37,240080028,"SI","Medio","Muy bajo",{"$f":"IFERROR(VLOOKUP(CONCATENATE(B987,D987),Padrón_Indígenas!$A$2:$G$988,7,0),\"No\")","v":"No"},{"$f":"VLOOKUP(E987,Cat_Municipios!D983:M1041,11)","v":{"$error":"#N/A"}}]
[24,"008","Cerritos","0029","San Nicolás del Bosque (0029)","R","Cerritos (008)San Nicolás del Bosque (0029)",22.497173,-100.183853,144,81,63,40,240080029,null,"Alto","Medio",{"$f":"IFERROR(VLOOKUP(CONCATENATE(B988,D988),Padrón_Indígenas!$A$2:$G$988,7,0),\"No\")","v":"No"},{"$f":"VLOOKUP(E988,Cat_Municipios!D984:M1042,11)","v":{"$error":"#N/A"}}]
[24,"008","Cerritos","0030","San Pedro de los Hernández (0030)","R","Cerritos (008)San Pedro de los Hernández (0030)",22.389887999999999,-100.206298,329,162,167,88,240080030,null,"Alto","Bajo",{"$f":"IFERROR(VLOOKUP(CONCATENATE(B989,D989),Padrón_Indígenas!$A$2:$G$988,7,0),\"No\")","v":"No"},{"$f":"VLOOKUP(E989,Cat_Municipios!D985:M1043,11)","v":{"$error":"#N/A"}}]
[24,"008","Cerritos","0065","Santana (0065)","R","Cerritos (008)Santana (0065)",22.33747,-100.403222,0,0,0,0,240080065,null,null,null,{"$f":"IFERROR(VLOOKUP(CONCATENATE(B990,D990),Padrón_Indígenas!$A$2:$G$988,7,0),\"No\")","v":"No"},{"$f":"VLOOKUP(E990,Cat_Municipios!D986:M1044,11)","v":{"$error":"#N/A"}}]
[24,"008","Cerritos","0070","Tanque Blanco (0070)","R","Cerritos (008)Tanque Blanco (0070)",22.405460999999999,-100.34921,11,5,6,5,240080070,null,"Alto","Medio",{"$f":"IFERROR(VLOOKUP(CONCATENATE(B991,D991),Padrón_Indígenas!$A$2:$G$988,7,0),\"No\")","v":"No"},{"$f":"VLOOKUP(E991,Cat_Municipios!D987:M1045,11)","v":{"$error":"#N/A"}}]
[24,"008","Cerritos","0048","Tanque el Bendito (0048)","R","Cerritos (008)Tanque el Bendito (0048)",22.356548,-100.426256,21,12,9,6,240080048,null,"Alto","Medio",{"$f":"IFERROR(VLOOKUP(CONCATENATE(B992,D992),Padrón_Indígenas!$A$2:$G$988,7,0),\"No\")","v":"No"},{"$f":"VLOOKUP(E992,Cat_Municipios!D988:M1046,11)","v":{"$error":"#N/A"}}]
[24,"008","Cerritos","0034","Tanquito de Banda (0034)","R","Cerritos (008)Tanquito de Banda (0034)",22.420179000000001,-100.350617,91,51,40,26,240080034,null,"Alto","Bajo",{"$f":"IFERROR(VLOOKUP(CONCATENATE(B993,D993),Padrón_Indígenas!$A$2:$G$988,7,0),\"No\")","v":"No"},{"$f":"VLOOKUP(E993,Cat_Municipios!D989:M1047,11)","v":{"$error":"#N/A"}}]
[24,"008","Cerritos","0091","Víctor Castillo (0091)","R","Cerritos (008)Víctor Castillo (0091)",22.426691999999999,-100.267591,0,0,0,0,240080091,null,null,null,{"$f":"IFERROR(VLOOKUP(CONCATENATE(B994,D994),Padrón_Indígenas!$A$2:$G$988,7,0),\"No\")","v":"No"},{"$f":"VLOOKUP(E994,Cat_Municipios!D990:M1048,11)","v":{"$error":"#N/A"}}]
[24,"008","Cerritos","0038","Villar (Estación Villar) (0038)","R","Cerritos (008)Villar (Estación Villar) (0038)",22.545085,-100.46664,98,50,48,25,240080038,null,"Alto","Bajo",{"$f":"IFERROR(VLOOKUP(CONCATENATE(B995,D995),Padrón_Indígenas!$A$2:$G$988,7,0),\"No\")","v":"No"},{"$f":"VLOOKUP(E995,Cat_Municipios!D991:M1049,11)","v":{"$error":"#N/A"}}]
[24,"008","Cerritos",null,"Todo el municipio ",null,{"$f":"_xlfn.CONCAT(C996,\" (\",B996,\")\",E996)","v":"Cerritos (008)Todo el municipio "},null,null,{"$f":"SUM(J930:J995)","v":21394}]
[24,"009","Cerro_de_San_Pedro","0002","Calderón (0002)","R","Cerro de San Pedro (009)Calderón (0002)",22.157775999999998,-100.79816700000001,142,76,66,30,240090002,"SI","Medio","Muy bajo",{"$f":"IFERROR(VLOOKUP(CONCATENATE(B997,D997),Padrón_Indígenas!$A$2:$G$988,7,0),\"No\")","v":"No"},{"$f":"VLOOKUP(E997,Cat_Municipios!D992:M1050,11)","v":{"$error":"#N/A"}}]
[24,"009","Cerro_de_San_Pedro","0001","Cerro de San Pedro (0001)","U","Cerro de San Pedro (009)Cerro de San Pedro (0001)",22.217784999999999,-100.80046299999999,97,48,49,26,240090001,null,null,null,{"$f":"IFERROR(VLOOKUP(CONCATENATE(B998,D998),Padrón_Indígenas!$A$2:$G$988,7,0),\"No\")","v":"No"},{"$f":"VLOOKUP(E998,Cat_Municipios!D993:M1051,11)","v":{"$error":"#N/A"}}]
[24,"009","Cerro_de_San_Pedro","0023","Colonia SAHOP (0023)","R","Cerro de San Pedro (009)Colonia SAHOP (0023)",22.164580000000001,-100.878556,4,"*","*",1,240090023,"SI",null,null,{"$f":"IFERROR(VLOOKUP(CONCATENATE(B999,D999),Padrón_Indígenas!$A$2:$G$988,7,0),\"No\")","v":"No"},{"$f":"VLOOKUP(E999,Cat_Municipios!D994:M1052,11)","v":{"$error":"#N/A"}}]
[24,"009","Cerro_de_San_Pedro","0003","Cuesta de Campa (0003)","R","Cerro de San Pedro (009)Cuesta de Campa (0003)",22.181989999999999,-100.79610099999999,60,33,27,21,240090003,null,"Alto","Bajo",{"$f":"IFERROR(VLOOKUP(CONCATENATE(B1000,D1000),Padrón_Indígenas!$A$2:$G$988,7,0),\"No\")","v":"No"},{"$f":"VLOOKUP(E1000,Cat_Municipios!D995:M1053,11)","v":{"$error":"#N/A"}}]
[24,"009","Cerro_de_San_Pedro","0004","Divisadero (0004)","R","Cerro de San Pedro (009)Divisadero (0004)",22.151841000000001,-100.76709200000001,120,56,64,34,240090004,"SI","Alto","Muy bajo",{"$f":"IFERROR(VLOOKUP(CONCATENATE(B1001,D1001),Padrón_Indígenas!$A$2:$G$988,7,0),\"No\")","v":"No"},{"$f":"VLOOKUP(E1001,Cat_Municipios!D996:M1054,11)","v":{"$error":"#N/A"}}]
[24,"009","Cerro_de_San_Pedro","0011","El Tecolote (0011)","R","Cerro de San Pedro (009)El Tecolote (0011)",22.152999000000001,-100.752211,47,23,24,9,240090011,null,"Alto","Medio",{"$f":"IFERROR(VLOOKUP(CONCATENATE(B1002,D1002),Padrón_Indígenas!$A$2:$G$988,7,0),\"No\")","v":"No"},{"$f":"VLOOKUP(E1002,Cat_Municipios!D997:M1055,11)","v":{"$error":"#N/A"}}]
[24,"009","Cerro_de_San_Pedro","0024","Fepron [Fábrica] (0024)","R","Cerro de San Pedro (009)Fepron [Fábrica] (0024)",22.162196999999999,-100.88179599999999,0,0,0,0,240090024,null,null,null,{"$f":"IFERROR(VLOOKUP(CONCATENATE(B1003,D1003),Padrón_Indígenas!$A$2:$G$988,7,0),\"No\")","v":"No"},{"$f":"VLOOKUP(E1003,Cat_Municipios!D998:M1056,11)","v":{"$error":"#N/A"}}]
[24,"009","Cerro_de_San_Pedro","0017","Granjas de la Florida (0017)","R","Cerro de San Pedro (009)Granjas de la Florida (0017)",22.154135,-100.844903,121,64,57,31,240090017,"SI","Muy bajo","Muy bajo",{"$f":"IFERROR(VLOOKUP(CONCATENATE(B1004,D1004),Padrón_Indígenas!$A$2:$G$988,7,0),\"No\")","v":"No"},{"$f":"VLOOKUP(E1004,Cat_Municipios!D999:M1057,11)","v":{"$error":"#N/A"}}]
[24,"009","Cerro_de_San_Pedro","0025","Granjas de Portezuelo (0025)","R","Cerro de San Pedro (009)Granjas de Portezuelo (0025)",22.170026,-100.840828,"-","-","-","-",240090025,null,null,null,{"$f":"IFERROR(VLOOKUP(CONCATENATE(B1005,D1005),Padrón_Indígenas!$A$2:$G$988,7,0),\"No\")","v":"No"},{"$f":"VLOOKUP(E1005,Cat_Municipios!D1000:M1058,11)","v":{"$error":"#N/A"}}]
[24,"009","Cerro_de_San_Pedro","0015","Granjas de San Francisco (0015)","R","Cerro de San Pedro (009)Granjas de San Francisco (0015)",22.160698,-100.87545900000001,109,47,62,24,240090015,null,"Medio","Muy bajo",{"$f":"IFERROR(VLOOKUP(CONCATENATE(B1006,D1006),Padrón_Indígenas!$A$2:$G$988,7,0),\"No\")","v":"No"},{"$f":"VLOOKUP(E1006,Cat_Municipios!D1001:M1059,11)","v":{"$error":"#N/A"}}]
[24,"009","Cerro_de_San_Pedro","0013","Granjas de San Pedro (0013)","R","Cerro de San Pedro (009)Granjas de San Pedro (0013)",22.1675,-100.84777800000001,102,60,42,23,240090013,"SI","Alto","Bajo",{"$f":"IFERROR(VLOOKUP(CONCATENATE(B1007,D1007),Padrón_Indígenas!$A$2:$G$988,7,0),\"No\")","v":"No"},{"$f":"VLOOKUP(E1007,Cat_Municipios!D1002:M1060,11)","v":{"$error":"#N/A"}}]
[24,"009","Cerro_de_San_Pedro","0005","Jesús María (0005)","R","Cerro de San Pedro (009)Jesús María (0005)",22.253847,-100.74555100000001,74,41,33,24,240090005,null,"Alto","Bajo",{"$f":"IFERROR(VLOOKUP(CONCATENATE(B1008,D1008),Padrón_Indígenas!$A$2:$G$988,7,0),\"No\")","v":"No"},{"$f":"VLOOKUP(E1008,Cat_Municipios!D1003:M1061,11)","v":{"$error":"#N/A"}}]
[24,"009","Cerro_de_San_Pedro","0006","Joyita de la Cruz (0006)","R","Cerro de San Pedro (009)Joyita de la Cruz (0006)",22.159047999999999,-100.832714,312,164,148,72,240090006,"SI","Medio","Muy bajo",{"$f":"IFERROR(VLOOKUP(CONCATENATE(B1009,D1009),Padrón_Indígenas!$A$2:$G$988,7,0),\"No\")","v":"No"},{"$f":"VLOOKUP(E1009,Cat_Municipios!D1004:M1062,11)","v":{"$error":"#N/A"}}]
[24,"009","Cerro_de_San_Pedro","0026","La Estación (0026)","R","Cerro de San Pedro (009)La Estación (0026)",22.170379000000001,-100.837718,"-","-","-","-",240090026,null,null,null,{"$f":"IFERROR(VLOOKUP(CONCATENATE(B1010,D1010),Padrón_Indígenas!$A$2:$G$988,7,0),\"No\")","v":"No"},{"$f":"VLOOKUP(E1010,Cat_Municipios!D1005:M1063,11)","v":{"$error":"#N/A"}}]
[24,"009","Cerro_de_San_Pedro","0022","La Sabanilla (Portezuelo) (0022)","R","Cerro de San Pedro (009)La Sabanilla (Portezuelo) (0022)",22.169194000000001,-100.861183,6,"*","*",2,240090022,null,null,null,{"$f":"IFERROR(VLOOKUP(CONCATENATE(B1011,D1011),Padrón_Indígenas!$A$2:$G$988,7,0),\"No\")","v":"No"},{"$f":"VLOOKUP(E1011,Cat_Municipios!D1006:M1064,11)","v":{"$error":"#N/A"}}]
[24,"009","Cerro_de_San_Pedro","0019","Las Mercedes (0019)","R","Cerro de San Pedro (009)Las Mercedes (0019)",22.157108000000001,-100.848349,0,0,0,0,240090019,null,null,null,{"$f":"IFERROR(VLOOKUP(CONCATENATE(B1012,D1012),Padrón_Indígenas!$A$2:$G$988,7,0),\"No\")","v":"No"},{"$f":"VLOOKUP(E1012,Cat_Municipios!D1007:M1065,11)","v":{"$error":"#N/A"}}]
[24,"009","Cerro_de_San_Pedro","0018","Los Gómez Lado Oriente (0018)","R","Cerro de San Pedro (009)Los Gómez Lado Oriente (0018)",22.154661999999998,-100.88109900000001,389,193,196,86,240090018,"SI","Bajo","Muy bajo",{"$f":"IFERROR(VLOOKUP(CONCATENATE(B1013,D1013),Padrón_Indígenas!$A$2:$G$988,7,0),\"No\")","v":"No"},{"$f":"VLOOKUP(E1013,Cat_Municipios!D1008:M1066,11)","v":{"$error":"#N/A"}}]
[24,"009","Cerro_de_San_Pedro","0007","Monte Caldera (0007)","R","Cerro de San Pedro (009)Monte Caldera (0007)",22.208673000000001,-100.74476300000001,218,111,107,47,240090007,null,"Alto","Bajo",{"$f":"IFERROR(VLOOKUP(CONCATENATE(B1014,D1014),Padrón_Indígenas!$A$2:$G$988,7,0),\"No\")","v":"No"},{"$f":"VLOOKUP(E1014,Cat_Municipios!D1009:M1067,11)","v":{"$error":"#N/A"}}]
[24,"009","Cerro_de_San_Pedro","0027","Ninguno [Fabrica] (0027)","R","Cerro de San Pedro (009)Ninguno [Fabrica] (0027)",22.178280999999998,-100.85106399999999,"-","-","-","-",240090027,null,null,null,{"$f":"IFERROR(VLOOKUP(CONCATENATE(B1015,D1015),Padrón_Indígenas!$A$2:$G$988,7,0),\"No\")","v":"No"},{"$f":"VLOOKUP(E1015,Cat_Municipios!D1010:M1068,11)","v":{"$error":"#N/A"}}]
[24,"009","Cerro_de_San_Pedro","0009","Nueva Zapatilla (0009)","R","Cerro de San Pedro (009)Nueva Zapatilla (0009)",22.190556000000001,-100.824843,146,72,74,32,240090009,"SI","Alto","Muy bajo",{"$f":"IFERROR(VLOOKUP(CONCATENATE(B1016,D1016),Padrón_Indígenas!$A$2:$G$988,7,0),\"No\")","v":"No"},{"$f":"VLOOKUP(E1016,Cat_Municipios!D1011:M1069,11)","v":{"$error":"#N/A"}}]
[24,"009","Cerro_de_San_Pedro","0028","Nuevo Amanecer (0028)","R","Cerro de San Pedro (009)Nuevo Amanecer (0028)",22.176506,-100.838317,"-","-","-","-",240090028,"SI",null,null,{"$f":"IFERROR(VLOOKUP(CONCATENATE(B1017,D1017),Padrón_Indígenas!$A$2:$G$988,7,0),\"No\")","v":"No"},{"$f":"VLOOKUP(E1017,Cat_Municipios!D1012:M1070,11)","v":{"$error":"#N/A"}}]
[24,"009","Cerro_de_San_Pedro","0020","Planta del Carmen (El Ocho) (0020)","R","Cerro de San Pedro (009)Planta del Carmen (El Ocho) (0020)",22.170974000000001,-100.87867300000001,324,168,156,64,240090020,"SI","Alto","Bajo",{"$f":"IFERROR(VLOOKUP(CONCATENATE(B1018,D1018),Padrón_Indígenas!$A$2:$G$988,7,0),\"No\")","v":"No"},{"$f":"VLOOKUP(E1018,Cat_Municipios!D1013:M1071,11)","v":{"$error":"#N/A"}}]
[24,"009","Cerro_de_San_Pedro","0008","Portezuelo (0008)","R","Cerro de San Pedro (009)Portezuelo (0008)",22.170316,-100.82459900000001,1353,659,694,325,240090008,"SI","Bajo","Muy bajo",{"$f":"IFERROR(VLOOKUP(CONCATENATE(B1019,D1019),Padrón_Indígenas!$A$2:$G$988,7,0),\"No\")","v":"No"},{"$f":"VLOOKUP(E1019,Cat_Municipios!D1014:M1072,11)","v":{"$error":"#N/A"}}]
[24,"009","Cerro_de_San_Pedro","0010","Real del Potosí (0010)","R","Cerro de San Pedro (009)Real del Potosí (0010)",22.159828999999998,-100.867158,397,210,187,112,240090010,"SI","Muy bajo","Muy bajo",{"$f":"IFERROR(VLOOKUP(CONCATENATE(B1020,D1020),Padrón_Indígenas!$A$2:$G$988,7,0),\"No\")","v":"No"},{"$f":"VLOOKUP(E1020,Cat_Municipios!D1015:M1073,11)","v":{"$error":"#N/A"}}]
[24,"009","Cerro_de_San_Pedro","0012","San Xavier [Compañía Minera] (0012)","R","Cerro de San Pedro (009)San Xavier [Compañía Minera] (0012)",22.194887999999999,-100.82391699999999,0,0,0,0,240090012,null,null,null,{"$f":"IFERROR(VLOOKUP(CONCATENATE(B1021,D1021),Padrón_Indígenas!$A$2:$G$988,7,0),\"No\")","v":"No"},{"$f":"VLOOKUP(E1021,Cat_Municipios!D1016:M1074,11)","v":{"$error":"#N/A"}}]
[24,"009","Cerro_de_San_Pedro",null,"Todo el municipio ",null,"Cerro de San Pedro (009)Todo el municipio ",null,null,{"$f":"SUM(J997:J1021)","v":4021}]
[24,"015","Charcas","0229","Abundio Moreno (0229)","R","Charcas (015)Abundio Moreno (0229)",23.230681000000001,-101.195148,0,0,0,0,240150229,null,null,null,{"$f":"IFERROR(VLOOKUP(CONCATENATE(B1023,D1023),Padrón_Indígenas!$A$2:$G$988,7,0),\"No\")","v":"No"},{"$f":"VLOOKUP(E1023,Cat_Municipios!D1017:M1075,11)","v":{"$error":"#N/A"}}]
[24,"015","Charcas","0224","Agapito Mendoza (0224)","R","Charcas (015)Agapito Mendoza (0224)",23.073318,-101.323656,6,"*","*",1,240150224,null,null,null,{"$f":"IFERROR(VLOOKUP(CONCATENATE(B1024,D1024),Padrón_Indígenas!$A$2:$G$988,7,0),\"No\")","v":"No"},{"$f":"VLOOKUP(E1024,Cat_Municipios!D1018:M1076,11)","v":{"$error":"#N/A"}}]
[24,"015","Charcas","0002","Álvaro Obregón (Estación los Charcos) (0002)","R","Charcas (015)Álvaro Obregón (Estación los Charcos) (0002)",23.097966,-101.033592,574,274,300,153,240150002,"SI","Medio","Bajo",{"$f":"IFERROR(VLOOKUP(CONCATENATE(B1025,D1025),Padrón_Indígenas!$A$2:$G$988,7,0),\"No\")","v":"No"},{"$f":"VLOOKUP(E1025,Cat_Municipios!D1019:M1077,11)","v":{"$error":"#N/A"}}]
[24,"015","Charcas","0232","Antonio Vázquez (0232)","R","Charcas (015)Antonio Vázquez (0232)",23.159167,-101.09777800000001,0,0,0,0,240150232,null,null,null,{"$f":"IFERROR(VLOOKUP(CONCATENATE(B1026,D1026),Padrón_Indígenas!$A$2:$G$988,7,0),\"No\")","v":"No"},{"$f":"VLOOKUP(E1026,Cat_Municipios!D1020:M1078,11)","v":{"$error":"#N/A"}}]
[24,"015","Charcas","0003","Aquiles Serdán (0003)","R","Charcas (015)Aquiles Serdán (0003)",23.286905999999998,-100.92484,229,119,110,50,240150003,null,"Alto","Medio",{"$f":"IFERROR(VLOOKUP(CONCATENATE(B1027,D1027),Padrón_Indígenas!$A$2:$G$988,7,0),\"No\")","v":"No"},{"$f":"VLOOKUP(E1027,Cat_Municipios!D1021:M1079,11)","v":{"$error":"#N/A"}}]
[24,"015","Charcas","0233","Arroyo el Borrego (0233)","R","Charcas (015)Arroyo el Borrego (0233)",23.476790000000001,-101.216133,10,"*","*",2,240150233,null,null,null,{"$f":"IFERROR(VLOOKUP(CONCATENATE(B1028,D1028),Padrón_Indígenas!$A$2:$G$988,7,0),\"No\")","v":"No"},{"$f":"VLOOKUP(E1028,Cat_Municipios!D1022:M1080,11)","v":{"$error":"#N/A"}}]
[24,"015","Charcas","0139","Buenavista (0139)","R","Charcas (015)Buenavista (0139)",23.074719000000002,-101.18734499999999,14,7,7,3,240150139,null,"Muy alto","Alto",{"$f":"IFERROR(VLOOKUP(CONCATENATE(B1029,D1029),Padrón_Indígenas!$A$2:$G$988,7,0),\"No\")","v":"No"},{"$f":"VLOOKUP(E1029,Cat_Municipios!D1023:M1081,11)","v":{"$error":"#N/A"}}]
[24,"015","Charcas","0169","Buenavista (0169)","R","Charcas (015)Buenavista (0169)",23.14367,-101.13687400000001,7,"*","*",1,240150169,null,null,null,{"$f":"IFERROR(VLOOKUP(CONCATENATE(B1030,D1030),Padrón_Indígenas!$A$2:$G$988,7,0),\"No\")","v":"No"},{"$f":"VLOOKUP(E1030,Cat_Municipios!D1024:M1082,11)","v":{"$error":"#N/A"}}]
[24,"015","Charcas","0063","Calabacillas (0063)","R","Charcas (015)Calabacillas (0063)",23.214586000000001,-101.055626,61,30,31,15,240150063,null,"Muy alto","Alto",{"$f":"IFERROR(VLOOKUP(CONCATENATE(B1031,D1031),Padrón_Indígenas!$A$2:$G$988,7,0),\"No\")","v":"No"},{"$f":"VLOOKUP(E1031,Cat_Municipios!D1025:M1083,11)","v":{"$error":"#N/A"}}]
[24,"015","Charcas","0007","Cañada Verde (0007)","R","Charcas (015)Cañada Verde (0007)",23.075514999999999,-101.10148,664,335,329,168,240150007,"SI","Medio","Muy bajo",{"$f":"IFERROR(VLOOKUP(CONCATENATE(B1032,D1032),Padrón_Indígenas!$A$2:$G$988,7,0),\"No\")","v":"No"},{"$f":"VLOOKUP(E1032,Cat_Municipios!D1026:M1084,11)","v":{"$error":"#N/A"}}]
[24,"015","Charcas","0008","Cañón de Lajas (0008)","R","Charcas (015)Cañón de Lajas (0008)",23.181045000000001,-101.12609500000001,11,7,4,5,240150008,null,"Muy alto","Alto",{"$f":"IFERROR(VLOOKUP(CONCATENATE(B1033,D1033),Padrón_Indígenas!$A$2:$G$988,7,0),\"No\")","v":"No"},{"$f":"VLOOKUP(E1033,Cat_Municipios!D1027:M1085,11)","v":{"$error":"#N/A"}}]
[24,"015","Charcas","0262","Ceferino Sánchez Ontiveros (0262)","R","Charcas (015)Ceferino Sánchez Ontiveros (0262)",23.127914000000001,-101.100731,3,"*","*",1,240150262,null,null,null,{"$f":"IFERROR(VLOOKUP(CONCATENATE(B1034,D1034),Padrón_Indígenas!$A$2:$G$988,7,0),\"No\")","v":"No"},{"$f":"VLOOKUP(E1034,Cat_Municipios!D1028:M1086,11)","v":{"$error":"#N/A"}}]
[24,"015","Charcas","0117","Cerrito de Piedras (0117)","R","Charcas (015)Cerrito de Piedras (0117)",23.331098000000001,-101.174738,18,8,10,3,240150117,null,"Alto","Medio",{"$f":"IFERROR(VLOOKUP(CONCATENATE(B1035,D1035),Padrón_Indígenas!$A$2:$G$988,7,0),\"No\")","v":"No"},{"$f":"VLOOKUP(E1035,Cat_Municipios!D1029:M1087,11)","v":{"$error":"#N/A"}}]
[24,"015","Charcas","0122","Cerro Blanco (0122)","R","Charcas (015)Cerro Blanco (0122)",23.34149,-101.245921,2,"*","*",1,240150122,null,null,null,{"$f":"IFERROR(VLOOKUP(CONCATENATE(B1036,D1036),Padrón_Indígenas!$A$2:$G$988,7,0),\"No\")","v":"No"},{"$f":"VLOOKUP(E1036,Cat_Municipios!D1030:M1088,11)","v":{"$error":"#N/A"}}]
[24,"015","Charcas","0175","Cerro de Magdalenas (0175)","R","Charcas (015)Cerro de Magdalenas (0175)",23.343021,-101.213228,0,0,0,0,240150175,null,null,null,{"$f":"IFERROR(VLOOKUP(CONCATENATE(B1037,D1037),Padrón_Indígenas!$A$2:$G$988,7,0),\"No\")","v":"No"},{"$f":"VLOOKUP(E1037,Cat_Municipios!D1031:M1089,11)","v":{"$error":"#N/A"}}]
[24,"015","Charcas","0097","Cerro Gordo (0097)","R","Charcas (015)Cerro Gordo (0097)",23.186440000000001,-101.130943,0,0,0,0,240150097,null,null,null,{"$f":"IFERROR(VLOOKUP(CONCATENATE(B1038,D1038),Padrón_Indígenas!$A$2:$G$988,7,0),\"No\")","v":"No"},{"$f":"VLOOKUP(E1038,Cat_Municipios!D1032:M1090,11)","v":{"$error":"#N/A"}}]
[24,"015","Charcas","0012","Cerro Prieto (0012)","R","Charcas (015)Cerro Prieto (0012)",23.11814,-101.009551,1,"*","*",1,240150012,null,null,null,{"$f":"IFERROR(VLOOKUP(CONCATENATE(B1039,D1039),Padrón_Indígenas!$A$2:$G$988,7,0),\"No\")","v":"No"},{"$f":"VLOOKUP(E1039,Cat_Municipios!D1033:M1091,11)","v":{"$error":"#N/A"}}]
[24,"015","Charcas","0149","Cerro Prieto (0149)","R","Charcas (015)Cerro Prieto (0149)",23.279879999999999,-100.982394,140,68,72,36,240150149,null,"Alto","Medio",{"$f":"IFERROR(VLOOKUP(CONCATENATE(B1040,D1040),Padrón_Indígenas!$A$2:$G$988,7,0),\"No\")","v":"No"},{"$f":"VLOOKUP(E1040,Cat_Municipios!D1034:M1092,11)","v":{"$error":"#N/A"}}]
[24,"015","Charcas","0079","Cerro San Agustín (0079)","R","Charcas (015)Cerro San Agustín (0079)",23.448467999999998,-101.17115099999999,0,0,0,0,240150079,null,null,null,{"$f":"IFERROR(VLOOKUP(CONCATENATE(B1041,D1041),Padrón_Indígenas!$A$2:$G$988,7,0),\"No\")","v":"No"},{"$f":"VLOOKUP(E1041,Cat_Municipios!D1035:M1093,11)","v":{"$error":"#N/A"}}]
[24,"015","Charcas","0001","Charcas (0001)","U","Charcas (015)Charcas (0001)",23.129818,-101.11335200000001,12748,6054,6694,3330,240150001,"SI",null,null,{"$f":"IFERROR(VLOOKUP(CONCATENATE(B1042,D1042),Padrón_Indígenas!$A$2:$G$988,7,0),\"No\")","v":"No"},{"$f":"VLOOKUP(E1042,Cat_Municipios!D1036:M1094,11)","v":{"$error":"#N/A"}}]
[24,"015","Charcas","0152","Charco Prieto (0152)","R","Charcas (015)Charco Prieto (0152)",23.183736,-101.012839,8,"*","*",2,240150152,null,null,null,{"$f":"IFERROR(VLOOKUP(CONCATENATE(B1043,D1043),Padrón_Indígenas!$A$2:$G$988,7,0),\"No\")","v":"No"},{"$f":"VLOOKUP(E1043,Cat_Municipios!D1037:M1095,11)","v":{"$error":"#N/A"}}]
[24,"015","Charcas","0014","Charco Verde (0014)","R","Charcas (015)Charco Verde (0014)",23.260618000000001,-101.028344,82,43,39,12,240150014,null,"Alto","Medio",{"$f":"IFERROR(VLOOKUP(CONCATENATE(B1044,D1044),Padrón_Indígenas!$A$2:$G$988,7,0),\"No\")","v":"No"},{"$f":"VLOOKUP(E1044,Cat_Municipios!D1038:M1096,11)","v":{"$error":"#N/A"}}]
[24,"015","Charcas","0015","Chupaderos (0015)","R","Charcas (015)Chupaderos (0015)",23.156475,-101.201357,64,30,34,17,240150015,null,"Alto","Medio",{"$f":"IFERROR(VLOOKUP(CONCATENATE(B1045,D1045),Padrón_Indígenas!$A$2:$G$988,7,0),\"No\")","v":"No"},{"$f":"VLOOKUP(E1045,Cat_Municipios!D1039:M1097,11)","v":{"$error":"#N/A"}}]
[24,"015","Charcas","0218","Clavellina (0218)","R","Charcas (015)Clavellina (0218)",23.136645999999999,-101.09721399999999,5,"*","*",1,240150218,null,null,null,{"$f":"IFERROR(VLOOKUP(CONCATENATE(B1046,D1046),Padrón_Indígenas!$A$2:$G$988,7,0),\"No\")","v":"No"},{"$f":"VLOOKUP(E1046,Cat_Municipios!D1040:M1098,11)","v":{"$error":"#N/A"}}]
[24,"015","Charcas","0129","Congregación de Dolores (Las Quince Letras) (0129)","R","Charcas (015)Congregación de Dolores (Las Quince Letras) (0129)",23.134727000000002,-101.141729,3,"*","*",1,240150129,null,null,null,{"$f":"IFERROR(VLOOKUP(CONCATENATE(B1047,D1047),Padrón_Indígenas!$A$2:$G$988,7,0),\"No\")","v":"No"},{"$f":"VLOOKUP(E1047,Cat_Municipios!D1041:M1099,11)","v":{"$error":"#N/A"}}]
[24,"015","Charcas","0087","Coyotillillos (0087)","R","Charcas (015)Coyotillillos (0087)",23.267931000000001,-101.214776,16,7,9,3,240150087,null,"Alto","Medio",{"$f":"IFERROR(VLOOKUP(CONCATENATE(B1048,D1048),Padrón_Indígenas!$A$2:$G$988,7,0),\"No\")","v":"No"},{"$f":"VLOOKUP(E1048,Cat_Municipios!D1042:M1100,11)","v":{"$error":"#N/A"}}]
[24,"015","Charcas","0013","Coyotillos (0013)","R","Charcas (015)Coyotillos (0013)",23.287827,-101.211319,250,128,122,65,240150013,null,"Alto","Medio",{"$f":"IFERROR(VLOOKUP(CONCATENATE(B1049,D1049),Padrón_Indígenas!$A$2:$G$988,7,0),\"No\")","v":"No"},{"$f":"VLOOKUP(E1049,Cat_Municipios!D1043:M1101,11)","v":{"$error":"#N/A"}}]
[24,"015","Charcas","0176","Coyotillos San Pablo (0176)","R","Charcas (015)Coyotillos San Pablo (0176)",23.303850000000001,-101.194301,0,0,0,0,240150176,null,null,null,{"$f":"IFERROR(VLOOKUP(CONCATENATE(B1050,D1050),Padrón_Indígenas!$A$2:$G$988,7,0),\"No\")","v":"No"},{"$f":"VLOOKUP(E1050,Cat_Municipios!D1044:M1102,11)","v":{"$error":"#N/A"}}]
[24,"015","Charcas","0235","Efraín González Galván (0235)","R","Charcas (015)Efraín González Galván (0235)",23.151973999999999,-101.06207999999999,0,0,0,0,240150235,null,null,null,{"$f":"IFERROR(VLOOKUP(CONCATENATE(B1051,D1051),Padrón_Indígenas!$A$2:$G$988,7,0),\"No\")","v":"No"},{"$f":"VLOOKUP(E1051,Cat_Municipios!D1045:M1103,11)","v":{"$error":"#N/A"}}]
[24,"015","Charcas","0022","Ejido Juárez (0022)","R","Charcas (015)Ejido Juárez (0022)",23.122038,-101.139568,16,7,9,5,240150022,null,"Medio","Muy bajo",{"$f":"IFERROR(VLOOKUP(CONCATENATE(B1052,D1052),Padrón_Indígenas!$A$2:$G$988,7,0),\"No\")","v":"No"},{"$f":"VLOOKUP(E1052,Cat_Municipios!D1046:M1104,11)","v":{"$error":"#N/A"}}]
[24,"015","Charcas","0263","Ejido Juárez Dos (0263)","R","Charcas (015)Ejido Juárez Dos (0263)",23.120408999999999,-101.121353,26,15,11,6,240150263,null,"Alto","Muy bajo",{"$f":"IFERROR(VLOOKUP(CONCATENATE(B1053,D1053),Padrón_Indígenas!$A$2:$G$988,7,0),\"No\")","v":"No"},{"$f":"VLOOKUP(E1053,Cat_Municipios!D1047:M1105,11)","v":{"$error":"#N/A"}}]
[24,"015","Charcas","0150","El Águila (0150)","R","Charcas (015)El Águila (0150)",23.041067000000002,-101.209237,11,6,5,3,240150150,null,"Muy alto","Alto",{"$f":"IFERROR(VLOOKUP(CONCATENATE(B1054,D1054),Padrón_Indígenas!$A$2:$G$988,7,0),\"No\")","v":"No"},{"$f":"VLOOKUP(E1054,Cat_Municipios!D1048:M1106,11)","v":{"$error":"#N/A"}}]
[24,"015","Charcas","0004","El Arenal (0004)","R","Charcas (015)El Arenal (0004)",23.273645999999999,-101.196037,18,9,9,5,240150004,null,"Alto","Bajo",{"$f":"IFERROR(VLOOKUP(CONCATENATE(B1055,D1055),Padrón_Indígenas!$A$2:$G$988,7,0),\"No\")","v":"No"},{"$f":"VLOOKUP(E1055,Cat_Municipios!D1049:M1107,11)","v":{"$error":"#N/A"}}]
[24,"015","Charcas","0005","El Astillero (0005)","R","Charcas (015)El Astillero (0005)",23.459008000000001,-100.892257,62,37,25,12,240150005,null,"Muy alto","Alto",{"$f":"IFERROR(VLOOKUP(CONCATENATE(B1056,D1056),Padrón_Indígenas!$A$2:$G$988,7,0),\"No\")","v":"No"},{"$f":"VLOOKUP(E1056,Cat_Municipios!D1050:M1108,11)","v":{"$error":"#N/A"}}]
[24,"015","Charcas","0174","El Bajío (0174)","R","Charcas (015)El Bajío (0174)",23.140573,-101.35764500000001,6,"*","*",1,240150174,null,null,null,{"$f":"IFERROR(VLOOKUP(CONCATENATE(B1057,D1057),Padrón_Indígenas!$A$2:$G$988,7,0),\"No\")","v":"No"},{"$f":"VLOOKUP(E1057,Cat_Municipios!D1051:M1109,11)","v":{"$error":"#N/A"}}]
[24,"015","Charcas","0009","El Capulín (0009)","R","Charcas (015)El Capulín (0009)",23.079408999999998,-101.22319299999999,50,31,19,15,240150009,null,"Alto","Medio",{"$f":"IFERROR(VLOOKUP(CONCATENATE(B1058,D1058),Padrón_Indígenas!$A$2:$G$988,7,0),\"No\")","v":"No"},{"$f":"VLOOKUP(E1058,Cat_Municipios!D1052:M1110,11)","v":{"$error":"#N/A"}}]
[24,"015","Charcas","0010","El Cedazo (0010)","R","Charcas (015)El Cedazo (0010)",22.989249000000001,-101.410701,182,85,97,56,240150010,null,"Alto","Bajo",{"$f":"IFERROR(VLOOKUP(CONCATENATE(B1059,D1059),Padrón_Indígenas!$A$2:$G$988,7,0),\"No\")","v":"No"},{"$f":"VLOOKUP(E1059,Cat_Municipios!D1053:M1111,11)","v":{"$error":"#N/A"}}]
[24,"015","Charcas","0086","El Clérigo (0086)","R","Charcas (015)El Clérigo (0086)",23.008859000000001,-101.085021,2,"*","*",1,240150086,null,null,null,{"$f":"IFERROR(VLOOKUP(CONCATENATE(B1060,D1060),Padrón_Indígenas!$A$2:$G$988,7,0),\"No\")","v":"No"},{"$f":"VLOOKUP(E1060,Cat_Municipios!D1054:M1112,11)","v":{"$error":"#N/A"}}]
[24,"015","Charcas","0106","El Diamante (0106)","R","Charcas (015)El Diamante (0106)",23.407475000000002,-101.17474300000001,0,0,0,0,240150106,null,null,null,{"$f":"IFERROR(VLOOKUP(CONCATENATE(B1061,D1061),Padrón_Indígenas!$A$2:$G$988,7,0),\"No\")","v":"No"},{"$f":"VLOOKUP(E1061,Cat_Municipios!D1055:M1113,11)","v":{"$error":"#N/A"}}]
[24,"015","Charcas","0168","El Divisadero (0168)","R","Charcas (015)El Divisadero (0168)",23.344058,-101.169518,0,0,0,0,240150168,null,null,null,{"$f":"IFERROR(VLOOKUP(CONCATENATE(B1062,D1062),Padrón_Indígenas!$A$2:$G$988,7,0),\"No\")","v":"No"},{"$f":"VLOOKUP(E1062,Cat_Municipios!D1056:M1114,11)","v":{"$error":"#N/A"}}]
[24,"015","Charcas","0267","El Entronque (0267)","R","Charcas (015)El Entronque (0267)",23.217666999999999,-100.98354500000001,30,14,16,6,240150267,null,"Alto","Muy bajo",{"$f":"IFERROR(VLOOKUP(CONCATENATE(B1063,D1063),Padrón_Indígenas!$A$2:$G$988,7,0),\"No\")","v":"No"},{"$f":"VLOOKUP(E1063,Cat_Municipios!D1057:M1115,11)","v":{"$error":"#N/A"}}]
[24,"015","Charcas","0268","El Estañero (Cleto Ramírez) (0268)","R","Charcas (015)El Estañero (Cleto Ramírez) (0268)",23.326000000000001,-101.166115,3,"*","*",1,240150268,null,null,null,{"$f":"IFERROR(VLOOKUP(CONCATENATE(B1064,D1064),Padrón_Indígenas!$A$2:$G$988,7,0),\"No\")","v":"No"},{"$f":"VLOOKUP(E1064,Cat_Municipios!D1058:M1116,11)","v":{"$error":"#N/A"}}]
[24,"015","Charcas","0161","El Frailesco (0161)","R","Charcas (015)El Frailesco (0161)",23.285938999999999,-101.265097,6,"*","*",1,240150161,null,null,null,{"$f":"IFERROR(VLOOKUP(CONCATENATE(B1065,D1065),Padrón_Indígenas!$A$2:$G$988,7,0),\"No\")","v":"No"},{"$f":"VLOOKUP(E1065,Cat_Municipios!D1059:M1117,11)","v":{"$error":"#N/A"}}]
[24,"015","Charcas","0020","El Hospital (0020)","R","Charcas (015)El Hospital (0020)",23.244076,-101.21487399999999,186,89,97,46,240150020,null,"Alto","Bajo",{"$f":"IFERROR(VLOOKUP(CONCATENATE(B1066,D1066),Padrón_Indígenas!$A$2:$G$988,7,0),\"No\")","v":"No"},{"$f":"VLOOKUP(E1066,Cat_Municipios!D1060:M1118,11)","v":{"$error":"#N/A"}}]
[24,"015","Charcas","0188","El Lucero (0188)","R","Charcas (015)El Lucero (0188)",23.140483,-101.223951,2,"*","*",1,240150188,null,null,null,{"$f":"IFERROR(VLOOKUP(CONCATENATE(B1067,D1067),Padrón_Indígenas!$A$2:$G$988,7,0),\"No\")","v":"No"},{"$f":"VLOOKUP(E1067,Cat_Municipios!D1061:M1119,11)","v":{"$error":"#N/A"}}]
[24,"015","Charcas","0159","El Macareno (0159)","R","Charcas (015)El Macareno (0159)",23.277832,-101.23530100000001,31,18,13,8,240150159,null,"Alto","Alto",{"$f":"IFERROR(VLOOKUP(CONCATENATE(B1068,D1068),Padrón_Indígenas!$A$2:$G$988,7,0),\"No\")","v":"No"},{"$f":"VLOOKUP(E1068,Cat_Municipios!D1062:M1120,11)","v":{"$error":"#N/A"}}]
[24,"015","Charcas","0162","El Malpaso (0162)","R","Charcas (015)El Malpaso (0162)",23.196415999999999,-101.12360099999999,0,0,0,0,240150162,null,null,null,{"$f":"IFERROR(VLOOKUP(CONCATENATE(B1069,D1069),Padrón_Indígenas!$A$2:$G$988,7,0),\"No\")","v":"No"},{"$f":"VLOOKUP(E1069,Cat_Municipios!D1063:M1121,11)","v":{"$error":"#N/A"}}]
[24,"015","Charcas","0194","El Membrillo (0194)","R","Charcas (015)El Membrillo (0194)",23.062358,-101.276771,15,"*","*",2,240150194,"SI",null,null,{"$f":"IFERROR(VLOOKUP(CONCATENATE(B1070,D1070),Padrón_Indígenas!$A$2:$G$988,7,0),\"No\")","v":"No"},{"$f":"VLOOKUP(E1070,Cat_Municipios!D1064:M1122,11)","v":{"$error":"#N/A"}}]
[24,"015","Charcas","0111","El Mosco (0111)","R","Charcas (015)El Mosco (0111)",23.513328000000001,-101.176889,4,"*","*",1,240150111,null,null,null,{"$f":"IFERROR(VLOOKUP(CONCATENATE(B1071,D1071),Padrón_Indígenas!$A$2:$G$988,7,0),\"No\")","v":"No"},{"$f":"VLOOKUP(E1071,Cat_Municipios!D1065:M1123,11)","v":{"$error":"#N/A"}}]
[24,"015","Charcas","0197","El Orito (0197)","R","Charcas (015)El Orito (0197)",23.136907000000001,-101.232225,0,0,0,0,240150197,null,null,null,{"$f":"IFERROR(VLOOKUP(CONCATENATE(B1072,D1072),Padrón_Indígenas!$A$2:$G$988,7,0),\"No\")","v":"No"},{"$f":"VLOOKUP(E1072,Cat_Municipios!D1066:M1124,11)","v":{"$error":"#N/A"}}]
[24,"015","Charcas","0143","El Pame (0143)","R","Charcas (015)El Pame (0143)",23.078731999999999,-101.295812,12,"*","*",2,240150143,null,null,null,{"$f":"IFERROR(VLOOKUP(CONCATENATE(B1073,D1073),Padrón_Indígenas!$A$2:$G$988,7,0),\"No\")","v":"No"},{"$f":"VLOOKUP(E1073,Cat_Municipios!D1067:M1125,11)","v":{"$error":"#N/A"}}]
[24,"015","Charcas","0158","El Pedernal (0158)","R","Charcas (015)El Pedernal (0158)",23.449947999999999,-101.18488600000001,3,"*","*",1,240150158,null,null,null,{"$f":"IFERROR(VLOOKUP(CONCATENATE(B1074,D1074),Padrón_Indígenas!$A$2:$G$988,7,0),\"No\")","v":"No"},{"$f":"VLOOKUP(E1074,Cat_Municipios!D1068:M1126,11)","v":{"$error":"#N/A"}}]
[24,"015","Charcas","0245","El Pedernal (Fermín Hernández Cardona) (0245)","R","Charcas (015)El Pedernal (Fermín Hernández Cardona) (0245)",23.458323,-101.18239199999999,0,0,0,0,240150245,null,null,null,{"$f":"IFERROR(VLOOKUP(CONCATENATE(B1075,D1075),Padrón_Indígenas!$A$2:$G$988,7,0),\"No\")","v":"No"},{"$f":"VLOOKUP(E1075,Cat_Municipios!D1069:M1127,11)","v":{"$error":"#N/A"}}]
[24,"015","Charcas","0099","El Perdido (0099)","R","Charcas (015)El Perdido (0099)",23.074636000000002,-101.25005899999999,0,0,0,0,240150099,null,null,null,{"$f":"IFERROR(VLOOKUP(CONCATENATE(B1076,D1076),Padrón_Indígenas!$A$2:$G$988,7,0),\"No\")","v":"No"},{"$f":"VLOOKUP(E1076,Cat_Municipios!D1070:M1128,11)","v":{"$error":"#N/A"}}]
[24,"015","Charcas","0076","El Rastrero (La Noria) (0076)","R","Charcas (015)El Rastrero (La Noria) (0076)",23.080694000000001,-101.06725900000001,0,0,0,0,240150076,null,null,null,{"$f":"IFERROR(VLOOKUP(CONCATENATE(B1077,D1077),Padrón_Indígenas!$A$2:$G$988,7,0),\"No\")","v":"No"},{"$f":"VLOOKUP(E1077,Cat_Municipios!D1071:M1129,11)","v":{"$error":"#N/A"}}]
[24,"015","Charcas","0206","El Rayo (0206)","R","Charcas (015)El Rayo (0206)",23.103766,-101.363876,0,0,0,0,240150206,null,null,null,{"$f":"IFERROR(VLOOKUP(CONCATENATE(B1078,D1078),Padrón_Indígenas!$A$2:$G$988,7,0),\"No\")","v":"No"},{"$f":"VLOOKUP(E1078,Cat_Municipios!D1072:M1130,11)","v":{"$error":"#N/A"}}]
[24,"015","Charcas","0037","El Refugio (0037)","R","Charcas (015)El Refugio (0037)",23.248511000000001,-101.241073,38,20,18,8,240150037,null,"Alto","Medio",{"$f":"IFERROR(VLOOKUP(CONCATENATE(B1079,D1079),Padrón_Indígenas!$A$2:$G$988,7,0),\"No\")","v":"No"},{"$f":"VLOOKUP(E1079,Cat_Municipios!D1073:M1131,11)","v":{"$error":"#N/A"}}]
[24,"015","Charcas","0036","El Reventón (0036)","R","Charcas (015)El Reventón (0036)",23.203887999999999,-101.00148299999999,61,26,35,12,240150036,"SI","Alto","Medio",{"$f":"IFERROR(VLOOKUP(CONCATENATE(B1080,D1080),Padrón_Indígenas!$A$2:$G$988,7,0),\"No\")","v":"No"},{"$f":"VLOOKUP(E1080,Cat_Municipios!D1074:M1132,11)","v":{"$error":"#N/A"}}]
[24,"015","Charcas","0269","El Rincón (Timoteo Pérez) (0269)","R","Charcas (015)El Rincón (Timoteo Pérez) (0269)",23.100693,-101.145945,14,"*","*",2,240150269,null,null,null,{"$f":"IFERROR(VLOOKUP(CONCATENATE(B1081,D1081),Padrón_Indígenas!$A$2:$G$988,7,0),\"No\")","v":"No"},{"$f":"VLOOKUP(E1081,Cat_Municipios!D1075:M1133,11)","v":{"$error":"#N/A"}}]
[24,"015","Charcas","0210","El Rosario (0210)","R","Charcas (015)El Rosario (0210)",23.343574,-101.01837399999999,0,0,0,0,240150210,null,null,null,{"$f":"IFERROR(VLOOKUP(CONCATENATE(B1082,D1082),Padrón_Indígenas!$A$2:$G$988,7,0),\"No\")","v":"No"},{"$f":"VLOOKUP(E1082,Cat_Municipios!D1076:M1134,11)","v":{"$error":"#N/A"}}]
[24,"015","Charcas","0066","El Saucito (0066)","R","Charcas (015)El Saucito (0066)",23.176653000000002,-101.05548400000001,1,"*","*",1,240150066,null,null,null,{"$f":"IFERROR(VLOOKUP(CONCATENATE(B1083,D1083),Padrón_Indígenas!$A$2:$G$988,7,0),\"No\")","v":"No"},{"$f":"VLOOKUP(E1083,Cat_Municipios!D1077:M1135,11)","v":{"$error":"#N/A"}}]
[24,"015","Charcas","0213","El Saucito (0213)","R","Charcas (015)El Saucito (0213)",23.180651999999998,-101.036845,9,"*","*",2,240150213,null,null,null,{"$f":"IFERROR(VLOOKUP(CONCATENATE(B1084,D1084),Padrón_Indígenas!$A$2:$G$988,7,0),\"No\")","v":"No"},{"$f":"VLOOKUP(E1084,Cat_Municipios!D1078:M1136,11)","v":{"$error":"#N/A"}}]
[24,"015","Charcas","0125","El Sauz (0125)","R","Charcas (015)El Sauz (0125)",23.125648000000002,-101.191041,16,8,8,5,240150125,null,"Muy alto","Alto",{"$f":"IFERROR(VLOOKUP(CONCATENATE(B1085,D1085),Padrón_Indígenas!$A$2:$G$988,7,0),\"No\")","v":"No"},{"$f":"VLOOKUP(E1085,Cat_Municipios!D1079:M1137,11)","v":{"$error":"#N/A"}}]
[24,"015","Charcas","0109","El Soyate (0109)","R","Charcas (015)El Soyate (0109)",23.526275999999999,-101.215126,0,0,0,0,240150109,null,null,null,{"$f":"IFERROR(VLOOKUP(CONCATENATE(B1086,D1086),Padrón_Indígenas!$A$2:$G$988,7,0),\"No\")","v":"No"},{"$f":"VLOOKUP(E1086,Cat_Municipios!D1080:M1138,11)","v":{"$error":"#N/A"}}]
[24,"015","Charcas","0270","El Tanque (Ramón Vázquez) (0270)","R","Charcas (015)El Tanque (Ramón Vázquez) (0270)",23.356594000000001,-101.189775,2,"*","*",1,240150270,null,null,null,{"$f":"IFERROR(VLOOKUP(CONCATENATE(B1087,D1087),Padrón_Indígenas!$A$2:$G$988,7,0),\"No\")","v":"No"},{"$f":"VLOOKUP(E1087,Cat_Municipios!D1081:M1139,11)","v":{"$error":"#N/A"}}]
[24,"015","Charcas","0107","El Tepozán (0107)","R","Charcas (015)El Tepozán (0107)",23.097961999999999,-101.183251,7,"*","*",1,240150107,null,null,null,{"$f":"IFERROR(VLOOKUP(CONCATENATE(B1088,D1088),Padrón_Indígenas!$A$2:$G$988,7,0),\"No\")","v":"No"},{"$f":"VLOOKUP(E1088,Cat_Municipios!D1082:M1140,11)","v":{"$error":"#N/A"}}]
[24,"015","Charcas","0049","El Terrero (Ejido Charcas) (0049)","R","Charcas (015)El Terrero (Ejido Charcas) (0049)",23.132408999999999,-101.19624,37,13,24,12,240150049,null,"Alto","Medio",{"$f":"IFERROR(VLOOKUP(CONCATENATE(B1089,D1089),Padrón_Indígenas!$A$2:$G$988,7,0),\"No\")","v":"No"},{"$f":"VLOOKUP(E1089,Cat_Municipios!D1083:M1141,11)","v":{"$error":"#N/A"}}]
[24,"015","Charcas","0254","El Tucanazo (0254)","R","Charcas (015)El Tucanazo (0254)",23.141131000000001,-101.13872499999999,2,"*","*",1,240150254,null,null,null,{"$f":"IFERROR(VLOOKUP(CONCATENATE(B1090,D1090),Padrón_Indígenas!$A$2:$G$988,7,0),\"No\")","v":"No"},{"$f":"VLOOKUP(E1090,Cat_Municipios!D1084:M1142,11)","v":{"$error":"#N/A"}}]
[24,"015","Charcas","0216","El Venadero (0216)","R","Charcas (015)El Venadero (0216)",23.472638,-101.165699,12,8,4,3,240150216,null,"Muy alto","Alto",{"$f":"IFERROR(VLOOKUP(CONCATENATE(B1091,D1091),Padrón_Indígenas!$A$2:$G$988,7,0),\"No\")","v":"No"},{"$f":"VLOOKUP(E1091,Cat_Municipios!D1085:M1143,11)","v":{"$error":"#N/A"}}]
[24,"015","Charcas","0113","El Venadito (0113)","R","Charcas (015)El Venadito (0113)",23.568712000000001,-101.195656,22,10,12,4,240150113,null,"Muy alto","Muy alto",{"$f":"IFERROR(VLOOKUP(CONCATENATE(B1092,D1092),Padrón_Indígenas!$A$2:$G$988,7,0),\"No\")","v":"No"},{"$f":"VLOOKUP(E1092,Cat_Municipios!D1086:M1144,11)","v":{"$error":"#N/A"}}]
[24,"015","Charcas","0054","El Zacatonal (0054)","R","Charcas (015)El Zacatonal (0054)",23.219289,-101.01721499999999,48,23,25,12,240150054,null,"Alto","Medio",{"$f":"IFERROR(VLOOKUP(CONCATENATE(B1093,D1093),Padrón_Indígenas!$A$2:$G$988,7,0),\"No\")","v":"No"},{"$f":"VLOOKUP(E1093,Cat_Municipios!D1087:M1145,11)","v":{"$error":"#N/A"}}]
[24,"015","Charcas","0237","Elidio Lázaro Esquivel (0237)","R","Charcas (015)Elidio Lázaro Esquivel (0237)",23.210243999999999,-101.094576,7,"*","*",1,240150237,null,null,null,{"$f":"IFERROR(VLOOKUP(CONCATENATE(B1094,D1094),Padrón_Indígenas!$A$2:$G$988,7,0),\"No\")","v":"No"},{"$f":"VLOOKUP(E1094,Cat_Municipios!D1088:M1146,11)","v":{"$error":"#N/A"}}]
[24,"015","Charcas","0016","Elorza (0016)","R","Charcas (015)Elorza (0016)",23.064710000000002,-100.87226099999999,295,150,145,75,240150016,null,"Alto","Medio",{"$f":"IFERROR(VLOOKUP(CONCATENATE(B1095,D1095),Padrón_Indígenas!$A$2:$G$988,7,0),\"No\")","v":"No"},{"$f":"VLOOKUP(E1095,Cat_Municipios!D1089:M1147,11)","v":{"$error":"#N/A"}}]
[24,"015","Charcas","0017","Emiliano Zapata (Las Canteras) (0017)","R","Charcas (015)Emiliano Zapata (Las Canteras) (0017)",23.100377000000002,-101.084023,204,103,101,50,240150017,null,"Alto","Bajo",{"$f":"IFERROR(VLOOKUP(CONCATENATE(B1096,D1096),Padrón_Indígenas!$A$2:$G$988,7,0),\"No\")","v":"No"},{"$f":"VLOOKUP(E1096,Cat_Municipios!D1090:M1148,11)","v":{"$error":"#N/A"}}]
[24,"015","Charcas","0006","Estación Berrendo (0006)","R","Charcas (015)Estación Berrendo (0006)",23.329587,-100.98925800000001,62,29,33,15,240150006,null,"Alto","Bajo",{"$f":"IFERROR(VLOOKUP(CONCATENATE(B1097,D1097),Padrón_Indígenas!$A$2:$G$988,7,0),\"No\")","v":"No"},{"$f":"VLOOKUP(E1097,Cat_Municipios!D1091:M1149,11)","v":{"$error":"#N/A"}}]
[24,"015","Charcas","0025","Estación Laguna Seca (0025)","R","Charcas (015)Estación Laguna Seca (0025)",23.227596999999999,-100.97874,80,42,38,21,240150025,null,"Medio","Muy bajo",{"$f":"IFERROR(VLOOKUP(CONCATENATE(B1098,D1098),Padrón_Indígenas!$A$2:$G$988,7,0),\"No\")","v":"No"},{"$f":"VLOOKUP(E1098,Cat_Municipios!D1092:M1150,11)","v":{"$error":"#N/A"}}]
[24,"015","Charcas","0238","Fabián Bernal (0238)","R","Charcas (015)Fabián Bernal (0238)",23.283716999999999,-101.182689,5,"*","*",1,240150238,null,null,null,{"$f":"IFERROR(VLOOKUP(CONCATENATE(B1099,D1099),Padrón_Indígenas!$A$2:$G$988,7,0),\"No\")","v":"No"},{"$f":"VLOOKUP(E1099,Cat_Municipios!D1093:M1151,11)","v":{"$error":"#N/A"}}]
[24,"015","Charcas","0083","Fátima (0083)","R","Charcas (015)Fátima (0083)",23.054711000000001,-100.881154,353,177,176,81,240150083,null,"Alto","Medio",{"$f":"IFERROR(VLOOKUP(CONCATENATE(B1100,D1100),Padrón_Indígenas!$A$2:$G$988,7,0),\"No\")","v":"No"},{"$f":"VLOOKUP(E1100,Cat_Municipios!D1094:M1152,11)","v":{"$error":"#N/A"}}]
[24,"015","Charcas","0256","Fernando López Bustos (0256)","R","Charcas (015)Fernando López Bustos (0256)",23.128964,-101.10109300000001,0,0,0,0,240150256,null,null,null,{"$f":"IFERROR(VLOOKUP(CONCATENATE(B1101,D1101),Padrón_Indígenas!$A$2:$G$988,7,0),\"No\")","v":"No"},{"$f":"VLOOKUP(E1101,Cat_Municipios!D1095:M1153,11)","v":{"$error":"#N/A"}}]
[24,"015","Charcas","0182","Fracción el Capulín (0182)","R","Charcas (015)Fracción el Capulín (0182)",23.073028999999998,-101.233846,22,11,11,5,240150182,null,"Muy alto","Alto",{"$f":"IFERROR(VLOOKUP(CONCATENATE(B1102,D1102),Padrón_Indígenas!$A$2:$G$988,7,0),\"No\")","v":"No"},{"$f":"VLOOKUP(E1102,Cat_Municipios!D1096:M1154,11)","v":{"$error":"#N/A"}}]
[24,"015","Charcas","0033","Fracción Palmas (Palmas) (0033)","R","Charcas (015)Fracción Palmas (Palmas) (0033)",23.169066999999998,-101.189262,107,47,60,23,240150033,null,"Alto","Medio",{"$f":"IFERROR(VLOOKUP(CONCATENATE(B1103,D1103),Padrón_Indígenas!$A$2:$G$988,7,0),\"No\")","v":"No"},{"$f":"VLOOKUP(E1103,Cat_Municipios!D1097:M1155,11)","v":{"$error":"#N/A"}}]
[24,"015","Charcas","0239","Francisco Bernal (0239)","R","Charcas (015)Francisco Bernal (0239)",23.252621000000001,-101.195769,0,0,0,0,240150239,null,null,null,{"$f":"IFERROR(VLOOKUP(CONCATENATE(B1104,D1104),Padrón_Indígenas!$A$2:$G$988,7,0),\"No\")","v":"No"},{"$f":"VLOOKUP(E1104,Cat_Municipios!D1098:M1156,11)","v":{"$error":"#N/A"}}]
[24,"015","Charcas","0248","Francisco Bustos (0248)","R","Charcas (015)Francisco Bustos (0248)",23.325876999999998,-101.22224199999999,0,0,0,0,240150248,null,null,null,{"$f":"IFERROR(VLOOKUP(CONCATENATE(B1105,D1105),Padrón_Indígenas!$A$2:$G$988,7,0),\"No\")","v":"No"},{"$f":"VLOOKUP(E1105,Cat_Municipios!D1099:M1157,11)","v":{"$error":"#N/A"}}]
[24,"015","Charcas","0264","Francisco González (0264)","R","Charcas (015)Francisco González (0264)",23.128029000000002,-101.09974200000001,2,"*","*",1,240150264,null,null,null,{"$f":"IFERROR(VLOOKUP(CONCATENATE(B1106,D1106),Padrón_Indígenas!$A$2:$G$988,7,0),\"No\")","v":"No"},{"$f":"VLOOKUP(E1106,Cat_Municipios!D1100:M1158,11)","v":{"$error":"#N/A"}}]
[24,"015","Charcas","0018","Francisco I. Madero (0018)","R","Charcas (015)Francisco I. Madero (0018)",23.316478,-100.984573,139,75,64,37,240150018,"SI","Alto","Medio",{"$f":"IFERROR(VLOOKUP(CONCATENATE(B1107,D1107),Padrón_Indígenas!$A$2:$G$988,7,0),\"No\")","v":"No"},{"$f":"VLOOKUP(E1107,Cat_Municipios!D1101:M1159,11)","v":{"$error":"#N/A"}}]
[24,"015","Charcas","0183","Garabatillo (0183)","R","Charcas (015)Garabatillo (0183)",23.075718999999999,-101.195212,4,"*","*",1,240150183,null,null,null,{"$f":"IFERROR(VLOOKUP(CONCATENATE(B1108,D1108),Padrón_Indígenas!$A$2:$G$988,7,0),\"No\")","v":"No"},{"$f":"VLOOKUP(E1108,Cat_Municipios!D1102:M1160,11)","v":{"$error":"#N/A"}}]
[24,"015","Charcas","0184","Genaro Bustos Ramírez (0184)","R","Charcas (015)Genaro Bustos Ramírez (0184)",23.209367,-101.041483,6,"*","*",1,240150184,null,null,null,{"$f":"IFERROR(VLOOKUP(CONCATENATE(B1109,D1109),Padrón_Indígenas!$A$2:$G$988,7,0),\"No\")","v":"No"},{"$f":"VLOOKUP(E1109,Cat_Municipios!D1103:M1161,11)","v":{"$error":"#N/A"}}]
[24,"015","Charcas","0271","Gregorio Hernández (0271)","R","Charcas (015)Gregorio Hernández (0271)",23.156789,-101.070673,3,"*","*",1,240150271,null,null,null,{"$f":"IFERROR(VLOOKUP(CONCATENATE(B1110,D1110),Padrón_Indígenas!$A$2:$G$988,7,0),\"No\")","v":"No"},{"$f":"VLOOKUP(E1110,Cat_Municipios!D1104:M1162,11)","v":{"$error":"#N/A"}}]
[24,"015","Charcas","0019","Guadalupe Victoria (0019)","R","Charcas (015)Guadalupe Victoria (0019)",23.338312999999999,-101.19130699999999,232,110,122,60,240150019,null,"Alto","Medio",{"$f":"IFERROR(VLOOKUP(CONCATENATE(B1111,D1111),Padrón_Indígenas!$A$2:$G$988,7,0),\"No\")","v":"No"},{"$f":"VLOOKUP(E1111,Cat_Municipios!D1105:M1163,11)","v":{"$error":"#N/A"}}]
[24,"015","Charcas","0147","Guadalupito (0147)","R","Charcas (015)Guadalupito (0147)",23.072877999999999,-100.89439299999999,0,0,0,0,240150147,null,null,null,{"$f":"IFERROR(VLOOKUP(CONCATENATE(B1112,D1112),Padrón_Indígenas!$A$2:$G$988,7,0),\"No\")","v":"No"},{"$f":"VLOOKUP(E1112,Cat_Municipios!D1106:M1164,11)","v":{"$error":"#N/A"}}]
[24,"015","Charcas","0185","Gualupe (0185)","R","Charcas (015)Gualupe (0185)",23.062747999999999,-101.222396,5,"*","*",1,240150185,null,null,null,{"$f":"IFERROR(VLOOKUP(CONCATENATE(B1113,D1113),Padrón_Indígenas!$A$2:$G$988,7,0),\"No\")","v":"No"},{"$f":"VLOOKUP(E1113,Cat_Municipios!D1107:M1165,11)","v":{"$error":"#N/A"}}]
[24,"015","Charcas","0227","Guapilillas (0227)","R","Charcas (015)Guapilillas (0227)",23.083931,-101.197311,10,3,7,3,240150227,null,"Muy alto","Alto",{"$f":"IFERROR(VLOOKUP(CONCATENATE(B1114,D1114),Padrón_Indígenas!$A$2:$G$988,7,0),\"No\")","v":"No"},{"$f":"VLOOKUP(E1114,Cat_Municipios!D1108:M1166,11)","v":{"$error":"#N/A"}}]
[24,"015","Charcas","0258","Hermelinda Moreno Sánchez (0258)","R","Charcas (015)Hermelinda Moreno Sánchez (0258)",23.196017000000001,-101.027316,5,"*","*",1,240150258,null,null,null,{"$f":"IFERROR(VLOOKUP(CONCATENATE(B1115,D1115),Padrón_Indígenas!$A$2:$G$988,7,0),\"No\")","v":"No"},{"$f":"VLOOKUP(E1115,Cat_Municipios!D1109:M1167,11)","v":{"$error":"#N/A"}}]
[24,"015","Charcas","0225","Huerta la Providencia (Rancho Dallemese) (0225)","R","Charcas (015)Huerta la Providencia (Rancho Dallemese) (0225)",23.119855000000001,-101.10154900000001,4,"*","*",1,240150225,"SI",null,null,{"$f":"IFERROR(VLOOKUP(CONCATENATE(B1116,D1116),Padrón_Indígenas!$A$2:$G$988,7,0),\"No\")","v":"No"},{"$f":"VLOOKUP(E1116,Cat_Municipios!D1110:M1168,11)","v":{"$error":"#N/A"}}]
[24,"015","Charcas","0056","Ignacio Aldama (0056)","R","Charcas (015)Ignacio Aldama (0056)",23.098005000000001,-100.841483,108,57,51,28,240150056,"SI","Alto","Alto",{"$f":"IFERROR(VLOOKUP(CONCATENATE(B1117,D1117),Padrón_Indígenas!$A$2:$G$988,7,0),\"No\")","v":"No"},{"$f":"VLOOKUP(E1117,Cat_Municipios!D1111:M1169,11)","v":{"$error":"#N/A"}}]
[24,"015","Charcas","0051","IMMSA [Mina Tiro General] (0051)","R","Charcas (015)IMMSA [Mina Tiro General] (0051)",23.136687999999999,-101.150713,137,66,71,37,240150051,null,"Muy bajo","Muy bajo",{"$f":"IFERROR(VLOOKUP(CONCATENATE(B1118,D1118),Padrón_Indígenas!$A$2:$G$988,7,0),\"No\")","v":"No"},{"$f":"VLOOKUP(E1118,Cat_Municipios!D1112:M1170,11)","v":{"$error":"#N/A"}}]
[24,"015","Charcas","0242","Isidro Cázares Rodríguez (0242)","R","Charcas (015)Isidro Cázares Rodríguez (0242)",23.192575999999999,-101.062251,1,"*","*",1,240150242,null,null,null,{"$f":"IFERROR(VLOOKUP(CONCATENATE(B1119,D1119),Padrón_Indígenas!$A$2:$G$988,7,0),\"No\")","v":"No"},{"$f":"VLOOKUP(E1119,Cat_Municipios!D1113:M1171,11)","v":{"$error":"#N/A"}}]
[24,"015","Charcas","0272","Joaquín Cansino (0272)","R","Charcas (015)Joaquín Cansino (0272)",23.145918999999999,-101.102549,1,"*","*",1,240150272,null,null,null,{"$f":"IFERROR(VLOOKUP(CONCATENATE(B1120,D1120),Padrón_Indígenas!$A$2:$G$988,7,0),\"No\")","v":"No"},{"$f":"VLOOKUP(E1120,Cat_Municipios!D1114:M1172,11)","v":{"$error":"#N/A"}}]
[24,"015","Charcas","0273","Jorge Castañeda (0273)","R","Charcas (015)Jorge Castañeda (0273)",23.098610999999998,-101.157222,2,"*","*",1,240150273,null,null,null,{"$f":"IFERROR(VLOOKUP(CONCATENATE(B1121,D1121),Padrón_Indígenas!$A$2:$G$988,7,0),\"No\")","v":"No"},{"$f":"VLOOKUP(E1121,Cat_Municipios!D1115:M1173,11)","v":{"$error":"#N/A"}}]
[24,"015","Charcas","0091","Juan Bernal (0091)","R","Charcas (015)Juan Bernal (0091)",23.286553999999999,-101.185954,3,"*","*",1,240150091,null,null,null,{"$f":"IFERROR(VLOOKUP(CONCATENATE(B1122,D1122),Padrón_Indígenas!$A$2:$G$988,7,0),\"No\")","v":"No"},{"$f":"VLOOKUP(E1122,Cat_Municipios!D1116:M1174,11)","v":{"$error":"#N/A"}}]
[24,"015","Charcas","0274","Juan Hernández (0274)","R","Charcas (015)Juan Hernández (0274)",23.051209,-101.09527799999999,1,"*","*",1,240150274,null,null,null,{"$f":"IFERROR(VLOOKUP(CONCATENATE(B1123,D1123),Padrón_Indígenas!$A$2:$G$988,7,0),\"No\")","v":"No"},{"$f":"VLOOKUP(E1123,Cat_Municipios!D1117:M1175,11)","v":{"$error":"#N/A"}}]
[24,"015","Charcas","0275","Juan Ramírez (0275)","R","Charcas (015)Juan Ramírez (0275)",23.373269000000001,-101.145307,4,"*","*",1,240150275,null,null,null,{"$f":"IFERROR(VLOOKUP(CONCATENATE(B1124,D1124),Padrón_Indígenas!$A$2:$G$988,7,0),\"No\")","v":"No"},{"$f":"VLOOKUP(E1124,Cat_Municipios!D1118:M1176,11)","v":{"$error":"#N/A"}}]
[24,"015","Charcas","0115","La Barranca (0115)","R","Charcas (015)La Barranca (0115)",23.453372000000002,-101.160219,4,"*","*",1,240150115,null,null,null,{"$f":"IFERROR(VLOOKUP(CONCATENATE(B1125,D1125),Padrón_Indígenas!$A$2:$G$988,7,0),\"No\")","v":"No"},{"$f":"VLOOKUP(E1125,Cat_Municipios!D1119:M1177,11)","v":{"$error":"#N/A"}}]
[24,"015","Charcas","0163","La Barranca (0163)","R","Charcas (015)La Barranca (0163)",23.250623000000001,-101.09986499999999,0,0,0,0,240150163,null,null,null,{"$f":"IFERROR(VLOOKUP(CONCATENATE(B1126,D1126),Padrón_Indígenas!$A$2:$G$988,7,0),\"No\")","v":"No"},{"$f":"VLOOKUP(E1126,Cat_Municipios!D1120:M1178,11)","v":{"$error":"#N/A"}}]
[24,"015","Charcas","0276","La Clarinera (Antonio Aldape) (0276)","R","Charcas (015)La Clarinera (Antonio Aldape) (0276)",23.086993,-101.116823,21,9,12,6,240150276,null,"Muy alto","Alto",{"$f":"IFERROR(VLOOKUP(CONCATENATE(B1127,D1127),Padrón_Indígenas!$A$2:$G$988,7,0),\"No\")","v":"No"},{"$f":"VLOOKUP(E1127,Cat_Municipios!D1121:M1179,11)","v":{"$error":"#N/A"}}]
[24,"015","Charcas","0156","La Cueva de la Nicha (0156)","R","Charcas (015)La Cueva de la Nicha (0156)",23.425287999999998,-100.90692,5,"*","*",1,240150156,null,null,null,{"$f":"IFERROR(VLOOKUP(CONCATENATE(B1128,D1128),Padrón_Indígenas!$A$2:$G$988,7,0),\"No\")","v":"No"},{"$f":"VLOOKUP(E1128,Cat_Municipios!D1122:M1180,11)","v":{"$error":"#N/A"}}]
[24,"015","Charcas","0089","La Embargada (0089)","R","Charcas (015)La Embargada (0089)",23.104253,-100.876245,0,0,0,0,240150089,null,null,null,{"$f":"IFERROR(VLOOKUP(CONCATENATE(B1129,D1129),Padrón_Indígenas!$A$2:$G$988,7,0),\"No\")","v":"No"},{"$f":"VLOOKUP(E1129,Cat_Municipios!D1123:M1181,11)","v":{"$error":"#N/A"}}]
[24,"015","Charcas","0172","La Esperanza (0172)","R","Charcas (015)La Esperanza (0172)",23.214124999999999,-101.028047,0,0,0,0,240150172,null,null,null,{"$f":"IFERROR(VLOOKUP(CONCATENATE(B1130,D1130),Padrón_Indígenas!$A$2:$G$988,7,0),\"No\")","v":"No"},{"$f":"VLOOKUP(E1130,Cat_Municipios!D1124:M1182,11)","v":{"$error":"#N/A"}}]
[24,"015","Charcas","0181","La Estancia (0181)","R","Charcas (015)La Estancia (0181)",23.088217,-101.19805100000001,7,"*","*",2,240150181,null,null,null,{"$f":"IFERROR(VLOOKUP(CONCATENATE(B1131,D1131),Padrón_Indígenas!$A$2:$G$988,7,0),\"No\")","v":"No"},{"$f":"VLOOKUP(E1131,Cat_Municipios!D1125:M1183,11)","v":{"$error":"#N/A"}}]
[24,"015","Charcas","0186","La Joyita (Los Corrales) (0186)","R","Charcas (015)La Joyita (Los Corrales) (0186)",23.123424,-101.091702,1,"*","*",1,240150186,null,null,null,{"$f":"IFERROR(VLOOKUP(CONCATENATE(B1132,D1132),Padrón_Indígenas!$A$2:$G$988,7,0),\"No\")","v":"No"},{"$f":"VLOOKUP(E1132,Cat_Municipios!D1126:M1184,11)","v":{"$error":"#N/A"}}]
[24,"015","Charcas","0095","La Laguna de los Caballos (0095)","R","Charcas (015)La Laguna de los Caballos (0095)",23.177285999999999,-101.27462300000001,6,"*","*",1,240150095,null,null,null,{"$f":"IFERROR(VLOOKUP(CONCATENATE(B1133,D1133),Padrón_Indígenas!$A$2:$G$988,7,0),\"No\")","v":"No"},{"$f":"VLOOKUP(E1133,Cat_Municipios!D1127:M1185,11)","v":{"$error":"#N/A"}}]
[24,"015","Charcas","0110","La Lajilla (0110)","R","Charcas (015)La Lajilla (0110)",23.474754000000001,-101.23018399999999,12,7,5,3,240150110,null,"Muy alto","Alto",{"$f":"IFERROR(VLOOKUP(CONCATENATE(B1134,D1134),Padrón_Indígenas!$A$2:$G$988,7,0),\"No\")","v":"No"},{"$f":"VLOOKUP(E1134,Cat_Municipios!D1128:M1186,11)","v":{"$error":"#N/A"}}]
[24,"015","Charcas","0116","La Leona (0116)","R","Charcas (015)La Leona (0116)",23.368622999999999,-101.177277,26,14,12,5,240150116,null,"Muy alto","Alto",{"$f":"IFERROR(VLOOKUP(CONCATENATE(B1135,D1135),Padrón_Indígenas!$A$2:$G$988,7,0),\"No\")","v":"No"},{"$f":"VLOOKUP(E1135,Cat_Municipios!D1129:M1187,11)","v":{"$error":"#N/A"}}]
[24,"015","Charcas","0243","La Lomita (0243)","R","Charcas (015)La Lomita (0243)",23.121666999999999,-101.380833,0,0,0,0,240150243,null,null,null,{"$f":"IFERROR(VLOOKUP(CONCATENATE(B1136,D1136),Padrón_Indígenas!$A$2:$G$988,7,0),\"No\")","v":"No"},{"$f":"VLOOKUP(E1136,Cat_Municipios!D1130:M1188,11)","v":{"$error":"#N/A"}}]
[24,"015","Charcas","0140","La Medalla (0140)","R","Charcas (015)La Medalla (0140)",23.063839999999999,-101.17907599999999,30,14,16,9,240150140,null,"Alto","Alto",{"$f":"IFERROR(VLOOKUP(CONCATENATE(B1137,D1137),Padrón_Indígenas!$A$2:$G$988,7,0),\"No\")","v":"No"},{"$f":"VLOOKUP(E1137,Cat_Municipios!D1131:M1189,11)","v":{"$error":"#N/A"}}]
[24,"015","Charcas","0157","La Negrita (0157)","R","Charcas (015)La Negrita (0157)",23.082750999999998,-101.20326900000001,10,5,5,4,240150157,null,"Muy alto","Alto",{"$f":"IFERROR(VLOOKUP(CONCATENATE(B1138,D1138),Padrón_Indígenas!$A$2:$G$988,7,0),\"No\")","v":"No"},{"$f":"VLOOKUP(E1138,Cat_Municipios!D1132:M1190,11)","v":{"$error":"#N/A"}}]
[24,"015","Charcas","0200","La Presita (0200)","R","Charcas (015)La Presita (0200)",23.126474999999999,-101.378298,0,0,0,0,240150200,null,null,null,{"$f":"IFERROR(VLOOKUP(CONCATENATE(B1139,D1139),Padrón_Indígenas!$A$2:$G$988,7,0),\"No\")","v":"No"},{"$f":"VLOOKUP(E1139,Cat_Municipios!D1133:M1191,11)","v":{"$error":"#N/A"}}]
[24,"015","Charcas","0219","La Quinta (La Hacienda) (0219)","R","Charcas (015)La Quinta (La Hacienda) (0219)",23.134059000000001,-101.098364,0,0,0,0,240150219,null,null,null,{"$f":"IFERROR(VLOOKUP(CONCATENATE(B1140,D1140),Padrón_Indígenas!$A$2:$G$988,7,0),\"No\")","v":"No"},{"$f":"VLOOKUP(E1140,Cat_Municipios!D1134:M1192,11)","v":{"$error":"#N/A"}}]
[24,"015","Charcas","0136","La Sancheña (0136)","R","Charcas (015)La Sancheña (0136)",23.081671,-101.181166,17,11,6,3,240150136,null,"Alto","Medio",{"$f":"IFERROR(VLOOKUP(CONCATENATE(B1141,D1141),Padrón_Indígenas!$A$2:$G$988,7,0),\"No\")","v":"No"},{"$f":"VLOOKUP(E1141,Cat_Municipios!D1135:M1193,11)","v":{"$error":"#N/A"}}]
[24,"015","Charcas","0050","La Tinaja (0050)","R","Charcas (015)La Tinaja (0050)",23.106587000000001,-100.88619799999999,0,0,0,0,240150050,null,null,null,{"$f":"IFERROR(VLOOKUP(CONCATENATE(B1142,D1142),Padrón_Indígenas!$A$2:$G$988,7,0),\"No\")","v":"No"},{"$f":"VLOOKUP(E1142,Cat_Municipios!D1136:M1194,11)","v":{"$error":"#N/A"}}]
[24,"015","Charcas","0052","La Trinidad (0052)","R","Charcas (015)La Trinidad (0052)",23.120773,-101.231601,132,71,61,30,240150052,null,"Alto","Medio",{"$f":"IFERROR(VLOOKUP(CONCATENATE(B1143,D1143),Padrón_Indígenas!$A$2:$G$988,7,0),\"No\")","v":"No"},{"$f":"VLOOKUP(E1143,Cat_Municipios!D1137:M1195,11)","v":{"$error":"#N/A"}}]
[24,"015","Charcas","0165","La Vieja (0165)","R","Charcas (015)La Vieja (0165)",23.493873000000001,-101.203067,0,0,0,0,240150165,null,null,null,{"$f":"IFERROR(VLOOKUP(CONCATENATE(B1144,D1144),Padrón_Indígenas!$A$2:$G$988,7,0),\"No\")","v":"No"},{"$f":"VLOOKUP(E1144,Cat_Municipios!D1138:M1196,11)","v":{"$error":"#N/A"}}]
[24,"015","Charcas","0055","La Zapatilla (0055)","R","Charcas (015)La Zapatilla (0055)",23.092148000000002,-101.137118,55,30,25,11,240150055,null,"Muy alto","Alto",{"$f":"IFERROR(VLOOKUP(CONCATENATE(B1145,D1145),Padrón_Indígenas!$A$2:$G$988,7,0),\"No\")","v":"No"},{"$f":"VLOOKUP(E1145,Cat_Municipios!D1139:M1197,11)","v":{"$error":"#N/A"}}]
[24,"015","Charcas","0024","Labor de la Cruz (0024)","R","Charcas (015)Labor de la Cruz (0024)",23.113609,-101.20826700000001,62,31,31,19,240150024,null,"Muy alto","Alto",{"$f":"IFERROR(VLOOKUP(CONCATENATE(B1146,D1146),Padrón_Indígenas!$A$2:$G$988,7,0),\"No\")","v":"No"},{"$f":"VLOOKUP(E1146,Cat_Municipios!D1140:M1198,11)","v":{"$error":"#N/A"}}]
[24,"015","Charcas","0023","Laborcilla (0023)","R","Charcas (015)Laborcilla (0023)",23.045653000000001,-101.031474,194,102,92,55,240150023,null,"Medio","Bajo",{"$f":"IFERROR(VLOOKUP(CONCATENATE(B1147,D1147),Padrón_Indígenas!$A$2:$G$988,7,0),\"No\")","v":"No"},{"$f":"VLOOKUP(E1147,Cat_Municipios!D1141:M1199,11)","v":{"$error":"#N/A"}}]
[24,"015","Charcas","0026","Lajas (0026)","R","Charcas (015)Lajas (0026)",23.288522,-101.159396,72,40,32,23,240150026,null,"Alto","Medio",{"$f":"IFERROR(VLOOKUP(CONCATENATE(B1148,D1148),Padrón_Indígenas!$A$2:$G$988,7,0),\"No\")","v":"No"},{"$f":"VLOOKUP(E1148,Cat_Municipios!D1142:M1200,11)","v":{"$error":"#N/A"}}]
[24,"015","Charcas","0231","Las Ánimas (0231)","R","Charcas (015)Las Ánimas (0231)",23.207946,-100.976772,1,"*","*",1,240150231,null,null,null,{"$f":"IFERROR(VLOOKUP(CONCATENATE(B1149,D1149),Padrón_Indígenas!$A$2:$G$988,7,0),\"No\")","v":"No"},{"$f":"VLOOKUP(E1149,Cat_Municipios!D1143:M1201,11)","v":{"$error":"#N/A"}}]
[24,"015","Charcas","0173","Las Atravesadas (0173)","R","Charcas (015)Las Atravesadas (0173)",23.200168000000001,-101.213448,53,24,29,15,240150173,null,"Alto","Bajo",{"$f":"IFERROR(VLOOKUP(CONCATENATE(B1150,D1150),Padrón_Indígenas!$A$2:$G$988,7,0),\"No\")","v":"No"},{"$f":"VLOOKUP(E1150,Cat_Municipios!D1144:M1202,11)","v":{"$error":"#N/A"}}]
[24,"015","Charcas","0241","Las Isabeles (0241)","R","Charcas (015)Las Isabeles (0241)",23.118924,-101.08518100000001,4,"*","*",1,240150241,null,null,null,{"$f":"IFERROR(VLOOKUP(CONCATENATE(B1151,D1151),Padrón_Indígenas!$A$2:$G$988,7,0),\"No\")","v":"No"},{"$f":"VLOOKUP(E1151,Cat_Municipios!D1145:M1203,11)","v":{"$error":"#N/A"}}]
[24,"015","Charcas","0114","Las Minitas (0114)","R","Charcas (015)Las Minitas (0114)",23.447778,-101.18305599999999,0,0,0,0,240150114,null,null,null,{"$f":"IFERROR(VLOOKUP(CONCATENATE(B1152,D1152),Padrón_Indígenas!$A$2:$G$988,7,0),\"No\")","v":"No"},{"$f":"VLOOKUP(E1152,Cat_Municipios!D1146:M1204,11)","v":{"$error":"#N/A"}}]
[24,"015","Charcas","0135","Las Palomas (0135)","R","Charcas (015)Las Palomas (0135)",23.245346999999999,-101.202243,5,"*","*",1,240150135,null,null,null,{"$f":"IFERROR(VLOOKUP(CONCATENATE(B1153,D1153),Padrón_Indígenas!$A$2:$G$988,7,0),\"No\")","v":"No"},{"$f":"VLOOKUP(E1153,Cat_Municipios!D1147:M1205,11)","v":{"$error":"#N/A"}}]
[24,"015","Charcas","0068","Las Tinajitas (0068)","R","Charcas (015)Las Tinajitas (0068)",23.03171,-101.15205,8,"*","*",2,240150068,null,null,null,{"$f":"IFERROR(VLOOKUP(CONCATENATE(B1154,D1154),Padrón_Indígenas!$A$2:$G$988,7,0),\"No\")","v":"No"},{"$f":"VLOOKUP(E1154,Cat_Municipios!D1148:M1206,11)","v":{"$error":"#N/A"}}]
[24,"015","Charcas","0217","Las Vivianas (0217)","R","Charcas (015)Las Vivianas (0217)",23.139807999999999,-101.185962,0,0,0,0,240150217,null,null,null,{"$f":"IFERROR(VLOOKUP(CONCATENATE(B1155,D1155),Padrón_Indígenas!$A$2:$G$988,7,0),\"No\")","v":"No"},{"$f":"VLOOKUP(E1155,Cat_Municipios!D1149:M1207,11)","v":{"$error":"#N/A"}}]
[24,"015","Charcas","0265","Leocadio Berino (0265)","R","Charcas (015)Leocadio Berino (0265)",23.128651000000001,-101.09232900000001,2,"*","*",1,240150265,null,null,null,{"$f":"IFERROR(VLOOKUP(CONCATENATE(B1156,D1156),Padrón_Indígenas!$A$2:$G$988,7,0),\"No\")","v":"No"},{"$f":"VLOOKUP(E1156,Cat_Municipios!D1150:M1208,11)","v":{"$error":"#N/A"}}]
[24,"015","Charcas","0221","Liborio Rodríguez Gasca (0221)","R","Charcas (015)Liborio Rodríguez Gasca (0221)",23.137847000000001,-101.106143,15,11,4,4,240150221,null,"Muy alto","Medio",{"$f":"IFERROR(VLOOKUP(CONCATENATE(B1157,D1157),Padrón_Indígenas!$A$2:$G$988,7,0),\"No\")","v":"No"},{"$f":"VLOOKUP(E1157,Cat_Municipios!D1151:M1209,11)","v":{"$error":"#N/A"}}]
[24,"015","Charcas","0027","Lo de Acosta (0027)","R","Charcas (015)Lo de Acosta (0027)",23.176072000000001,-101.158862,89,47,42,24,240150027,null,"Muy alto","Alto",{"$f":"IFERROR(VLOOKUP(CONCATENATE(B1158,D1158),Padrón_Indígenas!$A$2:$G$988,7,0),\"No\")","v":"No"},{"$f":"VLOOKUP(E1158,Cat_Municipios!D1152:M1210,11)","v":{"$error":"#N/A"}}]
[24,"015","Charcas","0179","Lo de Acosta (La Pulga) (0179)","R","Charcas (015)Lo de Acosta (La Pulga) (0179)",23.192834000000001,-101.188492,12,6,6,3,240150179,null,"Alto","Medio",{"$f":"IFERROR(VLOOKUP(CONCATENATE(B1159,D1159),Padrón_Indígenas!$A$2:$G$988,7,0),\"No\")","v":"No"},{"$f":"VLOOKUP(E1159,Cat_Municipios!D1153:M1211,11)","v":{"$error":"#N/A"}}]
[24,"015","Charcas","0108","Loma del Mosco (0108)","R","Charcas (015)Loma del Mosco (0108)",23.510473000000001,-101.18394000000001,6,"*","*",2,240150108,null,null,null,{"$f":"IFERROR(VLOOKUP(CONCATENATE(B1160,D1160),Padrón_Indígenas!$A$2:$G$988,7,0),\"No\")","v":"No"},{"$f":"VLOOKUP(E1160,Cat_Municipios!D1154:M1212,11)","v":{"$error":"#N/A"}}]
[24,"015","Charcas","0059","Los Aguilares (0059)","R","Charcas (015)Los Aguilares (0059)",23.151266,-101.1216,2,"*","*",2,240150059,null,null,null,{"$f":"IFERROR(VLOOKUP(CONCATENATE(B1161,D1161),Padrón_Indígenas!$A$2:$G$988,7,0),\"No\")","v":"No"},{"$f":"VLOOKUP(E1161,Cat_Municipios!D1155:M1213,11)","v":{"$error":"#N/A"}}]
[24,"015","Charcas","0230","Los Álamos (0230)","R","Charcas (015)Los Álamos (0230)",23.336570999999999,-101.224575,0,0,0,0,240150230,null,null,null,{"$f":"IFERROR(VLOOKUP(CONCATENATE(B1162,D1162),Padrón_Indígenas!$A$2:$G$988,7,0),\"No\")","v":"No"},{"$f":"VLOOKUP(E1162,Cat_Municipios!D1156:M1214,11)","v":{"$error":"#N/A"}}]
[24,"015","Charcas","0075","Los Callejones (0075)","R","Charcas (015)Los Callejones (0075)",23.050218999999998,-101.080332,96,47,49,23,240150075,null,"Alto","Medio",{"$f":"IFERROR(VLOOKUP(CONCATENATE(B1163,D1163),Padrón_Indígenas!$A$2:$G$988,7,0),\"No\")","v":"No"},{"$f":"VLOOKUP(E1163,Cat_Municipios!D1157:M1215,11)","v":{"$error":"#N/A"}}]
[24,"015","Charcas","0151","Los Corrales (0151)","R","Charcas (015)Los Corrales (0151)",23.118455999999998,-101.08696399999999,2,"*","*",1,240150151,null,null,null,{"$f":"IFERROR(VLOOKUP(CONCATENATE(B1164,D1164),Padrón_Indígenas!$A$2:$G$988,7,0),\"No\")","v":"No"},{"$f":"VLOOKUP(E1164,Cat_Municipios!D1158:M1216,11)","v":{"$error":"#N/A"}}]
[24,"015","Charcas","0251","Los Desmontes (0251)","R","Charcas (015)Los Desmontes (0251)",23.183456,-101.278137,1,"*","*",1,240150251,null,null,null,{"$f":"IFERROR(VLOOKUP(CONCATENATE(B1165,D1165),Padrón_Indígenas!$A$2:$G$988,7,0),\"No\")","v":"No"},{"$f":"VLOOKUP(E1165,Cat_Municipios!D1159:M1217,11)","v":{"$error":"#N/A"}}]
[24,"015","Charcas","0072","Los Gavilanes (0072)","R","Charcas (015)Los Gavilanes (0072)",23.071352000000001,-101.129499,21,14,7,5,240150072,null,"Alto","Medio",{"$f":"IFERROR(VLOOKUP(CONCATENATE(B1166,D1166),Padrón_Indígenas!$A$2:$G$988,7,0),\"No\")","v":"No"},{"$f":"VLOOKUP(E1166,Cat_Municipios!D1160:M1218,11)","v":{"$error":"#N/A"}}]
[24,"015","Charcas","0259","Los Jaboncillos (0259)","R","Charcas (015)Los Jaboncillos (0259)",23.063687999999999,-101.10777299999999,15,7,8,3,240150259,null,"Muy alto","Medio",{"$f":"IFERROR(VLOOKUP(CONCATENATE(B1167,D1167),Padrón_Indígenas!$A$2:$G$988,7,0),\"No\")","v":"No"},{"$f":"VLOOKUP(E1167,Cat_Municipios!D1161:M1219,11)","v":{"$error":"#N/A"}}]
[24,"015","Charcas","0073","Los López (0073)","R","Charcas (015)Los López (0073)",23.054995000000002,-101.13786399999999,23,14,9,7,240150073,null,"Muy alto","Alto",{"$f":"IFERROR(VLOOKUP(CONCATENATE(B1168,D1168),Padrón_Indígenas!$A$2:$G$988,7,0),\"No\")","v":"No"},{"$f":"VLOOKUP(E1168,Cat_Municipios!D1162:M1220,11)","v":{"$error":"#N/A"}}]
[24,"015","Charcas","0128","Los San Pedros (0128)","R","Charcas (015)Los San Pedros (0128)",23.146916999999998,-101.109127,0,0,0,0,240150128,null,null,null,{"$f":"IFERROR(VLOOKUP(CONCATENATE(B1169,D1169),Padrón_Indígenas!$A$2:$G$988,7,0),\"No\")","v":"No"},{"$f":"VLOOKUP(E1169,Cat_Municipios!D1163:M1221,11)","v":{"$error":"#N/A"}}]
[24,"015","Charcas","0189","Majada de Chon (0189)","R","Charcas (015)Majada de Chon (0189)",23.315021999999999,-101.210688,6,"*","*",2,240150189,null,null,null,{"$f":"IFERROR(VLOOKUP(CONCATENATE(B1170,D1170),Padrón_Indígenas!$A$2:$G$988,7,0),\"No\")","v":"No"},{"$f":"VLOOKUP(E1170,Cat_Municipios!D1164:M1222,11)","v":{"$error":"#N/A"}}]
[24,"015","Charcas","0190","Majada las Tordillas (0190)","R","Charcas (015)Majada las Tordillas (0190)",23.168837,-101.242887,0,0,0,0,240150190,null,null,null,{"$f":"IFERROR(VLOOKUP(CONCATENATE(B1171,D1171),Padrón_Indígenas!$A$2:$G$988,7,0),\"No\")","v":"No"},{"$f":"VLOOKUP(E1171,Cat_Municipios!D1165:M1223,11)","v":{"$error":"#N/A"}}]
[24,"015","Charcas","0192","Majadas Viejas (0192)","R","Charcas (015)Majadas Viejas (0192)",23.213446999999999,-101.17424200000001,0,0,0,0,240150192,null,null,null,{"$f":"IFERROR(VLOOKUP(CONCATENATE(B1172,D1172),Padrón_Indígenas!$A$2:$G$988,7,0),\"No\")","v":"No"},{"$f":"VLOOKUP(E1172,Cat_Municipios!D1166:M1224,11)","v":{"$error":"#N/A"}}]
[24,"015","Charcas","0071","Majadita Blanca (0071)","R","Charcas (015)Majadita Blanca (0071)",23.128263,-101.28684800000001,58,28,30,14,240150071,null,"Alto","Medio",{"$f":"IFERROR(VLOOKUP(CONCATENATE(B1173,D1173),Padrón_Indígenas!$A$2:$G$988,7,0),\"No\")","v":"No"},{"$f":"VLOOKUP(E1173,Cat_Municipios!D1167:M1225,11)","v":{"$error":"#N/A"}}]
[24,"015","Charcas","0124","Maravillas (0124)","R","Charcas (015)Maravillas (0124)",23.122102000000002,-101.185468,0,0,0,0,240150124,null,null,null,{"$f":"IFERROR(VLOOKUP(CONCATENATE(B1174,D1174),Padrón_Indígenas!$A$2:$G$988,7,0),\"No\")","v":"No"},{"$f":"VLOOKUP(E1174,Cat_Municipios!D1168:M1226,11)","v":{"$error":"#N/A"}}]
[24,"015","Charcas","0112","Mesa del Julianito (0112)","R","Charcas (015)Mesa del Julianito (0112)",23.536270999999999,-101.169387,0,0,0,0,240150112,null,null,null,{"$f":"IFERROR(VLOOKUP(CONCATENATE(B1175,D1175),Padrón_Indígenas!$A$2:$G$988,7,0),\"No\")","v":"No"},{"$f":"VLOOKUP(E1175,Cat_Municipios!D1169:M1227,11)","v":{"$error":"#N/A"}}]
[24,"015","Charcas","0119","Mesa Redonda (0119)","R","Charcas (015)Mesa Redonda (0119)",23.333500000000001,-101.16619900000001,2,"*","*",1,240150119,null,null,null,{"$f":"IFERROR(VLOOKUP(CONCATENATE(B1176,D1176),Padrón_Indígenas!$A$2:$G$988,7,0),\"No\")","v":"No"},{"$f":"VLOOKUP(E1176,Cat_Municipios!D1170:M1228,11)","v":{"$error":"#N/A"}}]
[24,"015","Charcas","0118","Mesa Verganza (0118)","R","Charcas (015)Mesa Verganza (0118)",23.351817,-101.16616500000001,5,"*","*",1,240150118,null,null,null,{"$f":"IFERROR(VLOOKUP(CONCATENATE(B1177,D1177),Padrón_Indígenas!$A$2:$G$988,7,0),\"No\")","v":"No"},{"$f":"VLOOKUP(E1177,Cat_Municipios!D1171:M1229,11)","v":{"$error":"#N/A"}}]
[24,"015","Charcas","0177","Mesa Verganza (Chiquihuitillo) (0177)","R","Charcas (015)Mesa Verganza (Chiquihuitillo) (0177)",23.352627999999999,-101.14985,14,"*","*",2,240150177,null,null,null,{"$f":"IFERROR(VLOOKUP(CONCATENATE(B1178,D1178),Padrón_Indígenas!$A$2:$G$988,7,0),\"No\")","v":"No"},{"$f":"VLOOKUP(E1178,Cat_Municipios!D1172:M1230,11)","v":{"$error":"#N/A"}}]
[24,"015","Charcas","0029","Miguel Hidalgo (0029)","R","Charcas (015)Miguel Hidalgo (0029)",23.235263,-100.953373,233,118,115,56,240150029,null,"Alto","Bajo",{"$f":"IFERROR(VLOOKUP(CONCATENATE(B1179,D1179),Padrón_Indígenas!$A$2:$G$988,7,0),\"No\")","v":"No"},{"$f":"VLOOKUP(E1179,Cat_Municipios!D1173:M1231,11)","v":{"$error":"#N/A"}}]
[24,"015","Charcas","0277","Morelos (0277)","R","Charcas (015)Morelos (0277)",23.107386999999999,-101.18001099999999,6,"*","*",1,240150277,null,null,null,{"$f":"IFERROR(VLOOKUP(CONCATENATE(B1180,D1180),Padrón_Indígenas!$A$2:$G$988,7,0),\"No\")","v":"No"},{"$f":"VLOOKUP(E1180,Cat_Municipios!D1174:M1232,11)","v":{"$error":"#N/A"}}]
[24,"015","Charcas","0195","Nabor Moreno (0195)","R","Charcas (015)Nabor Moreno (0195)",23.205041999999999,-101.02958099999999,21,10,11,3,240150195,null,"Muy alto","Alto",{"$f":"IFERROR(VLOOKUP(CONCATENATE(B1181,D1181),Padrón_Indígenas!$A$2:$G$988,7,0),\"No\")","v":"No"},{"$f":"VLOOKUP(E1181,Cat_Municipios!D1175:M1233,11)","v":{"$error":"#N/A"}}]
[24,"015","Charcas","0196","Nopales Altos (0196)","R","Charcas (015)Nopales Altos (0196)",23.07263,-101.21527,7,"*","*",2,240150196,null,null,null,{"$f":"IFERROR(VLOOKUP(CONCATENATE(B1182,D1182),Padrón_Indígenas!$A$2:$G$988,7,0),\"No\")","v":"No"},{"$f":"VLOOKUP(E1182,Cat_Municipios!D1176:M1234,11)","v":{"$error":"#N/A"}}]
[24,"015","Charcas","0133","Noria de Guadalupito (0133)","R","Charcas (015)Noria de Guadalupito (0133)",23.148581,-101.00046500000001,27,16,11,5,240150133,null,"Muy alto","Alto",{"$f":"IFERROR(VLOOKUP(CONCATENATE(B1183,D1183),Padrón_Indígenas!$A$2:$G$988,7,0),\"No\")","v":"No"},{"$f":"VLOOKUP(E1183,Cat_Municipios!D1177:M1235,11)","v":{"$error":"#N/A"}}]
[24,"015","Charcas","0021","Noria de Gutiérrez (José María Morelos) (0021)","R","Charcas (015)Noria de Gutiérrez (José María Morelos) (0021)",23.186501,-101.224772,134,67,67,29,240150021,"SI","Medio","Muy bajo",{"$f":"IFERROR(VLOOKUP(CONCATENATE(B1184,D1184),Padrón_Indígenas!$A$2:$G$988,7,0),\"No\")","v":"No"},{"$f":"VLOOKUP(E1184,Cat_Municipios!D1178:M1236,11)","v":{"$error":"#N/A"}}]
[24,"015","Charcas","0031","Noria del Cerro Gordo (0031)","R","Charcas (015)Noria del Cerro Gordo (0031)",23.23011,-101.141469,146,80,66,38,240150031,null,"Alto","Medio",{"$f":"IFERROR(VLOOKUP(CONCATENATE(B1185,D1185),Padrón_Indígenas!$A$2:$G$988,7,0),\"No\")","v":"No"},{"$f":"VLOOKUP(E1185,Cat_Municipios!D1179:M1237,11)","v":{"$error":"#N/A"}}]
[24,"015","Charcas","0032","Noria Pinta (0032)","R","Charcas (015)Noria Pinta (0032)",23.19678,-101.26585900000001,60,37,23,14,240150032,null,"Alto","Medio",{"$f":"IFERROR(VLOOKUP(CONCATENATE(B1186,D1186),Padrón_Indígenas!$A$2:$G$988,7,0),\"No\")","v":"No"},{"$f":"VLOOKUP(E1186,Cat_Municipios!D1180:M1238,11)","v":{"$error":"#N/A"}}]
[24,"015","Charcas","0153","Ojito Santa Cruz (0153)","R","Charcas (015)Ojito Santa Cruz (0153)",23.116413999999999,-101.106465,0,0,0,0,240150153,null,null,null,{"$f":"IFERROR(VLOOKUP(CONCATENATE(B1187,D1187),Padrón_Indígenas!$A$2:$G$988,7,0),\"No\")","v":"No"},{"$f":"VLOOKUP(E1187,Cat_Municipios!D1181:M1239,11)","v":{"$error":"#N/A"}}]
[24,"015","Charcas","0154","Ojo de Agua (0154)","R","Charcas (015)Ojo de Agua (0154)",23.051684000000002,-100.979304,5,"*","*",1,240150154,null,null,null,{"$f":"IFERROR(VLOOKUP(CONCATENATE(B1188,D1188),Padrón_Indígenas!$A$2:$G$988,7,0),\"No\")","v":"No"},{"$f":"VLOOKUP(E1188,Cat_Municipios!D1182:M1240,11)","v":{"$error":"#N/A"}}]
[24,"015","Charcas","0198","Pame (El Llano) (0198)","R","Charcas (015)Pame (El Llano) (0198)",23.053774000000001,-101.233507,7,"*","*",2,240150198,null,null,null,{"$f":"IFERROR(VLOOKUP(CONCATENATE(B1189,D1189),Padrón_Indígenas!$A$2:$G$988,7,0),\"No\")","v":"No"},{"$f":"VLOOKUP(E1189,Cat_Municipios!D1183:M1241,11)","v":{"$error":"#N/A"}}]
[24,"015","Charcas","0011","Paso del Mezquite (Cerro Blanco) (0011)","R","Charcas (015)Paso del Mezquite (Cerro Blanco) (0011)",23.271564000000001,-100.997908,153,82,71,35,240150011,null,"Alto","Bajo",{"$f":"IFERROR(VLOOKUP(CONCATENATE(B1190,D1190),Padrón_Indígenas!$A$2:$G$988,7,0),\"No\")","v":"No"},{"$f":"VLOOKUP(E1190,Cat_Municipios!D1184:M1242,11)","v":{"$error":"#N/A"}}]
[24,"015","Charcas","0170","Paulino Cabrero (Los Ejidos) (0170)","R","Charcas (015)Paulino Cabrero (Los Ejidos) (0170)",23.112017000000002,-101.06933100000001,0,0,0,0,240150170,null,null,null,{"$f":"IFERROR(VLOOKUP(CONCATENATE(B1191,D1191),Padrón_Indígenas!$A$2:$G$988,7,0),\"No\")","v":"No"},{"$f":"VLOOKUP(E1191,Cat_Municipios!D1185:M1243,11)","v":{"$error":"#N/A"}}]
[24,"015","Charcas","0246","Pedro Aguilar (0246)","R","Charcas (015)Pedro Aguilar (0246)",23.12867,-101.094039,4,"*","*",1,240150246,null,null,null,{"$f":"IFERROR(VLOOKUP(CONCATENATE(B1192,D1192),Padrón_Indígenas!$A$2:$G$988,7,0),\"No\")","v":"No"},{"$f":"VLOOKUP(E1192,Cat_Municipios!D1186:M1244,11)","v":{"$error":"#N/A"}}]
[24,"015","Charcas","0034","Pocitos (0034)","R","Charcas (015)Pocitos (0034)",23.186516000000001,-100.978797,341,177,164,91,240150034,null,"Alto","Bajo",{"$f":"IFERROR(VLOOKUP(CONCATENATE(B1193,D1193),Padrón_Indígenas!$A$2:$G$988,7,0),\"No\")","v":"No"},{"$f":"VLOOKUP(E1193,Cat_Municipios!D1187:M1245,11)","v":{"$error":"#N/A"}}]
[24,"015","Charcas","0247","Porfirio Montelongo González (0247)","R","Charcas (015)Porfirio Montelongo González (0247)",23.101168000000001,-101.094522,2,"*","*",1,240150247,null,null,null,{"$f":"IFERROR(VLOOKUP(CONCATENATE(B1194,D1194),Padrón_Indígenas!$A$2:$G$988,7,0),\"No\")","v":"No"},{"$f":"VLOOKUP(E1194,Cat_Municipios!D1188:M1246,11)","v":{"$error":"#N/A"}}]
[24,"015","Charcas","0171","Potrero Lo de Acosta (Mala Noche) (0171)","R","Charcas (015)Potrero Lo de Acosta (Mala Noche) (0171)",23.202214999999999,-101.199684,25,14,11,7,240150171,null,"Muy alto","Medio",{"$f":"IFERROR(VLOOKUP(CONCATENATE(B1195,D1195),Padrón_Indígenas!$A$2:$G$988,7,0),\"No\")","v":"No"},{"$f":"VLOOKUP(E1195,Cat_Municipios!D1189:M1247,11)","v":{"$error":"#N/A"}}]
[24,"015","Charcas","0035","Presa de Santa Gertrudis (0035)","R","Charcas (015)Presa de Santa Gertrudis (0035)",23.486902000000001,-101.172956,164,84,80,46,240150035,null,"Alto","Medio",{"$f":"IFERROR(VLOOKUP(CONCATENATE(B1196,D1196),Padrón_Indígenas!$A$2:$G$988,7,0),\"No\")","v":"No"},{"$f":"VLOOKUP(E1196,Cat_Municipios!D1190:M1248,11)","v":{"$error":"#N/A"}}]
[24,"015","Charcas","0278","Prisciliano Rodríguez (0278)","R","Charcas (015)Prisciliano Rodríguez (0278)",23.378910999999999,-101.14141100000001,9,"*","*",1,240150278,null,null,null,{"$f":"IFERROR(VLOOKUP(CONCATENATE(B1197,D1197),Padrón_Indígenas!$A$2:$G$988,7,0),\"No\")","v":"No"},{"$f":"VLOOKUP(E1197,Cat_Municipios!D1191:M1249,11)","v":{"$error":"#N/A"}}]
[24,"015","Charcas","0201","Pro Año (0201)","R","Charcas (015)Pro Año (0201)",23.160228,-101.203767,14,4,10,5,240150201,null,"Alto","Medio",{"$f":"IFERROR(VLOOKUP(CONCATENATE(B1198,D1198),Padrón_Indígenas!$A$2:$G$988,7,0),\"No\")","v":"No"},{"$f":"VLOOKUP(E1198,Cat_Municipios!D1192:M1250,11)","v":{"$error":"#N/A"}}]
[24,"015","Charcas","0131","Puerta la Verdolaga (0131)","R","Charcas (015)Puerta la Verdolaga (0131)",23.172471000000002,-100.94358699999999,4,"*","*",1,240150131,null,null,null,{"$f":"IFERROR(VLOOKUP(CONCATENATE(B1199,D1199),Padrón_Indígenas!$A$2:$G$988,7,0),\"No\")","v":"No"},{"$f":"VLOOKUP(E1199,Cat_Municipios!D1193:M1251,11)","v":{"$error":"#N/A"}}]
[24,"015","Charcas","0202","Puerto Colorado (0202)","R","Charcas (015)Puerto Colorado (0202)",23.036694000000001,-101.19989,0,0,0,0,240150202,null,null,null,{"$f":"IFERROR(VLOOKUP(CONCATENATE(B1200,D1200),Padrón_Indígenas!$A$2:$G$988,7,0),\"No\")","v":"No"},{"$f":"VLOOKUP(E1200,Cat_Municipios!D1194:M1252,11)","v":{"$error":"#N/A"}}]
[24,"015","Charcas","0203","Puerto de Ramos (0203)","R","Charcas (015)Puerto de Ramos (0203)",23.081420999999999,-101.279129,7,"*","*",2,240150203,null,null,null,{"$f":"IFERROR(VLOOKUP(CONCATENATE(B1201,D1201),Padrón_Indígenas!$A$2:$G$988,7,0),\"No\")","v":"No"},{"$f":"VLOOKUP(E1201,Cat_Municipios!D1195:M1253,11)","v":{"$error":"#N/A"}}]
[24,"015","Charcas","0228","Puerto del Lechuguillero (0228)","R","Charcas (015)Puerto del Lechuguillero (0228)",23.065618000000001,-101.187146,6,"*","*",1,240150228,null,null,null,{"$f":"IFERROR(VLOOKUP(CONCATENATE(B1202,D1202),Padrón_Indígenas!$A$2:$G$988,7,0),\"No\")","v":"No"},{"$f":"VLOOKUP(E1202,Cat_Municipios!D1196:M1254,11)","v":{"$error":"#N/A"}}]
[24,"015","Charcas","0160","Purísima Concepción (0160)","R","Charcas (015)Purísima Concepción (0160)",23.374333,-101.16549500000001,0,0,0,0,240150160,null,null,null,{"$f":"IFERROR(VLOOKUP(CONCATENATE(B1203,D1203),Padrón_Indígenas!$A$2:$G$988,7,0),\"No\")","v":"No"},{"$f":"VLOOKUP(E1203,Cat_Municipios!D1197:M1255,11)","v":{"$error":"#N/A"}}]
[24,"015","Charcas","0137","Rancho Alegre (0137)","R","Charcas (015)Rancho Alegre (0137)",23.057427000000001,-101.199851,41,18,23,11,240150137,null,"Muy alto","Alto",{"$f":"IFERROR(VLOOKUP(CONCATENATE(B1204,D1204),Padrón_Indígenas!$A$2:$G$988,7,0),\"No\")","v":"No"},{"$f":"VLOOKUP(E1204,Cat_Municipios!D1198:M1256,11)","v":{"$error":"#N/A"}}]
[24,"015","Charcas","0279","Rancho el Caño (0279)","R","Charcas (015)Rancho el Caño (0279)",23.109449000000001,-101.062068,0,0,0,0,240150279,null,null,null,{"$f":"IFERROR(VLOOKUP(CONCATENATE(B1205,D1205),Padrón_Indígenas!$A$2:$G$988,7,0),\"No\")","v":"No"},{"$f":"VLOOKUP(E1205,Cat_Municipios!D1199:M1257,11)","v":{"$error":"#N/A"}}]
[24,"015","Charcas","0280","Rancho el Rodeo (0280)","R","Charcas (015)Rancho el Rodeo (0280)",23.106659000000001,-101.054883,5,"*","*",1,240150280,null,null,null,{"$f":"IFERROR(VLOOKUP(CONCATENATE(B1206,D1206),Padrón_Indígenas!$A$2:$G$988,7,0),\"No\")","v":"No"},{"$f":"VLOOKUP(E1206,Cat_Municipios!D1200:M1258,11)","v":{"$error":"#N/A"}}]
[24,"015","Charcas","0204","Rancho Guadalupe (0204)","R","Charcas (015)Rancho Guadalupe (0204)",23.407826,-101.16716700000001,0,0,0,0,240150204,null,null,null,{"$f":"IFERROR(VLOOKUP(CONCATENATE(B1207,D1207),Padrón_Indígenas!$A$2:$G$988,7,0),\"No\")","v":"No"},{"$f":"VLOOKUP(E1207,Cat_Municipios!D1201:M1259,11)","v":{"$error":"#N/A"}}]
[24,"015","Charcas","0205","Rancho Herradura el Tres (0205)","R","Charcas (015)Rancho Herradura el Tres (0205)",23.373888999999998,-101.206389,0,0,0,0,240150205,null,null,null,{"$f":"IFERROR(VLOOKUP(CONCATENATE(B1208,D1208),Padrón_Indígenas!$A$2:$G$988,7,0),\"No\")","v":"No"},{"$f":"VLOOKUP(E1208,Cat_Municipios!D1202:M1260,11)","v":{"$error":"#N/A"}}]
[24,"015","Charcas","0078","Rancho los Álamos (0078)","R","Charcas (015)Rancho los Álamos (0078)",23.099112999999999,-100.88517400000001,15,"*","*",2,240150078,null,null,null,{"$f":"IFERROR(VLOOKUP(CONCATENATE(B1209,D1209),Padrón_Indígenas!$A$2:$G$988,7,0),\"No\")","v":"No"},{"$f":"VLOOKUP(E1209,Cat_Municipios!D1203:M1261,11)","v":{"$error":"#N/A"}}]
[24,"015","Charcas","0207","Rebombeo del Cerrito de Tunas (0207)","R","Charcas (015)Rebombeo del Cerrito de Tunas (0207)",23.093574,-101.09593099999999,0,0,0,0,240150207,null,null,null,{"$f":"IFERROR(VLOOKUP(CONCATENATE(B1210,D1210),Padrón_Indígenas!$A$2:$G$988,7,0),\"No\")","v":"No"},{"$f":"VLOOKUP(E1210,Cat_Municipios!D1204:M1262,11)","v":{"$error":"#N/A"}}]
[24,"015","Charcas","0249","Ricardo Bernal (0249)","R","Charcas (015)Ricardo Bernal (0249)",23.251047,-101.19765,2,"*","*",1,240150249,null,null,null,{"$f":"IFERROR(VLOOKUP(CONCATENATE(B1211,D1211),Padrón_Indígenas!$A$2:$G$988,7,0),\"No\")","v":"No"},{"$f":"VLOOKUP(E1211,Cat_Municipios!D1205:M1263,11)","v":{"$error":"#N/A"}}]
[24,"015","Charcas","0208","Rincón Blanco (0208)","R","Charcas (015)Rincón Blanco (0208)",23.102499999999999,-101.250833,40,20,20,8,240150208,null,"Muy alto","Alto",{"$f":"IFERROR(VLOOKUP(CONCATENATE(B1212,D1212),Padrón_Indígenas!$A$2:$G$988,7,0),\"No\")","v":"No"},{"$f":"VLOOKUP(E1212,Cat_Municipios!D1206:M1264,11)","v":{"$error":"#N/A"}}]
[24,"015","Charcas","0209","Rincón del Muerto (0209)","R","Charcas (015)Rincón del Muerto (0209)",23.222111000000002,-101.183622,0,0,0,0,240150209,null,null,null,{"$f":"IFERROR(VLOOKUP(CONCATENATE(B1213,D1213),Padrón_Indígenas!$A$2:$G$988,7,0),\"No\")","v":"No"},{"$f":"VLOOKUP(E1213,Cat_Municipios!D1207:M1265,11)","v":{"$error":"#N/A"}}]
[24,"015","Charcas","0067","Rincón Verde (0067)","R","Charcas (015)Rincón Verde (0067)",23.045137,-101.134406,32,18,14,7,240150067,null,"Muy alto","Alto",{"$f":"IFERROR(VLOOKUP(CONCATENATE(B1214,D1214),Padrón_Indígenas!$A$2:$G$988,7,0),\"No\")","v":"No"},{"$f":"VLOOKUP(E1214,Cat_Municipios!D1208:M1266,11)","v":{"$error":"#N/A"}}]
[24,"015","Charcas","0250","Sacramento Arellano (0250)","R","Charcas (015)Sacramento Arellano (0250)",23.254776,-101.191461,22,12,10,6,240150250,null,"Alto","Alto",{"$f":"IFERROR(VLOOKUP(CONCATENATE(B1215,D1215),Padrón_Indígenas!$A$2:$G$988,7,0),\"No\")","v":"No"},{"$f":"VLOOKUP(E1215,Cat_Municipios!D1209:M1267,11)","v":{"$error":"#N/A"}}]
[24,"015","Charcas","0062","Salinillas (0062)","R","Charcas (015)Salinillas (0062)",23.184739,-101.099541,34,18,16,7,240150062,null,"Muy alto","Alto",{"$f":"IFERROR(VLOOKUP(CONCATENATE(B1216,D1216),Padrón_Indígenas!$A$2:$G$988,7,0),\"No\")","v":"No"},{"$f":"VLOOKUP(E1216,Cat_Municipios!D1210:M1268,11)","v":{"$error":"#N/A"}}]
[24,"015","Charcas","0038","Salitrillos (0038)","R","Charcas (015)Salitrillos (0038)",23.178338,-101.30650300000001,5,4,1,3,240150038,null,"Muy alto","Alto",{"$f":"IFERROR(VLOOKUP(CONCATENATE(B1217,D1217),Padrón_Indígenas!$A$2:$G$988,7,0),\"No\")","v":"No"},{"$f":"VLOOKUP(E1217,Cat_Municipios!D1211:M1269,11)","v":{"$error":"#N/A"}}]
[24,"015","Charcas","0146","San Antonio (0146)","R","Charcas (015)San Antonio (0146)",23.166768000000001,-101.322109,4,"*","*",1,240150146,null,null,null,{"$f":"IFERROR(VLOOKUP(CONCATENATE(B1218,D1218),Padrón_Indígenas!$A$2:$G$988,7,0),\"No\")","v":"No"},{"$f":"VLOOKUP(E1218,Cat_Municipios!D1212:M1270,11)","v":{"$error":"#N/A"}}]
[24,"015","Charcas","0164","San Antonio (0164)","R","Charcas (015)San Antonio (0164)",23.491209000000001,-101.225396,18,"*","*",2,240150164,null,null,null,{"$f":"IFERROR(VLOOKUP(CONCATENATE(B1219,D1219),Padrón_Indígenas!$A$2:$G$988,7,0),\"No\")","v":"No"},{"$f":"VLOOKUP(E1219,Cat_Municipios!D1213:M1271,11)","v":{"$error":"#N/A"}}]
[24,"015","Charcas","0040","San Antonio de la Puente (0040)","R","Charcas (015)San Antonio de la Puente (0040)",23.146419000000002,-101.146745,11,8,3,3,240150040,null,"Alto","Alto",{"$f":"IFERROR(VLOOKUP(CONCATENATE(B1220,D1220),Padrón_Indígenas!$A$2:$G$988,7,0),\"No\")","v":"No"},{"$f":"VLOOKUP(E1220,Cat_Municipios!D1214:M1272,11)","v":{"$error":"#N/A"}}]
[24,"015","Charcas","0039","San Antonio de las Huertas (0039)","R","Charcas (015)San Antonio de las Huertas (0039)",23.094217,-101.18216700000001,19,13,6,5,240150039,null,"Muy alto","Alto",{"$f":"IFERROR(VLOOKUP(CONCATENATE(B1221,D1221),Padrón_Indígenas!$A$2:$G$988,7,0),\"No\")","v":"No"},{"$f":"VLOOKUP(E1221,Cat_Municipios!D1215:M1273,11)","v":{"$error":"#N/A"}}]
[24,"015","Charcas","0061","San Diego (0061)","R","Charcas (015)San Diego (0061)",23.152117000000001,-101.228174,2,"*","*",1,240150061,null,null,null,{"$f":"IFERROR(VLOOKUP(CONCATENATE(B1222,D1222),Padrón_Indígenas!$A$2:$G$988,7,0),\"No\")","v":"No"},{"$f":"VLOOKUP(E1222,Cat_Municipios!D1216:M1274,11)","v":{"$error":"#N/A"}}]
[24,"015","Charcas","0041","San Elías (0041)","R","Charcas (015)San Elías (0041)",23.204923999999998,-101.106624,5,"*","*",1,240150041,null,null,null,{"$f":"IFERROR(VLOOKUP(CONCATENATE(B1223,D1223),Padrón_Indígenas!$A$2:$G$988,7,0),\"No\")","v":"No"},{"$f":"VLOOKUP(E1223,Cat_Municipios!D1217:M1275,11)","v":{"$error":"#N/A"}}]
[24,"015","Charcas","0281","San Felipe (0281)","R","Charcas (015)San Felipe (0281)",23.217659999999999,-101.00697599999999,0,0,0,0,240150281,null,null,null,{"$f":"IFERROR(VLOOKUP(CONCATENATE(B1224,D1224),Padrón_Indígenas!$A$2:$G$988,7,0),\"No\")","v":"No"},{"$f":"VLOOKUP(E1224,Cat_Municipios!D1218:M1276,11)","v":{"$error":"#N/A"}}]
[24,"015","Charcas","0211","San Francisco (0211)","R","Charcas (015)San Francisco (0211)",23.100732000000001,-100.839046,6,"*","*",1,240150211,null,null,null,{"$f":"IFERROR(VLOOKUP(CONCATENATE(B1225,D1225),Padrón_Indígenas!$A$2:$G$988,7,0),\"No\")","v":"No"},{"$f":"VLOOKUP(E1225,Cat_Municipios!D1219:M1277,11)","v":{"$error":"#N/A"}}]
[24,"015","Charcas","0226","San Francisco de Asís del Campo Real (0226)","R","Charcas (015)San Francisco de Asís del Campo Real (0226)",23.189741999999999,-101.06927399999999,46,21,25,5,240150226,null,"Muy alto","Alto",{"$f":"IFERROR(VLOOKUP(CONCATENATE(B1226,D1226),Padrón_Indígenas!$A$2:$G$988,7,0),\"No\")","v":"No"},{"$f":"VLOOKUP(E1226,Cat_Municipios!D1220:M1278,11)","v":{"$error":"#N/A"}}]
[24,"015","Charcas","0064","San Francisco de los Álamos (0064)","R","Charcas (015)San Francisco de los Álamos (0064)",23.145047000000002,-101.054406,27,14,13,7,240150064,null,"Muy alto","Alto",{"$f":"IFERROR(VLOOKUP(CONCATENATE(B1227,D1227),Padrón_Indígenas!$A$2:$G$988,7,0),\"No\")","v":"No"},{"$f":"VLOOKUP(E1227,Cat_Municipios!D1221:M1279,11)","v":{"$error":"#N/A"}}]
[24,"015","Charcas","0042","San Francisco de los Ejidos (0042)","R","Charcas (015)San Francisco de los Ejidos (0042)",23.134369,-101.06554300000001,48,24,24,13,240150042,null,"Muy alto","Alto",{"$f":"IFERROR(VLOOKUP(CONCATENATE(B1228,D1228),Padrón_Indígenas!$A$2:$G$988,7,0),\"No\")","v":"No"},{"$f":"VLOOKUP(E1228,Cat_Municipios!D1222:M1280,11)","v":{"$error":"#N/A"}}]
[24,"015","Charcas","0142","San Joaquín (0142)","R","Charcas (015)San Joaquín (0142)",23.247771,-100.95380299999999,25,9,16,6,240150142,null,"Alto","Medio",{"$f":"IFERROR(VLOOKUP(CONCATENATE(B1229,D1229),Padrón_Indígenas!$A$2:$G$988,7,0),\"No\")","v":"No"},{"$f":"VLOOKUP(E1229,Cat_Municipios!D1223:M1281,11)","v":{"$error":"#N/A"}}]
[24,"015","Charcas","0077","San José (0077)","R","Charcas (015)San José (0077)",23.101161999999999,-100.869722,1,"*","*",1,240150077,null,null,null,{"$f":"IFERROR(VLOOKUP(CONCATENATE(B1230,D1230),Padrón_Indígenas!$A$2:$G$988,7,0),\"No\")","v":"No"},{"$f":"VLOOKUP(E1230,Cat_Municipios!D1224:M1282,11)","v":{"$error":"#N/A"}}]
[24,"015","Charcas","0138","San José (0138)","R","Charcas (015)San José (0138)",23.063444,-101.19435,4,"*","*",1,240150138,null,null,null,{"$f":"IFERROR(VLOOKUP(CONCATENATE(B1231,D1231),Padrón_Indígenas!$A$2:$G$988,7,0),\"No\")","v":"No"},{"$f":"VLOOKUP(E1231,Cat_Municipios!D1225:M1283,11)","v":{"$error":"#N/A"}}]
[24,"015","Charcas","0104","San José de la Cruz (0104)","R","Charcas (015)San José de la Cruz (0104)",23.170442999999999,-101.093169,3,"*","*",1,240150104,null,null,null,{"$f":"IFERROR(VLOOKUP(CONCATENATE(B1232,D1232),Padrón_Indígenas!$A$2:$G$988,7,0),\"No\")","v":"No"},{"$f":"VLOOKUP(E1232,Cat_Municipios!D1226:M1284,11)","v":{"$error":"#N/A"}}]
[24,"015","Charcas","0043","San Juan del Tuzal (0043)","R","Charcas (015)San Juan del Tuzal (0043)",23.147936000000001,-101.342505,145,82,63,36,240150043,"SI","Alto","Bajo",{"$f":"IFERROR(VLOOKUP(CONCATENATE(B1233,D1233),Padrón_Indígenas!$A$2:$G$988,7,0),\"No\")","v":"No"},{"$f":"VLOOKUP(E1233,Cat_Municipios!D1227:M1285,11)","v":{"$error":"#N/A"}}]
[24,"015","Charcas","0212","San Julián Santa María (0212)","R","Charcas (015)San Julián Santa María (0212)",23.020755999999999,-101.067234,6,"*","*",1,240150212,null,null,null,{"$f":"IFERROR(VLOOKUP(CONCATENATE(B1234,D1234),Padrón_Indígenas!$A$2:$G$988,7,0),\"No\")","v":"No"},{"$f":"VLOOKUP(E1234,Cat_Municipios!D1228:M1286,11)","v":{"$error":"#N/A"}}]
[24,"015","Charcas","0105","San Martín (0105)","R","Charcas (015)San Martín (0105)",23.155529000000001,-101.34025800000001,6,"*","*",1,240150105,null,null,null,{"$f":"IFERROR(VLOOKUP(CONCATENATE(B1235,D1235),Padrón_Indígenas!$A$2:$G$988,7,0),\"No\")","v":"No"},{"$f":"VLOOKUP(E1235,Cat_Municipios!D1229:M1287,11)","v":{"$error":"#N/A"}}]
[24,"015","Charcas","0045","San Onofre (0045)","R","Charcas (015)San Onofre (0045)",23.055712,-101.107938,28,15,13,8,240150045,null,"Alto","Medio",{"$f":"IFERROR(VLOOKUP(CONCATENATE(B1236,D1236),Padrón_Indígenas!$A$2:$G$988,7,0),\"No\")","v":"No"},{"$f":"VLOOKUP(E1236,Cat_Municipios!D1230:M1288,11)","v":{"$error":"#N/A"}}]
[24,"015","Charcas","0046","San Rafael (0046)","R","Charcas (015)San Rafael (0046)",23.077987,-101.20819299999999,32,14,18,10,240150046,"SI","Muy alto","Alto",{"$f":"IFERROR(VLOOKUP(CONCATENATE(B1237,D1237),Padrón_Indígenas!$A$2:$G$988,7,0),\"No\")","v":"No"},{"$f":"VLOOKUP(E1237,Cat_Municipios!D1231:M1289,11)","v":{"$error":"#N/A"}}]
[24,"015","Charcas","0047","Santa Ana de Zaragoza (0047)","R","Charcas (015)Santa Ana de Zaragoza (0047)",23.067167999999999,-101.02018700000001,137,65,72,37,240150047,null,"Alto","Bajo",{"$f":"IFERROR(VLOOKUP(CONCATENATE(B1238,D1238),Padrón_Indígenas!$A$2:$G$988,7,0),\"No\")","v":"No"},{"$f":"VLOOKUP(E1238,Cat_Municipios!D1232:M1290,11)","v":{"$error":"#N/A"}}]
[24,"015","Charcas","0261","Santa Cruz (0261)","R","Charcas (015)Santa Cruz (0261)",23.266389,-101.093056,13,7,6,3,240150261,null,"Muy alto","Alto",{"$f":"IFERROR(VLOOKUP(CONCATENATE(B1239,D1239),Padrón_Indígenas!$A$2:$G$988,7,0),\"No\")","v":"No"},{"$f":"VLOOKUP(E1239,Cat_Municipios!D1233:M1291,11)","v":{"$error":"#N/A"}}]
[24,"015","Charcas","0074","Santa Fe (Las Curras) (0074)","R","Charcas (015)Santa Fe (Las Curras) (0074)",23.161322999999999,-101.11925599999999,0,0,0,0,240150074,null,null,null,{"$f":"IFERROR(VLOOKUP(CONCATENATE(B1240,D1240),Padrón_Indígenas!$A$2:$G$988,7,0),\"No\")","v":"No"},{"$f":"VLOOKUP(E1240,Cat_Municipios!D1234:M1292,11)","v":{"$error":"#N/A"}}]
[24,"015","Charcas","0148","Tanque de Don Santiago (0148)","R","Charcas (015)Tanque de Don Santiago (0148)",23.083365000000001,-100.848823,2,"*","*",1,240150148,null,null,null,{"$f":"IFERROR(VLOOKUP(CONCATENATE(B1241,D1241),Padrón_Indígenas!$A$2:$G$988,7,0),\"No\")","v":"No"},{"$f":"VLOOKUP(E1241,Cat_Municipios!D1235:M1293,11)","v":{"$error":"#N/A"}}]
[24,"015","Charcas","0132","Tanque de Santa Ana (0132)","R","Charcas (015)Tanque de Santa Ana (0132)",23.084568000000001,-101.001459,0,0,0,0,240150132,null,null,null,{"$f":"IFERROR(VLOOKUP(CONCATENATE(B1242,D1242),Padrón_Indígenas!$A$2:$G$988,7,0),\"No\")","v":"No"},{"$f":"VLOOKUP(E1242,Cat_Municipios!D1236:M1294,11)","v":{"$error":"#N/A"}}]
[24,"015","Charcas","0123","Tanque San Bartolo (0123)","R","Charcas (015)Tanque San Bartolo (0123)",23.319326,-101.22895200000001,17,8,9,5,240150123,null,"Alto","Medio",{"$f":"IFERROR(VLOOKUP(CONCATENATE(B1243,D1243),Padrón_Indígenas!$A$2:$G$988,7,0),\"No\")","v":"No"},{"$f":"VLOOKUP(E1243,Cat_Municipios!D1237:M1295,11)","v":{"$error":"#N/A"}}]
[24,"015","Charcas","0065","Tinajuelas (0065)","R","Charcas (015)Tinajuelas (0065)",23.199010000000001,-101.04450300000001,62,30,32,16,240150065,null,"Alto","Medio",{"$f":"IFERROR(VLOOKUP(CONCATENATE(B1244,D1244),Padrón_Indígenas!$A$2:$G$988,7,0),\"No\")","v":"No"},{"$f":"VLOOKUP(E1244,Cat_Municipios!D1238:M1296,11)","v":{"$error":"#N/A"}}]
[24,"015","Charcas","0141","Tunalillo (0141)","R","Charcas (015)Tunalillo (0141)",23.062345000000001,-101.21448599999999,7,"*","*",2,240150141,null,null,null,{"$f":"IFERROR(VLOOKUP(CONCATENATE(B1245,D1245),Padrón_Indígenas!$A$2:$G$988,7,0),\"No\")","v":"No"},{"$f":"VLOOKUP(E1245,Cat_Municipios!D1239:M1297,11)","v":{"$error":"#N/A"}}]
[24,"015","Charcas","0053","Vicente Guerrero (Las Escobas) (0053)","R","Charcas (015)Vicente Guerrero (Las Escobas) (0053)",23.164543999999999,-101.078474,131,67,64,28,240150053,null,"Alto","Medio",{"$f":"IFERROR(VLOOKUP(CONCATENATE(B1246,D1246),Padrón_Indígenas!$A$2:$G$988,7,0),\"No\")","v":"No"},{"$f":"VLOOKUP(E1246,Cat_Municipios!D1240:M1298,11)","v":{"$error":"#N/A"}}]
[24,"015","Charcas","0282","Vidal Moreno (0282)","R","Charcas (015)Vidal Moreno (0282)",23.269444,-101.162222,12,"*","*",1,240150282,null,null,null,{"$f":"IFERROR(VLOOKUP(CONCATENATE(B1247,D1247),Padrón_Indígenas!$A$2:$G$988,7,0),\"No\")","v":"No"},{"$f":"VLOOKUP(E1247,Cat_Municipios!D1241:M1299,11)","v":{"$error":"#N/A"}}]
[24,"015","Charcas",null,"Todo el municipio ",null,{"$f":"_xlfn.CONCAT(C1248,\" (\",B1248,\")\",E1248)","v":"Charcas (015)Todo el municipio "},null,null,{"$f":"SUM(J1023:J1247)","v":21134}]
[24,"010","Ciudad_del_Maíz","0004","Agua Nueva del Norte (0004)","R","Ciudad del Maíz (010)Agua Nueva del Norte (0004)",22.613589000000001,-99.794358000000003,425,202,223,117,240100004,null,"Alto","Bajo",{"$f":"IFERROR(VLOOKUP(CONCATENATE(B1249,D1249),Padrón_Indígenas!$A$2:$G$988,7,0),\"No\")","v":"No"},{"$f":"VLOOKUP(E1249,Cat_Municipios!D1242:M1300,11)","v":{"$error":"#N/A"}}]
[24,"010","Ciudad_del_Maíz","0005","Agua Zarca (0005)","R","Ciudad del Maíz (010)Agua Zarca (0005)",22.471398000000001,-99.496337999999994,45,23,22,12,240100005,"SI","Alto","Bajo",{"$f":"IFERROR(VLOOKUP(CONCATENATE(B1250,D1250),Padrón_Indígenas!$A$2:$G$988,7,0),\"No\")","v":"No"},{"$f":"VLOOKUP(E1250,Cat_Municipios!D1243:M1301,11)","v":{"$error":"#N/A"}}]
[24,"010","Ciudad_del_Maíz","0268","Ángel García (0268)","R","Ciudad del Maíz (010)Ángel García (0268)",22.526667,-99.564999999999998,4,"*","*",1,240100268,null,null,null,{"$f":"IFERROR(VLOOKUP(CONCATENATE(B1251,D1251),Padrón_Indígenas!$A$2:$G$988,7,0),\"No\")","v":"No"},{"$f":"VLOOKUP(E1251,Cat_Municipios!D1244:M1302,11)","v":{"$error":"#N/A"}}]
[24,"010","Ciudad_del_Maíz","0008","Aquiles Serdán (0008)","R","Ciudad del Maíz (010)Aquiles Serdán (0008)",22.429905999999999,-99.486863,359,189,170,67,240100008,null,"Alto","Bajo",{"$f":"IFERROR(VLOOKUP(CONCATENATE(B1252,D1252),Padrón_Indígenas!$A$2:$G$988,7,0),\"No\")","v":"No"},{"$f":"VLOOKUP(E1252,Cat_Municipios!D1245:M1303,11)","v":{"$error":"#N/A"}}]
[24,"010","Ciudad_del_Maíz","0269","Aquiles Serdán (Celerino Ortega) (0269)","R","Ciudad del Maíz (010)Aquiles Serdán (Celerino Ortega) (0269)",22.418564,-99.475896000000006,10,"*","*",1,240100269,null,null,null,{"$f":"IFERROR(VLOOKUP(CONCATENATE(B1253,D1253),Padrón_Indígenas!$A$2:$G$988,7,0),\"No\")","v":"No"},{"$f":"VLOOKUP(E1253,Cat_Municipios!D1246:M1304,11)","v":{"$error":"#N/A"}}]
[24,"010","Ciudad_del_Maíz","0092","Barbarita (0092)","R","Ciudad del Maíz (010)Barbarita (0092)",22.478735,-99.513329999999996,45,24,21,10,240100092,null,"Alto","Medio",{"$f":"IFERROR(VLOOKUP(CONCATENATE(B1254,D1254),Padrón_Indígenas!$A$2:$G$988,7,0),\"No\")","v":"No"},{"$f":"VLOOKUP(E1254,Cat_Municipios!D1247:M1305,11)","v":{"$error":"#N/A"}}]
[24,"010","Ciudad_del_Maíz","0011","Buenavista (0011)","R","Ciudad del Maíz (010)Buenavista (0011)",22.415445999999999,-99.594836999999998,54,30,24,11,240100011,"SI","Alto","Medio",{"$f":"IFERROR(VLOOKUP(CONCATENATE(B1255,D1255),Padrón_Indígenas!$A$2:$G$988,7,0),\"No\")","v":"No"},{"$f":"VLOOKUP(E1255,Cat_Municipios!D1248:M1306,11)","v":{"$error":"#N/A"}}]
[24,"010","Ciudad_del_Maíz","0010","Buenavista y Olivo (0010)","R","Ciudad del Maíz (010)Buenavista y Olivo (0010)",22.591799999999999,-99.595962,229,106,123,55,240100010,"SI","Alto","Bajo",{"$f":"IFERROR(VLOOKUP(CONCATENATE(B1256,D1256),Padrón_Indígenas!$A$2:$G$988,7,0),\"No\")","v":"No"},{"$f":"VLOOKUP(E1256,Cat_Municipios!D1249:M1307,11)","v":{"$error":"#N/A"}}]
[24,"010","Ciudad_del_Maíz","0236","Campamento SEMARNAT (0236)","R","Ciudad del Maíz (010)Campamento SEMARNAT (0236)",22.487850000000002,-99.474624000000006,0,0,0,0,240100236,null,null,null,{"$f":"IFERROR(VLOOKUP(CONCATENATE(B1257,D1257),Padrón_Indígenas!$A$2:$G$988,7,0),\"No\")","v":"No"},{"$f":"VLOOKUP(E1257,Cat_Municipios!D1250:M1308,11)","v":{"$error":"#N/A"}}]
[24,"010","Ciudad_del_Maíz","0237","Cantarranas (El Charco Blanco) (0237)","R","Ciudad del Maíz (010)Cantarranas (El Charco Blanco) (0237)",22.547816000000001,-99.844019000000003,0,0,0,0,240100237,null,null,null,{"$f":"IFERROR(VLOOKUP(CONCATENATE(B1258,D1258),Padrón_Indígenas!$A$2:$G$988,7,0),\"No\")","v":"No"},{"$f":"VLOOKUP(E1258,Cat_Municipios!D1251:M1309,11)","v":{"$error":"#N/A"}}]
[24,"010","Ciudad_del_Maíz","0016","Carrizal Grande (0016)","R","Ciudad del Maíz (010)Carrizal Grande (0016)",22.254494000000001,-99.566882000000007,190,97,93,53,240100016,null,"Alto","Medio",{"$f":"IFERROR(VLOOKUP(CONCATENATE(B1259,D1259),Padrón_Indígenas!$A$2:$G$988,7,0),\"No\")","v":"No"},{"$f":"VLOOKUP(E1259,Cat_Municipios!D1252:M1310,11)","v":{"$error":"#N/A"}}]
[24,"010","Ciudad_del_Maíz","0270","Catalina Navarro Hernández (0270)","R","Ciudad del Maíz (010)Catalina Navarro Hernández (0270)",22.404722,-99.618055999999996,0,0,0,0,240100270,null,null,null,{"$f":"IFERROR(VLOOKUP(CONCATENATE(B1260,D1260),Padrón_Indígenas!$A$2:$G$988,7,0),\"No\")","v":"No"},{"$f":"VLOOKUP(E1260,Cat_Municipios!D1253:M1311,11)","v":{"$error":"#N/A"}}]
[24,"010","Ciudad_del_Maíz","0020","Celestría (0020)","R","Ciudad del Maíz (010)Celestría (0020)",22.418993,-99.555505999999994,4,"*","*",1,240100020,null,null,null,{"$f":"IFERROR(VLOOKUP(CONCATENATE(B1261,D1261),Padrón_Indígenas!$A$2:$G$988,7,0),\"No\")","v":"No"},{"$f":"VLOOKUP(E1261,Cat_Municipios!D1254:M1312,11)","v":{"$error":"#N/A"}}]
[24,"010","Ciudad_del_Maíz","0001","Ciudad del Maíz (0001)","U","Ciudad del Maíz (010)Ciudad del Maíz (0001)",22.399846,-99.600573999999995,10391,5006,5385,2550,240100001,"SI",null,null,{"$f":"IFERROR(VLOOKUP(CONCATENATE(B1262,D1262),Padrón_Indígenas!$A$2:$G$988,7,0),\"No\")","v":"No"},{"$f":"VLOOKUP(E1262,Cat_Municipios!D1255:M1313,11)","v":{"$error":"#N/A"}}]
[24,"010","Ciudad_del_Maíz","0046","Colonia Agrícola Magdaleno Cedillo (0046)","R","Ciudad del Maíz (010)Colonia Agrícola Magdaleno Cedillo (0046)",22.474986999999999,-99.595246000000003,1097,520,577,259,240100046,"SI","Alto","Bajo",{"$f":"IFERROR(VLOOKUP(CONCATENATE(B1263,D1263),Padrón_Indígenas!$A$2:$G$988,7,0),\"No\")","v":"No"},{"$f":"VLOOKUP(E1263,Cat_Municipios!D1256:M1314,11)","v":{"$error":"#N/A"}}]
[24,"010","Ciudad_del_Maíz","0062","Colonia Agrícola Ollitas de las Vacas (0062)","R","Ciudad del Maíz (010)Colonia Agrícola Ollitas de las Vacas (0062)",22.662051000000002,-99.635024000000001,201,92,109,48,240100062,null,"Alto","Medio",{"$f":"IFERROR(VLOOKUP(CONCATENATE(B1264,D1264),Padrón_Indígenas!$A$2:$G$988,7,0),\"No\")","v":"No"},{"$f":"VLOOKUP(E1264,Cat_Municipios!D1257:M1315,11)","v":{"$error":"#N/A"}}]
[24,"010","Ciudad_del_Maíz","0007","Colonia Álvaro Obregón (0007)","R","Ciudad del Maíz (010)Colonia Álvaro Obregón (0007)",22.252096000000002,-99.674694000000002,1221,614,607,336,240100007,"SI","Alto","Bajo",{"$f":"IFERROR(VLOOKUP(CONCATENATE(B1265,D1265),Padrón_Indígenas!$A$2:$G$988,7,0),\"No\")","v":"No"},{"$f":"VLOOKUP(E1265,Cat_Municipios!D1258:M1316,11)","v":{"$error":"#N/A"}}]
[24,"010","Ciudad_del_Maíz","0031","Colonia Carlos Diez Gutiérrez (La Italiana) (0031)","R","Ciudad del Maíz (010)Colonia Carlos Diez Gutiérrez (La Italiana) (0031)",22.402284000000002,-99.533036999999993,118,68,50,36,240100031,null,"Medio","Bajo",{"$f":"IFERROR(VLOOKUP(CONCATENATE(B1266,D1266),Padrón_Indígenas!$A$2:$G$988,7,0),\"No\")","v":"No"},{"$f":"VLOOKUP(E1266,Cat_Municipios!D1259:M1317,11)","v":{"$error":"#N/A"}}]
[24,"010","Ciudad_del_Maíz","0044","Colonia la Libertad (0044)","R","Ciudad del Maíz (010)Colonia la Libertad (0044)",22.416073999999998,-99.847024000000005,663,344,319,174,240100044,null,"Alto","Bajo",{"$f":"IFERROR(VLOOKUP(CONCATENATE(B1267,D1267),Padrón_Indígenas!$A$2:$G$988,7,0),\"No\")","v":"No"},{"$f":"VLOOKUP(E1267,Cat_Municipios!D1260:M1318,11)","v":{"$error":"#N/A"}}]
[24,"010","Ciudad_del_Maíz","0055","Colonia la Morita (0055)","R","Ciudad del Maíz (010)Colonia la Morita (0055)",22.359812000000002,-99.857494000000003,497,260,237,119,240100055,null,"Alto","Medio",{"$f":"IFERROR(VLOOKUP(CONCATENATE(B1268,D1268),Padrón_Indígenas!$A$2:$G$988,7,0),\"No\")","v":"No"},{"$f":"VLOOKUP(E1268,Cat_Municipios!D1261:M1319,11)","v":{"$error":"#N/A"}}]
[24,"010","Ciudad_del_Maíz","0043","Colonia Lagunillas (0043)","R","Ciudad del Maíz (010)Colonia Lagunillas (0043)",22.328271000000001,-99.567284000000001,692,357,335,158,240100043,null,"Alto","Bajo",{"$f":"IFERROR(VLOOKUP(CONCATENATE(B1269,D1269),Padrón_Indígenas!$A$2:$G$988,7,0),\"No\")","v":"No"},{"$f":"VLOOKUP(E1269,Cat_Municipios!D1262:M1320,11)","v":{"$error":"#N/A"}}]
[24,"010","Ciudad_del_Maíz","0260","Ejido San José (0260)","R","Ciudad del Maíz (010)Ejido San José (0260)",22.394088,-99.619913999999994,10,5,5,3,240100260,"SI","Muy alto","Alto",{"$f":"IFERROR(VLOOKUP(CONCATENATE(B1270,D1270),Padrón_Indígenas!$A$2:$G$988,7,0),\"No\")","v":"No"},{"$f":"VLOOKUP(E1270,Cat_Municipios!D1263:M1321,11)","v":{"$error":"#N/A"}}]
[24,"010","Ciudad_del_Maíz","0301","Ejido San José (La Majada) (0301)","R","Ciudad del Maíz (010)Ejido San José (La Majada) (0301)",22.407789000000001,-99.622781000000003,"-","-","-","-",240100301,null,null,null,{"$f":"IFERROR(VLOOKUP(CONCATENATE(B1271,D1271),Padrón_Indígenas!$A$2:$G$988,7,0),\"No\")","v":"No"},{"$f":"VLOOKUP(E1271,Cat_Municipios!D1264:M1322,11)","v":{"$error":"#N/A"}}]
[24,"010","Ciudad_del_Maíz","0273","Ejido San José (Sotero Alvizu) (0273)","R","Ciudad del Maíz (010)Ejido San José (Sotero Alvizu) (0273)",22.417069000000001,-99.625878,0,0,0,0,240100273,null,null,null,{"$f":"IFERROR(VLOOKUP(CONCATENATE(B1272,D1272),Padrón_Indígenas!$A$2:$G$988,7,0),\"No\")","v":"No"},{"$f":"VLOOKUP(E1272,Cat_Municipios!D1265:M1323,11)","v":{"$error":"#N/A"}}]
[24,"010","Ciudad_del_Maíz","0015","El Capulín (0015)","R","Ciudad del Maíz (010)El Capulín (0015)",22.57161,-99.626932999999994,140,63,77,37,240100015,null,"Alto","Bajo",{"$f":"IFERROR(VLOOKUP(CONCATENATE(B1273,D1273),Padrón_Indígenas!$A$2:$G$988,7,0),\"No\")","v":"No"},{"$f":"VLOOKUP(E1273,Cat_Municipios!D1266:M1324,11)","v":{"$error":"#N/A"}}]
[24,"010","Ciudad_del_Maíz","0026","El Custodio (0026)","R","Ciudad del Maíz (010)El Custodio (0026)",22.651944,-99.968056000000004,563,309,254,140,240100026,null,"Alto","Medio",{"$f":"IFERROR(VLOOKUP(CONCATENATE(B1274,D1274),Padrón_Indígenas!$A$2:$G$988,7,0),\"No\")","v":"No"},{"$f":"VLOOKUP(E1274,Cat_Municipios!D1267:M1325,11)","v":{"$error":"#N/A"}}]
[24,"010","Ciudad_del_Maíz","0032","El Divisadero (La Garra) (0032)","R","Ciudad del Maíz (010)El Divisadero (La Garra) (0032)",22.207743000000001,-99.797597999999994,55,28,27,14,240100032,null,"Alto","Medio",{"$f":"IFERROR(VLOOKUP(CONCATENATE(B1275,D1275),Padrón_Indígenas!$A$2:$G$988,7,0),\"No\")","v":"No"},{"$f":"VLOOKUP(E1275,Cat_Municipios!D1268:M1326,11)","v":{"$error":"#N/A"}}]
[24,"010","Ciudad_del_Maíz","0033","El Duro (0033)","R","Ciudad del Maíz (010)El Duro (0033)",22.171844,-99.760518000000005,169,79,90,40,240100033,null,"Alto","Medio",{"$f":"IFERROR(VLOOKUP(CONCATENATE(B1276,D1276),Padrón_Indígenas!$A$2:$G$988,7,0),\"No\")","v":"No"},{"$f":"VLOOKUP(E1276,Cat_Municipios!D1269:M1327,11)","v":{"$error":"#N/A"}}]
[24,"010","Ciudad_del_Maíz","0261","El Fuereño (0261)","R","Ciudad del Maíz (010)El Fuereño (0261)",22.385355000000001,-99.614555999999993,0,0,0,0,240100261,null,null,null,{"$f":"IFERROR(VLOOKUP(CONCATENATE(B1277,D1277),Padrón_Indígenas!$A$2:$G$988,7,0),\"No\")","v":"No"},{"$f":"VLOOKUP(E1277,Cat_Municipios!D1270:M1328,11)","v":{"$error":"#N/A"}}]
[24,"010","Ciudad_del_Maíz","0292","El Galán (0292)","R","Ciudad del Maíz (010)El Galán (0292)",22.187740000000002,-99.776148000000006,1,"*","*",1,240100292,null,null,null,{"$f":"IFERROR(VLOOKUP(CONCATENATE(B1278,D1278),Padrón_Indígenas!$A$2:$G$988,7,0),\"No\")","v":"No"},{"$f":"VLOOKUP(E1278,Cat_Municipios!D1271:M1329,11)","v":{"$error":"#N/A"}}]
[24,"010","Ciudad_del_Maíz","0293","El Jefe (0293)","R","Ciudad del Maíz (010)El Jefe (0293)",22.184042999999999,-99.768508999999995,1,"*","*",1,240100293,null,null,null,{"$f":"IFERROR(VLOOKUP(CONCATENATE(B1279,D1279),Padrón_Indígenas!$A$2:$G$988,7,0),\"No\")","v":"No"},{"$f":"VLOOKUP(E1279,Cat_Municipios!D1272:M1330,11)","v":{"$error":"#N/A"}}]
[24,"010","Ciudad_del_Maíz","0107","El Mequito (0107)","R","Ciudad del Maíz (010)El Mequito (0107)",22.610617999999999,-99.612048000000001,3,"*","*",2,240100107,null,null,null,{"$f":"IFERROR(VLOOKUP(CONCATENATE(B1280,D1280),Padrón_Indígenas!$A$2:$G$988,7,0),\"No\")","v":"No"},{"$f":"VLOOKUP(E1280,Cat_Municipios!D1273:M1331,11)","v":{"$error":"#N/A"}}]
[24,"010","Ciudad_del_Maíz","0177","El Nogal (0177)","R","Ciudad del Maíz (010)El Nogal (0177)",22.536138999999999,-99.565639000000004,2,"*","*",1,240100177,null,null,null,{"$f":"IFERROR(VLOOKUP(CONCATENATE(B1281,D1281),Padrón_Indígenas!$A$2:$G$988,7,0),\"No\")","v":"No"},{"$f":"VLOOKUP(E1281,Cat_Municipios!D1274:M1332,11)","v":{"$error":"#N/A"}}]
[24,"010","Ciudad_del_Maíz","0130","El Oasis (0130)","R","Ciudad del Maíz (010)El Oasis (0130)",22.459700000000002,-99.786946999999998,0,0,0,0,240100130,null,null,null,{"$f":"IFERROR(VLOOKUP(CONCATENATE(B1282,D1282),Padrón_Indígenas!$A$2:$G$988,7,0),\"No\")","v":"No"},{"$f":"VLOOKUP(E1282,Cat_Municipios!D1275:M1333,11)","v":{"$error":"#N/A"}}]
[24,"010","Ciudad_del_Maíz","0061","El Olivo (0061)","R","Ciudad del Maíz (010)El Olivo (0061)",22.581509,-99.587238999999997,327,159,168,98,240100061,"SI","Alto","Bajo",{"$f":"IFERROR(VLOOKUP(CONCATENATE(B1283,D1283),Padrón_Indígenas!$A$2:$G$988,7,0),\"No\")","v":"No"},{"$f":"VLOOKUP(E1283,Cat_Municipios!D1276:M1334,11)","v":{"$error":"#N/A"}}]
[24,"010","Ciudad_del_Maíz","0072","El Porvenir (0072)","R","Ciudad del Maíz (010)El Porvenir (0072)",22.487617,-99.542668000000006,243,127,116,56,240100072,"SI","Medio","Muy bajo",{"$f":"IFERROR(VLOOKUP(CONCATENATE(B1284,D1284),Padrón_Indígenas!$A$2:$G$988,7,0),\"No\")","v":"No"},{"$f":"VLOOKUP(E1284,Cat_Municipios!D1277:M1335,11)","v":{"$error":"#N/A"}}]
[24,"010","Ciudad_del_Maíz","0157","El Pozo (0157)","R","Ciudad del Maíz (010)El Pozo (0157)",22.199686,-99.807565999999994,2,"*","*",1,240100157,null,null,null,{"$f":"IFERROR(VLOOKUP(CONCATENATE(B1285,D1285),Padrón_Indígenas!$A$2:$G$988,7,0),\"No\")","v":"No"},{"$f":"VLOOKUP(E1285,Cat_Municipios!D1278:M1336,11)","v":{"$error":"#N/A"}}]
[24,"010","Ciudad_del_Maíz","0119","El Puertecito (0119)","R","Ciudad del Maíz (010)El Puertecito (0119)",22.493435000000002,-99.555198000000004,33,16,17,7,240100119,null,"Alto","Medio",{"$f":"IFERROR(VLOOKUP(CONCATENATE(B1286,D1286),Padrón_Indígenas!$A$2:$G$988,7,0),\"No\")","v":"No"},{"$f":"VLOOKUP(E1286,Cat_Municipios!D1279:M1337,11)","v":{"$error":"#N/A"}}]
[24,"010","Ciudad_del_Maíz","0078","El Puerto Santa Gertrudis (0078)","R","Ciudad del Maíz (010)El Puerto Santa Gertrudis (0078)",22.308682999999998,-99.609599000000003,356,190,166,86,240100078,null,"Alto","Bajo",{"$f":"IFERROR(VLOOKUP(CONCATENATE(B1287,D1287),Padrón_Indígenas!$A$2:$G$988,7,0),\"No\")","v":"No"},{"$f":"VLOOKUP(E1287,Cat_Municipios!D1280:M1338,11)","v":{"$error":"#N/A"}}]
[24,"010","Ciudad_del_Maíz","0097","El Tepeyac (0097)","R","Ciudad del Maíz (010)El Tepeyac (0097)",22.663295999999999,-99.904758999999999,166,86,80,33,240100097,"SI","Alto","Bajo",{"$f":"IFERROR(VLOOKUP(CONCATENATE(B1288,D1288),Padrón_Indígenas!$A$2:$G$988,7,0),\"No\")","v":"No"},{"$f":"VLOOKUP(E1288,Cat_Municipios!D1281:M1339,11)","v":{"$error":"#N/A"}}]
[24,"010","Ciudad_del_Maíz","0287","El Tigrito (0287)","R","Ciudad del Maíz (010)El Tigrito (0287)",22.284289000000001,-99.414730000000006,6,"*","*",1,240100287,null,null,null,{"$f":"IFERROR(VLOOKUP(CONCATENATE(B1289,D1289),Padrón_Indígenas!$A$2:$G$988,7,0),\"No\")","v":"No"},{"$f":"VLOOKUP(E1289,Cat_Municipios!D1282:M1340,11)","v":{"$error":"#N/A"}}]
[24,"010","Ciudad_del_Maíz","0165","El Tomate (0165)","R","Ciudad del Maíz (010)El Tomate (0165)",22.410074999999999,-99.746510999999998,8,"*","*",2,240100165,null,null,null,{"$f":"IFERROR(VLOOKUP(CONCATENATE(B1290,D1290),Padrón_Indígenas!$A$2:$G$988,7,0),\"No\")","v":"No"},{"$f":"VLOOKUP(E1290,Cat_Municipios!D1283:M1341,11)","v":{"$error":"#N/A"}}]
[24,"010","Ciudad_del_Maíz","0098","El Toro (0098)","R","Ciudad del Maíz (010)El Toro (0098)",22.281528000000002,-99.426057999999998,0,0,0,0,240100098,null,null,null,{"$f":"IFERROR(VLOOKUP(CONCATENATE(B1291,D1291),Padrón_Indígenas!$A$2:$G$988,7,0),\"No\")","v":"No"},{"$f":"VLOOKUP(E1291,Cat_Municipios!D1284:M1342,11)","v":{"$error":"#N/A"}}]
[24,"010","Ciudad_del_Maíz","0099","El Venadito (0099)","R","Ciudad del Maíz (010)El Venadito (0099)",22.314845999999999,-99.437714,41,24,17,9,240100099,null,"Muy alto","Alto",{"$f":"IFERROR(VLOOKUP(CONCATENATE(B1292,D1292),Padrón_Indígenas!$A$2:$G$988,7,0),\"No\")","v":"No"},{"$f":"VLOOKUP(E1292,Cat_Municipios!D1285:M1343,11)","v":{"$error":"#N/A"}}]
[24,"010","Ciudad_del_Maíz","0258","El Vergel (0258)","R","Ciudad del Maíz (010)El Vergel (0258)",22.501048999999998,-99.747495999999998,0,0,0,0,240100258,null,null,null,{"$f":"IFERROR(VLOOKUP(CONCATENATE(B1293,D1293),Padrón_Indígenas!$A$2:$G$988,7,0),\"No\")","v":"No"},{"$f":"VLOOKUP(E1293,Cat_Municipios!D1286:M1344,11)","v":{"$error":"#N/A"}}]
[24,"010","Ciudad_del_Maíz","0094","Estación las Tablas (0094)","R","Ciudad del Maíz (010)Estación las Tablas (0094)",22.257217000000001,-99.860979999999998,179,89,90,52,240100094,null,"Alto","Medio",{"$f":"IFERROR(VLOOKUP(CONCATENATE(B1294,D1294),Padrón_Indígenas!$A$2:$G$988,7,0),\"No\")","v":"No"},{"$f":"VLOOKUP(E1294,Cat_Municipios!D1287:M1345,11)","v":{"$error":"#N/A"}}]
[24,"010","Ciudad_del_Maíz","0274","Estación Microondas (0274)","R","Ciudad del Maíz (010)Estación Microondas (0274)",22.448982999999998,-99.450362999999996,0,0,0,0,240100274,null,null,null,{"$f":"IFERROR(VLOOKUP(CONCATENATE(B1295,D1295),Padrón_Indígenas!$A$2:$G$988,7,0),\"No\")","v":"No"},{"$f":"VLOOKUP(E1295,Cat_Municipios!D1288:M1346,11)","v":{"$error":"#N/A"}}]
[24,"010","Ciudad_del_Maíz","0291","Fermín Ortiz (0291)","R","Ciudad del Maíz (010)Fermín Ortiz (0291)",22.420339999999999,-99.839220999999995,0,0,0,0,240100291,null,null,null,{"$f":"IFERROR(VLOOKUP(CONCATENATE(B1296,D1296),Padrón_Indígenas!$A$2:$G$988,7,0),\"No\")","v":"No"},{"$f":"VLOOKUP(E1296,Cat_Municipios!D1289:M1347,11)","v":{"$error":"#N/A"}}]
[24,"010","Ciudad_del_Maíz","0037","Francia Chica (0037)","R","Ciudad del Maíz (010)Francia Chica (0037)",22.538333000000002,-99.558055999999993,84,44,40,19,240100037,null,"Alto","Bajo",{"$f":"IFERROR(VLOOKUP(CONCATENATE(B1297,D1297),Padrón_Indígenas!$A$2:$G$988,7,0),\"No\")","v":"No"},{"$f":"VLOOKUP(E1297,Cat_Municipios!D1290:M1348,11)","v":{"$error":"#N/A"}}]
[24,"010","Ciudad_del_Maíz","0038","Francia Grande (0038)","R","Ciudad del Maíz (010)Francia Grande (0038)",22.572127999999999,-99.579479000000006,45,23,22,12,240100038,null,"Alto","Medio",{"$f":"IFERROR(VLOOKUP(CONCATENATE(B1298,D1298),Padrón_Indígenas!$A$2:$G$988,7,0),\"No\")","v":"No"},{"$f":"VLOOKUP(E1298,Cat_Municipios!D1291:M1349,11)","v":{"$error":"#N/A"}}]
[24,"010","Ciudad_del_Maíz","0275","Guadalupe García (0275)","R","Ciudad del Maíz (010)Guadalupe García (0275)",22.344118999999999,-99.618341999999998,0,0,0,0,240100275,null,null,null,{"$f":"IFERROR(VLOOKUP(CONCATENATE(B1299,D1299),Padrón_Indígenas!$A$2:$G$988,7,0),\"No\")","v":"No"},{"$f":"VLOOKUP(E1299,Cat_Municipios!D1292:M1350,11)","v":{"$error":"#N/A"}}]
[24,"010","Ciudad_del_Maíz","0277","Humberto Martínez Castillo (0277)","R","Ciudad del Maíz (010)Humberto Martínez Castillo (0277)",22.509298000000001,-99.757013999999998,0,0,0,0,240100277,null,null,null,{"$f":"IFERROR(VLOOKUP(CONCATENATE(B1300,D1300),Padrón_Indígenas!$A$2:$G$988,7,0),\"No\")","v":"No"},{"$f":"VLOOKUP(E1300,Cat_Municipios!D1293:M1351,11)","v":{"$error":"#N/A"}}]
[24,"010","Ciudad_del_Maíz","0295","Jorge Ferretiz (0295)","R","Ciudad del Maíz (010)Jorge Ferretiz (0295)",22.402774999999998,-99.544708999999997,0,0,0,0,240100295,null,null,null,{"$f":"IFERROR(VLOOKUP(CONCATENATE(B1301,D1301),Padrón_Indígenas!$A$2:$G$988,7,0),\"No\")","v":"No"},{"$f":"VLOOKUP(E1301,Cat_Municipios!D1294:M1352,11)","v":{"$error":"#N/A"}}]
[24,"010","Ciudad_del_Maíz","0262","José Ángel Anguiano (0262)","R","Ciudad del Maíz (010)José Ángel Anguiano (0262)",22.401076,-99.612831,11,"*","*",1,240100262,null,null,null,{"$f":"IFERROR(VLOOKUP(CONCATENATE(B1302,D1302),Padrón_Indígenas!$A$2:$G$988,7,0),\"No\")","v":"No"},{"$f":"VLOOKUP(E1302,Cat_Municipios!D1295:M1353,11)","v":{"$error":"#N/A"}}]
[24,"010","Ciudad_del_Maíz","0235","La Barranca (0235)","R","Ciudad del Maíz (010)La Barranca (0235)",22.520278000000001,-99.552222,0,0,0,0,240100235,null,null,null,{"$f":"IFERROR(VLOOKUP(CONCATENATE(B1303,D1303),Padrón_Indígenas!$A$2:$G$988,7,0),\"No\")","v":"No"},{"$f":"VLOOKUP(E1303,Cat_Municipios!D1296:M1354,11)","v":{"$error":"#N/A"}}]
[24,"010","Ciudad_del_Maíz","0296","La Bonita (0296)","R","Ciudad del Maíz (010)La Bonita (0296)",22.522834,-99.776570000000007,1,"*","*",1,240100296,null,null,null,{"$f":"IFERROR(VLOOKUP(CONCATENATE(B1304,D1304),Padrón_Indígenas!$A$2:$G$988,7,0),\"No\")","v":"No"},{"$f":"VLOOKUP(E1304,Cat_Municipios!D1297:M1355,11)","v":{"$error":"#N/A"}}]
[24,"010","Ciudad_del_Maíz","0014","La Calzada de San Rafael (0014)","R","Ciudad del Maíz (010)La Calzada de San Rafael (0014)",22.467320999999998,-99.704516999999996,499,244,255,120,240100014,null,"Alto","Medio",{"$f":"IFERROR(VLOOKUP(CONCATENATE(B1305,D1305),Padrón_Indígenas!$A$2:$G$988,7,0),\"No\")","v":"Sí"},{"$f":"VLOOKUP(E1305,Cat_Municipios!D1298:M1356,11)","v":{"$error":"#N/A"}}]
[24,"010","Ciudad_del_Maíz","0239","La Cardona (El Chilarcito) (0239)","R","Ciudad del Maíz (010)La Cardona (El Chilarcito) (0239)",22.292881000000001,-99.634956000000003,0,0,0,0,240100239,null,null,null,{"$f":"IFERROR(VLOOKUP(CONCATENATE(B1306,D1306),Padrón_Indígenas!$A$2:$G$988,7,0),\"No\")","v":"No"},{"$f":"VLOOKUP(E1306,Cat_Municipios!D1299:M1357,11)","v":{"$error":"#N/A"}}]
[24,"010","Ciudad_del_Maíz","0240","La Cartuja (0240)","R","Ciudad del Maíz (010)La Cartuja (0240)",22.465122999999998,-99.794335000000004,1,"*","*",1,240100240,null,null,null,{"$f":"IFERROR(VLOOKUP(CONCATENATE(B1307,D1307),Padrón_Indígenas!$A$2:$G$988,7,0),\"No\")","v":"No"},{"$f":"VLOOKUP(E1307,Cat_Municipios!D1300:M1358,11)","v":{"$error":"#N/A"}}]
[24,"010","Ciudad_del_Maíz","0176","La Chuparrosa (0176)","R","Ciudad del Maíz (010)La Chuparrosa (0176)",22.273548999999999,-99.38355,0,0,0,0,240100176,null,null,null,{"$f":"IFERROR(VLOOKUP(CONCATENATE(B1308,D1308),Padrón_Indígenas!$A$2:$G$988,7,0),\"No\")","v":"No"},{"$f":"VLOOKUP(E1308,Cat_Municipios!D1301:M1359,11)","v":{"$error":"#N/A"}}]
[24,"010","Ciudad_del_Maíz","0259","La Cruz Verde (0259)","R","Ciudad del Maíz (010)La Cruz Verde (0259)",22.390098999999999,-99.612077999999997,0,0,0,0,240100259,null,null,null,{"$f":"IFERROR(VLOOKUP(CONCATENATE(B1309,D1309),Padrón_Indígenas!$A$2:$G$988,7,0),\"No\")","v":"No"},{"$f":"VLOOKUP(E1309,Cat_Municipios!D1302:M1360,11)","v":{"$error":"#N/A"}}]
[24,"010","Ciudad_del_Maíz","0242","La Cuesta (Ejido Ganadero Papagayos) (0242)","R","Ciudad del Maíz (010)La Cuesta (Ejido Ganadero Papagayos) (0242)",22.429316,-99.496335000000002,16,9,7,4,240100242,null,"Alto","Bajo",{"$f":"IFERROR(VLOOKUP(CONCATENATE(B1310,D1310),Padrón_Indígenas!$A$2:$G$988,7,0),\"No\")","v":"No"},{"$f":"VLOOKUP(E1310,Cat_Municipios!D1303:M1361,11)","v":{"$error":"#N/A"}}]
[24,"010","Ciudad_del_Maíz","0034","La Encarnación (0034)","R","Ciudad del Maíz (010)La Encarnación (0034)",22.5501,-99.943392000000003,374,172,202,81,240100034,"SI","Alto","Medio",{"$f":"IFERROR(VLOOKUP(CONCATENATE(B1311,D1311),Padrón_Indígenas!$A$2:$G$988,7,0),\"No\")","v":"No"},{"$f":"VLOOKUP(E1311,Cat_Municipios!D1304:M1362,11)","v":{"$error":"#N/A"}}]
[24,"010","Ciudad_del_Maíz","0041","La Guacamaya (La Lagunita) (0041)","R","Ciudad del Maíz (010)La Guacamaya (La Lagunita) (0041)",22.423728000000001,-99.598204999999993,131,66,65,31,240100041,"SI","Alto","Medio",{"$f":"IFERROR(VLOOKUP(CONCATENATE(B1312,D1312),Padrón_Indígenas!$A$2:$G$988,7,0),\"No\")","v":"No"},{"$f":"VLOOKUP(E1312,Cat_Municipios!D1305:M1363,11)","v":{"$error":"#N/A"}}]
[24,"010","Ciudad_del_Maíz","0163","La Loma de Dios (0163)","R","Ciudad del Maíz (010)La Loma de Dios (0163)",22.298055999999999,-99.856110999999999,5,"*","*",1,240100163,null,null,null,{"$f":"IFERROR(VLOOKUP(CONCATENATE(B1313,D1313),Padrón_Indígenas!$A$2:$G$988,7,0),\"No\")","v":"No"},{"$f":"VLOOKUP(E1313,Cat_Municipios!D1306:M1364,11)","v":{"$error":"#N/A"}}]
[24,"010","Ciudad_del_Maíz","0245","La Majada (0245)","R","Ciudad del Maíz (010)La Majada (0245)",22.219304999999999,-99.781172999999995,3,"*","*",1,240100245,null,null,null,{"$f":"IFERROR(VLOOKUP(CONCATENATE(B1314,D1314),Padrón_Indígenas!$A$2:$G$988,7,0),\"No\")","v":"No"},{"$f":"VLOOKUP(E1314,Cat_Municipios!D1307:M1365,11)","v":{"$error":"#N/A"}}]
[24,"010","Ciudad_del_Maíz","0279","La Manzana (Ampliación Buenavista y Olivo) (0279)","R","Ciudad del Maíz (010)La Manzana (Ampliación Buenavista y Olivo) (0279)",22.601839999999999,-99.522154999999998,18,9,9,4,240100279,null,"Alto","Medio",{"$f":"IFERROR(VLOOKUP(CONCATENATE(B1315,D1315),Padrón_Indígenas!$A$2:$G$988,7,0),\"No\")","v":"No"},{"$f":"VLOOKUP(E1315,Cat_Municipios!D1308:M1366,11)","v":{"$error":"#N/A"}}]
[24,"010","Ciudad_del_Maíz","0297","La Morenita (0297)","R","Ciudad del Maíz (010)La Morenita (0297)",22.545556000000001,-99.796943999999996,2,"*","*",1,240100297,null,null,null,{"$f":"IFERROR(VLOOKUP(CONCATENATE(B1316,D1316),Padrón_Indígenas!$A$2:$G$988,7,0),\"No\")","v":"No"},{"$f":"VLOOKUP(E1316,Cat_Municipios!D1309:M1367,11)","v":{"$error":"#N/A"}}]
[24,"010","Ciudad_del_Maíz","0246","La Noria (0246)","R","Ciudad del Maíz (010)La Noria (0246)",22.342500000000001,-99.942499999999995,0,0,0,0,240100246,null,null,null,{"$f":"IFERROR(VLOOKUP(CONCATENATE(B1317,D1317),Padrón_Indígenas!$A$2:$G$988,7,0),\"No\")","v":"No"},{"$f":"VLOOKUP(E1317,Cat_Municipios!D1310:M1368,11)","v":{"$error":"#N/A"}}]
[24,"010","Ciudad_del_Maíz","0068","La Pendencia (0068)","R","Ciudad del Maíz (010)La Pendencia (0068)",22.519772,-99.576667,348,170,178,88,240100068,"SI","Medio","Muy bajo",{"$f":"IFERROR(VLOOKUP(CONCATENATE(B1318,D1318),Padrón_Indígenas!$A$2:$G$988,7,0),\"No\")","v":"No"},{"$f":"VLOOKUP(E1318,Cat_Municipios!D1311:M1369,11)","v":{"$error":"#N/A"}}]
[24,"010","Ciudad_del_Maíz","0298","La Providencia (0298)","R","Ciudad del Maíz (010)La Providencia (0298)",22.422778000000001,-99.631666999999993,0,0,0,0,240100298,null,null,null,{"$f":"IFERROR(VLOOKUP(CONCATENATE(B1319,D1319),Padrón_Indígenas!$A$2:$G$988,7,0),\"No\")","v":"No"},{"$f":"VLOOKUP(E1319,Cat_Municipios!D1312:M1370,11)","v":{"$error":"#N/A"}}]
[24,"010","Ciudad_del_Maíz","0138","La Roncha (0138)","R","Ciudad del Maíz (010)La Roncha (0138)",22.280718,-99.523368000000005,0,0,0,0,240100138,null,null,null,{"$f":"IFERROR(VLOOKUP(CONCATENATE(B1320,D1320),Padrón_Indígenas!$A$2:$G$988,7,0),\"No\")","v":"No"},{"$f":"VLOOKUP(E1320,Cat_Municipios!D1313:M1371,11)","v":{"$error":"#N/A"}}]
[24,"010","Ciudad_del_Maíz","0100","La Victoria (0100)","R","Ciudad del Maíz (010)La Victoria (0100)",22.278200999999999,-99.537856000000005,51,29,22,17,240100100,null,"Alto","Medio",{"$f":"IFERROR(VLOOKUP(CONCATENATE(B1321,D1321),Padrón_Indígenas!$A$2:$G$988,7,0),\"No\")","v":"No"},{"$f":"VLOOKUP(E1321,Cat_Municipios!D1314:M1372,11)","v":{"$error":"#N/A"}}]
[24,"010","Ciudad_del_Maíz","0106","Laguna Seca (0106)","R","Ciudad del Maíz (010)Laguna Seca (0106)",22.543821000000001,-99.61318,12,"*","*",2,240100106,null,null,null,{"$f":"IFERROR(VLOOKUP(CONCATENATE(B1322,D1322),Padrón_Indígenas!$A$2:$G$988,7,0),\"No\")","v":"No"},{"$f":"VLOOKUP(E1322,Cat_Municipios!D1315:M1373,11)","v":{"$error":"#N/A"}}]
[24,"010","Ciudad_del_Maíz","0241","Las Chinampas (0241)","R","Ciudad del Maíz (010)Las Chinampas (0241)",22.268281000000002,-99.874701999999999,0,0,0,0,240100241,null,null,null,{"$f":"IFERROR(VLOOKUP(CONCATENATE(B1323,D1323),Padrón_Indígenas!$A$2:$G$988,7,0),\"No\")","v":"No"},{"$f":"VLOOKUP(E1323,Cat_Municipios!D1316:M1374,11)","v":{"$error":"#N/A"}}]
[24,"010","Ciudad_del_Maíz","0039","Las Gavias (0039)","R","Ciudad del Maíz (010)Las Gavias (0039)",22.229223999999999,-99.509957,115,57,58,21,240100039,null,"Alto","Medio",{"$f":"IFERROR(VLOOKUP(CONCATENATE(B1324,D1324),Padrón_Indígenas!$A$2:$G$988,7,0),\"No\")","v":"No"},{"$f":"VLOOKUP(E1324,Cat_Municipios!D1317:M1375,11)","v":{"$error":"#N/A"}}]
[24,"010","Ciudad_del_Maíz","0140","Las Joyas (0140)","R","Ciudad del Maíz (010)Las Joyas (0140)",22.277792999999999,-99.442026999999996,0,0,0,0,240100140,null,null,null,{"$f":"IFERROR(VLOOKUP(CONCATENATE(B1325,D1325),Padrón_Indígenas!$A$2:$G$988,7,0),\"No\")","v":"No"},{"$f":"VLOOKUP(E1325,Cat_Municipios!D1318:M1376,11)","v":{"$error":"#N/A"}}]
[24,"010","Ciudad_del_Maíz","0167","Las Lomas (0167)","R","Ciudad del Maíz (010)Las Lomas (0167)",22.338056000000002,-99.435833000000002,2,"*","*",1,240100167,null,null,null,{"$f":"IFERROR(VLOOKUP(CONCATENATE(B1326,D1326),Padrón_Indígenas!$A$2:$G$988,7,0),\"No\")","v":"No"},{"$f":"VLOOKUP(E1326,Cat_Municipios!D1319:M1377,11)","v":{"$error":"#N/A"}}]
[24,"010","Ciudad_del_Maíz","0280","Las Mesas (0280)","R","Ciudad del Maíz (010)Las Mesas (0280)",22.544269,-99.491749999999996,0,0,0,0,240100280,null,null,null,{"$f":"IFERROR(VLOOKUP(CONCATENATE(B1327,D1327),Padrón_Indígenas!$A$2:$G$988,7,0),\"No\")","v":"No"},{"$f":"VLOOKUP(E1327,Cat_Municipios!D1320:M1378,11)","v":{"$error":"#N/A"}}]
[24,"010","Ciudad_del_Maíz","0051","Las Mesas de Don Luis (0051)","R","Ciudad del Maíz (010)Las Mesas de Don Luis (0051)",22.391615000000002,-99.693044999999998,214,103,111,49,240100051,null,"Alto","Bajo",{"$f":"IFERROR(VLOOKUP(CONCATENATE(B1328,D1328),Padrón_Indígenas!$A$2:$G$988,7,0),\"No\")","v":"Sí"},{"$f":"VLOOKUP(E1328,Cat_Municipios!D1321:M1379,11)","v":{"$error":"#N/A"}}]
[24,"010","Ciudad_del_Maíz","0054","Las Moras (0054)","R","Ciudad del Maíz (010)Las Moras (0054)",22.603978999999999,-99.611395999999999,66,30,36,16,240100054,null,"Alto","Bajo",{"$f":"IFERROR(VLOOKUP(CONCATENATE(B1329,D1329),Padrón_Indígenas!$A$2:$G$988,7,0),\"No\")","v":"No"},{"$f":"VLOOKUP(E1329,Cat_Municipios!D1322:M1380,11)","v":{"$error":"#N/A"}}]
[24,"010","Ciudad_del_Maíz","0108","Las Tortugas (Las Moras) (0108)","R","Ciudad del Maíz (010)Las Tortugas (Las Moras) (0108)",22.600338000000001,-99.609545999999995,83,43,40,22,240100108,null,"Alto","Bajo",{"$f":"IFERROR(VLOOKUP(CONCATENATE(B1330,D1330),Padrón_Indígenas!$A$2:$G$988,7,0),\"No\")","v":"No"},{"$f":"VLOOKUP(E1330,Cat_Municipios!D1323:M1381,11)","v":{"$error":"#N/A"}}]
[24,"010","Ciudad_del_Maíz","0166","Llanitos (0166)","R","Ciudad del Maíz (010)Llanitos (0166)",22.286867000000001,-99.463048999999998,53,27,26,10,240100166,null,"Alto","Medio",{"$f":"IFERROR(VLOOKUP(CONCATENATE(B1331,D1331),Padrón_Indígenas!$A$2:$G$988,7,0),\"No\")","v":"No"},{"$f":"VLOOKUP(E1331,Cat_Municipios!D1324:M1382,11)","v":{"$error":"#N/A"}}]
[24,"010","Ciudad_del_Maíz","0009","Los Ávalos (0009)","R","Ciudad del Maíz (010)Los Ávalos (0009)",22.439910999999999,-99.483857999999998,239,124,115,48,240100009,null,"Alto","Bajo",{"$f":"IFERROR(VLOOKUP(CONCATENATE(B1332,D1332),Padrón_Indígenas!$A$2:$G$988,7,0),\"No\")","v":"No"},{"$f":"VLOOKUP(E1332,Cat_Municipios!D1325:M1383,11)","v":{"$error":"#N/A"}}]
[24,"010","Ciudad_del_Maíz","0028","Los Charcos del Poniente (0028)","R","Ciudad del Maíz (010)Los Charcos del Poniente (0028)",22.370968999999999,-99.640184000000005,262,128,134,50,240100028,null,"Medio","Muy bajo",{"$f":"IFERROR(VLOOKUP(CONCATENATE(B1333,D1333),Padrón_Indígenas!$A$2:$G$988,7,0),\"No\")","v":"No"},{"$f":"VLOOKUP(E1333,Cat_Municipios!D1326:M1384,11)","v":{"$error":"#N/A"}}]
[24,"010","Ciudad_del_Maíz","0282","Los Pilares (El Encinal) (0282)","R","Ciudad del Maíz (010)Los Pilares (El Encinal) (0282)",22.435402,-99.578632999999996,1,"*","*",1,240100282,null,null,null,{"$f":"IFERROR(VLOOKUP(CONCATENATE(B1334,D1334),Padrón_Indígenas!$A$2:$G$988,7,0),\"No\")","v":"No"},{"$f":"VLOOKUP(E1334,Cat_Municipios!D1327:M1385,11)","v":{"$error":"#N/A"}}]
[24,"010","Ciudad_del_Maíz","0263","María Esther Olvera (0263)","R","Ciudad del Maíz (010)María Esther Olvera (0263)",22.387920000000001,-99.598657000000003,4,"*","*",1,240100263,null,null,null,{"$f":"IFERROR(VLOOKUP(CONCATENATE(B1335,D1335),Padrón_Indígenas!$A$2:$G$988,7,0),\"No\")","v":"No"},{"$f":"VLOOKUP(E1335,Cat_Municipios!D1328:M1386,11)","v":{"$error":"#N/A"}}]
[24,"010","Ciudad_del_Maíz","0050","Memela (0050)","R","Ciudad del Maíz (010)Memela (0050)",22.621168999999998,-99.659175000000005,452,225,227,113,240100050,null,"Alto","Bajo",{"$f":"IFERROR(VLOOKUP(CONCATENATE(B1336,D1336),Padrón_Indígenas!$A$2:$G$988,7,0),\"No\")","v":"No"},{"$f":"VLOOKUP(E1336,Cat_Municipios!D1329:M1387,11)","v":{"$error":"#N/A"}}]
[24,"010","Ciudad_del_Maíz","0281","Miguel Olvera Ramírez (0281)","R","Ciudad del Maíz (010)Miguel Olvera Ramírez (0281)",22.273551000000001,-99.536520999999993,0,0,0,0,240100281,null,null,null,{"$f":"IFERROR(VLOOKUP(CONCATENATE(B1337,D1337),Padrón_Indígenas!$A$2:$G$988,7,0),\"No\")","v":"No"},{"$f":"VLOOKUP(E1337,Cat_Municipios!D1330:M1388,11)","v":{"$error":"#N/A"}}]
[24,"010","Ciudad_del_Maíz","0289","Milpillas (0289)","R","Ciudad del Maíz (010)Milpillas (0289)",22.360868,-99.498911000000007,0,0,0,0,240100289,null,null,null,{"$f":"IFERROR(VLOOKUP(CONCATENATE(B1338,D1338),Padrón_Indígenas!$A$2:$G$988,7,0),\"No\")","v":"No"},{"$f":"VLOOKUP(E1338,Cat_Municipios!D1331:M1389,11)","v":{"$error":"#N/A"}}]
[24,"010","Ciudad_del_Maíz","0053","Montebello (0053)","R","Ciudad del Maíz (010)Montebello (0053)",22.529692000000001,-99.696485999999993,335,162,173,85,240100053,null,"Alto","Muy bajo",{"$f":"IFERROR(VLOOKUP(CONCATENATE(B1339,D1339),Padrón_Indígenas!$A$2:$G$988,7,0),\"No\")","v":"No"},{"$f":"VLOOKUP(E1339,Cat_Municipios!D1332:M1390,11)","v":{"$error":"#N/A"}}]
[24,"010","Ciudad_del_Maíz","0230","Nuevo Centro de Población Ejidal Plan de San Luis (0230)","R","Ciudad del Maíz (010)Nuevo Centro de Población Ejidal Plan de San Luis (0230)",22.733364999999999,-99.974557000000004,24,11,13,7,240100230,null,"Alto","Medio",{"$f":"IFERROR(VLOOKUP(CONCATENATE(B1340,D1340),Padrón_Indígenas!$A$2:$G$988,7,0),\"No\")","v":"No"},{"$f":"VLOOKUP(E1340,Cat_Municipios!D1333:M1391,11)","v":{"$error":"#N/A"}}]
[24,"010","Ciudad_del_Maíz","0192","Nuevo Centro de Población Ganadero Papagayos (0192)","R","Ciudad del Maíz (010)Nuevo Centro de Población Ganadero Papagayos (0192)",22.361885000000001,-99.452732999999995,468,240,228,99,240100192,null,"Alto","Bajo",{"$f":"IFERROR(VLOOKUP(CONCATENATE(B1341,D1341),Padrón_Indígenas!$A$2:$G$988,7,0),\"No\")","v":"No"},{"$f":"VLOOKUP(E1341,Cat_Municipios!D1334:M1392,11)","v":{"$error":"#N/A"}}]
[24,"010","Ciudad_del_Maíz","0164","Nuevo San Rafael (0164)","R","Ciudad del Maíz (010)Nuevo San Rafael (0164)",22.621048999999999,-99.875649999999993,376,177,199,77,240100164,null,"Alto","Bajo",{"$f":"IFERROR(VLOOKUP(CONCATENATE(B1342,D1342),Padrón_Indígenas!$A$2:$G$988,7,0),\"No\")","v":"No"},{"$f":"VLOOKUP(E1342,Cat_Municipios!D1335:M1393,11)","v":{"$error":"#N/A"}}]
[24,"010","Ciudad_del_Maíz","0065","Palomas (0065)","U","Ciudad del Maíz (010)Palomas (0065)",22.481998999999998,-99.849480999999997,2676,1358,1318,597,240100065,"SI",null,null,{"$f":"IFERROR(VLOOKUP(CONCATENATE(B1343,D1343),Padrón_Indígenas!$A$2:$G$988,7,0),\"No\")","v":"No"},{"$f":"VLOOKUP(E1343,Cat_Municipios!D1336:M1394,11)","v":{"$error":"#N/A"}}]
[24,"010","Ciudad_del_Maíz","0066","Papagayos (Ejido Papagayos) (0066)","R","Ciudad del Maíz (010)Papagayos (Ejido Papagayos) (0066)",22.371828000000001,-99.455466000000001,297,145,152,71,240100066,null,"Alto","Bajo",{"$f":"IFERROR(VLOOKUP(CONCATENATE(B1344,D1344),Padrón_Indígenas!$A$2:$G$988,7,0),\"No\")","v":"No"},{"$f":"VLOOKUP(E1344,Cat_Municipios!D1337:M1395,11)","v":{"$error":"#N/A"}}]
[24,"010","Ciudad_del_Maíz","0159","Pedro Antonio de los Santos (Los Huizaches) (0159)","R","Ciudad del Maíz (010)Pedro Antonio de los Santos (Los Huizaches) (0159)",22.273116000000002,-99.805684999999997,6,"*","*",1,240100159,null,null,null,{"$f":"IFERROR(VLOOKUP(CONCATENATE(B1345,D1345),Padrón_Indígenas!$A$2:$G$988,7,0),\"No\")","v":"No"},{"$f":"VLOOKUP(E1345,Cat_Municipios!D1338:M1396,11)","v":{"$error":"#N/A"}}]
[24,"010","Ciudad_del_Maíz","0070","Piedra Parada (0070)","R","Ciudad del Maíz (010)Piedra Parada (0070)",22.476627000000001,-99.567357999999999,33,19,14,9,240100070,null,"Alto","Medio",{"$f":"IFERROR(VLOOKUP(CONCATENATE(B1346,D1346),Padrón_Indígenas!$A$2:$G$988,7,0),\"No\")","v":"No"},{"$f":"VLOOKUP(E1346,Cat_Municipios!D1339:M1397,11)","v":{"$error":"#N/A"}}]
[24,"010","Ciudad_del_Maíz","0073","Potreritos de los Llanos (0073)","R","Ciudad del Maíz (010)Potreritos de los Llanos (0073)",22.247710999999999,-99.448271000000005,111,61,50,23,240100073,"SI","Muy alto","Alto",{"$f":"IFERROR(VLOOKUP(CONCATENATE(B1347,D1347),Padrón_Indígenas!$A$2:$G$988,7,0),\"No\")","v":"No"},{"$f":"VLOOKUP(E1347,Cat_Municipios!D1340:M1398,11)","v":{"$error":"#N/A"}}]
[24,"010","Ciudad_del_Maíz","0264","Potrero los Anaya (0264)","R","Ciudad del Maíz (010)Potrero los Anaya (0264)",22.409167,-99.614999999999995,2,"*","*",1,240100264,null,null,null,{"$f":"IFERROR(VLOOKUP(CONCATENATE(B1348,D1348),Padrón_Indígenas!$A$2:$G$988,7,0),\"No\")","v":"No"},{"$f":"VLOOKUP(E1348,Cat_Municipios!D1341:M1399,11)","v":{"$error":"#N/A"}}]
[24,"010","Ciudad_del_Maíz","0074","Puerta Ojo de León (0074)","R","Ciudad del Maíz (010)Puerta Ojo de León (0074)",22.427962000000001,-99.561931999999999,24,12,12,7,240100074,null,"Alto","Bajo",{"$f":"IFERROR(VLOOKUP(CONCATENATE(B1349,D1349),Padrón_Indígenas!$A$2:$G$988,7,0),\"No\")","v":"No"},{"$f":"VLOOKUP(E1349,Cat_Municipios!D1342:M1400,11)","v":{"$error":"#N/A"}}]
[24,"010","Ciudad_del_Maíz","0075","Puerto de Lobos (0075)","R","Ciudad del Maíz (010)Puerto de Lobos (0075)",22.484424000000001,-99.562299999999993,38,19,19,9,240100075,null,"Alto","Bajo",{"$f":"IFERROR(VLOOKUP(CONCATENATE(B1350,D1350),Padrón_Indígenas!$A$2:$G$988,7,0),\"No\")","v":"No"},{"$f":"VLOOKUP(E1350,Cat_Municipios!D1343:M1401,11)","v":{"$error":"#N/A"}}]
[24,"010","Ciudad_del_Maíz","0077","Puerto de San Juan de Dios (0077)","R","Ciudad del Maíz (010)Puerto de San Juan de Dios (0077)",22.683402999999998,-99.888994999999994,219,96,123,57,240100077,null,"Alto","Bajo",{"$f":"IFERROR(VLOOKUP(CONCATENATE(B1351,D1351),Padrón_Indígenas!$A$2:$G$988,7,0),\"No\")","v":"No"},{"$f":"VLOOKUP(E1351,Cat_Municipios!D1344:M1402,11)","v":{"$error":"#N/A"}}]
[24,"010","Ciudad_del_Maíz","0076","Puerto del Zamandoque (0076)","R","Ciudad del Maíz (010)Puerto del Zamandoque (0076)",22.648363,-99.647109,96,46,50,26,240100076,null,"Alto","Bajo",{"$f":"IFERROR(VLOOKUP(CONCATENATE(B1352,D1352),Padrón_Indígenas!$A$2:$G$988,7,0),\"No\")","v":"No"},{"$f":"VLOOKUP(E1352,Cat_Municipios!D1345:M1403,11)","v":{"$error":"#N/A"}}]
[24,"010","Ciudad_del_Maíz","0132","Rancho Aguilar (0132)","R","Ciudad del Maíz (010)Rancho Aguilar (0132)",22.520237999999999,-99.787679999999995,0,0,0,0,240100132,null,null,null,{"$f":"IFERROR(VLOOKUP(CONCATENATE(B1353,D1353),Padrón_Indígenas!$A$2:$G$988,7,0),\"No\")","v":"No"},{"$f":"VLOOKUP(E1353,Cat_Municipios!D1346:M1404,11)","v":{"$error":"#N/A"}}]
[24,"010","Ciudad_del_Maíz","0283","Rancho de la Cruz (0283)","R","Ciudad del Maíz (010)Rancho de la Cruz (0283)",22.279931000000001,-99.532751000000005,0,0,0,0,240100283,null,null,null,{"$f":"IFERROR(VLOOKUP(CONCATENATE(B1354,D1354),Padrón_Indígenas!$A$2:$G$988,7,0),\"No\")","v":"No"},{"$f":"VLOOKUP(E1354,Cat_Municipios!D1347:M1405,11)","v":{"$error":"#N/A"}}]
[24,"010","Ciudad_del_Maíz","0300","Rancho del Pozo (0300)","R","Ciudad del Maíz (010)Rancho del Pozo (0300)",22.392267,-99.595089000000002,0,0,0,0,240100300,null,null,null,{"$f":"IFERROR(VLOOKUP(CONCATENATE(B1355,D1355),Padrón_Indígenas!$A$2:$G$988,7,0),\"No\")","v":"No"},{"$f":"VLOOKUP(E1355,Cat_Municipios!D1348:M1406,11)","v":{"$error":"#N/A"}}]
[24,"010","Ciudad_del_Maíz","0238","Rancho Dos Hermanas (La Cañada) (0238)","R","Ciudad del Maíz (010)Rancho Dos Hermanas (La Cañada) (0238)",22.374658,-99.581264000000004,1,"*","*",1,240100238,null,null,null,{"$f":"IFERROR(VLOOKUP(CONCATENATE(B1356,D1356),Padrón_Indígenas!$A$2:$G$988,7,0),\"No\")","v":"No"},{"$f":"VLOOKUP(E1356,Cat_Municipios!D1349:M1407,11)","v":{"$error":"#N/A"}}]
[24,"010","Ciudad_del_Maíz","0265","Rancho el Setenta y Tres (Miguel Jiménez) (0265)","R","Ciudad del Maíz (010)Rancho el Setenta y Tres (Miguel Jiménez) (0265)",22.403888999999999,-99.403889000000007,0,0,0,0,240100265,null,null,null,{"$f":"IFERROR(VLOOKUP(CONCATENATE(B1357,D1357),Padrón_Indígenas!$A$2:$G$988,7,0),\"No\")","v":"No"},{"$f":"VLOOKUP(E1357,Cat_Municipios!D1350:M1408,11)","v":{"$error":"#N/A"}}]
[24,"010","Ciudad_del_Maíz","0299","Rancho Escondido (Lomas de Chora) (0299)","R","Ciudad del Maíz (010)Rancho Escondido (Lomas de Chora) (0299)",22.301673999999998,-99.897238999999999,5,"*","*",2,240100299,null,null,null,{"$f":"IFERROR(VLOOKUP(CONCATENATE(B1358,D1358),Padrón_Indígenas!$A$2:$G$988,7,0),\"No\")","v":"No"},{"$f":"VLOOKUP(E1358,Cat_Municipios!D1351:M1409,11)","v":{"$error":"#N/A"}}]
[24,"010","Ciudad_del_Maíz","0186","Rancho Kansan (0186)","R","Ciudad del Maíz (010)Rancho Kansan (0186)",22.467326,-99.489553000000001,3,"*","*",1,240100186,null,null,null,{"$f":"IFERROR(VLOOKUP(CONCATENATE(B1359,D1359),Padrón_Indígenas!$A$2:$G$988,7,0),\"No\")","v":"No"},{"$f":"VLOOKUP(E1359,Cat_Municipios!D1352:M1410,11)","v":{"$error":"#N/A"}}]
[24,"010","Ciudad_del_Maíz","0267","Rancho la Gloria (0267)","R","Ciudad del Maíz (010)Rancho la Gloria (0267)",22.411731,-99.61833,0,0,0,0,240100267,null,null,null,{"$f":"IFERROR(VLOOKUP(CONCATENATE(B1360,D1360),Padrón_Indígenas!$A$2:$G$988,7,0),\"No\")","v":"No"},{"$f":"VLOOKUP(E1360,Cat_Municipios!D1353:M1411,11)","v":{"$error":"#N/A"}}]
[24,"010","Ciudad_del_Maíz","0248","Rancho la Palma (0248)","R","Ciudad del Maíz (010)Rancho la Palma (0248)",22.503943,-99.753371000000001,1,"*","*",1,240100248,null,null,null,{"$f":"IFERROR(VLOOKUP(CONCATENATE(B1361,D1361),Padrón_Indígenas!$A$2:$G$988,7,0),\"No\")","v":"No"},{"$f":"VLOOKUP(E1361,Cat_Municipios!D1354:M1412,11)","v":{"$error":"#N/A"}}]
[24,"010","Ciudad_del_Maíz","0284","Rancho las Azucenas (0284)","R","Ciudad del Maíz (010)Rancho las Azucenas (0284)",22.424444000000001,-99.636667000000003,4,"*","*",2,240100284,null,null,null,{"$f":"IFERROR(VLOOKUP(CONCATENATE(B1362,D1362),Padrón_Indígenas!$A$2:$G$988,7,0),\"No\")","v":"No"},{"$f":"VLOOKUP(E1362,Cat_Municipios!D1355:M1413,11)","v":{"$error":"#N/A"}}]
[24,"010","Ciudad_del_Maíz","0288","Rancho los Ávalos (0288)","R","Ciudad del Maíz (010)Rancho los Ávalos (0288)",22.474224,-99.486396999999997,2,"*","*",1,240100288,null,null,null,{"$f":"IFERROR(VLOOKUP(CONCATENATE(B1363,D1363),Padrón_Indígenas!$A$2:$G$988,7,0),\"No\")","v":"No"},{"$f":"VLOOKUP(E1363,Cat_Municipios!D1356:M1414,11)","v":{"$error":"#N/A"}}]
[24,"010","Ciudad_del_Maíz","0079","Rancho Nuevo (0079)","R","Ciudad del Maíz (010)Rancho Nuevo (0079)",22.338736000000001,-99.546488999999994,63,34,29,19,240100079,"SI","Alto","Medio",{"$f":"IFERROR(VLOOKUP(CONCATENATE(B1364,D1364),Padrón_Indígenas!$A$2:$G$988,7,0),\"No\")","v":"No"},{"$f":"VLOOKUP(E1364,Cat_Municipios!D1357:M1415,11)","v":{"$error":"#N/A"}}]
[24,"010","Ciudad_del_Maíz","0266","Rancho San José (0266)","R","Ciudad del Maíz (010)Rancho San José (0266)",22.420297999999999,-99.628407999999993,0,0,0,0,240100266,null,null,null,{"$f":"IFERROR(VLOOKUP(CONCATENATE(B1365,D1365),Padrón_Indígenas!$A$2:$G$988,7,0),\"No\")","v":"No"},{"$f":"VLOOKUP(E1365,Cat_Municipios!D1358:M1416,11)","v":{"$error":"#N/A"}}]
[24,"010","Ciudad_del_Maíz","0249","Rancho San Miguel (0249)","R","Ciudad del Maíz (010)Rancho San Miguel (0249)",22.516023000000001,-99.566721999999999,0,0,0,0,240100249,null,null,null,{"$f":"IFERROR(VLOOKUP(CONCATENATE(B1366,D1366),Padrón_Indígenas!$A$2:$G$988,7,0),\"No\")","v":"No"},{"$f":"VLOOKUP(E1366,Cat_Municipios!D1359:M1417,11)","v":{"$error":"#N/A"}}]
[24,"010","Ciudad_del_Maíz","0285","Rancho San Tiburcio (0285)","R","Ciudad del Maíz (010)Rancho San Tiburcio (0285)",22.513579,-99.763200999999995,4,"*","*",1,240100285,null,null,null,{"$f":"IFERROR(VLOOKUP(CONCATENATE(B1367,D1367),Padrón_Indígenas!$A$2:$G$988,7,0),\"No\")","v":"No"},{"$f":"VLOOKUP(E1367,Cat_Municipios!D1360:M1418,11)","v":{"$error":"#N/A"}}]
[24,"010","Ciudad_del_Maíz","0170","Rancho Santa Margarita (0170)","R","Ciudad del Maíz (010)Rancho Santa Margarita (0170)",22.455506,-99.491494000000003,0,0,0,0,240100170,null,null,null,{"$f":"IFERROR(VLOOKUP(CONCATENATE(B1368,D1368),Padrón_Indígenas!$A$2:$G$988,7,0),\"No\")","v":"No"},{"$f":"VLOOKUP(E1368,Cat_Municipios!D1361:M1419,11)","v":{"$error":"#N/A"}}]
[24,"010","Ciudad_del_Maíz","0081","Rincón Seco (0081)","R","Ciudad del Maíz (010)Rincón Seco (0081)",22.577925,-99.665387999999993,108,60,48,25,240100081,null,"Alto","Bajo",{"$f":"IFERROR(VLOOKUP(CONCATENATE(B1369,D1369),Padrón_Indígenas!$A$2:$G$988,7,0),\"No\")","v":"No"},{"$f":"VLOOKUP(E1369,Cat_Municipios!D1362:M1420,11)","v":{"$error":"#N/A"}}]
[24,"010","Ciudad_del_Maíz","0084","San Antonio (0084)","R","Ciudad del Maíz (010)San Antonio (0084)",22.534147000000001,-99.581721999999999,406,200,206,97,240100084,"SI","Medio","Muy bajo",{"$f":"IFERROR(VLOOKUP(CONCATENATE(B1370,D1370),Padrón_Indígenas!$A$2:$G$988,7,0),\"No\")","v":"No"},{"$f":"VLOOKUP(E1370,Cat_Municipios!D1363:M1421,11)","v":{"$error":"#N/A"}}]
[24,"010","Ciudad_del_Maíz","0085","San Antonio del Toro (Cabeza del Toro) (0085)","R","Ciudad del Maíz (010)San Antonio del Toro (Cabeza del Toro) (0085)",22.579443999999999,-100.071111,40,19,21,12,240100085,null,"Alto","Medio",{"$f":"IFERROR(VLOOKUP(CONCATENATE(B1371,D1371),Padrón_Indígenas!$A$2:$G$988,7,0),\"No\")","v":"No"},{"$f":"VLOOKUP(E1371,Cat_Municipios!D1364:M1422,11)","v":{"$error":"#N/A"}}]
[24,"010","Ciudad_del_Maíz","0127","San Francisco (La Garifa) (0127)","R","Ciudad del Maíz (010)San Francisco (La Garifa) (0127)",22.504413,-99.954181000000005,0,0,0,0,240100127,null,null,null,{"$f":"IFERROR(VLOOKUP(CONCATENATE(B1372,D1372),Padrón_Indígenas!$A$2:$G$988,7,0),\"No\")","v":"No"},{"$f":"VLOOKUP(E1372,Cat_Municipios!D1365:M1423,11)","v":{"$error":"#N/A"}}]
[24,"010","Ciudad_del_Maíz","0088","San Gabriel (0088)","R","Ciudad del Maíz (010)San Gabriel (0088)",22.210529999999999,-99.499043999999998,1,"*","*",1,240100088,null,null,null,{"$f":"IFERROR(VLOOKUP(CONCATENATE(B1373,D1373),Padrón_Indígenas!$A$2:$G$988,7,0),\"No\")","v":"No"},{"$f":"VLOOKUP(E1373,Cat_Municipios!D1366:M1424,11)","v":{"$error":"#N/A"}}]
[24,"010","Ciudad_del_Maíz","0250","San Ignacio (0250)","R","Ciudad del Maíz (010)San Ignacio (0250)",22.524010000000001,-99.788291999999998,0,0,0,0,240100250,null,null,null,{"$f":"IFERROR(VLOOKUP(CONCATENATE(B1374,D1374),Padrón_Indígenas!$A$2:$G$988,7,0),\"No\")","v":"No"},{"$f":"VLOOKUP(E1374,Cat_Municipios!D1367:M1425,11)","v":{"$error":"#N/A"}}]
[24,"010","Ciudad_del_Maíz","0188","San Ignacio (Santiago Ortiz) (0188)","R","Ciudad del Maíz (010)San Ignacio (Santiago Ortiz) (0188)",22.334015999999998,-99.855909999999994,5,"*","*",1,240100188,null,null,null,{"$f":"IFERROR(VLOOKUP(CONCATENATE(B1375,D1375),Padrón_Indígenas!$A$2:$G$988,7,0),\"No\")","v":"No"},{"$f":"VLOOKUP(E1375,Cat_Municipios!D1368:M1426,11)","v":{"$error":"#N/A"}}]
[24,"010","Ciudad_del_Maíz","0290","San José (0290)","R","Ciudad del Maíz (010)San José (0290)",22.363147000000001,-99.636621000000005,0,0,0,0,240100290,null,null,null,{"$f":"IFERROR(VLOOKUP(CONCATENATE(B1376,D1376),Padrón_Indígenas!$A$2:$G$988,7,0),\"No\")","v":"No"},{"$f":"VLOOKUP(E1376,Cat_Municipios!D1369:M1427,11)","v":{"$error":"#N/A"}}]
[24,"010","Ciudad_del_Maíz","0086","San Juan del Llano (0086)","R","Ciudad del Maíz (010)San Juan del Llano (0086)",22.454681999999998,-99.591448,461,242,219,124,240100086,"SI","Alto","Bajo",{"$f":"IFERROR(VLOOKUP(CONCATENATE(B1377,D1377),Padrón_Indígenas!$A$2:$G$988,7,0),\"No\")","v":"No"},{"$f":"VLOOKUP(E1377,Cat_Municipios!D1370:M1428,11)","v":{"$error":"#N/A"}}]
[24,"010","Ciudad_del_Maíz","0087","San Juan del Meco (0087)","R","Ciudad del Maíz (010)San Juan del Meco (0087)",22.619858000000001,-99.620289999999997,289,146,143,84,240100087,"SI","Alto","Bajo",{"$f":"IFERROR(VLOOKUP(CONCATENATE(B1378,D1378),Padrón_Indígenas!$A$2:$G$988,7,0),\"No\")","v":"No"},{"$f":"VLOOKUP(E1378,Cat_Municipios!D1371:M1429,11)","v":{"$error":"#N/A"}}]
[24,"010","Ciudad_del_Maíz","0251","San Luis (Las Pinturas) (0251)","R","Ciudad del Maíz (010)San Luis (Las Pinturas) (0251)",22.521214000000001,-99.772347999999994,0,0,0,0,240100251,null,null,null,{"$f":"IFERROR(VLOOKUP(CONCATENATE(B1379,D1379),Padrón_Indígenas!$A$2:$G$988,7,0),\"No\")","v":"No"},{"$f":"VLOOKUP(E1379,Cat_Municipios!D1372:M1430,11)","v":{"$error":"#N/A"}}]
[24,"010","Ciudad_del_Maíz","0255","San Martín (0255)","R","Ciudad del Maíz (010)San Martín (0255)",22.589803,-99.852442999999994,0,0,0,0,240100255,null,null,null,{"$f":"IFERROR(VLOOKUP(CONCATENATE(B1380,D1380),Padrón_Indígenas!$A$2:$G$988,7,0),\"No\")","v":"No"},{"$f":"VLOOKUP(E1380,Cat_Municipios!D1373:M1431,11)","v":{"$error":"#N/A"}}]
[24,"010","Ciudad_del_Maíz","0089","San Mateo (0089)","R","Ciudad del Maíz (010)San Mateo (0089)",22.598434000000001,-99.916436000000004,117,59,58,24,240100089,null,"Alto","Medio",{"$f":"IFERROR(VLOOKUP(CONCATENATE(B1381,D1381),Padrón_Indígenas!$A$2:$G$988,7,0),\"No\")","v":"No"},{"$f":"VLOOKUP(E1381,Cat_Municipios!D1374:M1432,11)","v":{"$error":"#N/A"}}]
[24,"010","Ciudad_del_Maíz","0091","San Rafael Carretera (0091)","R","Ciudad del Maíz (010)San Rafael Carretera (0091)",22.630089000000002,-99.879233999999997,346,175,171,87,240100091,null,"Alto","Bajo",{"$f":"IFERROR(VLOOKUP(CONCATENATE(B1382,D1382),Padrón_Indígenas!$A$2:$G$988,7,0),\"No\")","v":"No"},{"$f":"VLOOKUP(E1382,Cat_Municipios!D1375:M1433,11)","v":{"$error":"#N/A"}}]
[24,"010","Ciudad_del_Maíz","0090","San Rafael Matriz (0090)","R","Ciudad del Maíz (010)San Rafael Matriz (0090)",22.620125999999999,-99.888439000000005,542,278,264,117,240100090,"SI","Alto","Medio",{"$f":"IFERROR(VLOOKUP(CONCATENATE(B1383,D1383),Padrón_Indígenas!$A$2:$G$988,7,0),\"No\")","v":"No"},{"$f":"VLOOKUP(E1383,Cat_Municipios!D1376:M1434,11)","v":{"$error":"#N/A"}}]
[24,"010","Ciudad_del_Maíz","0128","San Tiburcio (0128)","R","Ciudad del Maíz (010)San Tiburcio (0128)",22.508123000000001,-99.755708999999996,0,0,0,0,240100128,null,null,null,{"$f":"IFERROR(VLOOKUP(CONCATENATE(B1384,D1384),Padrón_Indígenas!$A$2:$G$988,7,0),\"No\")","v":"No"},{"$f":"VLOOKUP(E1384,Cat_Municipios!D1377:M1435,11)","v":{"$error":"#N/A"}}]
[24,"010","Ciudad_del_Maíz","0252","Santa María (0252)","R","Ciudad del Maíz (010)Santa María (0252)",22.541771000000001,-99.931483999999998,0,0,0,0,240100252,null,null,null,{"$f":"IFERROR(VLOOKUP(CONCATENATE(B1385,D1385),Padrón_Indígenas!$A$2:$G$988,7,0),\"No\")","v":"No"},{"$f":"VLOOKUP(E1385,Cat_Municipios!D1378:M1436,11)","v":{"$error":"#N/A"}}]
[24,"010","Ciudad_del_Maíz","0223","Santa Rita (0223)","R","Ciudad del Maíz (010)Santa Rita (0223)",22.313307999999999,-99.913123999999996,0,0,0,0,240100223,null,null,null,{"$f":"IFERROR(VLOOKUP(CONCATENATE(B1386,D1386),Padrón_Indígenas!$A$2:$G$988,7,0),\"No\")","v":"No"},{"$f":"VLOOKUP(E1386,Cat_Municipios!D1379:M1437,11)","v":{"$error":"#N/A"}}]
[24,"010","Ciudad_del_Maíz","0174","Santa Teresa (0174)","R","Ciudad del Maíz (010)Santa Teresa (0174)",22.300238,-99.828676000000002,4,"*","*",2,240100174,null,null,null,{"$f":"IFERROR(VLOOKUP(CONCATENATE(B1387,D1387),Padrón_Indígenas!$A$2:$G$988,7,0),\"No\")","v":"No"},{"$f":"VLOOKUP(E1387,Cat_Municipios!D1380:M1438,11)","v":{"$error":"#N/A"}}]
[24,"010","Ciudad_del_Maíz","0253","Santa Teresa (0253)","R","Ciudad del Maíz (010)Santa Teresa (0253)",22.464486999999998,-99.775113000000005,0,0,0,0,240100253,null,null,null,{"$f":"IFERROR(VLOOKUP(CONCATENATE(B1388,D1388),Padrón_Indígenas!$A$2:$G$988,7,0),\"No\")","v":"No"},{"$f":"VLOOKUP(E1388,Cat_Municipios!D1381:M1439,11)","v":{"$error":"#N/A"}}]
[24,"010","Ciudad_del_Maíz","0105","Sartenejo (0105)","R","Ciudad del Maíz (010)Sartenejo (0105)",22.584584,-100.040981,271,136,135,57,240100105,null,"Alto","Medio",{"$f":"IFERROR(VLOOKUP(CONCATENATE(B1389,D1389),Padrón_Indígenas!$A$2:$G$988,7,0),\"No\")","v":"No"},{"$f":"VLOOKUP(E1389,Cat_Municipios!D1382:M1440,11)","v":{"$error":"#N/A"}}]
[24,"010","Ciudad_del_Maíz","0189","Sección Setenta y Nueve los Anteojos (0189)","R","Ciudad del Maíz (010)Sección Setenta y Nueve los Anteojos (0189)",22.241959000000001,-99.843351999999996,62,37,25,16,240100189,"SI","Alto","Medio",{"$f":"IFERROR(VLOOKUP(CONCATENATE(B1390,D1390),Padrón_Indígenas!$A$2:$G$988,7,0),\"No\")","v":"No"},{"$f":"VLOOKUP(E1390,Cat_Municipios!D1383:M1441,11)","v":{"$error":"#N/A"}}]
[24,"010","Ciudad_del_Maíz","0145","Tanque de Jiménez (0145)","R","Ciudad del Maíz (010)Tanque de Jiménez (0145)",22.364131,-99.380053000000004,5,"*","*",1,240100145,null,null,null,{"$f":"IFERROR(VLOOKUP(CONCATENATE(B1391,D1391),Padrón_Indígenas!$A$2:$G$988,7,0),\"No\")","v":"No"},{"$f":"VLOOKUP(E1391,Cat_Municipios!D1384:M1442,11)","v":{"$error":"#N/A"}}]
[24,"010","Ciudad_del_Maíz","0095","Tanque de los Ángeles (El Venadito) (0095)","R","Ciudad del Maíz (010)Tanque de los Ángeles (El Venadito) (0095)",22.394687999999999,-99.923613000000003,828,412,416,190,240100095,"SI","Alto","Bajo",{"$f":"IFERROR(VLOOKUP(CONCATENATE(B1392,D1392),Padrón_Indígenas!$A$2:$G$988,7,0),\"No\")","v":"No"},{"$f":"VLOOKUP(E1392,Cat_Municipios!D1385:M1443,11)","v":{"$error":"#N/A"}}]
[24,"010","Ciudad_del_Maíz","0257","Tomás Ceballos (0257)","R","Ciudad del Maíz (010)Tomás Ceballos (0257)",22.287268999999998,-99.890494000000004,0,0,0,0,240100257,null,null,null,{"$f":"IFERROR(VLOOKUP(CONCATENATE(B1393,D1393),Padrón_Indígenas!$A$2:$G$988,7,0),\"No\")","v":"No"},{"$f":"VLOOKUP(E1393,Cat_Municipios!D1386:M1444,11)","v":{"$error":"#N/A"}}]
[24,"010","Ciudad_del_Maíz","0104","Zamachihue (0104)","R","Ciudad del Maíz (010)Zamachihue (0104)",22.507269999999998,-99.655844000000002,1408,694,714,254,240100104,null,"Alto","Muy bajo",{"$f":"IFERROR(VLOOKUP(CONCATENATE(B1394,D1394),Padrón_Indígenas!$A$2:$G$988,7,0),\"No\")","v":"No"},{"$f":"VLOOKUP(E1394,Cat_Municipios!D1387:M1445,11)","v":{"$error":"#N/A"}}]
[24,"010","Ciudad_del_Maíz",null,"Todo el municipio ",null,"Ciudad del Maíz (010)Todo el municipio ",null,null,{"$f":"SUM(J1249:J1394)","v":31323}]
[24,"011","Ciudad_Fernández","0002","Atotonilco (0002)","R","Ciudad Fernández (011)Atotonilco (0002)",21.993753999999999,-100.442065,580,282,298,173,240110002,"SI","Alto","Bajo",{"$f":"IFERROR(VLOOKUP(CONCATENATE(B1396,D1396),Padrón_Indígenas!$A$2:$G$988,7,0),\"No\")","v":"No"},{"$f":"VLOOKUP(E1396,Cat_Municipios!D1388:M1446,11)","v":{"$error":"#N/A"}}]
[24,"011","Ciudad_Fernández","0003","Barrio de Guadalupe (0003)","R","Ciudad Fernández (011)Barrio de Guadalupe (0003)",21.977035999999998,-100.046491,717,336,381,175,240110003,null,"Alto","Bajo",{"$f":"IFERROR(VLOOKUP(CONCATENATE(B1397,D1397),Padrón_Indígenas!$A$2:$G$988,7,0),\"No\")","v":"No"},{"$f":"VLOOKUP(E1397,Cat_Municipios!D1389:M1447,11)","v":{"$error":"#N/A"}}]
[24,"011","Ciudad_Fernández","0094","Barrio de la Cruz (0094)","R","Ciudad Fernández (011)Barrio de la Cruz (0094)",22.104510999999999,-100.322378,18,13,5,8,240110094,null,"Alto","Medio",{"$f":"IFERROR(VLOOKUP(CONCATENATE(B1398,D1398),Padrón_Indígenas!$A$2:$G$988,7,0),\"No\")","v":"No"},{"$f":"VLOOKUP(E1398,Cat_Municipios!D1390:M1448,11)","v":{"$error":"#N/A"}}]
[24,"011","Ciudad_Fernández","0001","Ciudad Fernández (0001)","U","Ciudad Fernández (011)Ciudad Fernández (0001)",21.943511999999998,-100.011022,32006,15573,16433,7640,240110001,"SI",null,null,{"$f":"IFERROR(VLOOKUP(CONCATENATE(B1399,D1399),Padrón_Indígenas!$A$2:$G$988,7,0),\"No\")","v":"No"},{"$f":"VLOOKUP(E1399,Cat_Municipios!D1391:M1449,11)","v":{"$error":"#N/A"}}]
[24,"011","Ciudad_Fernández","0096","Colonia Camino Real (0096)","R","Ciudad Fernández (011)Colonia Camino Real (0096)",21.985278000000001,-100.393889,26,15,11,9,240110096,null,"Alto","Bajo",{"$f":"IFERROR(VLOOKUP(CONCATENATE(B1400,D1400),Padrón_Indígenas!$A$2:$G$988,7,0),\"No\")","v":"No"},{"$f":"VLOOKUP(E1400,Cat_Municipios!D1392:M1450,11)","v":{"$error":"#N/A"}}]
[24,"011","Ciudad_Fernández","0049","Colonia la Peñita (0049)","R","Ciudad Fernández (011)Colonia la Peñita (0049)",21.924600999999999,-100.098658,204,107,97,51,240110049,"SI","Alto","Bajo",{"$f":"IFERROR(VLOOKUP(CONCATENATE(B1401,D1401),Padrón_Indígenas!$A$2:$G$988,7,0),\"No\")","v":"No"},{"$f":"VLOOKUP(E1401,Cat_Municipios!D1393:M1451,11)","v":{"$error":"#N/A"}}]
[24,"011","Ciudad_Fernández","0005","Colonia Veinte de Noviembre (0005)","R","Ciudad Fernández (011)Colonia Veinte de Noviembre (0005)",21.977834000000001,-100.05109,1276,641,635,317,240110005,"SI","Alto","Bajo",{"$f":"IFERROR(VLOOKUP(CONCATENATE(B1402,D1402),Padrón_Indígenas!$A$2:$G$988,7,0),\"No\")","v":"No"},{"$f":"VLOOKUP(E1402,Cat_Municipios!D1394:M1452,11)","v":{"$error":"#N/A"}}]
[24,"011","Ciudad_Fernández","0135","Ejido los Llanitos (0135)","R","Ciudad Fernández (011)Ejido los Llanitos (0135)",21.961386999999998,-99.997662000000005,15,"*","*",2,240110135,null,null,null,{"$f":"IFERROR(VLOOKUP(CONCATENATE(B1403,D1403),Padrón_Indígenas!$A$2:$G$988,7,0),\"No\")","v":"No"},{"$f":"VLOOKUP(E1403,Cat_Municipios!D1395:M1453,11)","v":{"$error":"#N/A"}}]
[24,"011","Ciudad_Fernández","0161","Ejido Ojo de Agua (Pablo Mendoza Torres) (0161)","R","Ciudad Fernández (011)Ejido Ojo de Agua (Pablo Mendoza Torres) (0161)",21.959623000000001,-100.00873199999999,6,"*","*",1,240110161,null,null,null,{"$f":"IFERROR(VLOOKUP(CONCATENATE(B1404,D1404),Padrón_Indígenas!$A$2:$G$988,7,0),\"No\")","v":"No"},{"$f":"VLOOKUP(E1404,Cat_Municipios!D1396:M1454,11)","v":{"$error":"#N/A"}}]
[24,"011","Ciudad_Fernández","0136","El Campestre (0136)","R","Ciudad Fernández (011)El Campestre (0136)",21.976939999999999,-100.03835100000001,0,0,0,0,240110136,null,null,null,{"$f":"IFERROR(VLOOKUP(CONCATENATE(B1405,D1405),Padrón_Indígenas!$A$2:$G$988,7,0),\"No\")","v":"No"},{"$f":"VLOOKUP(E1405,Cat_Municipios!D1397:M1455,11)","v":{"$error":"#N/A"}}]
[24,"011","Ciudad_Fernández","0004","El Carrizal (0004)","R","Ciudad Fernández (011)El Carrizal (0004)",22.036984,-100.288179,7,5,2,4,240110004,null,"Muy alto","Alto",{"$f":"IFERROR(VLOOKUP(CONCATENATE(B1406,D1406),Padrón_Indígenas!$A$2:$G$988,7,0),\"No\")","v":"No"},{"$f":"VLOOKUP(E1406,Cat_Municipios!D1398:M1456,11)","v":{"$error":"#N/A"}}]
[24,"011","Ciudad_Fernández","0098","El Mimbre (0098)","R","Ciudad Fernández (011)El Mimbre (0098)",21.882764000000002,-100.372032,16,"*","*",2,240110098,null,null,null,{"$f":"IFERROR(VLOOKUP(CONCATENATE(B1407,D1407),Padrón_Indígenas!$A$2:$G$988,7,0),\"No\")","v":"No"},{"$f":"VLOOKUP(E1407,Cat_Municipios!D1399:M1457,11)","v":{"$error":"#N/A"}}]
[24,"011","Ciudad_Fernández","0010","El Mosco (0010)","R","Ciudad Fernández (011)El Mosco (0010)",21.977817000000002,-100.434664,90,43,47,29,240110010,null,"Alto","Medio",{"$f":"IFERROR(VLOOKUP(CONCATENATE(B1408,D1408),Padrón_Indígenas!$A$2:$G$988,7,0),\"No\")","v":"No"},{"$f":"VLOOKUP(E1408,Cat_Municipios!D1400:M1458,11)","v":{"$error":"#N/A"}}]
[24,"011","Ciudad_Fernández","0101","El Obraje (0101)","R","Ciudad Fernández (011)El Obraje (0101)",22.008994000000001,-100.42820399999999,4,"*","*",1,240110101,null,null,null,{"$f":"IFERROR(VLOOKUP(CONCATENATE(B1409,D1409),Padrón_Indígenas!$A$2:$G$988,7,0),\"No\")","v":"No"},{"$f":"VLOOKUP(E1409,Cat_Municipios!D1401:M1459,11)","v":{"$error":"#N/A"}}]
[24,"011","Ciudad_Fernández","0174","El Papalote (0174)","R","Ciudad Fernández (011)El Papalote (0174)",21.971944000000001,-99.994721999999996,9,"*","*",1,240110174,null,null,null,{"$f":"IFERROR(VLOOKUP(CONCATENATE(B1410,D1410),Padrón_Indígenas!$A$2:$G$988,7,0),\"No\")","v":"No"},{"$f":"VLOOKUP(E1410,Cat_Municipios!D1402:M1460,11)","v":{"$error":"#N/A"}}]
[24,"011","Ciudad_Fernández","0014","El Paraíso (0014)","R","Ciudad Fernández (011)El Paraíso (0014)",22.107251000000002,-100.34208700000001,218,112,106,70,240110014,null,"Alto","Bajo",{"$f":"IFERROR(VLOOKUP(CONCATENATE(B1411,D1411),Padrón_Indígenas!$A$2:$G$988,7,0),\"No\")","v":"No"},{"$f":"VLOOKUP(E1411,Cat_Municipios!D1403:M1461,11)","v":{"$error":"#N/A"}}]
[24,"011","Ciudad_Fernández","0038","El Salitre (0038)","R","Ciudad Fernández (011)El Salitre (0038)",22.037222,-100.07555600000001,3,"*","*",1,240110038,null,null,null,{"$f":"IFERROR(VLOOKUP(CONCATENATE(B1412,D1412),Padrón_Indígenas!$A$2:$G$988,7,0),\"No\")","v":"No"},{"$f":"VLOOKUP(E1412,Cat_Municipios!D1404:M1462,11)","v":{"$error":"#N/A"}}]
[24,"011","Ciudad_Fernández","0020","El Saucillo (0020)","R","Ciudad Fernández (011)El Saucillo (0020)",22.090077999999998,-100.32455299999999,354,172,182,115,240110020,null,"Alto","Bajo",{"$f":"IFERROR(VLOOKUP(CONCATENATE(B1413,D1413),Padrón_Indígenas!$A$2:$G$988,7,0),\"No\")","v":"No"},{"$f":"VLOOKUP(E1413,Cat_Municipios!D1405:M1463,11)","v":{"$error":"#N/A"}}]
[24,"011","Ciudad_Fernández","0021","El Sermón Santa Ana (0021)","R","Ciudad Fernández (011)El Sermón Santa Ana (0021)",22.071314000000001,-100.31610000000001,279,140,139,74,240110021,null,"Alto","Muy bajo",{"$f":"IFERROR(VLOOKUP(CONCATENATE(B1414,D1414),Padrón_Indígenas!$A$2:$G$988,7,0),\"No\")","v":"No"},{"$f":"VLOOKUP(E1414,Cat_Municipios!D1406:M1464,11)","v":{"$error":"#N/A"}}]
[24,"011","Ciudad_Fernández","0103","Finca la Esperanza (Potrero el Apeloteado) (0103)","R","Ciudad Fernández (011)Finca la Esperanza (Potrero el Apeloteado) (0103)",21.947962,-100.05220300000001,5,"*","*",1,240110103,null,null,null,{"$f":"IFERROR(VLOOKUP(CONCATENATE(B1415,D1415),Padrón_Indígenas!$A$2:$G$988,7,0),\"No\")","v":"No"},{"$f":"VLOOKUP(E1415,Cat_Municipios!D1407:M1465,11)","v":{"$error":"#N/A"}}]
[24,"011","Ciudad_Fernández","0171","Gabriel Martínez Segura (0171)","R","Ciudad Fernández (011)Gabriel Martínez Segura (0171)",21.946028999999999,-100.05113900000001,0,0,0,0,240110171,null,null,null,{"$f":"IFERROR(VLOOKUP(CONCATENATE(B1416,D1416),Padrón_Indígenas!$A$2:$G$988,7,0),\"No\")","v":"No"},{"$f":"VLOOKUP(E1416,Cat_Municipios!D1408:M1466,11)","v":{"$error":"#N/A"}}]
[24,"011","Ciudad_Fernández","0137","Huerta de Alfredo Martínez (0137)","R","Ciudad Fernández (011)Huerta de Alfredo Martínez (0137)",21.933916,-100.072489,0,0,0,0,240110137,null,null,null,{"$f":"IFERROR(VLOOKUP(CONCATENATE(B1417,D1417),Padrón_Indígenas!$A$2:$G$988,7,0),\"No\")","v":"No"},{"$f":"VLOOKUP(E1417,Cat_Municipios!D1409:M1467,11)","v":{"$error":"#N/A"}}]
[24,"011","Ciudad_Fernández","0138","Huerta de Benito Martínez (0138)","R","Ciudad Fernández (011)Huerta de Benito Martínez (0138)",21.937643999999999,-100.07453700000001,0,0,0,0,240110138,null,null,null,{"$f":"IFERROR(VLOOKUP(CONCATENATE(B1418,D1418),Padrón_Indígenas!$A$2:$G$988,7,0),\"No\")","v":"No"},{"$f":"VLOOKUP(E1418,Cat_Municipios!D1410:M1468,11)","v":{"$error":"#N/A"}}]
[24,"011","Ciudad_Fernández","0139","Huerta de Clemente Martínez (0139)","R","Ciudad Fernández (011)Huerta de Clemente Martínez (0139)",21.938834,-100.069759,7,"*","*",1,240110139,null,null,null,{"$f":"IFERROR(VLOOKUP(CONCATENATE(B1419,D1419),Padrón_Indígenas!$A$2:$G$988,7,0),\"No\")","v":"No"},{"$f":"VLOOKUP(E1419,Cat_Municipios!D1411:M1469,11)","v":{"$error":"#N/A"}}]
[24,"011","Ciudad_Fernández","0140","Huerta de Ezequiel Govea (0140)","R","Ciudad Fernández (011)Huerta de Ezequiel Govea (0140)",21.909998000000002,-100.062099,0,0,0,0,240110140,null,null,null,{"$f":"IFERROR(VLOOKUP(CONCATENATE(B1420,D1420),Padrón_Indígenas!$A$2:$G$988,7,0),\"No\")","v":"No"},{"$f":"VLOOKUP(E1420,Cat_Municipios!D1412:M1470,11)","v":{"$error":"#N/A"}}]
[24,"011","Ciudad_Fernández","0141","Huerta de Fidencio (0141)","R","Ciudad Fernández (011)Huerta de Fidencio (0141)",21.936039000000001,-100.060372,3,"*","*",1,240110141,null,null,null,{"$f":"IFERROR(VLOOKUP(CONCATENATE(B1421,D1421),Padrón_Indígenas!$A$2:$G$988,7,0),\"No\")","v":"No"},{"$f":"VLOOKUP(E1421,Cat_Municipios!D1413:M1471,11)","v":{"$error":"#N/A"}}]
[24,"011","Ciudad_Fernández","0142","Huerta de Juan Alvarado (0142)","R","Ciudad Fernández (011)Huerta de Juan Alvarado (0142)",21.929258999999998,-100.076522,0,0,0,0,240110142,null,null,null,{"$f":"IFERROR(VLOOKUP(CONCATENATE(B1422,D1422),Padrón_Indígenas!$A$2:$G$988,7,0),\"No\")","v":"No"},{"$f":"VLOOKUP(E1422,Cat_Municipios!D1414:M1472,11)","v":{"$error":"#N/A"}}]
[24,"011","Ciudad_Fernández","0143","Huerta de Juan Compeán (0143)","R","Ciudad Fernández (011)Huerta de Juan Compeán (0143)",21.937141,-100.06106,3,"*","*",1,240110143,null,null,null,{"$f":"IFERROR(VLOOKUP(CONCATENATE(B1423,D1423),Padrón_Indígenas!$A$2:$G$988,7,0),\"No\")","v":"No"},{"$f":"VLOOKUP(E1423,Cat_Municipios!D1415:M1473,11)","v":{"$error":"#N/A"}}]
[24,"011","Ciudad_Fernández","0144","Huerta de Juan Govea (0144)","R","Ciudad Fernández (011)Huerta de Juan Govea (0144)",21.938670999999999,-100.067032,0,0,0,0,240110144,"SI",null,null,{"$f":"IFERROR(VLOOKUP(CONCATENATE(B1424,D1424),Padrón_Indígenas!$A$2:$G$988,7,0),\"No\")","v":"No"},{"$f":"VLOOKUP(E1424,Cat_Municipios!D1416:M1474,11)","v":{"$error":"#N/A"}}]
[24,"011","Ciudad_Fernández","0145","Huerta de Marcelino Hernández (0145)","R","Ciudad Fernández (011)Huerta de Marcelino Hernández (0145)",21.937819999999999,-100.067841,3,"*","*",1,240110145,null,null,null,{"$f":"IFERROR(VLOOKUP(CONCATENATE(B1425,D1425),Padrón_Indígenas!$A$2:$G$988,7,0),\"No\")","v":"No"},{"$f":"VLOOKUP(E1425,Cat_Municipios!D1417:M1475,11)","v":{"$error":"#N/A"}}]
[24,"011","Ciudad_Fernández","0146","Huerta de Martín Silva (0146)","R","Ciudad Fernández (011)Huerta de Martín Silva (0146)",21.937283999999998,-100.082797,0,0,0,0,240110146,null,null,null,{"$f":"IFERROR(VLOOKUP(CONCATENATE(B1426,D1426),Padrón_Indígenas!$A$2:$G$988,7,0),\"No\")","v":"No"},{"$f":"VLOOKUP(E1426,Cat_Municipios!D1418:M1476,11)","v":{"$error":"#N/A"}}]
[24,"011","Ciudad_Fernández","0147","Huerta de Roberto de la Torre (0147)","R","Ciudad Fernández (011)Huerta de Roberto de la Torre (0147)",21.931927999999999,-100.069079,7,"*","*",1,240110147,null,null,null,{"$f":"IFERROR(VLOOKUP(CONCATENATE(B1427,D1427),Padrón_Indígenas!$A$2:$G$988,7,0),\"No\")","v":"No"},{"$f":"VLOOKUP(E1427,Cat_Municipios!D1419:M1477,11)","v":{"$error":"#N/A"}}]
[24,"011","Ciudad_Fernández","0121","Huerta el Huasteco (Potrero el Huasteco) (0121)","R","Ciudad Fernández (011)Huerta el Huasteco (Potrero el Huasteco) (0121)",22.002777999999999,-100.1275,2,"*","*",1,240110121,null,null,null,{"$f":"IFERROR(VLOOKUP(CONCATENATE(B1428,D1428),Padrón_Indígenas!$A$2:$G$988,7,0),\"No\")","v":"No"},{"$f":"VLOOKUP(E1428,Cat_Municipios!D1420:M1478,11)","v":{"$error":"#N/A"}}]
[24,"011","Ciudad_Fernández","0115","Huerta José González (0115)","R","Ciudad Fernández (011)Huerta José González (0115)",21.935324999999999,-100.055919,20,12,8,5,240110115,null,"Alto","Muy bajo",{"$f":"IFERROR(VLOOKUP(CONCATENATE(B1429,D1429),Padrón_Indígenas!$A$2:$G$988,7,0),\"No\")","v":"No"},{"$f":"VLOOKUP(E1429,Cat_Municipios!D1421:M1479,11)","v":{"$error":"#N/A"}}]
[24,"011","Ciudad_Fernández","0148","Huerta la Gloria (0148)","R","Ciudad Fernández (011)Huerta la Gloria (0148)",21.971896999999998,-100.03265,0,0,0,0,240110148,null,null,null,{"$f":"IFERROR(VLOOKUP(CONCATENATE(B1430,D1430),Padrón_Indígenas!$A$2:$G$988,7,0),\"No\")","v":"No"},{"$f":"VLOOKUP(E1430,Cat_Municipios!D1422:M1480,11)","v":{"$error":"#N/A"}}]
[24,"011","Ciudad_Fernández","0149","Huerta las Rositas (0149)","R","Ciudad Fernández (011)Huerta las Rositas (0149)",21.935694999999999,-100.07903,0,0,0,0,240110149,null,null,null,{"$f":"IFERROR(VLOOKUP(CONCATENATE(B1431,D1431),Padrón_Indígenas!$A$2:$G$988,7,0),\"No\")","v":"No"},{"$f":"VLOOKUP(E1431,Cat_Municipios!D1423:M1481,11)","v":{"$error":"#N/A"}}]
[24,"011","Ciudad_Fernández","0150","Huerta los Pinos (0150)","R","Ciudad Fernández (011)Huerta los Pinos (0150)",21.942755999999999,-100.067561,1,"*","*",1,240110150,null,null,null,{"$f":"IFERROR(VLOOKUP(CONCATENATE(B1432,D1432),Padrón_Indígenas!$A$2:$G$988,7,0),\"No\")","v":"No"},{"$f":"VLOOKUP(E1432,Cat_Municipios!D1424:M1482,11)","v":{"$error":"#N/A"}}]
[24,"011","Ciudad_Fernández","0162","Huerta Martha Elena (0162)","R","Ciudad Fernández (011)Huerta Martha Elena (0162)",21.970938,-100.05127899999999,0,0,0,0,240110162,null,null,null,{"$f":"IFERROR(VLOOKUP(CONCATENATE(B1433,D1433),Padrón_Indígenas!$A$2:$G$988,7,0),\"No\")","v":"No"},{"$f":"VLOOKUP(E1433,Cat_Municipios!D1425:M1483,11)","v":{"$error":"#N/A"}}]
[24,"011","Ciudad_Fernández","0151","Huerta San Blas (0151)","R","Ciudad Fernández (011)Huerta San Blas (0151)",21.950029000000001,-100.047158,10,"*","*",1,240110151,null,null,null,{"$f":"IFERROR(VLOOKUP(CONCATENATE(B1434,D1434),Padrón_Indígenas!$A$2:$G$988,7,0),\"No\")","v":"No"},{"$f":"VLOOKUP(E1434,Cat_Municipios!D1426:M1484,11)","v":{"$error":"#N/A"}}]
[24,"011","Ciudad_Fernández","0152","José Jasso Villegas (0152)","R","Ciudad Fernández (011)José Jasso Villegas (0152)",21.969577999999998,-100.005521,4,"*","*",1,240110152,"SI",null,null,{"$f":"IFERROR(VLOOKUP(CONCATENATE(B1435,D1435),Padrón_Indígenas!$A$2:$G$988,7,0),\"No\")","v":"No"},{"$f":"VLOOKUP(E1435,Cat_Municipios!D1427:M1485,11)","v":{"$error":"#N/A"}}]
[24,"011","Ciudad_Fernández","0163","Joya de las Peñas (0163)","R","Ciudad Fernández (011)Joya de las Peñas (0163)",21.970848,-100.468236,3,"*","*",1,240110163,null,null,null,{"$f":"IFERROR(VLOOKUP(CONCATENATE(B1436,D1436),Padrón_Indígenas!$A$2:$G$988,7,0),\"No\")","v":"No"},{"$f":"VLOOKUP(E1436,Cat_Municipios!D1428:M1486,11)","v":{"$error":"#N/A"}}]
[24,"011","Ciudad_Fernández","0119","La Alameda (0119)","R","Ciudad Fernández (011)La Alameda (0119)",22.067067999999999,-100.297003,6,"*","*",2,240110119,null,null,null,{"$f":"IFERROR(VLOOKUP(CONCATENATE(B1437,D1437),Padrón_Indígenas!$A$2:$G$988,7,0),\"No\")","v":"No"},{"$f":"VLOOKUP(E1437,Cat_Municipios!D1429:M1487,11)","v":{"$error":"#N/A"}}]
[24,"011","Ciudad_Fernández","0120","La Banda (0120)","R","Ciudad Fernández (011)La Banda (0120)",22.074743999999999,-100.29872899999999,9,6,3,3,240110120,null,"Alto","Medio",{"$f":"IFERROR(VLOOKUP(CONCATENATE(B1438,D1438),Padrón_Indígenas!$A$2:$G$988,7,0),\"No\")","v":"No"},{"$f":"VLOOKUP(E1438,Cat_Municipios!D1430:M1488,11)","v":{"$error":"#N/A"}}]
[24,"011","Ciudad_Fernández","0134","La Concepción (0134)","R","Ciudad Fernández (011)La Concepción (0134)",22.019166999999999,-100.461389,0,0,0,0,240110134,null,null,null,{"$f":"IFERROR(VLOOKUP(CONCATENATE(B1439,D1439),Padrón_Indígenas!$A$2:$G$988,7,0),\"No\")","v":"No"},{"$f":"VLOOKUP(E1439,Cat_Municipios!D1431:M1489,11)","v":{"$error":"#N/A"}}]
[24,"011","Ciudad_Fernández","0129","La Encarnación (0129)","R","Ciudad Fernández (011)La Encarnación (0129)",22.053878999999998,-100.05927200000001,3,"*","*",1,240110129,null,null,null,{"$f":"IFERROR(VLOOKUP(CONCATENATE(B1440,D1440),Padrón_Indígenas!$A$2:$G$988,7,0),\"No\")","v":"No"},{"$f":"VLOOKUP(E1440,Cat_Municipios!D1432:M1490,11)","v":{"$error":"#N/A"}}]
[24,"011","Ciudad_Fernández","0130","La Huerta (0130)","R","Ciudad Fernández (011)La Huerta (0130)",22.007331000000001,-100.132564,0,0,0,0,240110130,null,null,null,{"$f":"IFERROR(VLOOKUP(CONCATENATE(B1441,D1441),Padrón_Indígenas!$A$2:$G$988,7,0),\"No\")","v":"No"},{"$f":"VLOOKUP(E1441,Cat_Municipios!D1433:M1491,11)","v":{"$error":"#N/A"}}]
[24,"011","Ciudad_Fernández","0092","La Loma (Las Pitahayas) (0092)","R","Ciudad Fernández (011)La Loma (Las Pitahayas) (0092)",22.010988000000001,-100.05305199999999,2,"*","*",1,240110092,null,null,null,{"$f":"IFERROR(VLOOKUP(CONCATENATE(B1442,D1442),Padrón_Indígenas!$A$2:$G$988,7,0),\"No\")","v":"No"},{"$f":"VLOOKUP(E1442,Cat_Municipios!D1434:M1492,11)","v":{"$error":"#N/A"}}]
[24,"011","Ciudad_Fernández","0047","La Mezclita (Potrero de San Joaquín) (0047)","R","Ciudad Fernández (011)La Mezclita (Potrero de San Joaquín) (0047)",21.940190999999999,-100.083581,94,41,53,24,240110047,"SI","Medio","Muy bajo",{"$f":"IFERROR(VLOOKUP(CONCATENATE(B1443,D1443),Padrón_Indígenas!$A$2:$G$988,7,0),\"No\")","v":"No"},{"$f":"VLOOKUP(E1443,Cat_Municipios!D1435:M1493,11)","v":{"$error":"#N/A"}}]
[24,"011","Ciudad_Fernández","0125","La Mina (0125)","R","Ciudad Fernández (011)La Mina (0125)",21.965153999999998,-100.00984,0,0,0,0,240110125,null,null,null,{"$f":"IFERROR(VLOOKUP(CONCATENATE(B1444,D1444),Padrón_Indígenas!$A$2:$G$988,7,0),\"No\")","v":"No"},{"$f":"VLOOKUP(E1444,Cat_Municipios!D1436:M1494,11)","v":{"$error":"#N/A"}}]
[24,"011","Ciudad_Fernández","0164","La Minita (0164)","R","Ciudad Fernández (011)La Minita (0164)",22.016667000000002,-100.431667,0,0,0,0,240110164,null,null,null,{"$f":"IFERROR(VLOOKUP(CONCATENATE(B1445,D1445),Padrón_Indígenas!$A$2:$G$988,7,0),\"No\")","v":"No"},{"$f":"VLOOKUP(E1445,Cat_Municipios!D1437:M1495,11)","v":{"$error":"#N/A"}}]
[24,"011","Ciudad_Fernández","0165","La Mora (0165)","R","Ciudad Fernández (011)La Mora (0165)",21.968176,-100.000046,3,"*","*",1,240110165,null,null,null,{"$f":"IFERROR(VLOOKUP(CONCATENATE(B1446,D1446),Padrón_Indígenas!$A$2:$G$988,7,0),\"No\")","v":"No"},{"$f":"VLOOKUP(E1446,Cat_Municipios!D1438:M1496,11)","v":{"$error":"#N/A"}}]
[24,"011","Ciudad_Fernández","0011","La Noria (0011)","R","Ciudad Fernández (011)La Noria (0011)",22.015167000000002,-100.11854700000001,593,287,306,145,240110011,null,"Alto","Bajo",{"$f":"IFERROR(VLOOKUP(CONCATENATE(B1447,D1447),Padrón_Indígenas!$A$2:$G$988,7,0),\"No\")","v":"No"},{"$f":"VLOOKUP(E1447,Cat_Municipios!D1439:M1497,11)","v":{"$error":"#N/A"}}]
[24,"011","Ciudad_Fernández","0016","La Reforma (0016)","R","Ciudad Fernández (011)La Reforma (0016)",21.997904999999999,-100.095219,1296,636,660,309,240110016,null,"Alto","Bajo",{"$f":"IFERROR(VLOOKUP(CONCATENATE(B1448,D1448),Padrón_Indígenas!$A$2:$G$988,7,0),\"No\")","v":"No"},{"$f":"VLOOKUP(E1448,Cat_Municipios!D1440:M1498,11)","v":{"$error":"#N/A"}}]
[24,"011","Ciudad_Fernández","0037","La Reformita (0037)","R","Ciudad Fernández (011)La Reformita (0037)",21.982399000000001,-100.084703,308,154,154,79,240110037,"SI","Alto","Muy bajo",{"$f":"IFERROR(VLOOKUP(CONCATENATE(B1449,D1449),Padrón_Indígenas!$A$2:$G$988,7,0),\"No\")","v":"No"},{"$f":"VLOOKUP(E1449,Cat_Municipios!D1441:M1499,11)","v":{"$error":"#N/A"}}]
[24,"011","Ciudad_Fernández","0024","La Tízar (0024)","R","Ciudad Fernández (011)La Tízar (0024)",21.983253000000001,-100.460066,6,2,4,3,240110024,null,"Muy alto","Alto",{"$f":"IFERROR(VLOOKUP(CONCATENATE(B1450,D1450),Padrón_Indígenas!$A$2:$G$988,7,0),\"No\")","v":"No"},{"$f":"VLOOKUP(E1450,Cat_Municipios!D1442:M1500,11)","v":{"$error":"#N/A"}}]
[24,"011","Ciudad_Fernández","0025","La Ventilla (0025)","R","Ciudad Fernández (011)La Ventilla (0025)",21.982406999999998,-100.411619,234,115,119,72,240110025,null,"Alto","Medio",{"$f":"IFERROR(VLOOKUP(CONCATENATE(B1451,D1451),Padrón_Indígenas!$A$2:$G$988,7,0),\"No\")","v":"No"},{"$f":"VLOOKUP(E1451,Cat_Municipios!D1443:M1501,11)","v":{"$error":"#N/A"}}]
[24,"011","Ciudad_Fernández","0006","Labor Vieja (0006)","R","Ciudad Fernández (011)Labor Vieja (0006)",22.012094999999999,-100.14243999999999,844,429,415,234,240110006,"SI","Medio","Muy bajo",{"$f":"IFERROR(VLOOKUP(CONCATENATE(B1452,D1452),Padrón_Indígenas!$A$2:$G$988,7,0),\"No\")","v":"No"},{"$f":"VLOOKUP(E1452,Cat_Municipios!D1444:M1502,11)","v":{"$error":"#N/A"}}]
[24,"011","Ciudad_Fernández","0095","Las Adjuntas (0095)","R","Ciudad Fernández (011)Las Adjuntas (0095)",21.986440999999999,-100.45589200000001,28,16,12,5,240110095,null,"Alto","Bajo",{"$f":"IFERROR(VLOOKUP(CONCATENATE(B1453,D1453),Padrón_Indígenas!$A$2:$G$988,7,0),\"No\")","v":"No"},{"$f":"VLOOKUP(E1453,Cat_Municipios!D1445:M1503,11)","v":{"$error":"#N/A"}}]
[24,"011","Ciudad_Fernández","0128","Las Auras (0128)","R","Ciudad Fernández (011)Las Auras (0128)",22.059809000000001,-100.06745600000001,5,"*","*",1,240110128,null,null,null,{"$f":"IFERROR(VLOOKUP(CONCATENATE(B1454,D1454),Padrón_Indígenas!$A$2:$G$988,7,0),\"No\")","v":"No"},{"$f":"VLOOKUP(E1454,Cat_Municipios!D1446:M1504,11)","v":{"$error":"#N/A"}}]
[24,"011","Ciudad_Fernández","0166","Las Lechuzas (0166)","R","Ciudad Fernández (011)Las Lechuzas (0166)",21.953243000000001,-100.049294,7,"*","*",1,240110166,null,null,null,{"$f":"IFERROR(VLOOKUP(CONCATENATE(B1455,D1455),Padrón_Indígenas!$A$2:$G$988,7,0),\"No\")","v":"No"},{"$f":"VLOOKUP(E1455,Cat_Municipios!D1447:M1505,11)","v":{"$error":"#N/A"}}]
[24,"011","Ciudad_Fernández","0015","Las Pilas (0015)","R","Ciudad Fernández (011)Las Pilas (0015)",21.981120000000001,-100.419584,207,110,97,55,240110015,null,"Alto","Bajo",{"$f":"IFERROR(VLOOKUP(CONCATENATE(B1456,D1456),Padrón_Indígenas!$A$2:$G$988,7,0),\"No\")","v":"No"},{"$f":"VLOOKUP(E1456,Cat_Municipios!D1448:M1506,11)","v":{"$error":"#N/A"}}]
[24,"011","Ciudad_Fernández","0168","Las Tres Huérfanas (0168)","R","Ciudad Fernández (011)Las Tres Huérfanas (0168)",21.992538,-100.090884,3,"*","*",1,240110168,null,null,null,{"$f":"IFERROR(VLOOKUP(CONCATENATE(B1457,D1457),Padrón_Indígenas!$A$2:$G$988,7,0),\"No\")","v":"No"},{"$f":"VLOOKUP(E1457,Cat_Municipios!D1449:M1507,11)","v":{"$error":"#N/A"}}]
[24,"011","Ciudad_Fernández","0169","Las Trojas (0169)","R","Ciudad Fernández (011)Las Trojas (0169)",21.99916,-100.110826,0,0,0,0,240110169,null,null,null,{"$f":"IFERROR(VLOOKUP(CONCATENATE(B1458,D1458),Padrón_Indígenas!$A$2:$G$988,7,0),\"No\")","v":"No"},{"$f":"VLOOKUP(E1458,Cat_Municipios!D1450:M1508,11)","v":{"$error":"#N/A"}}]
[24,"011","Ciudad_Fernández","0097","Los Laureles (0097)","R","Ciudad Fernández (011)Los Laureles (0097)",21.961449000000002,-100.024349,5,"*","*",1,240110097,null,null,null,{"$f":"IFERROR(VLOOKUP(CONCATENATE(B1459,D1459),Padrón_Indígenas!$A$2:$G$988,7,0),\"No\")","v":"No"},{"$f":"VLOOKUP(E1459,Cat_Municipios!D1451:M1509,11)","v":{"$error":"#N/A"}}]
[24,"011","Ciudad_Fernández","0172","Marcelino Ramos Castillo (0172)","R","Ciudad Fernández (011)Marcelino Ramos Castillo (0172)",21.945556,-100.04944399999999,2,"*","*",1,240110172,null,null,null,{"$f":"IFERROR(VLOOKUP(CONCATENATE(B1460,D1460),Padrón_Indígenas!$A$2:$G$988,7,0),\"No\")","v":"No"},{"$f":"VLOOKUP(E1460,Cat_Municipios!D1452:M1510,11)","v":{"$error":"#N/A"}}]
[24,"011","Ciudad_Fernández","0153","Martín Vasco (0153)","R","Ciudad Fernández (011)Martín Vasco (0153)",21.967763000000001,-100.00792800000001,2,"*","*",1,240110153,null,null,null,{"$f":"IFERROR(VLOOKUP(CONCATENATE(B1461,D1461),Padrón_Indígenas!$A$2:$G$988,7,0),\"No\")","v":"No"},{"$f":"VLOOKUP(E1461,Cat_Municipios!D1453:M1511,11)","v":{"$error":"#N/A"}}]
[24,"011","Ciudad_Fernández","0028","Mesa del Campanario (0028)","R","Ciudad Fernández (011)Mesa del Campanario (0028)",21.89997,-100.387399,67,34,33,14,240110028,null,"Muy alto","Alto",{"$f":"IFERROR(VLOOKUP(CONCATENATE(B1462,D1462),Padrón_Indígenas!$A$2:$G$988,7,0),\"No\")","v":"No"},{"$f":"VLOOKUP(E1462,Cat_Municipios!D1454:M1512,11)","v":{"$error":"#N/A"}}]
[24,"011","Ciudad_Fernández","0173","Moctezumas del Tepetate (0173)","R","Ciudad Fernández (011)Moctezumas del Tepetate (0173)",21.946926999999999,-100.072688,59,30,29,9,240110173,null,"Medio","Bajo",{"$f":"IFERROR(VLOOKUP(CONCATENATE(B1463,D1463),Padrón_Indígenas!$A$2:$G$988,7,0),\"No\")","v":"No"},{"$f":"VLOOKUP(E1463,Cat_Municipios!D1455:M1513,11)","v":{"$error":"#N/A"}}]
[24,"011","Ciudad_Fernández","0007","Mojarras de Abajo (0007)","R","Ciudad Fernández (011)Mojarras de Abajo (0007)",22.031565000000001,-100.246561,43,26,17,16,240110007,"SI","Alto","Medio",{"$f":"IFERROR(VLOOKUP(CONCATENATE(B1464,D1464),Padrón_Indígenas!$A$2:$G$988,7,0),\"No\")","v":"No"},{"$f":"VLOOKUP(E1464,Cat_Municipios!D1456:M1514,11)","v":{"$error":"#N/A"}}]
[24,"011","Ciudad_Fernández","0008","Mojarras de Arriba (0008)","R","Ciudad Fernández (011)Mojarras de Arriba (0008)",22.043752000000001,-100.277041,116,58,58,38,240110008,null,"Alto","Bajo",{"$f":"IFERROR(VLOOKUP(CONCATENATE(B1465,D1465),Padrón_Indígenas!$A$2:$G$988,7,0),\"No\")","v":"No"},{"$f":"VLOOKUP(E1465,Cat_Municipios!D1457:M1515,11)","v":{"$error":"#N/A"}}]
[24,"011","Ciudad_Fernández","0099","Monte del Tepetate (0099)","R","Ciudad Fernández (011)Monte del Tepetate (0099)",21.965693000000002,-100.087563,0,0,0,0,240110099,null,null,null,{"$f":"IFERROR(VLOOKUP(CONCATENATE(B1466,D1466),Padrón_Indígenas!$A$2:$G$988,7,0),\"No\")","v":"No"},{"$f":"VLOOKUP(E1466,Cat_Municipios!D1458:M1516,11)","v":{"$error":"#N/A"}}]
[24,"011","Ciudad_Fernández","0009","Morillos (0009)","R","Ciudad Fernández (011)Morillos (0009)",21.973558000000001,-100.400806,326,169,157,113,240110009,null,"Alto","Bajo",{"$f":"IFERROR(VLOOKUP(CONCATENATE(B1467,D1467),Padrón_Indígenas!$A$2:$G$988,7,0),\"No\")","v":"No"},{"$f":"VLOOKUP(E1467,Cat_Municipios!D1459:M1517,11)","v":{"$error":"#N/A"}}]
[24,"011","Ciudad_Fernández","0179","Ninguno (0179)","R","Ciudad Fernández (011)Ninguno (0179)",21.975277999999999,-99.988889,0,0,0,0,240110179,null,null,null,{"$f":"IFERROR(VLOOKUP(CONCATENATE(B1468,D1468),Padrón_Indígenas!$A$2:$G$988,7,0),\"No\")","v":"No"},{"$f":"VLOOKUP(E1468,Cat_Municipios!D1460:M1518,11)","v":{"$error":"#N/A"}}]
[24,"011","Ciudad_Fernández","0012","Ojo de Agua de San Juan (0012)","R","Ciudad Fernández (011)Ojo de Agua de San Juan (0012)",22.047070999999999,-100.399146,154,69,85,55,240110012,null,"Alto","Bajo",{"$f":"IFERROR(VLOOKUP(CONCATENATE(B1469,D1469),Padrón_Indígenas!$A$2:$G$988,7,0),\"No\")","v":"No"},{"$f":"VLOOKUP(E1469,Cat_Municipios!D1461:M1519,11)","v":{"$error":"#N/A"}}]
[24,"011","Ciudad_Fernández","0013","Ojo de Agua de Solano (0013)","R","Ciudad Fernández (011)Ojo de Agua de Solano (0013)",21.98461,-100.08072,1373,669,704,348,240110013,null,"Alto","Bajo",{"$f":"IFERROR(VLOOKUP(CONCATENATE(B1470,D1470),Padrón_Indígenas!$A$2:$G$988,7,0),\"No\")","v":"No"},{"$f":"VLOOKUP(E1470,Cat_Municipios!D1462:M1520,11)","v":{"$error":"#N/A"}}]
[24,"011","Ciudad_Fernández","0102","Paso de San Martín (0102)","R","Ciudad Fernández (011)Paso de San Martín (0102)",21.879911,-100.367831,10,5,5,3,240110102,null,"Muy alto","Medio",{"$f":"IFERROR(VLOOKUP(CONCATENATE(B1471,D1471),Padrón_Indígenas!$A$2:$G$988,7,0),\"No\")","v":"No"},{"$f":"VLOOKUP(E1471,Cat_Municipios!D1463:M1521,11)","v":{"$error":"#N/A"}}]
[24,"011","Ciudad_Fernández","0043","Piedras Blancas (0043)","R","Ciudad Fernández (011)Piedras Blancas (0043)",21.967364,-100.02363099999999,1,"*","*",1,240110043,null,null,null,{"$f":"IFERROR(VLOOKUP(CONCATENATE(B1472,D1472),Padrón_Indígenas!$A$2:$G$988,7,0),\"No\")","v":"No"},{"$f":"VLOOKUP(E1472,Cat_Municipios!D1464:M1522,11)","v":{"$error":"#N/A"}}]
[24,"011","Ciudad_Fernández","0155","Piedras Blancas (Álvaro Olguín) (0155)","R","Ciudad Fernández (011)Piedras Blancas (Álvaro Olguín) (0155)",21.963462,-100.022947,10,7,3,3,240110155,null,"Bajo","Muy bajo",{"$f":"IFERROR(VLOOKUP(CONCATENATE(B1473,D1473),Padrón_Indígenas!$A$2:$G$988,7,0),\"No\")","v":"No"},{"$f":"VLOOKUP(E1473,Cat_Municipios!D1465:M1523,11)","v":{"$error":"#N/A"}}]
[24,"011","Ciudad_Fernández","0104","Potrero de Caldera Vieja (0104)","R","Ciudad Fernández (011)Potrero de Caldera Vieja (0104)",21.898720000000001,-100.042329,16,8,8,4,240110104,null,"Muy alto","Medio",{"$f":"IFERROR(VLOOKUP(CONCATENATE(B1474,D1474),Padrón_Indígenas!$A$2:$G$988,7,0),\"No\")","v":"No"},{"$f":"VLOOKUP(E1474,Cat_Municipios!D1466:M1524,11)","v":{"$error":"#N/A"}}]
[24,"011","Ciudad_Fernández","0114","Potrero de Santa Ana (0114)","R","Ciudad Fernández (011)Potrero de Santa Ana (0114)",21.922027,-100.061166,33,14,19,7,240110114,null,"Alto","Medio",{"$f":"IFERROR(VLOOKUP(CONCATENATE(B1475,D1475),Padrón_Indígenas!$A$2:$G$988,7,0),\"No\")","v":"No"},{"$f":"VLOOKUP(E1475,Cat_Municipios!D1467:M1525,11)","v":{"$error":"#N/A"}}]
[24,"011","Ciudad_Fernández","0175","Potrero el Álamo (0175)","R","Ciudad Fernández (011)Potrero el Álamo (0175)",21.934722000000001,-100.05888899999999,20,11,9,5,240110175,null,"Alto","Bajo",{"$f":"IFERROR(VLOOKUP(CONCATENATE(B1476,D1476),Padrón_Indígenas!$A$2:$G$988,7,0),\"No\")","v":"No"},{"$f":"VLOOKUP(E1476,Cat_Municipios!D1468:M1526,11)","v":{"$error":"#N/A"}}]
[24,"011","Ciudad_Fernández","0123","Potrero el Jaral (0123)","R","Ciudad Fernández (011)Potrero el Jaral (0123)",21.902975999999999,-100.05879,20,14,6,7,240110123,"SI","Muy alto","Medio",{"$f":"IFERROR(VLOOKUP(CONCATENATE(B1477,D1477),Padrón_Indígenas!$A$2:$G$988,7,0),\"No\")","v":"No"},{"$f":"VLOOKUP(E1477,Cat_Municipios!D1469:M1527,11)","v":{"$error":"#N/A"}}]
[24,"011","Ciudad_Fernández","0105","Potrero el Tepetate (Cerrito del Melón) (0105)","R","Ciudad Fernández (011)Potrero el Tepetate (Cerrito del Melón) (0105)",21.95533,-100.08357599999999,18,9,9,6,240110105,null,"Alto","Bajo",{"$f":"IFERROR(VLOOKUP(CONCATENATE(B1478,D1478),Padrón_Indígenas!$A$2:$G$988,7,0),\"No\")","v":"No"},{"$f":"VLOOKUP(E1478,Cat_Municipios!D1470:M1528,11)","v":{"$error":"#N/A"}}]
[24,"011","Ciudad_Fernández","0124","Potrero San Cristóbal (0124)","R","Ciudad Fernández (011)Potrero San Cristóbal (0124)",21.974207,-100.065449,24,13,11,6,240110124,null,"Medio","Muy bajo",{"$f":"IFERROR(VLOOKUP(CONCATENATE(B1479,D1479),Padrón_Indígenas!$A$2:$G$988,7,0),\"No\")","v":"No"},{"$f":"VLOOKUP(E1479,Cat_Municipios!D1471:M1529,11)","v":{"$error":"#N/A"}}]
[24,"011","Ciudad_Fernández","0116","Potrero San Joaquín (0116)","R","Ciudad Fernández (011)Potrero San Joaquín (0116)",21.945373,-100.067465,180,92,88,39,240110116,"SI","Alto","Medio",{"$f":"IFERROR(VLOOKUP(CONCATENATE(B1480,D1480),Padrón_Indígenas!$A$2:$G$988,7,0),\"No\")","v":"No"},{"$f":"VLOOKUP(E1480,Cat_Municipios!D1472:M1530,11)","v":{"$error":"#N/A"}}]
[24,"011","Ciudad_Fernández","0106","Puente Adjuntas (El Tepetate) (0106)","R","Ciudad Fernández (011)Puente Adjuntas (El Tepetate) (0106)",21.956662000000001,-100.069542,24,13,11,6,240110106,null,"Alto","Medio",{"$f":"IFERROR(VLOOKUP(CONCATENATE(B1481,D1481),Padrón_Indígenas!$A$2:$G$988,7,0),\"No\")","v":"No"},{"$f":"VLOOKUP(E1481,Cat_Municipios!D1473:M1531,11)","v":{"$error":"#N/A"}}]
[24,"011","Ciudad_Fernández","0045","Puertas Cuatas (0045)","R","Ciudad Fernández (011)Puertas Cuatas (0045)",21.974602999999998,-100.010576,0,0,0,0,240110045,null,null,null,{"$f":"IFERROR(VLOOKUP(CONCATENATE(B1482,D1482),Padrón_Indígenas!$A$2:$G$988,7,0),\"No\")","v":"No"},{"$f":"VLOOKUP(E1482,Cat_Municipios!D1474:M1532,11)","v":{"$error":"#N/A"}}]
[24,"011","Ciudad_Fernández","0029","Puerto de Palo Gordo (0029)","R","Ciudad Fernández (011)Puerto de Palo Gordo (0029)",21.872259,-100.351381,31,13,18,8,240110029,null,"Muy alto","Alto",{"$f":"IFERROR(VLOOKUP(CONCATENATE(B1483,D1483),Padrón_Indígenas!$A$2:$G$988,7,0),\"No\")","v":"No"},{"$f":"VLOOKUP(E1483,Cat_Municipios!D1475:M1533,11)","v":{"$error":"#N/A"}}]
[24,"011","Ciudad_Fernández","0107","Puerto las Joyas (0107)","R","Ciudad Fernández (011)Puerto las Joyas (0107)",21.886071999999999,-100.35947,3,"*","*",2,240110107,null,null,null,{"$f":"IFERROR(VLOOKUP(CONCATENATE(B1484,D1484),Padrón_Indígenas!$A$2:$G$988,7,0),\"No\")","v":"No"},{"$f":"VLOOKUP(E1484,Cat_Municipios!D1476:M1534,11)","v":{"$error":"#N/A"}}]
[24,"011","Ciudad_Fernández","0035","Puestecitos (0035)","R","Ciudad Fernández (011)Puestecitos (0035)",21.992761000000002,-100.017663,71,35,36,20,240110035,null,"Alto","Bajo",{"$f":"IFERROR(VLOOKUP(CONCATENATE(B1485,D1485),Padrón_Indígenas!$A$2:$G$988,7,0),\"No\")","v":"No"},{"$f":"VLOOKUP(E1485,Cat_Municipios!D1477:M1535,11)","v":{"$error":"#N/A"}}]
[24,"011","Ciudad_Fernández","0178","Quinta Vista Hermosa (0178)","R","Ciudad Fernández (011)Quinta Vista Hermosa (0178)",21.943193000000001,-100.04361,3,"*","*",1,240110178,"SI",null,null,{"$f":"IFERROR(VLOOKUP(CONCATENATE(B1486,D1486),Padrón_Indígenas!$A$2:$G$988,7,0),\"No\")","v":"No"},{"$f":"VLOOKUP(E1486,Cat_Municipios!D1478:M1536,11)","v":{"$error":"#N/A"}}]
[24,"011","Ciudad_Fernández","0036","Rancho Alegre (0036)","R","Ciudad Fernández (011)Rancho Alegre (0036)",21.963398999999999,-100.001616,3,"*","*",1,240110036,null,null,null,{"$f":"IFERROR(VLOOKUP(CONCATENATE(B1487,D1487),Padrón_Indígenas!$A$2:$G$988,7,0),\"No\")","v":"No"},{"$f":"VLOOKUP(E1487,Cat_Municipios!D1479:M1537,11)","v":{"$error":"#N/A"}}]
[24,"011","Ciudad_Fernández","0167","Rancho de los Tirados (0167)","R","Ciudad Fernández (011)Rancho de los Tirados (0167)",21.972470000000001,-99.985506000000001,0,0,0,0,240110167,null,null,null,{"$f":"IFERROR(VLOOKUP(CONCATENATE(B1488,D1488),Padrón_Indígenas!$A$2:$G$988,7,0),\"No\")","v":"No"},{"$f":"VLOOKUP(E1488,Cat_Municipios!D1480:M1538,11)","v":{"$error":"#N/A"}}]
[24,"011","Ciudad_Fernández","0108","Rancho el Garambullo (0108)","R","Ciudad Fernández (011)Rancho el Garambullo (0108)",22.018661000000002,-100.05318699999999,0,0,0,0,240110108,null,null,null,{"$f":"IFERROR(VLOOKUP(CONCATENATE(B1489,D1489),Padrón_Indígenas!$A$2:$G$988,7,0),\"No\")","v":"No"},{"$f":"VLOOKUP(E1489,Cat_Municipios!D1481:M1539,11)","v":{"$error":"#N/A"}}]
[24,"011","Ciudad_Fernández","0109","Rancho el Polocote (0109)","R","Ciudad Fernández (011)Rancho el Polocote (0109)",22.025373999999999,-100.053432,4,"*","*",1,240110109,null,null,null,{"$f":"IFERROR(VLOOKUP(CONCATENATE(B1490,D1490),Padrón_Indígenas!$A$2:$G$988,7,0),\"No\")","v":"No"},{"$f":"VLOOKUP(E1490,Cat_Municipios!D1482:M1540,11)","v":{"$error":"#N/A"}}]
[24,"011","Ciudad_Fernández","0117","Rancho Hernández Perales (0117)","R","Ciudad Fernández (011)Rancho Hernández Perales (0117)",21.933691,-100.062318,6,"*","*",2,240110117,null,null,null,{"$f":"IFERROR(VLOOKUP(CONCATENATE(B1491,D1491),Padrón_Indígenas!$A$2:$G$988,7,0),\"No\")","v":"No"},{"$f":"VLOOKUP(E1491,Cat_Municipios!D1483:M1541,11)","v":{"$error":"#N/A"}}]
[24,"011","Ciudad_Fernández","0176","Rancho la Libertad (0176)","R","Ciudad Fernández (011)Rancho la Libertad (0176)",21.981110999999999,-100.01777800000001,0,0,0,0,240110176,null,null,null,{"$f":"IFERROR(VLOOKUP(CONCATENATE(B1492,D1492),Padrón_Indígenas!$A$2:$G$988,7,0),\"No\")","v":"No"},{"$f":"VLOOKUP(E1492,Cat_Municipios!D1484:M1542,11)","v":{"$error":"#N/A"}}]
[24,"011","Ciudad_Fernández","0040","Rancho la Virgen (0040)","R","Ciudad Fernández (011)Rancho la Virgen (0040)",22.039444,-100.026667,10,"*","*",2,240110040,null,null,null,{"$f":"IFERROR(VLOOKUP(CONCATENATE(B1493,D1493),Padrón_Indígenas!$A$2:$G$988,7,0),\"No\")","v":"No"},{"$f":"VLOOKUP(E1493,Cat_Municipios!D1485:M1543,11)","v":{"$error":"#N/A"}}]
[24,"011","Ciudad_Fernández","0156","Rancho las Sandías (0156)","R","Ciudad Fernández (011)Rancho las Sandías (0156)",21.969588000000002,-100.010521,6,"*","*",1,240110156,null,null,null,{"$f":"IFERROR(VLOOKUP(CONCATENATE(B1494,D1494),Padrón_Indígenas!$A$2:$G$988,7,0),\"No\")","v":"No"},{"$f":"VLOOKUP(E1494,Cat_Municipios!D1486:M1544,11)","v":{"$error":"#N/A"}}]
[24,"011","Ciudad_Fernández","0027","Rancho Nuevo (0027)","R","Ciudad Fernández (011)Rancho Nuevo (0027)",22.059407,-100.41784699999999,57,18,39,16,240110027,null,"Alto","Bajo",{"$f":"IFERROR(VLOOKUP(CONCATENATE(B1495,D1495),Padrón_Indígenas!$A$2:$G$988,7,0),\"No\")","v":"No"},{"$f":"VLOOKUP(E1495,Cat_Municipios!D1487:M1545,11)","v":{"$error":"#N/A"}}]
[24,"011","Ciudad_Fernández","0157","Rancho San Benito (0157)","R","Ciudad Fernández (011)Rancho San Benito (0157)",21.930831999999999,-100.084564,5,"*","*",1,240110157,"SI",null,null,{"$f":"IFERROR(VLOOKUP(CONCATENATE(B1496,D1496),Padrón_Indígenas!$A$2:$G$988,7,0),\"No\")","v":"No"},{"$f":"VLOOKUP(E1496,Cat_Municipios!D1488:M1546,11)","v":{"$error":"#N/A"}}]
[24,"011","Ciudad_Fernández","0158","Rancho San José (0158)","R","Ciudad Fernández (011)Rancho San José (0158)",21.957424,-100.01413599999999,1,"*","*",1,240110158,null,null,null,{"$f":"IFERROR(VLOOKUP(CONCATENATE(B1497,D1497),Padrón_Indígenas!$A$2:$G$988,7,0),\"No\")","v":"No"},{"$f":"VLOOKUP(E1497,Cat_Municipios!D1489:M1547,11)","v":{"$error":"#N/A"}}]
[24,"011","Ciudad_Fernández","0131","Rancho San Juan (0131)","R","Ciudad Fernández (011)Rancho San Juan (0131)",22.004722000000001,-100.091944,7,"*","*",2,240110131,null,null,null,{"$f":"IFERROR(VLOOKUP(CONCATENATE(B1498,D1498),Padrón_Indígenas!$A$2:$G$988,7,0),\"No\")","v":"No"},{"$f":"VLOOKUP(E1498,Cat_Municipios!D1490:M1548,11)","v":{"$error":"#N/A"}}]
[24,"011","Ciudad_Fernández","0042","Rancho San Luis (0042)","R","Ciudad Fernández (011)Rancho San Luis (0042)",21.971395999999999,-100.023263,5,"*","*",1,240110042,null,null,null,{"$f":"IFERROR(VLOOKUP(CONCATENATE(B1499,D1499),Padrón_Indígenas!$A$2:$G$988,7,0),\"No\")","v":"No"},{"$f":"VLOOKUP(E1499,Cat_Municipios!D1491:M1549,11)","v":{"$error":"#N/A"}}]
[24,"011","Ciudad_Fernández","0159","Rancho Santa Amalia (0159)","R","Ciudad Fernández (011)Rancho Santa Amalia (0159)",21.932105,-100.080189,3,"*","*",1,240110159,"SI",null,null,{"$f":"IFERROR(VLOOKUP(CONCATENATE(B1500,D1500),Padrón_Indígenas!$A$2:$G$988,7,0),\"No\")","v":"No"},{"$f":"VLOOKUP(E1500,Cat_Municipios!D1492:M1550,11)","v":{"$error":"#N/A"}}]
[24,"011","Ciudad_Fernández","0160","Rancho Santa Catarina (0160)","R","Ciudad Fernández (011)Rancho Santa Catarina (0160)",21.929987000000001,-100.088234,0,0,0,0,240110160,null,null,null,{"$f":"IFERROR(VLOOKUP(CONCATENATE(B1501,D1501),Padrón_Indígenas!$A$2:$G$988,7,0),\"No\")","v":"No"},{"$f":"VLOOKUP(E1501,Cat_Municipios!D1493:M1551,11)","v":{"$error":"#N/A"}}]
[24,"011","Ciudad_Fernández","0113","Rancho Santa María (0113)","R","Ciudad Fernández (011)Rancho Santa María (0113)",21.958601999999999,-100.003782,7,"*","*",1,240110113,null,null,null,{"$f":"IFERROR(VLOOKUP(CONCATENATE(B1502,D1502),Padrón_Indígenas!$A$2:$G$988,7,0),\"No\")","v":"No"},{"$f":"VLOOKUP(E1502,Cat_Municipios!D1494:M1552,11)","v":{"$error":"#N/A"}}]
[24,"011","Ciudad_Fernández","0030","Rancho Xochipilli (0030)","R","Ciudad Fernández (011)Rancho Xochipilli (0030)",21.982011,-100.03548600000001,2,"*","*",2,240110030,null,null,null,{"$f":"IFERROR(VLOOKUP(CONCATENATE(B1503,D1503),Padrón_Indígenas!$A$2:$G$988,7,0),\"No\")","v":"No"},{"$f":"VLOOKUP(E1503,Cat_Municipios!D1495:M1553,11)","v":{"$error":"#N/A"}}]
[24,"011","Ciudad_Fernández","0018","San Isidro (0018)","R","Ciudad Fernández (011)San Isidro (0018)",22.031718000000001,-100.219521,204,103,101,51,240110018,null,"Alto","Bajo",{"$f":"IFERROR(VLOOKUP(CONCATENATE(B1504,D1504),Padrón_Indígenas!$A$2:$G$988,7,0),\"No\")","v":"No"},{"$f":"VLOOKUP(E1504,Cat_Municipios!D1496:M1554,11)","v":{"$error":"#N/A"}}]
[24,"011","Ciudad_Fernández","0111","San Isidro (0111)","R","Ciudad Fernández (011)San Isidro (0111)",21.967887000000001,-100.01951099999999,4,"*","*",2,240110111,null,null,null,{"$f":"IFERROR(VLOOKUP(CONCATENATE(B1505,D1505),Padrón_Indígenas!$A$2:$G$988,7,0),\"No\")","v":"No"},{"$f":"VLOOKUP(E1505,Cat_Municipios!D1497:M1555,11)","v":{"$error":"#N/A"}}]
[24,"011","Ciudad_Fernández","0019","San José del Terremoto (0019)","R","Ciudad Fernández (011)San José del Terremoto (0019)",22.027338,-100.406175,346,159,187,86,240110019,null,"Alto","Muy bajo",{"$f":"IFERROR(VLOOKUP(CONCATENATE(B1506,D1506),Padrón_Indígenas!$A$2:$G$988,7,0),\"No\")","v":"No"},{"$f":"VLOOKUP(E1506,Cat_Municipios!D1498:M1556,11)","v":{"$error":"#N/A"}}]
[24,"011","Ciudad_Fernández","0177","San Miguel (0177)","R","Ciudad Fernández (011)San Miguel (0177)",21.967628000000001,-99.994491999999994,0,0,0,0,240110177,null,null,null,{"$f":"IFERROR(VLOOKUP(CONCATENATE(B1507,D1507),Padrón_Indígenas!$A$2:$G$988,7,0),\"No\")","v":"No"},{"$f":"VLOOKUP(E1507,Cat_Municipios!D1499:M1557,11)","v":{"$error":"#N/A"}}]
[24,"011","Ciudad_Fernández","0112","San Onofre (0112)","R","Ciudad Fernández (011)San Onofre (0112)",21.943631,-100.093728,5,4,1,3,240110112,null,"Muy alto","Alto",{"$f":"IFERROR(VLOOKUP(CONCATENATE(B1508,D1508),Padrón_Indígenas!$A$2:$G$988,7,0),\"No\")","v":"No"},{"$f":"VLOOKUP(E1508,Cat_Municipios!D1500:M1558,11)","v":{"$error":"#N/A"}}]
[24,"011","Ciudad_Fernández","0033","San Pablo (0033)","R","Ciudad Fernández (011)San Pablo (0033)",21.968726,-100.04112600000001,261,132,129,72,240110033,"SI","Medio","Muy bajo",{"$f":"IFERROR(VLOOKUP(CONCATENATE(B1509,D1509),Padrón_Indígenas!$A$2:$G$988,7,0),\"No\")","v":"No"},{"$f":"VLOOKUP(E1509,Cat_Municipios!D1501:M1559,11)","v":{"$error":"#N/A"}}]
[24,"011","Ciudad_Fernández","0127","Santa Ana (0127)","R","Ciudad Fernández (011)Santa Ana (0127)",22.062808,-100.30774599999999,20,9,11,3,240110127,null,"Alto","Muy bajo",{"$f":"IFERROR(VLOOKUP(CONCATENATE(B1510,D1510),Padrón_Indígenas!$A$2:$G$988,7,0),\"No\")","v":"No"},{"$f":"VLOOKUP(E1510,Cat_Municipios!D1502:M1560,11)","v":{"$error":"#N/A"}}]
[24,"011","Ciudad_Fernández","0022","Solano (0022)","R","Ciudad Fernández (011)Solano (0022)",22.006813999999999,-100.104356,410,183,227,100,240110022,null,"Alto","Bajo",{"$f":"IFERROR(VLOOKUP(CONCATENATE(B1511,D1511),Padrón_Indígenas!$A$2:$G$988,7,0),\"No\")","v":"No"},{"$f":"VLOOKUP(E1511,Cat_Municipios!D1503:M1561,11)","v":{"$error":"#N/A"}}]
[24,"011","Ciudad_Fernández","0154","Splash [Parque Acuático] (0154)","R","Ciudad Fernández (011)Splash [Parque Acuático] (0154)",21.986674000000001,-100.016001,7,"*","*",1,240110154,null,null,null,{"$f":"IFERROR(VLOOKUP(CONCATENATE(B1512,D1512),Padrón_Indígenas!$A$2:$G$988,7,0),\"No\")","v":"No"},{"$f":"VLOOKUP(E1512,Cat_Municipios!D1504:M1562,11)","v":{"$error":"#N/A"}}]
[24,"011","Ciudad_Fernández","0118","Tomás González (0118)","R","Ciudad Fernández (011)Tomás González (0118)",21.963761999999999,-100.039879,0,0,0,0,240110118,null,null,null,{"$f":"IFERROR(VLOOKUP(CONCATENATE(B1513,D1513),Padrón_Indígenas!$A$2:$G$988,7,0),\"No\")","v":"No"},{"$f":"VLOOKUP(E1513,Cat_Municipios!D1505:M1563,11)","v":{"$error":"#N/A"}}]
[24,"011","Ciudad_Fernández",null,"Todo el municipio ",null,"Ciudad Fernández (011)Todo el municipio ",null,null,{"$f":"SUM(J1396:J1513)","v":43528}]
[24,"013","Ciudad_Valles","0870","7 Leguas (0870)","R","Ciudad Valles (013)7 Leguas (0870)",22.186019000000002,-98.978635999999995,0,0,0,0,240130870,null,null,null,{"$f":"IFERROR(VLOOKUP(CONCATENATE(B1515,D1515),Padrón_Indígenas!$A$2:$G$988,7,0),\"No\")","v":"No"},{"$f":"VLOOKUP(E1515,Cat_Municipios!D1506:M1564,11)","v":{"$error":"#N/A"}}]
[24,"013","Ciudad_Valles","0668","Adán Lárraga (0668)","R","Ciudad Valles (013)Adán Lárraga (0668)",21.929320000000001,-98.964558999999994,4,"*","*",1,240130668,null,null,null,{"$f":"IFERROR(VLOOKUP(CONCATENATE(B1516,D1516),Padrón_Indígenas!$A$2:$G$988,7,0),\"No\")","v":"No"},{"$f":"VLOOKUP(E1516,Cat_Municipios!D1507:M1565,11)","v":{"$error":"#N/A"}}]
[24,"013","Ciudad_Valles","0993","Adán Lárraga (0993)","R","Ciudad Valles (013)Adán Lárraga (0993)",22.006944000000001,-98.961667000000006,0,0,0,0,240130993,null,null,null,{"$f":"IFERROR(VLOOKUP(CONCATENATE(B1517,D1517),Padrón_Indígenas!$A$2:$G$988,7,0),\"No\")","v":"No"},{"$f":"VLOOKUP(E1517,Cat_Municipios!D1508:M1566,11)","v":{"$error":"#N/A"}}]
[24,"013","Ciudad_Valles","0005","Adolfo López Mateos (0005)","R","Ciudad Valles (013)Adolfo López Mateos (0005)",21.885058000000001,-98.903077999999994,205,99,106,44,240130005,"SI","Alto","Medio",{"$f":"IFERROR(VLOOKUP(CONCATENATE(B1518,D1518),Padrón_Indígenas!$A$2:$G$988,7,0),\"No\")","v":"No"},{"$f":"VLOOKUP(E1518,Cat_Municipios!D1509:M1567,11)","v":{"$error":"#N/A"}}]
[24,"013","Ciudad_Valles","0374","Albergue del Vado (Cuisillos) (0374)","R","Ciudad Valles (013)Albergue del Vado (Cuisillos) (0374)",22.216522999999999,-99.221613000000005,0,0,0,0,240130374,null,null,null,{"$f":"IFERROR(VLOOKUP(CONCATENATE(B1519,D1519),Padrón_Indígenas!$A$2:$G$988,7,0),\"No\")","v":"No"},{"$f":"VLOOKUP(E1519,Cat_Municipios!D1510:M1568,11)","v":{"$error":"#N/A"}}]
[24,"013","Ciudad_Valles","0786","Alfredo Martínez (0786)","R","Ciudad Valles (013)Alfredo Martínez (0786)",21.833269000000001,-99.062871000000001,1,"*","*",1,240130786,"SI",null,null,{"$f":"IFERROR(VLOOKUP(CONCATENATE(B1520,D1520),Padrón_Indígenas!$A$2:$G$988,7,0),\"No\")","v":"No"},{"$f":"VLOOKUP(E1520,Cat_Municipios!D1511:M1569,11)","v":{"$error":"#N/A"}}]
[24,"013","Ciudad_Valles","0083","Álvaro Obregón (0083)","R","Ciudad Valles (013)Álvaro Obregón (0083)",21.909417999999999,-98.951348999999993,10,4,6,4,240130083,"SI","Alto","Bajo",{"$f":"IFERROR(VLOOKUP(CONCATENATE(B1521,D1521),Padrón_Indígenas!$A$2:$G$988,7,0),\"No\")","v":"No"},{"$f":"VLOOKUP(E1521,Cat_Municipios!D1512:M1570,11)","v":{"$error":"#N/A"}}]
[24,"013","Ciudad_Valles","0010","Álvaro Obregón (El Pujal) (0010)","R","Ciudad Valles (013)Álvaro Obregón (El Pujal) (0010)",21.849418,-98.940805999999995,1409,693,716,363,240130010,"SI","Medio","Muy bajo",{"$f":"IFERROR(VLOOKUP(CONCATENATE(B1522,D1522),Padrón_Indígenas!$A$2:$G$988,7,0),\"No\")","v":"No"},{"$f":"VLOOKUP(E1522,Cat_Municipios!D1513:M1571,11)","v":{"$error":"#N/A"}}]
[24,"013","Ciudad_Valles","0562","Ampliación la Hincada (0562)","R","Ciudad Valles (013)Ampliación la Hincada (0562)",22.218053999999999,-99.237385000000003,1850,947,903,486,240130562,"SI","Medio","Muy bajo",{"$f":"IFERROR(VLOOKUP(CONCATENATE(B1523,D1523),Padrón_Indígenas!$A$2:$G$988,7,0),\"No\")","v":"No"},{"$f":"VLOOKUP(E1523,Cat_Municipios!D1514:M1572,11)","v":{"$error":"#N/A"}}]
[24,"013","Ciudad_Valles","1078","Anastasio Castillo (1078)","R","Ciudad Valles (013)Anastasio Castillo (1078)",22.013342999999999,-99.081331000000006,0,0,0,0,240131078,null,null,null,{"$f":"IFERROR(VLOOKUP(CONCATENATE(B1524,D1524),Padrón_Indígenas!$A$2:$G$988,7,0),\"No\")","v":"No"},{"$f":"VLOOKUP(E1524,Cat_Municipios!D1515:M1573,11)","v":{"$error":"#N/A"}}]
[24,"013","Ciudad_Valles","0867","Andrea San Juan (0867)","R","Ciudad Valles (013)Andrea San Juan (0867)",22.053623999999999,-99.232643999999993,13,6,7,4,240130867,null,"Alto","Medio",{"$f":"IFERROR(VLOOKUP(CONCATENATE(B1525,D1525),Padrón_Indígenas!$A$2:$G$988,7,0),\"No\")","v":"No"},{"$f":"VLOOKUP(E1525,Cat_Municipios!D1516:M1574,11)","v":{"$error":"#N/A"}}]
[24,"013","Ciudad_Valles","0482","Antiguo Tambolón (0482)","R","Ciudad Valles (013)Antiguo Tambolón (0482)",21.833383000000001,-98.961793,61,33,28,19,240130482,null,"Alto","Bajo",{"$f":"IFERROR(VLOOKUP(CONCATENATE(B1526,D1526),Padrón_Indígenas!$A$2:$G$988,7,0),\"No\")","v":"No"},{"$f":"VLOOKUP(E1526,Cat_Municipios!D1517:M1575,11)","v":{"$error":"#N/A"}}]
[24,"013","Ciudad_Valles","0813","Antonio Torres (0813)","R","Ciudad Valles (013)Antonio Torres (0813)",21.843419999999998,-99.044877999999997,0,0,0,0,240130813,null,null,null,{"$f":"IFERROR(VLOOKUP(CONCATENATE(B1527,D1527),Padrón_Indígenas!$A$2:$G$988,7,0),\"No\")","v":"No"},{"$f":"VLOOKUP(E1527,Cat_Municipios!D1518:M1576,11)","v":{"$error":"#N/A"}}]
[24,"013","Ciudad_Valles","0701","Asturias (0701)","R","Ciudad Valles (013)Asturias (0701)",22.019504000000001,-99.140411,4,"*","*",1,240130701,"SI",null,null,{"$f":"IFERROR(VLOOKUP(CONCATENATE(B1528,D1528),Padrón_Indígenas!$A$2:$G$988,7,0),\"No\")","v":"No"},{"$f":"VLOOKUP(E1528,Cat_Municipios!D1519:M1577,11)","v":{"$error":"#N/A"}}]
[24,"013","Ciudad_Valles","0816","Baroc (Carlos Martínez) (0816)","R","Ciudad Valles (013)Baroc (Carlos Martínez) (0816)",22.197500000000002,-98.967777999999996,0,0,0,0,240130816,null,null,null,{"$f":"IFERROR(VLOOKUP(CONCATENATE(B1529,D1529),Padrón_Indígenas!$A$2:$G$988,7,0),\"No\")","v":"No"},{"$f":"VLOOKUP(E1529,Cat_Municipios!D1520:M1578,11)","v":{"$error":"#N/A"}}]
[24,"013","Ciudad_Valles","0357","Birmania (0357)","R","Ciudad Valles (013)Birmania (0357)",21.946943999999998,-98.993055999999996,7,"*","*",1,240130357,null,null,null,{"$f":"IFERROR(VLOOKUP(CONCATENATE(B1530,D1530),Padrón_Indígenas!$A$2:$G$988,7,0),\"No\")","v":"No"},{"$f":"VLOOKUP(E1530,Cat_Municipios!D1521:M1579,11)","v":{"$error":"#N/A"}}]
[24,"013","Ciudad_Valles","0877","Blas Méndez (0877)","R","Ciudad Valles (013)Blas Méndez (0877)",22.107641999999998,-98.987240999999997,0,0,0,0,240130877,null,null,null,{"$f":"IFERROR(VLOOKUP(CONCATENATE(B1531,D1531),Padrón_Indígenas!$A$2:$G$988,7,0),\"No\")","v":"No"},{"$f":"VLOOKUP(E1531,Cat_Municipios!D1522:M1580,11)","v":{"$error":"#N/A"}}]
[24,"013","Ciudad_Valles","0020","Buena Vista (0020)","R","Ciudad Valles (013)Buena Vista (0020)",22.329342,-99.029184000000001,204,101,103,54,240130020,"SI","Alto","Bajo",{"$f":"IFERROR(VLOOKUP(CONCATENATE(B1532,D1532),Padrón_Indígenas!$A$2:$G$988,7,0),\"No\")","v":"No"},{"$f":"VLOOKUP(E1532,Cat_Municipios!D1523:M1581,11)","v":{"$error":"#N/A"}}]
[24,"013","Ciudad_Valles","0806","Buena Vista (0806)","R","Ciudad Valles (013)Buena Vista (0806)",21.985987000000002,-99.103425999999999,0,0,0,0,240130806,null,null,null,{"$f":"IFERROR(VLOOKUP(CONCATENATE(B1533,D1533),Padrón_Indígenas!$A$2:$G$988,7,0),\"No\")","v":"No"},{"$f":"VLOOKUP(E1533,Cat_Municipios!D1524:M1582,11)","v":{"$error":"#N/A"}}]
[24,"013","Ciudad_Valles","0444","Buenavista (0444)","R","Ciudad Valles (013)Buenavista (0444)",21.947745999999999,-99.086033999999998,114,52,62,26,240130444,"SI","Alto","Bajo",{"$f":"IFERROR(VLOOKUP(CONCATENATE(B1534,D1534),Padrón_Indígenas!$A$2:$G$988,7,0),\"No\")","v":"No"},{"$f":"VLOOKUP(E1534,Cat_Municipios!D1525:M1583,11)","v":{"$error":"#N/A"}}]
[24,"013","Ciudad_Valles","0471","Buenos Aires (0471)","R","Ciudad Valles (013)Buenos Aires (0471)",21.863056,-99.080278000000007,75,42,33,15,240130471,"SI","Alto","Medio",{"$f":"IFERROR(VLOOKUP(CONCATENATE(B1535,D1535),Padrón_Indígenas!$A$2:$G$988,7,0),\"No\")","v":"Sí"},{"$f":"VLOOKUP(E1535,Cat_Municipios!D1526:M1584,11)","v":{"$error":"#N/A"}}]
[24,"013","Ciudad_Valles","0741","Buenos Aires (0741)","R","Ciudad Valles (013)Buenos Aires (0741)",21.909417000000001,-99.020111999999997,0,0,0,0,240130741,null,null,null,{"$f":"IFERROR(VLOOKUP(CONCATENATE(B1536,D1536),Padrón_Indígenas!$A$2:$G$988,7,0),\"No\")","v":"No"},{"$f":"VLOOKUP(E1536,Cat_Municipios!D1527:M1585,11)","v":{"$error":"#N/A"}}]
[24,"013","Ciudad_Valles","0495","Cabaña de los Tíos (Las Cruces) (0495)","R","Ciudad Valles (013)Cabaña de los Tíos (Las Cruces) (0495)",22.050833000000001,-99.020832999999996,0,0,0,0,240130495,null,null,null,{"$f":"IFERROR(VLOOKUP(CONCATENATE(B1537,D1537),Padrón_Indígenas!$A$2:$G$988,7,0),\"No\")","v":"No"},{"$f":"VLOOKUP(E1537,Cat_Municipios!D1528:M1586,11)","v":{"$error":"#N/A"}}]
[24,"013","Ciudad_Valles","0970","Cambeses (0970)","R","Ciudad Valles (013)Cambeses (0970)",21.950023000000002,-98.997902999999994,8,"*","*",2,240130970,null,null,null,{"$f":"IFERROR(VLOOKUP(CONCATENATE(B1538,D1538),Padrón_Indígenas!$A$2:$G$988,7,0),\"No\")","v":"No"},{"$f":"VLOOKUP(E1538,Cat_Municipios!D1529:M1587,11)","v":{"$error":"#N/A"}}]
[24,"013","Ciudad_Valles","0024","Camillas (0024)","R","Ciudad Valles (013)Camillas (0024)",22.056802000000001,-99.139082999999999,289,148,141,81,240130024,"SI","Medio","Bajo",{"$f":"IFERROR(VLOOKUP(CONCATENATE(B1539,D1539),Padrón_Indígenas!$A$2:$G$988,7,0),\"No\")","v":"No"},{"$f":"VLOOKUP(E1539,Cat_Municipios!D1530:M1588,11)","v":{"$error":"#N/A"}}]
[24,"013","Ciudad_Valles","0233","Campo Atonatilco (0233)","R","Ciudad Valles (013)Campo Atonatilco (0233)",22.047865000000002,-99.080865000000003,14,7,7,4,240130233,null,"Muy alto","Medio",{"$f":"IFERROR(VLOOKUP(CONCATENATE(B1540,D1540),Padrón_Indígenas!$A$2:$G$988,7,0),\"No\")","v":"No"},{"$f":"VLOOKUP(E1540,Cat_Municipios!D1531:M1589,11)","v":{"$error":"#N/A"}}]
[24,"013","Ciudad_Valles","0826","Campo Colombia (0826)","R","Ciudad Valles (013)Campo Colombia (0826)",22.195429000000001,-99.217791000000005,6,"*","*",1,240130826,null,null,null,{"$f":"IFERROR(VLOOKUP(CONCATENATE(B1541,D1541),Padrón_Indígenas!$A$2:$G$988,7,0),\"No\")","v":"No"},{"$f":"VLOOKUP(E1541,Cat_Municipios!D1532:M1590,11)","v":{"$error":"#N/A"}}]
[24,"013","Ciudad_Valles","0784","Campo del Capulín (0784)","R","Ciudad Valles (013)Campo del Capulín (0784)",21.822489999999998,-99.061813999999998,8,5,3,3,240130784,"SI","Muy alto","Muy alto",{"$f":"IFERROR(VLOOKUP(CONCATENATE(B1542,D1542),Padrón_Indígenas!$A$2:$G$988,7,0),\"No\")","v":"No"},{"$f":"VLOOKUP(E1542,Cat_Municipios!D1533:M1591,11)","v":{"$error":"#N/A"}}]
[24,"013","Ciudad_Valles","0827","Campo el Arrozal (0827)","R","Ciudad Valles (013)Campo el Arrozal (0827)",21.982222,-99.266666999999998,2,"*","*",1,240130827,null,null,null,{"$f":"IFERROR(VLOOKUP(CONCATENATE(B1543,D1543),Padrón_Indígenas!$A$2:$G$988,7,0),\"No\")","v":"No"},{"$f":"VLOOKUP(E1543,Cat_Municipios!D1534:M1592,11)","v":{"$error":"#N/A"}}]
[24,"013","Ciudad_Valles","0560","Campo la Flor (Tampujeque la Flor) (0560)","R","Ciudad Valles (013)Campo la Flor (Tampujeque la Flor) (0560)",22.306746,-99.038664999999995,3,"*","*",1,240130560,null,null,null,{"$f":"IFERROR(VLOOKUP(CONCATENATE(B1544,D1544),Padrón_Indígenas!$A$2:$G$988,7,0),\"No\")","v":"No"},{"$f":"VLOOKUP(E1544,Cat_Municipios!D1535:M1593,11)","v":{"$error":"#N/A"}}]
[24,"013","Ciudad_Valles","1041","Campo Negro (1041)","R","Ciudad Valles (013)Campo Negro (1041)",22.124507999999999,-99.209429999999998,0,0,0,0,240131041,null,null,null,{"$f":"IFERROR(VLOOKUP(CONCATENATE(B1545,D1545),Padrón_Indígenas!$A$2:$G$988,7,0),\"No\")","v":"No"},{"$f":"VLOOKUP(E1545,Cat_Municipios!D1536:M1594,11)","v":{"$error":"#N/A"}}]
[24,"013","Ciudad_Valles","0027","Campo Negro (Rogelio Contreras Espinoza) (0027)","R","Ciudad Valles (013)Campo Negro (Rogelio Contreras Espinoza) (0027)",22.131136000000001,-99.210066999999995,10,"*","*",1,240130027,"SI",null,null,{"$f":"IFERROR(VLOOKUP(CONCATENATE(B1546,D1546),Padrón_Indígenas!$A$2:$G$988,7,0),\"No\")","v":"No"},{"$f":"VLOOKUP(E1546,Cat_Municipios!D1537:M1595,11)","v":{"$error":"#N/A"}}]
[24,"013","Ciudad_Valles","0032","Carrizalito (0032)","R","Ciudad Valles (013)Carrizalito (0032)",22.216894,-99.281565000000001,0,0,0,0,240130032,null,null,null,{"$f":"IFERROR(VLOOKUP(CONCATENATE(B1547,D1547),Padrón_Indígenas!$A$2:$G$988,7,0),\"No\")","v":"No"},{"$f":"VLOOKUP(E1547,Cat_Municipios!D1538:M1596,11)","v":{"$error":"#N/A"}}]
[24,"013","Ciudad_Valles","0268","Casa Blanca (0268)","R","Ciudad Valles (013)Casa Blanca (0268)",21.990366999999999,-99.244062999999997,234,113,121,55,240130268,null,"Alto","Bajo",{"$f":"IFERROR(VLOOKUP(CONCATENATE(B1548,D1548),Padrón_Indígenas!$A$2:$G$988,7,0),\"No\")","v":"No"},{"$f":"VLOOKUP(E1548,Cat_Municipios!D1539:M1597,11)","v":{"$error":"#N/A"}}]
[24,"013","Ciudad_Valles","0534","Casa Grande (0534)","R","Ciudad Valles (013)Casa Grande (0534)",22.219010999999998,-98.970763000000005,0,0,0,0,240130534,null,null,null,{"$f":"IFERROR(VLOOKUP(CONCATENATE(B1549,D1549),Padrón_Indígenas!$A$2:$G$988,7,0),\"No\")","v":"No"},{"$f":"VLOOKUP(E1549,Cat_Municipios!D1540:M1598,11)","v":{"$error":"#N/A"}}]
[24,"013","Ciudad_Valles","0488","Catán (0488)","R","Ciudad Valles (013)Catán (0488)",21.843484,-98.902353000000005,34,13,21,9,240130488,"SI","Muy alto","Alto",{"$f":"IFERROR(VLOOKUP(CONCATENATE(B1550,D1550),Padrón_Indígenas!$A$2:$G$988,7,0),\"No\")","v":"No"},{"$f":"VLOOKUP(E1550,Cat_Municipios!D1541:M1599,11)","v":{"$error":"#N/A"}}]
[24,"013","Ciudad_Valles","0721","Catancito (0721)","R","Ciudad Valles (013)Catancito (0721)",21.847180000000002,-98.889540999999994,0,0,0,0,240130721,null,null,null,{"$f":"IFERROR(VLOOKUP(CONCATENATE(B1551,D1551),Padrón_Indígenas!$A$2:$G$988,7,0),\"No\")","v":"No"},{"$f":"VLOOKUP(E1551,Cat_Municipios!D1542:M1600,11)","v":{"$error":"#N/A"}}]
[24,"013","Ciudad_Valles","0489","Centella (0489)","R","Ciudad Valles (013)Centella (0489)",22.173888999999999,-98.961111000000002,3,"*","*",1,240130489,null,null,null,{"$f":"IFERROR(VLOOKUP(CONCATENATE(B1552,D1552),Padrón_Indígenas!$A$2:$G$988,7,0),\"No\")","v":"No"},{"$f":"VLOOKUP(E1552,Cat_Municipios!D1543:M1601,11)","v":{"$error":"#N/A"}}]
[24,"013","Ciudad_Valles","1098","Centro de Readaptación Social [Penitenciaría] (1098)","R","Ciudad Valles (013)Centro de Readaptación Social [Penitenciaría] (1098)",22.077435000000001,-98.980953999999997,0,0,0,0,240131098,null,null,null,{"$f":"IFERROR(VLOOKUP(CONCATENATE(B1553,D1553),Padrón_Indígenas!$A$2:$G$988,7,0),\"No\")","v":"No"},{"$f":"VLOOKUP(E1553,Cat_Municipios!D1544:M1602,11)","v":{"$error":"#N/A"}}]
[24,"013","Ciudad_Valles","0832","Centro Ecológico [SEDUE] (0832)","R","Ciudad Valles (013)Centro Ecológico [SEDUE] (0832)",22.244949999999999,-99.032347999999999,0,0,0,0,240130832,null,null,null,{"$f":"IFERROR(VLOOKUP(CONCATENATE(B1554,D1554),Padrón_Indígenas!$A$2:$G$988,7,0),\"No\")","v":"No"},{"$f":"VLOOKUP(E1554,Cat_Municipios!D1545:M1603,11)","v":{"$error":"#N/A"}}]
[24,"013","Ciudad_Valles","0253","Cerro Alto (0253)","R","Ciudad Valles (013)Cerro Alto (0253)",22.147680999999999,-99.046252999999993,385,194,191,106,240130253,"SI","Alto","Bajo",{"$f":"IFERROR(VLOOKUP(CONCATENATE(B1555,D1555),Padrón_Indígenas!$A$2:$G$988,7,0),\"No\")","v":"No"},{"$f":"VLOOKUP(E1555,Cat_Municipios!D1546:M1604,11)","v":{"$error":"#N/A"}}]
[24,"013","Ciudad_Valles","0377","Chantol (0377)","R","Ciudad Valles (013)Chantol (0377)",22.100693,-99.091932999999997,207,109,98,47,240130377,"SI","Alto","Medio",{"$f":"IFERROR(VLOOKUP(CONCATENATE(B1556,D1556),Padrón_Indígenas!$A$2:$G$988,7,0),\"No\")","v":"No"},{"$f":"VLOOKUP(E1556,Cat_Municipios!D1547:M1605,11)","v":{"$error":"#N/A"}}]
[24,"013","Ciudad_Valles","0060","Chipico (0060)","R","Ciudad Valles (013)Chipico (0060)",21.84254,-99.035526000000004,21,11,10,6,240130060,null,"Muy alto","Alto",{"$f":"IFERROR(VLOOKUP(CONCATENATE(B1557,D1557),Padrón_Indígenas!$A$2:$G$988,7,0),\"No\")","v":"No"},{"$f":"VLOOKUP(E1557,Cat_Municipios!D1548:M1606,11)","v":{"$error":"#N/A"}}]
[24,"013","Ciudad_Valles","0214","Cielito Lindo (El Tamaquich) (0214)","R","Ciudad Valles (013)Cielito Lindo (El Tamaquich) (0214)",21.938414000000002,-98.979285000000004,4,"*","*",1,240130214,"SI",null,null,{"$f":"IFERROR(VLOOKUP(CONCATENATE(B1558,D1558),Padrón_Indígenas!$A$2:$G$988,7,0),\"No\")","v":"No"},{"$f":"VLOOKUP(E1558,Cat_Municipios!D1549:M1607,11)","v":{"$error":"#N/A"}}]
[24,"013","Ciudad_Valles","0040","Cien Fuegos (0040)","R","Ciudad Valles (013)Cien Fuegos (0040)",21.852917999999999,-98.874416999999994,9,"*","*",2,240130040,null,null,null,{"$f":"IFERROR(VLOOKUP(CONCATENATE(B1559,D1559),Padrón_Indígenas!$A$2:$G$988,7,0),\"No\")","v":"No"},{"$f":"VLOOKUP(E1559,Cat_Municipios!D1550:M1608,11)","v":{"$error":"#N/A"}}]
[24,"013","Ciudad_Valles","0443","Cinco de Mayo (0443)","R","Ciudad Valles (013)Cinco de Mayo (0443)",22.164560999999999,-99.194792000000007,0,0,0,0,240130443,null,null,null,{"$f":"IFERROR(VLOOKUP(CONCATENATE(B1560,D1560),Padrón_Indígenas!$A$2:$G$988,7,0),\"No\")","v":"No"},{"$f":"VLOOKUP(E1560,Cat_Municipios!D1551:M1609,11)","v":{"$error":"#N/A"}}]
[24,"013","Ciudad_Valles","0001","Ciudad Valles (0001)","U","Ciudad Valles (013)Ciudad Valles (0001)",21.986536999999998,-99.018720999999999,124644,59469,65175,33727,240130001,"SI",null,null,{"$f":"IFERROR(VLOOKUP(CONCATENATE(B1561,D1561),Padrón_Indígenas!$A$2:$G$988,7,0),\"No\")","v":"No"},{"$f":"VLOOKUP(E1561,Cat_Municipios!D1552:M1610,11)","v":{"$error":"#N/A"}}]
[24,"013","Ciudad_Valles","0837","Claudia Altamirano (Pacaque) (0837)","R","Ciudad Valles (013)Claudia Altamirano (Pacaque) (0837)",22.351081000000001,-99.158569,4,"*","*",1,240130837,null,null,null,{"$f":"IFERROR(VLOOKUP(CONCATENATE(B1562,D1562),Padrón_Indígenas!$A$2:$G$988,7,0),\"No\")","v":"No"},{"$f":"VLOOKUP(E1562,Cat_Municipios!D1553:M1611,11)","v":{"$error":"#N/A"}}]
[24,"013","Ciudad_Valles","0791","Cleofas Márquez (La Curva) (0791)","R","Ciudad Valles (013)Cleofas Márquez (La Curva) (0791)",21.920014999999999,-99.022863999999998,0,0,0,0,240130791,null,null,null,{"$f":"IFERROR(VLOOKUP(CONCATENATE(B1563,D1563),Padrón_Indígenas!$A$2:$G$988,7,0),\"No\")","v":"No"},{"$f":"VLOOKUP(E1563,Cat_Municipios!D1554:M1612,11)","v":{"$error":"#N/A"}}]
[24,"013","Ciudad_Valles","0596","Colmenas (0596)","R","Ciudad Valles (013)Colmenas (0596)",21.894869,-98.999105999999998,6,"*","*",1,240130596,null,null,null,{"$f":"IFERROR(VLOOKUP(CONCATENATE(B1564,D1564),Padrón_Indígenas!$A$2:$G$988,7,0),\"No\")","v":"No"},{"$f":"VLOOKUP(E1564,Cat_Municipios!D1555:M1613,11)","v":{"$error":"#N/A"}}]
[24,"013","Ciudad_Valles","0840","Colonia Citlalmina (0840)","R","Ciudad Valles (013)Colonia Citlalmina (0840)",22.024702000000001,-98.976868999999994,450,214,236,124,240130840,"SI","Alto","Muy bajo",{"$f":"IFERROR(VLOOKUP(CONCATENATE(B1565,D1565),Padrón_Indígenas!$A$2:$G$988,7,0),\"No\")","v":"No"},{"$f":"VLOOKUP(E1565,Cat_Municipios!D1556:M1614,11)","v":{"$error":"#N/A"}}]
[24,"013","Ciudad_Valles","1099","Colonia Ejidal Lázaro Cárdenas del Río (1099)","R","Ciudad Valles (013)Colonia Ejidal Lázaro Cárdenas del Río (1099)",22.025832999999999,-99.014722000000006,37,19,18,9,240131099,"SI","Muy alto","Alto",{"$f":"IFERROR(VLOOKUP(CONCATENATE(B1566,D1566),Padrón_Indígenas!$A$2:$G$988,7,0),\"No\")","v":"No"},{"$f":"VLOOKUP(E1566,Cat_Municipios!D1557:M1615,11)","v":{"$error":"#N/A"}}]
[24,"013","Ciudad_Valles","0998","Colonia Eligio Quintanilla (0998)","R","Ciudad Valles (013)Colonia Eligio Quintanilla (0998)",22.022469999999998,-98.977176,120,64,56,33,240130998,"SI","Alto","Bajo",{"$f":"IFERROR(VLOOKUP(CONCATENATE(B1567,D1567),Padrón_Indígenas!$A$2:$G$988,7,0),\"No\")","v":"No"},{"$f":"VLOOKUP(E1567,Cat_Municipios!D1558:M1616,11)","v":{"$error":"#N/A"}}]
[24,"013","Ciudad_Valles","0082","Colonia Ignacio Zaragoza (0082)","R","Ciudad Valles (013)Colonia Ignacio Zaragoza (0082)",22.29111,-99.148996999999994,722,365,357,201,240130082,null,"Alto","Bajo",{"$f":"IFERROR(VLOOKUP(CONCATENATE(B1568,D1568),Padrón_Indígenas!$A$2:$G$988,7,0),\"No\")","v":"No"},{"$f":"VLOOKUP(E1568,Cat_Municipios!D1559:M1617,11)","v":{"$error":"#N/A"}}]
[24,"013","Ciudad_Valles","1100","Colonia Juan González (1100)","R","Ciudad Valles (013)Colonia Juan González (1100)",22.040444000000001,-99.029229000000001,16,7,9,3,240131100,"SI","Muy alto","Alto",{"$f":"IFERROR(VLOOKUP(CONCATENATE(B1569,D1569),Padrón_Indígenas!$A$2:$G$988,7,0),\"No\")","v":"No"},{"$f":"VLOOKUP(E1569,Cat_Municipios!D1560:M1618,11)","v":{"$error":"#N/A"}}]
[24,"013","Ciudad_Valles","0999","Colonia Luis Donaldo Colosio (0999)","R","Ciudad Valles (013)Colonia Luis Donaldo Colosio (0999)",22.037229,-99.028126,82,44,38,19,240130999,"SI","Alto","Medio",{"$f":"IFERROR(VLOOKUP(CONCATENATE(B1570,D1570),Padrón_Indígenas!$A$2:$G$988,7,0),\"No\")","v":"No"},{"$f":"VLOOKUP(E1570,Cat_Municipios!D1561:M1619,11)","v":{"$error":"#N/A"}}]
[24,"013","Ciudad_Valles","1064","Colonia Mano Amiga (1064)","R","Ciudad Valles (013)Colonia Mano Amiga (1064)",22.035402999999999,-99.000573000000003,32,15,17,8,240131064,"SI","Muy alto","Alto",{"$f":"IFERROR(VLOOKUP(CONCATENATE(B1571,D1571),Padrón_Indígenas!$A$2:$G$988,7,0),\"No\")","v":"No"},{"$f":"VLOOKUP(E1571,Cat_Municipios!D1562:M1620,11)","v":{"$error":"#N/A"}}]
[24,"013","Ciudad_Valles","1096","Colonia Palma Sola (1096)","R","Ciudad Valles (013)Colonia Palma Sola (1096)",21.992262,-98.981032999999996,252,130,122,63,240131096,"SI","Muy alto","Alto",{"$f":"IFERROR(VLOOKUP(CONCATENATE(B1572,D1572),Padrón_Indígenas!$A$2:$G$988,7,0),\"No\")","v":"No"},{"$f":"VLOOKUP(E1572,Cat_Municipios!D1563:M1621,11)","v":{"$error":"#N/A"}}]
[24,"013","Ciudad_Valles","0781","Colonia Rodríguez (0781)","R","Ciudad Valles (013)Colonia Rodríguez (0781)",21.964905999999999,-98.970208999999997,40,25,15,10,240130781,"SI","Muy alto","Alto",{"$f":"IFERROR(VLOOKUP(CONCATENATE(B1573,D1573),Padrón_Indígenas!$A$2:$G$988,7,0),\"No\")","v":"No"},{"$f":"VLOOKUP(E1573,Cat_Municipios!D1564:M1622,11)","v":{"$error":"#N/A"}}]
[24,"013","Ciudad_Valles","0842","Colonia Victoria (0842)","R","Ciudad Valles (013)Colonia Victoria (0842)",22.023056,-98.976944000000003,97,50,47,31,240130842,"SI","Alto","Medio",{"$f":"IFERROR(VLOOKUP(CONCATENATE(B1574,D1574),Padrón_Indígenas!$A$2:$G$988,7,0),\"No\")","v":"No"},{"$f":"VLOOKUP(E1574,Cat_Municipios!D1565:M1623,11)","v":{"$error":"#N/A"}}]
[24,"013","Ciudad_Valles","0843","Concepción Díaz (El Coy) (0843)","R","Ciudad Valles (013)Concepción Díaz (El Coy) (0843)",21.752908000000001,-98.943724000000003,0,0,0,0,240130843,null,null,null,{"$f":"IFERROR(VLOOKUP(CONCATENATE(B1575,D1575),Padrón_Indígenas!$A$2:$G$988,7,0),\"No\")","v":"No"},{"$f":"VLOOKUP(E1575,Cat_Municipios!D1566:M1624,11)","v":{"$error":"#N/A"}}]
[24,"013","Ciudad_Valles","1101","Conejos (1101)","R","Ciudad Valles (013)Conejos (1101)",21.95966,-98.975345000000004,6,"*","*",1,240131101,"SI",null,null,{"$f":"IFERROR(VLOOKUP(CONCATENATE(B1576,D1576),Padrón_Indígenas!$A$2:$G$988,7,0),\"No\")","v":"No"},{"$f":"VLOOKUP(E1576,Cat_Municipios!D1567:M1625,11)","v":{"$error":"#N/A"}}]
[24,"013","Ciudad_Valles","0845","Constancio Sánchez (0845)","R","Ciudad Valles (013)Constancio Sánchez (0845)",22.087499999999999,-98.919721999999993,4,"*","*",2,240130845,null,null,null,{"$f":"IFERROR(VLOOKUP(CONCATENATE(B1577,D1577),Padrón_Indígenas!$A$2:$G$988,7,0),\"No\")","v":"No"},{"$f":"VLOOKUP(E1577,Cat_Municipios!D1568:M1626,11)","v":{"$error":"#N/A"}}]
[24,"013","Ciudad_Valles","0051","Coyoles (0051)","R","Ciudad Valles (013)Coyoles (0051)",22.043244000000001,-99.115553000000006,632,316,316,170,240130051,"SI","Alto","Bajo",{"$f":"IFERROR(VLOOKUP(CONCATENATE(B1578,D1578),Padrón_Indígenas!$A$2:$G$988,7,0),\"No\")","v":"No"},{"$f":"VLOOKUP(E1578,Cat_Municipios!D1569:M1627,11)","v":{"$error":"#N/A"}}]
[24,"013","Ciudad_Valles","0849","Crucero de la Mula (0849)","R","Ciudad Valles (013)Crucero de la Mula (0849)",21.988265999999999,-99.254480999999998,5,"*","*",2,240130849,null,null,null,{"$f":"IFERROR(VLOOKUP(CONCATENATE(B1579,D1579),Padrón_Indígenas!$A$2:$G$988,7,0),\"No\")","v":"No"},{"$f":"VLOOKUP(E1579,Cat_Municipios!D1570:M1628,11)","v":{"$error":"#N/A"}}]
[24,"013","Ciudad_Valles","0850","Crucero de Tantóbal (0850)","R","Ciudad Valles (013)Crucero de Tantóbal (0850)",21.790655999999998,-98.951068000000006,12,"*","*",2,240130850,"SI",null,null,{"$f":"IFERROR(VLOOKUP(CONCATENATE(B1580,D1580),Padrón_Indígenas!$A$2:$G$988,7,0),\"No\")","v":"No"},{"$f":"VLOOKUP(E1580,Cat_Municipios!D1571:M1629,11)","v":{"$error":"#N/A"}}]
[24,"013","Ciudad_Valles","0672","Crucero las Pitas (0672)","R","Ciudad Valles (013)Crucero las Pitas (0672)",22.371369000000001,-99.055289999999999,40,20,20,10,240130672,"SI","Alto","Medio",{"$f":"IFERROR(VLOOKUP(CONCATENATE(B1581,D1581),Padrón_Indígenas!$A$2:$G$988,7,0),\"No\")","v":"No"},{"$f":"VLOOKUP(E1581,Cat_Municipios!D1572:M1630,11)","v":{"$error":"#N/A"}}]
[24,"013","Ciudad_Valles","1102","Cruz de Aquiche (1102)","R","Ciudad Valles (013)Cruz de Aquiche (1102)",22.061933,-98.981212999999997,3,"*","*",1,240131102,"SI",null,null,{"$f":"IFERROR(VLOOKUP(CONCATENATE(B1582,D1582),Padrón_Indígenas!$A$2:$G$988,7,0),\"No\")","v":"No"},{"$f":"VLOOKUP(E1582,Cat_Municipios!D1573:M1631,11)","v":{"$error":"#N/A"}}]
[24,"013","Ciudad_Valles","0054","Cuatro Caminos (0054)","R","Ciudad Valles (013)Cuatro Caminos (0054)",21.926611999999999,-99.017213999999996,10,4,6,3,240130054,"SI","Alto","Bajo",{"$f":"IFERROR(VLOOKUP(CONCATENATE(B1583,D1583),Padrón_Indígenas!$A$2:$G$988,7,0),\"No\")","v":"No"},{"$f":"VLOOKUP(E1583,Cat_Municipios!D1574:M1632,11)","v":{"$error":"#N/A"}}]
[24,"013","Ciudad_Valles","1133","Cumbres [Motel] (1133)","R","Ciudad Valles (013)Cumbres [Motel] (1133)",22.057780000000001,-98.983853999999994,1,"*","*",1,240131133,null,null,null,{"$f":"IFERROR(VLOOKUP(CONCATENATE(B1584,D1584),Padrón_Indígenas!$A$2:$G$988,7,0),\"No\")","v":"No"},{"$f":"VLOOKUP(E1584,Cat_Municipios!D1575:M1633,11)","v":{"$error":"#N/A"}}]
[24,"013","Ciudad_Valles","1033","David Rodríguez Hernández (1033)","R","Ciudad Valles (013)David Rodríguez Hernández (1033)",22.147023999999998,-98.970696000000004,0,0,0,0,240131033,null,null,null,{"$f":"IFERROR(VLOOKUP(CONCATENATE(B1585,D1585),Padrón_Indígenas!$A$2:$G$988,7,0),\"No\")","v":"No"},{"$f":"VLOOKUP(E1585,Cat_Municipios!D1576:M1634,11)","v":{"$error":"#N/A"}}]
[24,"013","Ciudad_Valles","1002","Don Ramón (1002)","R","Ciudad Valles (013)Don Ramón (1002)",21.966388999999999,-99.038611000000003,0,0,0,0,240131002,null,null,null,{"$f":"IFERROR(VLOOKUP(CONCATENATE(B1586,D1586),Padrón_Indígenas!$A$2:$G$988,7,0),\"No\")","v":"No"},{"$f":"VLOOKUP(E1586,Cat_Municipios!D1577:M1635,11)","v":{"$error":"#N/A"}}]
[24,"013","Ciudad_Valles","0796","Don Saúl (Buenos Aires) (0796)","R","Ciudad Valles (013)Don Saúl (Buenos Aires) (0796)",21.909402,-99.031208000000007,0,0,0,0,240130796,null,null,null,{"$f":"IFERROR(VLOOKUP(CONCATENATE(B1587,D1587),Padrón_Indígenas!$A$2:$G$988,7,0),\"No\")","v":"No"},{"$f":"VLOOKUP(E1587,Cat_Municipios!D1578:M1636,11)","v":{"$error":"#N/A"}}]
[24,"013","Ciudad_Valles","1156","Don Teodoro (1156)","R","Ciudad Valles (013)Don Teodoro (1156)",22.078406000000001,-98.971971999999994,"-","-","-","-",240131156,null,null,null,{"$f":"IFERROR(VLOOKUP(CONCATENATE(B1588,D1588),Padrón_Indígenas!$A$2:$G$988,7,0),\"No\")","v":"No"},{"$f":"VLOOKUP(E1588,Cat_Municipios!D1579:M1637,11)","v":{"$error":"#N/A"}}]
[24,"013","Ciudad_Valles","1079","Don Vicente (1079)","R","Ciudad Valles (013)Don Vicente (1079)",21.908477000000001,-99.016132999999996,1,"*","*",1,240131079,"SI",null,null,{"$f":"IFERROR(VLOOKUP(CONCATENATE(B1589,D1589),Padrón_Indígenas!$A$2:$G$988,7,0),\"No\")","v":"No"},{"$f":"VLOOKUP(E1589,Cat_Municipios!D1580:M1638,11)","v":{"$error":"#N/A"}}]
[24,"013","Ciudad_Valles","1080","Doroteo Cruz (1080)","R","Ciudad Valles (013)Doroteo Cruz (1080)",21.905556000000001,-99.013333000000003,0,0,0,0,240131080,null,null,null,{"$f":"IFERROR(VLOOKUP(CONCATENATE(B1590,D1590),Padrón_Indígenas!$A$2:$G$988,7,0),\"No\")","v":"No"},{"$f":"VLOOKUP(E1590,Cat_Municipios!D1581:M1639,11)","v":{"$error":"#N/A"}}]
[24,"013","Ciudad_Valles","1157","Dos Ángeles (1157)","R","Ciudad Valles (013)Dos Ángeles (1157)",22.207597,-98.984831,"-","-","-","-",240131157,null,null,null,{"$f":"IFERROR(VLOOKUP(CONCATENATE(B1591,D1591),Padrón_Indígenas!$A$2:$G$988,7,0),\"No\")","v":"No"},{"$f":"VLOOKUP(E1591,Cat_Municipios!D1582:M1640,11)","v":{"$error":"#N/A"}}]
[24,"013","Ciudad_Valles","1103","Dos Caminos (1103)","R","Ciudad Valles (013)Dos Caminos (1103)",21.927654,-99.066248000000002,5,"*","*",1,240131103,null,null,null,{"$f":"IFERROR(VLOOKUP(CONCATENATE(B1592,D1592),Padrón_Indígenas!$A$2:$G$988,7,0),\"No\")","v":"No"},{"$f":"VLOOKUP(E1592,Cat_Municipios!D1583:M1641,11)","v":{"$error":"#N/A"}}]
[24,"013","Ciudad_Valles","0584","Dos Pericos (San Isidro) (0584)","R","Ciudad Valles (013)Dos Pericos (San Isidro) (0584)",22.014368000000001,-99.085987000000003,11,"*","*",2,240130584,null,null,null,{"$f":"IFERROR(VLOOKUP(CONCATENATE(B1593,D1593),Padrón_Indígenas!$A$2:$G$988,7,0),\"No\")","v":"No"},{"$f":"VLOOKUP(E1593,Cat_Municipios!D1584:M1642,11)","v":{"$error":"#N/A"}}]
[24,"013","Ciudad_Valles","0061","Ejido el Chuchupe (0061)","R","Ciudad Valles (013)Ejido el Chuchupe (0061)",21.850598999999999,-99.075540000000004,141,71,70,39,240130061,"SI","Alto","Medio",{"$f":"IFERROR(VLOOKUP(CONCATENATE(B1594,D1594),Padrón_Indígenas!$A$2:$G$988,7,0),\"No\")","v":"Sí"},{"$f":"VLOOKUP(E1594,Cat_Municipios!D1585:M1643,11)","v":{"$error":"#N/A"}}]
[24,"013","Ciudad_Valles","0264","Ejido el Lobo (0264)","R","Ciudad Valles (013)Ejido el Lobo (0264)",21.811478999999999,-98.880857000000006,386,212,174,101,240130264,"SI","Alto","Bajo",{"$f":"IFERROR(VLOOKUP(CONCATENATE(B1595,D1595),Padrón_Indígenas!$A$2:$G$988,7,0),\"No\")","v":"No"},{"$f":"VLOOKUP(E1595,Cat_Municipios!D1586:M1644,11)","v":{"$error":"#N/A"}}]
[24,"013","Ciudad_Valles","0594","Ejido Emiliano Zapata (0594)","R","Ciudad Valles (013)Ejido Emiliano Zapata (0594)",21.811578000000001,-98.914589000000007,149,76,73,44,240130594,"SI","Alto","Bajo",{"$f":"IFERROR(VLOOKUP(CONCATENATE(B1596,D1596),Padrón_Indígenas!$A$2:$G$988,7,0),\"No\")","v":"No"},{"$f":"VLOOKUP(E1596,Cat_Municipios!D1587:M1645,11)","v":{"$error":"#N/A"}}]
[24,"013","Ciudad_Valles","0570","Ejido la Hincada (0570)","R","Ciudad Valles (013)Ejido la Hincada (0570)",22.106369000000001,-99.207820999999996,683,328,355,170,240130570,"SI","Alto","Bajo",{"$f":"IFERROR(VLOOKUP(CONCATENATE(B1597,D1597),Padrón_Indígenas!$A$2:$G$988,7,0),\"No\")","v":"No"},{"$f":"VLOOKUP(E1597,Cat_Municipios!D1588:M1646,11)","v":{"$error":"#N/A"}}]
[24,"013","Ciudad_Valles","0539","Ejido la Loma (0539)","R","Ciudad Valles (013)Ejido la Loma (0539)",22.046389000000001,-99.136803999999998,139,75,64,38,240130539,null,"Alto","Bajo",{"$f":"IFERROR(VLOOKUP(CONCATENATE(B1598,D1598),Padrón_Indígenas!$A$2:$G$988,7,0),\"No\")","v":"No"},{"$f":"VLOOKUP(E1598,Cat_Municipios!D1589:M1647,11)","v":{"$error":"#N/A"}}]
[24,"013","Ciudad_Valles","0484","Ejido la Loma (Canoítas) (0484)","R","Ciudad Valles (013)Ejido la Loma (Canoítas) (0484)",22.060278,-99.116111000000004,220,116,104,56,240130484,"SI","Alto","Bajo",{"$f":"IFERROR(VLOOKUP(CONCATENATE(B1599,D1599),Padrón_Indígenas!$A$2:$G$988,7,0),\"No\")","v":"No"},{"$f":"VLOOKUP(E1599,Cat_Municipios!D1590:M1648,11)","v":{"$error":"#N/A"}}]
[24,"013","Ciudad_Valles","0114","Ejido la Marina (Ejido Colectivo) (0114)","R","Ciudad Valles (013)Ejido la Marina (Ejido Colectivo) (0114)",21.813886,-98.915762999999998,240,127,113,63,240130114,null,"Medio","Muy bajo",{"$f":"IFERROR(VLOOKUP(CONCATENATE(B1600,D1600),Padrón_Indígenas!$A$2:$G$988,7,0),\"No\")","v":"No"},{"$f":"VLOOKUP(E1600,Cat_Municipios!D1591:M1649,11)","v":{"$error":"#N/A"}}]
[24,"013","Ciudad_Valles","0232","Ejido la Toconala Uno (La Virgen) (0232)","R","Ciudad Valles (013)Ejido la Toconala Uno (La Virgen) (0232)",21.903146,-99.002249000000006,181,91,90,47,240130232,"SI","Alto","Medio",{"$f":"IFERROR(VLOOKUP(CONCATENATE(B1601,D1601),Padrón_Indígenas!$A$2:$G$988,7,0),\"No\")","v":"No"},{"$f":"VLOOKUP(E1601,Cat_Municipios!D1592:M1650,11)","v":{"$error":"#N/A"}}]
[24,"013","Ciudad_Valles","0028","Ejido las Canoas (Canoas) (0028)","R","Ciudad Valles (013)Ejido las Canoas (Canoas) (0028)",22.188479000000001,-99.259117000000003,345,164,181,82,240130028,"SI","Alto","Bajo",{"$f":"IFERROR(VLOOKUP(CONCATENATE(B1602,D1602),Padrón_Indígenas!$A$2:$G$988,7,0),\"No\")","v":"No"},{"$f":"VLOOKUP(E1602,Cat_Municipios!D1593:M1651,11)","v":{"$error":"#N/A"}}]
[24,"013","Ciudad_Valles","1003","Ejido las Huertas (Alberto Vallesa) (1003)","R","Ciudad Valles (013)Ejido las Huertas (Alberto Vallesa) (1003)",22.388055999999999,-99.206943999999993,0,0,0,0,240131003,null,null,null,{"$f":"IFERROR(VLOOKUP(CONCATENATE(B1603,D1603),Padrón_Indígenas!$A$2:$G$988,7,0),\"No\")","v":"No"},{"$f":"VLOOKUP(E1603,Cat_Municipios!D1594:M1652,11)","v":{"$error":"#N/A"}}]
[24,"013","Ciudad_Valles","0605","Ejido Micos (0605)","R","Ciudad Valles (013)Ejido Micos (0605)",22.212515,-99.204599000000002,3,"*","*",1,240130605,null,null,null,{"$f":"IFERROR(VLOOKUP(CONCATENATE(B1604,D1604),Padrón_Indígenas!$A$2:$G$988,7,0),\"No\")","v":"No"},{"$f":"VLOOKUP(E1604,Cat_Municipios!D1595:M1653,11)","v":{"$error":"#N/A"}}]
[24,"013","Ciudad_Valles","0002","El Abanico (0002)","R","Ciudad Valles (013)El Abanico (0002)",21.821574999999999,-98.836796000000007,1,"*","*",1,240130002,"SI",null,null,{"$f":"IFERROR(VLOOKUP(CONCATENATE(B1605,D1605),Padrón_Indígenas!$A$2:$G$988,7,0),\"No\")","v":"No"},{"$f":"VLOOKUP(E1605,Cat_Municipios!D1596:M1654,11)","v":{"$error":"#N/A"}}]
[24,"013","Ciudad_Valles","0004","El Abra (San Felipe) (0004)","R","Ciudad Valles (013)El Abra (San Felipe) (0004)",21.974729,-98.921874000000003,734,348,386,199,240130004,"SI","Alto","Muy bajo",{"$f":"IFERROR(VLOOKUP(CONCATENATE(B1606,D1606),Padrón_Indígenas!$A$2:$G$988,7,0),\"No\")","v":"No"},{"$f":"VLOOKUP(E1606,Cat_Municipios!D1597:M1655,11)","v":{"$error":"#N/A"}}]
[24,"013","Ciudad_Valles","1077","El Abrevadero (1077)","R","Ciudad Valles (013)El Abrevadero (1077)",22.119721999999999,-99.180555999999996,0,0,0,0,240131077,null,null,null,{"$f":"IFERROR(VLOOKUP(CONCATENATE(B1607,D1607),Padrón_Indígenas!$A$2:$G$988,7,0),\"No\")","v":"No"},{"$f":"VLOOKUP(E1607,Cat_Municipios!D1598:M1656,11)","v":{"$error":"#N/A"}}]
[24,"013","Ciudad_Valles","0006","El Agua de la Vieja (0006)","R","Ciudad Valles (013)El Agua de la Vieja (0006)",22.002689,-99.177357999999998,0,0,0,0,240130006,null,null,null,{"$f":"IFERROR(VLOOKUP(CONCATENATE(B1608,D1608),Padrón_Indígenas!$A$2:$G$988,7,0),\"No\")","v":"No"},{"$f":"VLOOKUP(E1608,Cat_Municipios!D1599:M1657,11)","v":{"$error":"#N/A"}}]
[24,"013","Ciudad_Valles","0992","El Aguacate (0992)","R","Ciudad Valles (013)El Aguacate (0992)",21.996943999999999,-99.046666999999999,0,0,0,0,240130992,null,null,null,{"$f":"IFERROR(VLOOKUP(CONCATENATE(B1609,D1609),Padrón_Indígenas!$A$2:$G$988,7,0),\"No\")","v":"No"},{"$f":"VLOOKUP(E1609,Cat_Municipios!D1600:M1658,11)","v":{"$error":"#N/A"}}]
[24,"013","Ciudad_Valles","0623","El Algüey (0623)","R","Ciudad Valles (013)El Algüey (0623)",21.870056999999999,-99.085243000000006,43,20,23,8,240130623,"SI","Alto","Medio",{"$f":"IFERROR(VLOOKUP(CONCATENATE(B1610,D1610),Padrón_Indígenas!$A$2:$G$988,7,0),\"No\")","v":"No"},{"$f":"VLOOKUP(E1610,Cat_Municipios!D1601:M1659,11)","v":{"$error":"#N/A"}}]
[24,"013","Ciudad_Valles","0812","El Aljurje (0812)","R","Ciudad Valles (013)El Aljurje (0812)",22.175908,-99.255559000000005,0,0,0,0,240130812,null,null,null,{"$f":"IFERROR(VLOOKUP(CONCATENATE(B1611,D1611),Padrón_Indígenas!$A$2:$G$988,7,0),\"No\")","v":"No"},{"$f":"VLOOKUP(E1611,Cat_Municipios!D1602:M1660,11)","v":{"$error":"#N/A"}}]
[24,"013","Ciudad_Valles","0818","El Amarillo (0818)","R","Ciudad Valles (013)El Amarillo (0818)",22.183437000000001,-98.978364999999997,3,"*","*",1,240130818,null,null,null,{"$f":"IFERROR(VLOOKUP(CONCATENATE(B1612,D1612),Padrón_Indígenas!$A$2:$G$988,7,0),\"No\")","v":"No"},{"$f":"VLOOKUP(E1612,Cat_Municipios!D1603:M1661,11)","v":{"$error":"#N/A"}}]
[24,"013","Ciudad_Valles","0470","El Aquichal (0470)","R","Ciudad Valles (013)El Aquichal (0470)",21.861346999999999,-99.082203000000007,33,15,18,7,240130470,"SI","Alto","Bajo",{"$f":"IFERROR(VLOOKUP(CONCATENATE(B1613,D1613),Padrón_Indígenas!$A$2:$G$988,7,0),\"No\")","v":"No"},{"$f":"VLOOKUP(E1613,Cat_Municipios!D1604:M1662,11)","v":{"$error":"#N/A"}}]
[24,"013","Ciudad_Valles","0389","El Aquichal (La Mexicana) (0389)","R","Ciudad Valles (013)El Aquichal (La Mexicana) (0389)",22.120737999999999,-99.052062000000006,4,"*","*",1,240130389,null,null,null,{"$f":"IFERROR(VLOOKUP(CONCATENATE(B1614,D1614),Padrón_Indígenas!$A$2:$G$988,7,0),\"No\")","v":"No"},{"$f":"VLOOKUP(E1614,Cat_Municipios!D1605:M1663,11)","v":{"$error":"#N/A"}}]
[24,"013","Ciudad_Valles","0653","El Arcoiris (0653)","R","Ciudad Valles (013)El Arcoiris (0653)",22.154381000000001,-99.200684999999993,4,"*","*",1,240130653,null,null,null,{"$f":"IFERROR(VLOOKUP(CONCATENATE(B1615,D1615),Padrón_Indígenas!$A$2:$G$988,7,0),\"No\")","v":"No"},{"$f":"VLOOKUP(E1615,Cat_Municipios!D1606:M1664,11)","v":{"$error":"#N/A"}}]
[24,"013","Ciudad_Valles","0352","El Atascadero (0352)","R","Ciudad Valles (013)El Atascadero (0352)",21.893056000000001,-99.092222000000007,57,36,21,11,240130352,"SI","Alto","Medio",{"$f":"IFERROR(VLOOKUP(CONCATENATE(B1616,D1616),Padrón_Indígenas!$A$2:$G$988,7,0),\"No\")","v":"Sí"},{"$f":"VLOOKUP(E1616,Cat_Municipios!D1607:M1665,11)","v":{"$error":"#N/A"}}]
[24,"013","Ciudad_Valles","1104","El Atrancón (1104)","R","Ciudad Valles (013)El Atrancón (1104)",22.262737999999999,-99.131957999999997,0,0,0,0,240131104,null,null,null,{"$f":"IFERROR(VLOOKUP(CONCATENATE(B1617,D1617),Padrón_Indígenas!$A$2:$G$988,7,0),\"No\")","v":"No"},{"$f":"VLOOKUP(E1617,Cat_Municipios!D1608:M1666,11)","v":{"$error":"#N/A"}}]
[24,"013","Ciudad_Valles","0014","El Azulejo (0014)","R","Ciudad Valles (013)El Azulejo (0014)",21.908315999999999,-99.040604000000002,285,142,143,74,240130014,"SI","Alto","Muy bajo",{"$f":"IFERROR(VLOOKUP(CONCATENATE(B1618,D1618),Padrón_Indígenas!$A$2:$G$988,7,0),\"No\")","v":"No"},{"$f":"VLOOKUP(E1618,Cat_Municipios!D1609:M1667,11)","v":{"$error":"#N/A"}}]
[24,"013","Ciudad_Valles","0995","El Azulejo (0995)","R","Ciudad Valles (013)El Azulejo (0995)",21.895555999999999,-99.008332999999993,0,0,0,0,240130995,null,null,null,{"$f":"IFERROR(VLOOKUP(CONCATENATE(B1619,D1619),Padrón_Indígenas!$A$2:$G$988,7,0),\"No\")","v":"No"},{"$f":"VLOOKUP(E1619,Cat_Municipios!D1610:M1668,11)","v":{"$error":"#N/A"}}]
[24,"013","Ciudad_Valles","0337","El Bajío (0337)","R","Ciudad Valles (013)El Bajío (0337)",21.864152000000001,-99.048434999999998,0,0,0,0,240130337,null,null,null,{"$f":"IFERROR(VLOOKUP(CONCATENATE(B1620,D1620),Padrón_Indígenas!$A$2:$G$988,7,0),\"No\")","v":"No"},{"$f":"VLOOKUP(E1620,Cat_Municipios!D1611:M1669,11)","v":{"$error":"#N/A"}}]
[24,"013","Ciudad_Valles","0801","El Banco (0801)","R","Ciudad Valles (013)El Banco (0801)",21.854292000000001,-99.043728000000002,4,"*","*",1,240130801,null,null,null,{"$f":"IFERROR(VLOOKUP(CONCATENATE(B1621,D1621),Padrón_Indígenas!$A$2:$G$988,7,0),\"No\")","v":"No"},{"$f":"VLOOKUP(E1621,Cat_Municipios!D1612:M1670,11)","v":{"$error":"#N/A"}}]
[24,"013","Ciudad_Valles","0015","El Bañito (0015)","R","Ciudad Valles (013)El Bañito (0015)",21.914929999999998,-98.951536000000004,0,0,0,0,240130015,null,null,null,{"$f":"IFERROR(VLOOKUP(CONCATENATE(B1622,D1622),Padrón_Indígenas!$A$2:$G$988,7,0),\"No\")","v":"No"},{"$f":"VLOOKUP(E1622,Cat_Municipios!D1613:M1671,11)","v":{"$error":"#N/A"}}]
[24,"013","Ciudad_Valles","0821","El Barajeño (0821)","R","Ciudad Valles (013)El Barajeño (0821)",21.981815999999998,-99.081861000000004,0,0,0,0,240130821,null,null,null,{"$f":"IFERROR(VLOOKUP(CONCATENATE(B1623,D1623),Padrón_Indígenas!$A$2:$G$988,7,0),\"No\")","v":"No"},{"$f":"VLOOKUP(E1623,Cat_Municipios!D1614:M1672,11)","v":{"$error":"#N/A"}}]
[24,"013","Ciudad_Valles","0354","El Bárbol (0354)","R","Ciudad Valles (013)El Bárbol (0354)",21.888656000000001,-99.090455000000006,199,108,91,38,240130354,"SI","Alto","Medio",{"$f":"IFERROR(VLOOKUP(CONCATENATE(B1624,D1624),Padrón_Indígenas!$A$2:$G$988,7,0),\"No\")","v":"Sí"},{"$f":"VLOOKUP(E1624,Cat_Municipios!D1615:M1673,11)","v":{"$error":"#N/A"}}]
[24,"013","Ciudad_Valles","0017","El Barquito (0017)","R","Ciudad Valles (013)El Barquito (0017)",21.903333,-99.044443999999999,2,"*","*",1,240130017,null,null,null,{"$f":"IFERROR(VLOOKUP(CONCATENATE(B1625,D1625),Padrón_Indígenas!$A$2:$G$988,7,0),\"No\")","v":"No"},{"$f":"VLOOKUP(E1625,Cat_Municipios!D1616:M1674,11)","v":{"$error":"#N/A"}}]
[24,"013","Ciudad_Valles","0745","El Barranco (El Rosario) (0745)","R","Ciudad Valles (013)El Barranco (El Rosario) (0745)",21.850570999999999,-99.059267000000006,38,17,21,8,240130745,"SI","Muy alto","Muy alto",{"$f":"IFERROR(VLOOKUP(CONCATENATE(B1626,D1626),Padrón_Indígenas!$A$2:$G$988,7,0),\"No\")","v":"No"},{"$f":"VLOOKUP(E1626,Cat_Municipios!D1617:M1675,11)","v":{"$error":"#N/A"}}]
[24,"013","Ciudad_Valles","0817","El Bejuquito (0817)","R","Ciudad Valles (013)El Bejuquito (0817)",22.284942999999998,-99.144098,4,"*","*",1,240130817,null,null,null,{"$f":"IFERROR(VLOOKUP(CONCATENATE(B1627,D1627),Padrón_Indígenas!$A$2:$G$988,7,0),\"No\")","v":"No"},{"$f":"VLOOKUP(E1627,Cat_Municipios!D1618:M1676,11)","v":{"$error":"#N/A"}}]
[24,"013","Ciudad_Valles","0612","El Bocolito (0612)","R","Ciudad Valles (013)El Bocolito (0612)",21.958224999999999,-99.063418999999996,5,"*","*",1,240130612,null,null,null,{"$f":"IFERROR(VLOOKUP(CONCATENATE(B1628,D1628),Padrón_Indígenas!$A$2:$G$988,7,0),\"No\")","v":"No"},{"$f":"VLOOKUP(E1628,Cat_Municipios!D1619:M1677,11)","v":{"$error":"#N/A"}}]
[24,"013","Ciudad_Valles","0924","El Búfalo (0924)","R","Ciudad Valles (013)El Búfalo (0924)",21.804048000000002,-98.893214,3,"*","*",1,240130924,"SI",null,null,{"$f":"IFERROR(VLOOKUP(CONCATENATE(B1629,D1629),Padrón_Indígenas!$A$2:$G$988,7,0),\"No\")","v":"No"},{"$f":"VLOOKUP(E1629,Cat_Municipios!D1620:M1678,11)","v":{"$error":"#N/A"}}]
[24,"013","Ciudad_Valles","0823","El Cafetal (0823)","R","Ciudad Valles (013)El Cafetal (0823)",21.807151999999999,-99.026528999999996,3,"*","*",1,240130823,null,null,null,{"$f":"IFERROR(VLOOKUP(CONCATENATE(B1630,D1630),Padrón_Indígenas!$A$2:$G$988,7,0),\"No\")","v":"No"},{"$f":"VLOOKUP(E1630,Cat_Municipios!D1621:M1679,11)","v":{"$error":"#N/A"}}]
[24,"013","Ciudad_Valles","0587","El Cañón del Taninul (El Abra) (0587)","R","Ciudad Valles (013)El Cañón del Taninul (El Abra) (0587)",21.985444999999999,-98.939717999999999,151,76,75,37,240130587,"SI","Alto","Muy bajo",{"$f":"IFERROR(VLOOKUP(CONCATENATE(B1631,D1631),Padrón_Indígenas!$A$2:$G$988,7,0),\"No\")","v":"No"},{"$f":"VLOOKUP(E1631,Cat_Municipios!D1622:M1680,11)","v":{"$error":"#N/A"}}]
[24,"013","Ciudad_Valles","0485","El Capricho (0485)","R","Ciudad Valles (013)El Capricho (0485)",22.014499000000001,-99.171460999999994,0,0,0,0,240130485,null,null,null,{"$f":"IFERROR(VLOOKUP(CONCATENATE(B1632,D1632),Padrón_Indígenas!$A$2:$G$988,7,0),\"No\")","v":"No"},{"$f":"VLOOKUP(E1632,Cat_Municipios!D1623:M1681,11)","v":{"$error":"#N/A"}}]
[24,"013","Ciudad_Valles","0657","El Capulín (0657)","R","Ciudad Valles (013)El Capulín (0657)",22.045000000000002,-99.033610999999993,0,0,0,0,240130657,null,null,null,{"$f":"IFERROR(VLOOKUP(CONCATENATE(B1633,D1633),Padrón_Indígenas!$A$2:$G$988,7,0),\"No\")","v":"No"},{"$f":"VLOOKUP(E1633,Cat_Municipios!D1624:M1682,11)","v":{"$error":"#N/A"}}]
[24,"013","Ciudad_Valles","0486","El Capulín (Río Escondido) (0486)","R","Ciudad Valles (013)El Capulín (Río Escondido) (0486)",21.784444000000001,-98.988332999999997,12,"*","*",1,240130486,null,null,null,{"$f":"IFERROR(VLOOKUP(CONCATENATE(B1634,D1634),Padrón_Indígenas!$A$2:$G$988,7,0),\"No\")","v":"No"},{"$f":"VLOOKUP(E1634,Cat_Municipios!D1625:M1683,11)","v":{"$error":"#N/A"}}]
[24,"013","Ciudad_Valles","0971","El Carmelito (0971)","R","Ciudad Valles (013)El Carmelito (0971)",21.988254999999999,-98.970403000000005,4,"*","*",1,240130971,null,null,null,{"$f":"IFERROR(VLOOKUP(CONCATENATE(B1635,D1635),Padrón_Indígenas!$A$2:$G$988,7,0),\"No\")","v":"No"},{"$f":"VLOOKUP(E1635,Cat_Municipios!D1626:M1684,11)","v":{"$error":"#N/A"}}]
[24,"013","Ciudad_Valles","0447","El Carmelo (0447)","R","Ciudad Valles (013)El Carmelo (0447)",22.051188,-99.067442,3,"*","*",1,240130447,null,null,null,{"$f":"IFERROR(VLOOKUP(CONCATENATE(B1636,D1636),Padrón_Indígenas!$A$2:$G$988,7,0),\"No\")","v":"No"}]
[24,"013","Ciudad_Valles","0030","El Carmen (0030)","R","Ciudad Valles (013)El Carmen (0030)",22.196811,-99.219083999999995,5,"*","*",1,240130030,null,null,null,{"$f":"IFERROR(VLOOKUP(CONCATENATE(B1637,D1637),Padrón_Indígenas!$A$2:$G$988,7,0),\"No\")","v":"No"}]
[24,"013","Ciudad_Valles","0722","El Carmen (0722)","R","Ciudad Valles (013)El Carmen (0722)",21.86,-98.847778000000005,0,0,0,0,240130722,null,null,null,{"$f":"IFERROR(VLOOKUP(CONCATENATE(B1638,D1638),Padrón_Indígenas!$A$2:$G$988,7,0),\"No\")","v":"No"}]
[24,"013","Ciudad_Valles","1158","El Carpintero (1158)","R","Ciudad Valles (013)El Carpintero (1158)",21.777995000000001,-98.983720000000005,"-","-","-","-",240131158,null,null,null,{"$f":"IFERROR(VLOOKUP(CONCATENATE(B1639,D1639),Padrón_Indígenas!$A$2:$G$988,7,0),\"No\")","v":"No"}]
[24,"013","Ciudad_Valles","0997","El Carpintero (El Corozo) (0997)","R","Ciudad Valles (013)El Carpintero (El Corozo) (0997)",21.910833,-99.043056000000007,1,"*","*",1,240130997,null,null,null,{"$f":"IFERROR(VLOOKUP(CONCATENATE(B1640,D1640),Padrón_Indígenas!$A$2:$G$988,7,0),\"No\")","v":"No"}]
[24,"013","Ciudad_Valles","0622","El Carrizal (0622)","R","Ciudad Valles (013)El Carrizal (0622)",21.853991000000001,-99.075997999999998,16,"*","*",2,240130622,"SI",null,null,{"$f":"IFERROR(VLOOKUP(CONCATENATE(B1641,D1641),Padrón_Indígenas!$A$2:$G$988,7,0),\"No\")","v":"Sí"}]
[24,"013","Ciudad_Valles","0710","El Carrizo (0710)","R","Ciudad Valles (013)El Carrizo (0710)",22.328966000000001,-99.135138999999995,0,0,0,0,240130710,null,null,null,{"$f":"IFERROR(VLOOKUP(CONCATENATE(B1642,D1642),Padrón_Indígenas!$A$2:$G$988,7,0),\"No\")","v":"No"}]
[24,"013","Ciudad_Valles","0643","El Cascabel (0643)","R","Ciudad Valles (013)El Cascabel (0643)",21.987065999999999,-99.036597999999998,0,0,0,0,240130643,null,null,null,{"$f":"IFERROR(VLOOKUP(CONCATENATE(B1643,D1643),Padrón_Indígenas!$A$2:$G$988,7,0),\"No\")","v":"No"}]
[24,"013","Ciudad_Valles","0037","El Cerrito (0037)","R","Ciudad Valles (013)El Cerrito (0037)",22.157931999999999,-99.225446000000005,1,"*","*",1,240130037,null,null,null,{"$f":"IFERROR(VLOOKUP(CONCATENATE(B1644,D1644),Padrón_Indígenas!$A$2:$G$988,7,0),\"No\")","v":"No"}]
[24,"013","Ciudad_Valles","1105","El Chamizal (1105)","R","Ciudad Valles (013)El Chamizal (1105)",22.14406,-99.108935000000002,0,0,0,0,240131105,null,null,null,{"$f":"IFERROR(VLOOKUP(CONCATENATE(B1645,D1645),Padrón_Indígenas!$A$2:$G$988,7,0),\"No\")","v":"No"}]
[24,"013","Ciudad_Valles","0621","El Chical Dos (0621)","R","Ciudad Valles (013)El Chical Dos (0621)",21.859183999999999,-99.141650999999996,96,43,53,17,240130621,"SI","Alto","Medio",{"$f":"IFERROR(VLOOKUP(CONCATENATE(B1646,D1646),Padrón_Indígenas!$A$2:$G$988,7,0),\"No\")","v":"Sí"}]
[24,"013","Ciudad_Valles","0620","El Chical Uno (0620)","R","Ciudad Valles (013)El Chical Uno (0620)",21.849125000000001,-99.130938,91,46,45,16,240130620,"SI","Alto","Medio",{"$f":"IFERROR(VLOOKUP(CONCATENATE(B1647,D1647),Padrón_Indígenas!$A$2:$G$988,7,0),\"No\")","v":"Sí"}]
[24,"013","Ciudad_Valles","0493","El Chico (0493)","R","Ciudad Valles (013)El Chico (0493)",21.826516000000002,-99.004030999999998,23,12,11,8,240130493,"SI","Alto","Medio",{"$f":"IFERROR(VLOOKUP(CONCATENATE(B1648,D1648),Padrón_Indígenas!$A$2:$G$988,7,0),\"No\")","v":"No"}]
[24,"013","Ciudad_Valles","0834","El Chorro (Gregorio González) (0834)","R","Ciudad Valles (013)El Chorro (Gregorio González) (0834)",22.151482999999999,-98.952710999999994,2,"*","*",1,240130834,null,null,null,{"$f":"IFERROR(VLOOKUP(CONCATENATE(B1649,D1649),Padrón_Indígenas!$A$2:$G$988,7,0),\"No\")","v":"No"}]
[24,"013","Ciudad_Valles","0383","El Choy (0383)","R","Ciudad Valles (013)El Choy (0383)",22.326862999999999,-99.085921999999997,28,14,14,12,240130383,null,"Muy alto","Alto",{"$f":"IFERROR(VLOOKUP(CONCATENATE(B1650,D1650),Padrón_Indígenas!$A$2:$G$988,7,0),\"No\")","v":"No"}]
[24,"013","Ciudad_Valles","0382","El Choyoso (0382)","R","Ciudad Valles (013)El Choyoso (0382)",22.080348000000001,-99.139612999999997,256,124,132,66,240130382,null,"Alto","Medio",{"$f":"IFERROR(VLOOKUP(CONCATENATE(B1651,D1651),Padrón_Indígenas!$A$2:$G$988,7,0),\"No\")","v":"No"}]
[24,"013","Ciudad_Valles","0835","El Chubasco (0835)","R","Ciudad Valles (013)El Chubasco (0835)",22.113457,-98.985789999999994,7,"*","*",1,240130835,"SI",null,null,{"$f":"IFERROR(VLOOKUP(CONCATENATE(B1652,D1652),Padrón_Indígenas!$A$2:$G$988,7,0),\"No\")","v":"No"}]
[24,"013","Ciudad_Valles","0785","El Cinco (0785)","R","Ciudad Valles (013)El Cinco (0785)",21.818301000000002,-99.059458000000006,46,21,25,10,240130785,"SI","Muy alto","Alto",{"$f":"IFERROR(VLOOKUP(CONCATENATE(B1653,D1653),Padrón_Indígenas!$A$2:$G$988,7,0),\"No\")","v":"No"}]
[24,"013","Ciudad_Valles","0703","El Ciruelo (0703)","R","Ciudad Valles (013)El Ciruelo (0703)",22.155270999999999,-99.092860000000002,0,0,0,0,240130703,null,null,null,{"$f":"IFERROR(VLOOKUP(CONCATENATE(B1654,D1654),Padrón_Indígenas!$A$2:$G$988,7,0),\"No\")","v":"No"}]
[24,"013","Ciudad_Valles","1106","El Columpio (1106)","R","Ciudad Valles (013)El Columpio (1106)",22.055745000000002,-98.983228999999994,1,"*","*",1,240131106,null,null,null,{"$f":"IFERROR(VLOOKUP(CONCATENATE(B1655,D1655),Padrón_Indígenas!$A$2:$G$988,7,0),\"No\")","v":"No"}]
[24,"013","Ciudad_Valles","0844","El Conejo (0844)","R","Ciudad Valles (013)El Conejo (0844)",22.047892000000001,-99.091292999999993,0,0,0,0,240130844,null,null,null,{"$f":"IFERROR(VLOOKUP(CONCATENATE(B1656,D1656),Padrón_Indígenas!$A$2:$G$988,7,0),\"No\")","v":"No"}]
[24,"013","Ciudad_Valles","0738","El Consuelo (0738)","R","Ciudad Valles (013)El Consuelo (0738)",22.031037000000001,-99.031040000000004,0,0,0,0,240130738,null,null,null,{"$f":"IFERROR(VLOOKUP(CONCATENATE(B1657,D1657),Padrón_Indígenas!$A$2:$G$988,7,0),\"No\")","v":"No"}]
[24,"013","Ciudad_Valles","0846","El Copoy (0846)","R","Ciudad Valles (013)El Copoy (0846)",22.059443999999999,-99.236666999999997,0,0,0,0,240130846,null,null,null,{"$f":"IFERROR(VLOOKUP(CONCATENATE(B1658,D1658),Padrón_Indígenas!$A$2:$G$988,7,0),\"No\")","v":"No"}]
[24,"013","Ciudad_Valles","0635","El Corozo (0635)","R","Ciudad Valles (013)El Corozo (0635)",21.915174,-99.037591000000006,6,"*","*",2,240130635,null,null,null,{"$f":"IFERROR(VLOOKUP(CONCATENATE(B1659,D1659),Padrón_Indígenas!$A$2:$G$988,7,0),\"No\")","v":"No"}]
[24,"013","Ciudad_Valles","1095","El Corregidor (1095)","R","Ciudad Valles (013)El Corregidor (1095)",21.985645000000002,-99.026331999999996,7,"*","*",2,240131095,"SI",null,null,{"$f":"IFERROR(VLOOKUP(CONCATENATE(B1660,D1660),Padrón_Indígenas!$A$2:$G$988,7,0),\"No\")","v":"No"}]
[24,"013","Ciudad_Valles","0371","El Coy (0371)","R","Ciudad Valles (013)El Coy (0371)",21.751852,-98.955190999999999,5,"*","*",1,240130371,null,null,null,{"$f":"IFERROR(VLOOKUP(CONCATENATE(B1661,D1661),Padrón_Indígenas!$A$2:$G$988,7,0),\"No\")","v":"No"}]
[24,"013","Ciudad_Valles","1030","El Coy [Parque Acuático] (1030)","R","Ciudad Valles (013)El Coy [Parque Acuático] (1030)",21.756191000000001,-98.952460000000002,1,"*","*",1,240131030,null,null,null,{"$f":"IFERROR(VLOOKUP(CONCATENATE(B1662,D1662),Padrón_Indígenas!$A$2:$G$988,7,0),\"No\")","v":"No"}]
[24,"013","Ciudad_Valles","1159","El Coyol [Rancho] (1159)","R","Ciudad Valles (013)El Coyol [Rancho] (1159)",22.058793999999999,-99.072771000000003,"-","-","-","-",240131159,null,null,null,{"$f":"IFERROR(VLOOKUP(CONCATENATE(B1663,D1663),Padrón_Indígenas!$A$2:$G$988,7,0),\"No\")","v":"No"}]
[24,"013","Ciudad_Valles","0491","El Cuatro (0491)","R","Ciudad Valles (013)El Cuatro (0491)",22.056139000000002,-99.235146999999998,0,0,0,0,240130491,null,null,null,{"$f":"IFERROR(VLOOKUP(CONCATENATE(B1664,D1664),Padrón_Indígenas!$A$2:$G$988,7,0),\"No\")","v":"No"}]
[24,"013","Ciudad_Valles","0055","El Cuiche (0055)","R","Ciudad Valles (013)El Cuiche (0055)",21.836959,-98.978685999999996,308,155,153,88,240130055,null,"Medio","Muy bajo",{"$f":"IFERROR(VLOOKUP(CONCATENATE(B1665,D1665),Padrón_Indígenas!$A$2:$G$988,7,0),\"No\")","v":"No"}]
[24,"013","Ciudad_Valles","0851","El Cuicillo (0851)","R","Ciudad Valles (013)El Cuicillo (0851)",22.041801,-99.070138999999998,3,"*","*",1,240130851,null,null,null,{"$f":"IFERROR(VLOOKUP(CONCATENATE(B1666,D1666),Padrón_Indígenas!$A$2:$G$988,7,0),\"No\")","v":"No"}]
[24,"013","Ciudad_Valles","0062","El Desengaño (0062)","R","Ciudad Valles (013)El Desengaño (0062)",21.853626999999999,-98.853157999999993,65,35,30,19,240130062,"SI","Alto","Bajo",{"$f":"IFERROR(VLOOKUP(CONCATENATE(B1667,D1667),Padrón_Indígenas!$A$2:$G$988,7,0),\"No\")","v":"No"}]
[24,"013","Ciudad_Valles","0585","El Destierro (0585)","R","Ciudad Valles (013)El Destierro (0585)",21.888055999999999,-99.035278000000005,0,0,0,0,240130585,null,null,null,{"$f":"IFERROR(VLOOKUP(CONCATENATE(B1668,D1668),Padrón_Indígenas!$A$2:$G$988,7,0),\"No\")","v":"No"}]
[24,"013","Ciudad_Valles","0063","El Detalle (0063)","R","Ciudad Valles (013)El Detalle (0063)",21.848458999999998,-98.976472000000001,146,81,65,44,240130063,"SI","Medio","Bajo",{"$f":"IFERROR(VLOOKUP(CONCATENATE(B1669,D1669),Padrón_Indígenas!$A$2:$G$988,7,0),\"No\")","v":"No"}]
[24,"013","Ciudad_Valles","0854","El Disco (0854)","R","Ciudad Valles (013)El Disco (0854)",21.966159000000001,-99.047293999999994,10,6,4,4,240130854,"SI","Alto","Bajo",{"$f":"IFERROR(VLOOKUP(CONCATENATE(B1670,D1670),Padrón_Indígenas!$A$2:$G$988,7,0),\"No\")","v":"No"}]
[24,"013","Ciudad_Valles","0066","El Dorado (0066)","R","Ciudad Valles (013)El Dorado (0066)",22.252670999999999,-99.130708999999996,0,0,0,0,240130066,null,null,null,{"$f":"IFERROR(VLOOKUP(CONCATENATE(B1671,D1671),Padrón_Indígenas!$A$2:$G$988,7,0),\"No\")","v":"No"}]
[24,"013","Ciudad_Valles","0550","El Dorado (0550)","R","Ciudad Valles (013)El Dorado (0550)",22.193543999999999,-99.217355999999995,2,"*","*",1,240130550,null,null,null,{"$f":"IFERROR(VLOOKUP(CONCATENATE(B1672,D1672),Padrón_Indígenas!$A$2:$G$988,7,0),\"No\")","v":"No"}]
[24,"013","Ciudad_Valles","0855","El Dorado (0855)","R","Ciudad Valles (013)El Dorado (0855)",22.280556000000001,-99.241944000000004,1,"*","*",1,240130855,null,null,null,{"$f":"IFERROR(VLOOKUP(CONCATENATE(B1673,D1673),Padrón_Indígenas!$A$2:$G$988,7,0),\"No\")","v":"No"}]
[24,"013","Ciudad_Valles","1032","El Encanto (1032)","R","Ciudad Valles (013)El Encanto (1032)",21.862133,-98.863248999999996,4,"*","*",1,240131032,"SI",null,null,{"$f":"IFERROR(VLOOKUP(CONCATENATE(B1674,D1674),Padrón_Indígenas!$A$2:$G$988,7,0),\"No\")","v":"No"}]
[24,"013","Ciudad_Valles","0068","El Encuerado (0068)","R","Ciudad Valles (013)El Encuerado (0068)",22.196836000000001,-99.148939999999996,0,0,0,0,240130068,null,null,null,{"$f":"IFERROR(VLOOKUP(CONCATENATE(B1675,D1675),Padrón_Indígenas!$A$2:$G$988,7,0),\"No\")","v":"No"}]
[24,"013","Ciudad_Valles","0655","El Entripado (0655)","R","Ciudad Valles (013)El Entripado (0655)",22.173200000000001,-99.194646000000006,8,"*","*",1,240130655,"SI",null,null,{"$f":"IFERROR(VLOOKUP(CONCATENATE(B1676,D1676),Padrón_Indígenas!$A$2:$G$988,7,0),\"No\")","v":"No"}]
[24,"013","Ciudad_Valles","0628","El Escape (0628)","R","Ciudad Valles (013)El Escape (0628)",21.855094999999999,-98.997121000000007,11,"*","*",1,240130628,null,null,null,{"$f":"IFERROR(VLOOKUP(CONCATENATE(B1677,D1677),Padrón_Indígenas!$A$2:$G$988,7,0),\"No\")","v":"No"}]
[24,"013","Ciudad_Valles","0308","El Espino (0308)","R","Ciudad Valles (013)El Espino (0308)",21.879124999999998,-98.992198000000002,0,0,0,0,240130308,null,null,null,{"$f":"IFERROR(VLOOKUP(CONCATENATE(B1678,D1678),Padrón_Indígenas!$A$2:$G$988,7,0),\"No\")","v":"No"}]
[24,"013","Ciudad_Valles","0754","El Estero (0754)","R","Ciudad Valles (013)El Estero (0754)",22.055357999999998,-99.040499999999994,0,0,0,0,240130754,null,null,null,{"$f":"IFERROR(VLOOKUP(CONCATENATE(B1679,D1679),Padrón_Indígenas!$A$2:$G$988,7,0),\"No\")","v":"No"}]
[24,"013","Ciudad_Valles","0391","El Faisán (0391)","R","Ciudad Valles (013)El Faisán (0391)",22.383678,-99.205676999999994,0,0,0,0,240130391,null,null,null,{"$f":"IFERROR(VLOOKUP(CONCATENATE(B1680,D1680),Padrón_Indígenas!$A$2:$G$988,7,0),\"No\")","v":"No"}]
[24,"013","Ciudad_Valles","0687","El Farolito (0687)","R","Ciudad Valles (013)El Farolito (0687)",22.174164000000001,-99.117876999999993,0,0,0,0,240130687,null,null,null,{"$f":"IFERROR(VLOOKUP(CONCATENATE(B1681,D1681),Padrón_Indígenas!$A$2:$G$988,7,0),\"No\")","v":"No"}]
[24,"013","Ciudad_Valles","1129","El Farolito [Granja] (1129)","R","Ciudad Valles (013)El Farolito [Granja] (1129)",21.956496000000001,-98.977592000000001,3,"*","*",2,240131129,null,null,null,{"$f":"IFERROR(VLOOKUP(CONCATENATE(B1682,D1682),Padrón_Indígenas!$A$2:$G$988,7,0),\"No\")","v":"No"}]
[24,"013","Ciudad_Valles","0458","El Florero (0458)","R","Ciudad Valles (013)El Florero (0458)",22.396667000000001,-99.130555999999999,0,0,0,0,240130458,null,null,null,{"$f":"IFERROR(VLOOKUP(CONCATENATE(B1683,D1683),Padrón_Indígenas!$A$2:$G$988,7,0),\"No\")","v":"No"}]
[24,"013","Ciudad_Valles","0307","El Gritadero (0307)","R","Ciudad Valles (013)El Gritadero (0307)",21.855564999999999,-98.961190999999999,122,58,64,32,240130307,"SI","Medio","Muy bajo",{"$f":"IFERROR(VLOOKUP(CONCATENATE(B1684,D1684),Padrón_Indígenas!$A$2:$G$988,7,0),\"No\")","v":"No"}]
[24,"013","Ciudad_Valles","1042","El Huitote (1042)","R","Ciudad Valles (013)El Huitote (1042)",22.120014999999999,-98.938554999999994,0,0,0,0,240131042,null,null,null,{"$f":"IFERROR(VLOOKUP(CONCATENATE(B1685,D1685),Padrón_Indígenas!$A$2:$G$988,7,0),\"No\")","v":"No"}]
[24,"013","Ciudad_Valles","0090","El Huizache (0090)","R","Ciudad Valles (013)El Huizache (0090)",22.163550000000001,-99.219064000000003,"-","-","-","-",240130090,null,null,null,{"$f":"IFERROR(VLOOKUP(CONCATENATE(B1686,D1686),Padrón_Indígenas!$A$2:$G$988,7,0),\"No\")","v":"No"}]
[24,"013","Ciudad_Valles","0091","El Huizachito (0091)","R","Ciudad Valles (013)El Huizachito (0091)",22.167221999999999,-99.219722000000004,4,"*","*",1,240130091,null,null,null,{"$f":"IFERROR(VLOOKUP(CONCATENATE(B1687,D1687),Padrón_Indígenas!$A$2:$G$988,7,0),\"No\")","v":"No"}]
[24,"013","Ciudad_Valles","0499","El Iruñako (0499)","R","Ciudad Valles (013)El Iruñako (0499)",22.052557,-98.986304000000004,0,0,0,0,240130499,null,null,null,{"$f":"IFERROR(VLOOKUP(CONCATENATE(B1688,D1688),Padrón_Indígenas!$A$2:$G$988,7,0),\"No\")","v":"No"}]
[24,"013","Ciudad_Valles","0317","El Jacubal (0317)","R","Ciudad Valles (013)El Jacubal (0317)",21.881964,-99.088950999999994,188,108,80,44,240130317,"SI","Alto","Medio",{"$f":"IFERROR(VLOOKUP(CONCATENATE(B1689,D1689),Padrón_Indígenas!$A$2:$G$988,7,0),\"No\")","v":"Sí"}]
[24,"013","Ciudad_Valles","0094","El Jacube (0094)","R","Ciudad Valles (013)El Jacube (0094)",22.221613000000001,-99.131405000000001,0,0,0,0,240130094,null,null,null,{"$f":"IFERROR(VLOOKUP(CONCATENATE(B1690,D1690),Padrón_Indígenas!$A$2:$G$988,7,0),\"No\")","v":"No"}]
[24,"013","Ciudad_Valles","0631","El Jobo (0631)","R","Ciudad Valles (013)El Jobo (0631)",21.840205999999998,-99.064610000000002,0,0,0,0,240130631,null,null,null,{"$f":"IFERROR(VLOOKUP(CONCATENATE(B1691,D1691),Padrón_Indígenas!$A$2:$G$988,7,0),\"No\")","v":"No"}]
[24,"013","Ciudad_Valles","0097","El Jopoy (0097)","R","Ciudad Valles (013)El Jopoy (0097)",21.786263999999999,-98.961976000000007,88,46,42,27,240130097,"SI","Alto","Medio",{"$f":"IFERROR(VLOOKUP(CONCATENATE(B1692,D1692),Padrón_Indígenas!$A$2:$G$988,7,0),\"No\")","v":"No"}]
[24,"013","Ciudad_Valles","0300","El Laurel (0300)","R","Ciudad Valles (013)El Laurel (0300)",22.343283,-99.033159999999995,6,"*","*",2,240130300,null,null,null,{"$f":"IFERROR(VLOOKUP(CONCATENATE(B1693,D1693),Padrón_Indígenas!$A$2:$G$988,7,0),\"No\")","v":"Sí"}]
[24,"013","Ciudad_Valles","0286","El Laurel (Gilberto Marín Martínez) (0286)","R","Ciudad Valles (013)El Laurel (Gilberto Marín Martínez) (0286)",22.245433999999999,-99.013109999999998,5,"*","*",1,240130286,null,null,null,{"$f":"IFERROR(VLOOKUP(CONCATENATE(B1694,D1694),Padrón_Indígenas!$A$2:$G$988,7,0),\"No\")","v":"Sí"}]
[24,"013","Ciudad_Valles","0578","El Limoncito (0578)","R","Ciudad Valles (013)El Limoncito (0578)",22.348489000000001,-99.133578999999997,7,4,3,3,240130578,null,"Muy alto","Alto",{"$f":"IFERROR(VLOOKUP(CONCATENATE(B1695,D1695),Padrón_Indígenas!$A$2:$G$988,7,0),\"No\")","v":"No"}]
[24,"013","Ciudad_Valles","0316","El Lindero (0316)","R","Ciudad Valles (013)El Lindero (0316)",21.884919,-99.090447999999995,74,39,35,14,240130316,"SI","Alto","Medio",{"$f":"IFERROR(VLOOKUP(CONCATENATE(B1696,D1696),Padrón_Indígenas!$A$2:$G$988,7,0),\"No\")","v":"No"}]
[24,"013","Ciudad_Valles","1068","El Lisque (1068)","R","Ciudad Valles (013)El Lisque (1068)",22.230833000000001,-99.004999999999995,0,0,0,0,240131068,null,null,null,{"$f":"IFERROR(VLOOKUP(CONCATENATE(B1697,D1697),Padrón_Indígenas!$A$2:$G$988,7,0),\"No\")","v":"No"}]
[24,"013","Ciudad_Valles","1046","El Lucero (1046)","R","Ciudad Valles (013)El Lucero (1046)",22.257663999999998,-99.133435000000006,0,0,0,0,240131046,null,null,null,{"$f":"IFERROR(VLOOKUP(CONCATENATE(B1698,D1698),Padrón_Indígenas!$A$2:$G$988,7,0),\"No\")","v":"No"}]
[24,"013","Ciudad_Valles","0111","El Maguey (0111)","R","Ciudad Valles (013)El Maguey (0111)",21.956696999999998,-99.112367000000006,403,204,199,87,240130111,"SI","Alto","Medio",{"$f":"IFERROR(VLOOKUP(CONCATENATE(B1699,D1699),Padrón_Indígenas!$A$2:$G$988,7,0),\"No\")","v":"Sí"}]
[24,"013","Ciudad_Valles","0868","El Majano (0868)","R","Ciudad Valles (013)El Majano (0868)",22.041025999999999,-98.986523000000005,0,0,0,0,240130868,null,null,null,{"$f":"IFERROR(VLOOKUP(CONCATENATE(B1700,D1700),Padrón_Indígenas!$A$2:$G$988,7,0),\"No\")","v":"No"}]
[24,"013","Ciudad_Valles","1010","El Mante (Mario Castro) (1010)","R","Ciudad Valles (013)El Mante (Mario Castro) (1010)",21.836110999999999,-98.829166999999998,0,0,0,0,240131010,null,null,null,{"$f":"IFERROR(VLOOKUP(CONCATENATE(B1701,D1701),Padrón_Indígenas!$A$2:$G$988,7,0),\"No\")","v":"No"}]
[24,"013","Ciudad_Valles","0566","El Milagro (0566)","R","Ciudad Valles (013)El Milagro (0566)",22.274722000000001,-99.223056,0,0,0,0,240130566,null,null,null,{"$f":"IFERROR(VLOOKUP(CONCATENATE(B1702,D1702),Padrón_Indígenas!$A$2:$G$988,7,0),\"No\")","v":"No"}]
[24,"013","Ciudad_Valles","0573","El Mirador (0573)","R","Ciudad Valles (013)El Mirador (0573)",22.180833,-99.222222000000002,1,"*","*",1,240130573,"SI",null,null,{"$f":"IFERROR(VLOOKUP(CONCATENATE(B1703,D1703),Padrón_Indígenas!$A$2:$G$988,7,0),\"No\")","v":"No"}]
[24,"013","Ciudad_Valles","0450","El Mirador (San Juan) (0450)","R","Ciudad Valles (013)El Mirador (San Juan) (0450)",22.130835999999999,-99.120689999999996,0,0,0,0,240130450,null,null,null,{"$f":"IFERROR(VLOOKUP(CONCATENATE(B1704,D1704),Padrón_Indígenas!$A$2:$G$988,7,0),\"No\")","v":"No"}]
[24,"013","Ciudad_Valles","0400","El Mocoque (0400)","R","Ciudad Valles (013)El Mocoque (0400)",22.082301999999999,-99.102136000000002,0,0,0,0,240130400,null,null,null,{"$f":"IFERROR(VLOOKUP(CONCATENATE(B1705,D1705),Padrón_Indígenas!$A$2:$G$988,7,0),\"No\")","v":"No"}]
[24,"013","Ciudad_Valles","1075","El Mocoque (1075)","R","Ciudad Valles (013)El Mocoque (1075)",21.899379,-99.099727999999999,15,9,6,4,240131075,"SI","Alto","Medio",{"$f":"IFERROR(VLOOKUP(CONCATENATE(B1706,D1706),Padrón_Indígenas!$A$2:$G$988,7,0),\"No\")","v":"No"}]
[24,"013","Ciudad_Valles","0899","El Nacimiento (0899)","R","Ciudad Valles (013)El Nacimiento (0899)",21.900230000000001,-98.946202,54,22,32,12,240130899,"SI","Alto","Bajo",{"$f":"IFERROR(VLOOKUP(CONCATENATE(B1707,D1707),Padrón_Indígenas!$A$2:$G$988,7,0),\"No\")","v":"No"}]
[24,"013","Ciudad_Valles","0438","El Noventa (0438)","R","Ciudad Valles (013)El Noventa (0438)",22.045594000000001,-99.229236999999998,6,"*","*",2,240130438,null,null,null,{"$f":"IFERROR(VLOOKUP(CONCATENATE(B1708,D1708),Padrón_Indígenas!$A$2:$G$988,7,0),\"No\")","v":"No"}]
[24,"013","Ciudad_Valles","1107","El Oasis (1107)","R","Ciudad Valles (013)El Oasis (1107)",21.962865999999998,-99.094510999999997,2,"*","*",1,240131107,null,null,null,{"$f":"IFERROR(VLOOKUP(CONCATENATE(B1709,D1709),Padrón_Indígenas!$A$2:$G$988,7,0),\"No\")","v":"No"}]
[24,"013","Ciudad_Valles","0403","El Ocotito (0403)","R","Ciudad Valles (013)El Ocotito (0403)",22.068511999999998,-98.982168000000001,5,"*","*",2,240130403,null,null,null,{"$f":"IFERROR(VLOOKUP(CONCATENATE(B1710,D1710),Padrón_Indígenas!$A$2:$G$988,7,0),\"No\")","v":"No"}]
[24,"013","Ciudad_Valles","0125","El Ojital (0125)","R","Ciudad Valles (013)El Ojital (0125)",22.176636999999999,-99.218391999999994,3,"*","*",1,240130125,null,null,null,{"$f":"IFERROR(VLOOKUP(CONCATENATE(B1711,D1711),Padrón_Indígenas!$A$2:$G$988,7,0),\"No\")","v":"No"}]
[24,"013","Ciudad_Valles","0126","El Ojite (0126)","R","Ciudad Valles (013)El Ojite (0126)",21.969916000000001,-99.115590999999995,814,416,398,168,240130126,"SI","Alto","Medio",{"$f":"IFERROR(VLOOKUP(CONCATENATE(B1712,D1712),Padrón_Indígenas!$A$2:$G$988,7,0),\"No\")","v":"Sí"}]
[24,"013","Ciudad_Valles","0674","El Olvido (0674)","R","Ciudad Valles (013)El Olvido (0674)",21.836666999999998,-99.018056000000001,0,0,0,0,240130674,null,null,null,{"$f":"IFERROR(VLOOKUP(CONCATENATE(B1713,D1713),Padrón_Indígenas!$A$2:$G$988,7,0),\"No\")","v":"No"}]
[24,"013","Ciudad_Valles","0580","El Otate (0580)","R","Ciudad Valles (013)El Otate (0580)",22.256059,-99.132780999999994,5,"*","*",1,240130580,"SI",null,null,{"$f":"IFERROR(VLOOKUP(CONCATENATE(B1714,D1714),Padrón_Indígenas!$A$2:$G$988,7,0),\"No\")","v":"No"}]
[24,"013","Ciudad_Valles","0905","El Padrino (0905)","R","Ciudad Valles (013)El Padrino (0905)",21.980048,-99.113230000000001,0,0,0,0,240130905,null,null,null,{"$f":"IFERROR(VLOOKUP(CONCATENATE(B1715,D1715),Padrón_Indígenas!$A$2:$G$988,7,0),\"No\")","v":"No"}]
[24,"013","Ciudad_Valles","0409","El Palmar (0409)","R","Ciudad Valles (013)El Palmar (0409)",21.881170999999998,-99.010675000000006,1,"*","*",1,240130409,null,null,null,{"$f":"IFERROR(VLOOKUP(CONCATENATE(B1716,D1716),Padrón_Indígenas!$A$2:$G$988,7,0),\"No\")","v":"No"}]
[24,"013","Ciudad_Valles","0906","El Palmar (El Paso) (0906)","R","Ciudad Valles (013)El Palmar (El Paso) (0906)",21.905640999999999,-99.033083000000005,62,27,35,16,240130906,null,"Alto","Muy bajo",{"$f":"IFERROR(VLOOKUP(CONCATENATE(B1717,D1717),Padrón_Indígenas!$A$2:$G$988,7,0),\"No\")","v":"No"}]
[24,"013","Ciudad_Valles","0792","El Palmar (La Concepción) (0792)","R","Ciudad Valles (013)El Palmar (La Concepción) (0792)",21.883368999999998,-99.009013999999993,0,0,0,0,240130792,null,null,null,{"$f":"IFERROR(VLOOKUP(CONCATENATE(B1718,D1718),Padrón_Indígenas!$A$2:$G$988,7,0),\"No\")","v":"No"}]
[24,"013","Ciudad_Valles","0411","El Pantano (0411)","R","Ciudad Valles (013)El Pantano (0411)",22.001111000000002,-99.121667000000002,53,24,29,12,240130411,"SI","Alto","Medio",{"$f":"IFERROR(VLOOKUP(CONCATENATE(B1719,D1719),Padrón_Indígenas!$A$2:$G$988,7,0),\"No\")","v":"No"}]
[24,"013","Ciudad_Valles","0719","El Paredón (0719)","R","Ciudad Valles (013)El Paredón (0719)",22.102171999999999,-99.217465000000004,7,"*","*",1,240130719,"SI",null,null,{"$f":"IFERROR(VLOOKUP(CONCATENATE(B1720,D1720),Padrón_Indígenas!$A$2:$G$988,7,0),\"No\")","v":"No"}]
[24,"013","Ciudad_Valles","0137","El Pedernal (0137)","R","Ciudad Valles (013)El Pedernal (0137)",22.144876,-99.107202999999998,2,"*","*",1,240130137,null,null,null,{"$f":"IFERROR(VLOOKUP(CONCATENATE(B1721,D1721),Padrón_Indígenas!$A$2:$G$988,7,0),\"No\")","v":"No"}]
[24,"013","Ciudad_Valles","0810","El Pedregal de San Miguel (0810)","R","Ciudad Valles (013)El Pedregal de San Miguel (0810)",22.084167000000001,-98.981943999999999,3,"*","*",1,240130810,null,null,null,{"$f":"IFERROR(VLOOKUP(CONCATENATE(B1722,D1722),Padrón_Indígenas!$A$2:$G$988,7,0),\"No\")","v":"No"}]
[24,"013","Ciudad_Valles","0138","El Peralvillo (0138)","R","Ciudad Valles (013)El Peralvillo (0138)",21.882908,-99.033956000000003,6,"*","*",1,240130138,null,null,null,{"$f":"IFERROR(VLOOKUP(CONCATENATE(B1723,D1723),Padrón_Indígenas!$A$2:$G$988,7,0),\"No\")","v":"No"}]
[24,"013","Ciudad_Valles","0629","El Pinolillo (Leonardo Fernández Hernández) (0629)","R","Ciudad Valles (013)El Pinolillo (Leonardo Fernández Hernández) (0629)",21.839013000000001,-99.070760000000007,4,"*","*",1,240130629,"SI",null,null,{"$f":"IFERROR(VLOOKUP(CONCATENATE(B1724,D1724),Padrón_Indígenas!$A$2:$G$988,7,0),\"No\")","v":"No"}]
[24,"013","Ciudad_Valles","1108","El Pinolillo (Rubén Fernández Hernández) (1108)","R","Ciudad Valles (013)El Pinolillo (Rubén Fernández Hernández) (1108)",21.832778000000001,-99.068611000000004,3,"*","*",1,240131108,"SI",null,null,{"$f":"IFERROR(VLOOKUP(CONCATENATE(B1725,D1725),Padrón_Indígenas!$A$2:$G$988,7,0),\"No\")","v":"No"}]
[24,"013","Ciudad_Valles","0915","El Platanito (Alfredo Rosas) (0915)","R","Ciudad Valles (013)El Platanito (Alfredo Rosas) (0915)",22.242766,-99.273741000000001,3,"*","*",1,240130915,"SI",null,null,{"$f":"IFERROR(VLOOKUP(CONCATENATE(B1726,D1726),Padrón_Indígenas!$A$2:$G$988,7,0),\"No\")","v":"No"}]
[24,"013","Ciudad_Valles","0147","El Platanito Número Tres (0147)","R","Ciudad Valles (013)El Platanito Número Tres (0147)",22.244343000000001,-99.289513999999997,36,21,15,7,240130147,null,"Muy alto","Alto",{"$f":"IFERROR(VLOOKUP(CONCATENATE(B1727,D1727),Padrón_Indígenas!$A$2:$G$988,7,0),\"No\")","v":"No"}]
[24,"013","Ciudad_Valles","0144","El Platanito Uno (0144)","R","Ciudad Valles (013)El Platanito Uno (0144)",22.094327,-99.143597999999997,167,80,87,45,240130144,"SI","Alto","Bajo",{"$f":"IFERROR(VLOOKUP(CONCATENATE(B1728,D1728),Padrón_Indígenas!$A$2:$G$988,7,0),\"No\")","v":"No"}]
[24,"013","Ciudad_Valles","0148","El Plateado (0148)","R","Ciudad Valles (013)El Plateado (0148)",22.022793,-99.203362999999996,0,0,0,0,240130148,null,null,null,{"$f":"IFERROR(VLOOKUP(CONCATENATE(B1729,D1729),Padrón_Indígenas!$A$2:$G$988,7,0),\"No\")","v":"No"}]
[24,"013","Ciudad_Valles","0916","El Pocito (La Cascajera) (0916)","R","Ciudad Valles (013)El Pocito (La Cascajera) (0916)",21.839473999999999,-98.925404,0,0,0,0,240130916,null,null,null,{"$f":"IFERROR(VLOOKUP(CONCATENATE(B1730,D1730),Padrón_Indígenas!$A$2:$G$988,7,0),\"No\")","v":"No"}]
[24,"013","Ciudad_Valles","0640","El Porvenir (0640)","R","Ciudad Valles (013)El Porvenir (0640)",21.92,-98.987778000000006,7,"*","*",1,240130640,null,null,null,{"$f":"IFERROR(VLOOKUP(CONCATENATE(B1731,D1731),Padrón_Indígenas!$A$2:$G$988,7,0),\"No\")","v":"No"}]
[24,"013","Ciudad_Valles","0665","El Porvenir (0665)","R","Ciudad Valles (013)El Porvenir (0665)",21.847221999999999,-98.913055999999997,0,0,0,0,240130665,null,null,null,{"$f":"IFERROR(VLOOKUP(CONCATENATE(B1732,D1732),Padrón_Indígenas!$A$2:$G$988,7,0),\"No\")","v":"No"}]
[24,"013","Ciudad_Valles","1017","El Poste (El Verde) (1017)","R","Ciudad Valles (013)El Poste (El Verde) (1017)",22.035781,-99.091854999999995,11,4,7,3,240131017,"SI","Alto","Bajo",{"$f":"IFERROR(VLOOKUP(CONCATENATE(B1733,D1733),Padrón_Indígenas!$A$2:$G$988,7,0),\"No\")","v":"No"}]
[24,"013","Ciudad_Valles","0747","El Prado (0747)","R","Ciudad Valles (013)El Prado (0747)",21.934265,-99.053573999999998,7,"*","*",1,240130747,null,null,null,{"$f":"IFERROR(VLOOKUP(CONCATENATE(B1734,D1734),Padrón_Indígenas!$A$2:$G$988,7,0),\"No\")","v":"No"}]
[24,"013","Ciudad_Valles","0917","El Pretal (La Unión) (0917)","R","Ciudad Valles (013)El Pretal (La Unión) (0917)",22.145353,-98.949707000000004,0,0,0,0,240130917,null,null,null,{"$f":"IFERROR(VLOOKUP(CONCATENATE(B1735,D1735),Padrón_Indígenas!$A$2:$G$988,7,0),\"No\")","v":"No"}]
[24,"013","Ciudad_Valles","1087","El Principio (El Texano) (1087)","R","Ciudad Valles (013)El Principio (El Texano) (1087)",22.143794,-99.196950999999999,2,"*","*",1,240131087,"SI",null,null,{"$f":"IFERROR(VLOOKUP(CONCATENATE(B1736,D1736),Padrón_Indígenas!$A$2:$G$988,7,0),\"No\")","v":"No"}]
[24,"013","Ciudad_Valles","0238","El Quinientos Veinticuatro (0238)","R","Ciudad Valles (013)El Quinientos Veinticuatro (0238)",22.023809,-99.070418000000004,1,"*","*",1,240130238,null,null,null,{"$f":"IFERROR(VLOOKUP(CONCATENATE(B1737,D1737),Padrón_Indígenas!$A$2:$G$988,7,0),\"No\")","v":"No"}]
[24,"013","Ciudad_Valles","0165","El Rebaje (0165)","R","Ciudad Valles (013)El Rebaje (0165)",21.942222000000001,-98.983889000000005,5,"*","*",2,240130165,null,null,null,{"$f":"IFERROR(VLOOKUP(CONCATENATE(B1738,D1738),Padrón_Indígenas!$A$2:$G$988,7,0),\"No\")","v":"No"}]
[24,"013","Ciudad_Valles","0168","El Refugio (0168)","R","Ciudad Valles (013)El Refugio (0168)",21.833784999999999,-98.934207000000001,25,14,11,5,240130168,"SI","Muy alto","Medio",{"$f":"IFERROR(VLOOKUP(CONCATENATE(B1739,D1739),Padrón_Indígenas!$A$2:$G$988,7,0),\"No\")","v":"No"}]
[24,"013","Ciudad_Valles","0685","El Refugio (0685)","R","Ciudad Valles (013)El Refugio (0685)",22.169353999999998,-99.107500999999999,0,0,0,0,240130685,null,null,null,{"$f":"IFERROR(VLOOKUP(CONCATENATE(B1740,D1740),Padrón_Indígenas!$A$2:$G$988,7,0),\"No\")","v":"No"}]
[24,"013","Ciudad_Valles","0751","El Refugio (0751)","R","Ciudad Valles (013)El Refugio (0751)",22.044937999999998,-99.048731000000004,6,"*","*",1,240130751,null,null,null,{"$f":"IFERROR(VLOOKUP(CONCATENATE(B1741,D1741),Padrón_Indígenas!$A$2:$G$988,7,0),\"No\")","v":"No"}]
[24,"013","Ciudad_Valles","0559","El Reparito (0559)","R","Ciudad Valles (013)El Reparito (0559)",22.240072000000001,-98.967343,0,0,0,0,240130559,null,null,null,{"$f":"IFERROR(VLOOKUP(CONCATENATE(B1742,D1742),Padrón_Indígenas!$A$2:$G$988,7,0),\"No\")","v":"No"}]
[24,"013","Ciudad_Valles","1109","El Retiro (1109)","R","Ciudad Valles (013)El Retiro (1109)",22.200555999999999,-99.052222,0,0,0,0,240131109,null,null,null,{"$f":"IFERROR(VLOOKUP(CONCATENATE(B1743,D1743),Padrón_Indígenas!$A$2:$G$988,7,0),\"No\")","v":"No"}]
[24,"013","Ciudad_Valles","1056","El Rincón (1056)","R","Ciudad Valles (013)El Rincón (1056)",21.758064000000001,-98.950545000000005,5,"*","*",1,240131056,null,null,null,{"$f":"IFERROR(VLOOKUP(CONCATENATE(B1744,D1744),Padrón_Indígenas!$A$2:$G$988,7,0),\"No\")","v":"No"}]
[24,"013","Ciudad_Valles","1110","El Rincón de Venados (1110)","R","Ciudad Valles (013)El Rincón de Venados (1110)",22.178332999999999,-99.241388999999998,1,"*","*",1,240131110,null,null,null,{"$f":"IFERROR(VLOOKUP(CONCATENATE(B1745,D1745),Padrón_Indígenas!$A$2:$G$988,7,0),\"No\")","v":"No"}]
[24,"013","Ciudad_Valles","0396","El Rinconcito (0396)","R","Ciudad Valles (013)El Rinconcito (0396)",21.978287999999999,-99.090710999999999,1,"*","*",1,240130396,null,null,null,{"$f":"IFERROR(VLOOKUP(CONCATENATE(B1746,D1746),Padrón_Indígenas!$A$2:$G$988,7,0),\"No\")","v":"No"}]
[24,"013","Ciudad_Valles","1111","El Río (1111)","R","Ciudad Valles (013)El Río (1111)",22.211110999999999,-99.223056,0,0,0,0,240131111,null,null,null,{"$f":"IFERROR(VLOOKUP(CONCATENATE(B1747,D1747),Padrón_Indígenas!$A$2:$G$988,7,0),\"No\")","v":"No"}]
[24,"013","Ciudad_Valles","0938","El Rioverdito Número Tres (0938)","R","Ciudad Valles (013)El Rioverdito Número Tres (0938)",22.234542999999999,-99.269279999999995,6,"*","*",2,240130938,"SI",null,null,{"$f":"IFERROR(VLOOKUP(CONCATENATE(B1748,D1748),Padrón_Indígenas!$A$2:$G$988,7,0),\"No\")","v":"No"}]
[24,"013","Ciudad_Valles","0172","El Rocío (0172)","R","Ciudad Valles (013)El Rocío (0172)",21.859881000000001,-99.071337999999997,7,"*","*",2,240130172,"SI",null,null,{"$f":"IFERROR(VLOOKUP(CONCATENATE(B1749,D1749),Padrón_Indígenas!$A$2:$G$988,7,0),\"No\")","v":"Sí"}]
[24,"013","Ciudad_Valles","0302","El Rodeo (0302)","R","Ciudad Valles (013)El Rodeo (0302)",22.152906999999999,-98.979147999999995,13,8,5,3,240130302,null,"Alto","Medio",{"$f":"IFERROR(VLOOKUP(CONCATENATE(B1750,D1750),Padrón_Indígenas!$A$2:$G$988,7,0),\"No\")","v":"No"}]
[24,"013","Ciudad_Valles","1160","El Rosario (Juan Manuel Arellano) (1160)","R","Ciudad Valles (013)El Rosario (Juan Manuel Arellano) (1160)",22.244775000000001,-99.023505999999998,"-","-","-","-",240131160,null,null,null,{"$f":"IFERROR(VLOOKUP(CONCATENATE(B1751,D1751),Padrón_Indígenas!$A$2:$G$988,7,0),\"No\")","v":"No"}]
[24,"013","Ciudad_Valles","0473","El Sabinito (0473)","R","Ciudad Valles (013)El Sabinito (0473)",22.028414999999999,-99.063485999999997,12,"*","*",1,240130473,null,null,null,{"$f":"IFERROR(VLOOKUP(CONCATENATE(B1752,D1752),Padrón_Indígenas!$A$2:$G$988,7,0),\"No\")","v":"No"}]
[24,"013","Ciudad_Valles","0174","El Sabino del Obispo (0174)","R","Ciudad Valles (013)El Sabino del Obispo (0174)",22.410385000000002,-99.063269000000005,53,32,21,15,240130174,null,"Alto","Medio",{"$f":"IFERROR(VLOOKUP(CONCATENATE(B1753,D1753),Padrón_Indígenas!$A$2:$G$988,7,0),\"No\")","v":"No"}]
[24,"013","Ciudad_Valles","0514","El Sacrificio (0514)","R","Ciudad Valles (013)El Sacrificio (0514)",22.382624,-99.129593,0,0,0,0,240130514,null,null,null,{"$f":"IFERROR(VLOOKUP(CONCATENATE(B1754,D1754),Padrón_Indígenas!$A$2:$G$988,7,0),\"No\")","v":"No"}]
[24,"013","Ciudad_Valles","0572","El Sacrificio (0572)","R","Ciudad Valles (013)El Sacrificio (0572)",22.109546000000002,-99.249128999999996,0,0,0,0,240130572,null,null,null,{"$f":"IFERROR(VLOOKUP(CONCATENATE(B1755,D1755),Padrón_Indígenas!$A$2:$G$988,7,0),\"No\")","v":"No"}]
[24,"013","Ciudad_Valles","1172","El Sacrificio (1172)","R","Ciudad Valles (013)El Sacrificio (1172)",22.033839,-98.974205999999995,"-","-","-","-",240131172,null,null,null,{"$f":"IFERROR(VLOOKUP(CONCATENATE(B1756,D1756),Padrón_Indígenas!$A$2:$G$988,7,0),\"No\")","v":"No"}]
[24,"013","Ciudad_Valles","0811","El Sagrado Corazón (Alejandro Ledezma) (0811)","R","Ciudad Valles (013)El Sagrado Corazón (Alejandro Ledezma) (0811)",21.963761999999999,-98.960797999999997,2,"*","*",1,240130811,null,null,null,{"$f":"IFERROR(VLOOKUP(CONCATENATE(B1757,D1757),Padrón_Indígenas!$A$2:$G$988,7,0),\"No\")","v":"No"}]
[24,"013","Ciudad_Valles","0546","El Saltito (0546)","R","Ciudad Valles (013)El Saltito (0546)",22.043756999999999,-99.029713999999998,0,0,0,0,240130546,null,null,null,{"$f":"IFERROR(VLOOKUP(CONCATENATE(B1758,D1758),Padrón_Indígenas!$A$2:$G$988,7,0),\"No\")","v":"No"}]
[24,"013","Ciudad_Valles","0756","El Satélite (0756)","R","Ciudad Valles (013)El Satélite (0756)",22.077351,-99.053039999999996,2,"*","*",1,240130756,"SI",null,null,{"$f":"IFERROR(VLOOKUP(CONCATENATE(B1759,D1759),Padrón_Indígenas!$A$2:$G$988,7,0),\"No\")","v":"No"}]
[24,"013","Ciudad_Valles","0038","El Sidral (San Miguel el Sidral) (0038)","R","Ciudad Valles (013)El Sidral (San Miguel el Sidral) (0038)",21.833606,-99.055567999999994,347,163,184,92,240130038,"SI","Alto","Bajo",{"$f":"IFERROR(VLOOKUP(CONCATENATE(B1760,D1760),Padrón_Indígenas!$A$2:$G$988,7,0),\"No\")","v":"No"}]
[24,"013","Ciudad_Valles","0808","El Siete (0808)","R","Ciudad Valles (013)El Siete (0808)",21.978446999999999,-98.942543000000001,31,18,13,9,240130808,"SI","Alto","Bajo",{"$f":"IFERROR(VLOOKUP(CONCATENATE(B1761,D1761),Padrón_Indígenas!$A$2:$G$988,7,0),\"No\")","v":"No"}]
[24,"013","Ciudad_Valles","0695","El Silo (0695)","R","Ciudad Valles (013)El Silo (0695)",22.113921000000001,-99.182756999999995,0,0,0,0,240130695,null,null,null,{"$f":"IFERROR(VLOOKUP(CONCATENATE(B1762,D1762),Padrón_Indígenas!$A$2:$G$988,7,0),\"No\")","v":"No"}]
[24,"013","Ciudad_Valles","1112","El Sinaloense (1112)","R","Ciudad Valles (013)El Sinaloense (1112)",22.178332999999999,-98.978055999999995,0,0,0,0,240131112,null,null,null,{"$f":"IFERROR(VLOOKUP(CONCATENATE(B1763,D1763),Padrón_Indígenas!$A$2:$G$988,7,0),\"No\")","v":"No"}]
[24,"013","Ciudad_Valles","0957","El Soyate (0957)","R","Ciudad Valles (013)El Soyate (0957)",22.124002999999998,-99.095551,0,0,0,0,240130957,null,null,null,{"$f":"IFERROR(VLOOKUP(CONCATENATE(B1764,D1764),Padrón_Indígenas!$A$2:$G$988,7,0),\"No\")","v":"No"}]
[24,"013","Ciudad_Valles","0608","El Tabachín (0608)","R","Ciudad Valles (013)El Tabachín (0608)",22.219504000000001,-99.125260999999995,0,0,0,0,240130608,null,null,null,{"$f":"IFERROR(VLOOKUP(CONCATENATE(B1765,D1765),Padrón_Indígenas!$A$2:$G$988,7,0),\"No\")","v":"No"}]
[24,"013","Ciudad_Valles","0215","El Tamarindo (0215)","R","Ciudad Valles (013)El Tamarindo (0215)",21.858067999999999,-99.078398000000007,93,49,44,22,240130215,"SI","Alto","Medio",{"$f":"IFERROR(VLOOKUP(CONCATENATE(B1766,D1766),Padrón_Indígenas!$A$2:$G$988,7,0),\"No\")","v":"Sí"}]
[24,"013","Ciudad_Valles","0548","El Tamarindo (0548)","R","Ciudad Valles (013)El Tamarindo (0548)",22.170802999999999,-99.195953000000003,0,0,0,0,240130548,null,null,null,{"$f":"IFERROR(VLOOKUP(CONCATENATE(B1767,D1767),Padrón_Indígenas!$A$2:$G$988,7,0),\"No\")","v":"No"}]
[24,"013","Ciudad_Valles","0958","El Tamarindo (0958)","R","Ciudad Valles (013)El Tamarindo (0958)",21.976133000000001,-98.957164000000006,0,0,0,0,240130958,null,null,null,{"$f":"IFERROR(VLOOKUP(CONCATENATE(B1768,D1768),Padrón_Indígenas!$A$2:$G$988,7,0),\"No\")","v":"No"}]
[24,"013","Ciudad_Valles","1026","El Tamunal (1026)","R","Ciudad Valles (013)El Tamunal (1026)",21.879463999999999,-98.991566000000006,2,"*","*",1,240131026,null,null,null,{"$f":"IFERROR(VLOOKUP(CONCATENATE(B1769,D1769),Padrón_Indígenas!$A$2:$G$988,7,0),\"No\")","v":"No"}]
[24,"013","Ciudad_Valles","0228","El Tecolote (0228)","R","Ciudad Valles (013)El Tecolote (0228)",22.215,-99.099166999999994,7,"*","*",1,240130228,null,null,null,{"$f":"IFERROR(VLOOKUP(CONCATENATE(B1770,D1770),Padrón_Indígenas!$A$2:$G$988,7,0),\"No\")","v":"No"}]
[24,"013","Ciudad_Valles","0529","El Terrero (0529)","R","Ciudad Valles (013)El Terrero (0529)",22.070789999999999,-99.088485000000006,0,0,0,0,240130529,null,null,null,{"$f":"IFERROR(VLOOKUP(CONCATENATE(B1771,D1771),Padrón_Indígenas!$A$2:$G$988,7,0),\"No\")","v":"No"}]
[24,"013","Ciudad_Valles","0699","El Terrero Grande (0699)","R","Ciudad Valles (013)El Terrero Grande (0699)",22.078976000000001,-99.090665999999999,1,"*","*",1,240130699,null,null,null,{"$f":"IFERROR(VLOOKUP(CONCATENATE(B1772,D1772),Padrón_Indígenas!$A$2:$G$988,7,0),\"No\")","v":"No"}]
[24,"013","Ciudad_Valles","0230","El Tigre (0230)","R","Ciudad Valles (013)El Tigre (0230)",22.269264,-99.124481000000003,3,"*","*",1,240130230,null,null,null,{"$f":"IFERROR(VLOOKUP(CONCATENATE(B1773,D1773),Padrón_Indígenas!$A$2:$G$988,7,0),\"No\")","v":"No"}]
[24,"013","Ciudad_Valles","0960","El Tigre (Dolina Soledad Limones) (0960)","R","Ciudad Valles (013)El Tigre (Dolina Soledad Limones) (0960)",22.268661000000002,-99.140701000000007,1,"*","*",1,240130960,"SI",null,null,{"$f":"IFERROR(VLOOKUP(CONCATENATE(B1774,D1774),Padrón_Indígenas!$A$2:$G$988,7,0),\"No\")","v":"No"}]
[24,"013","Ciudad_Valles","0234","El Triángulo (0234)","R","Ciudad Valles (013)El Triángulo (0234)",21.933610999999999,-98.977221999999998,5,"*","*",2,240130234,"SI",null,null,{"$f":"IFERROR(VLOOKUP(CONCATENATE(B1775,D1775),Padrón_Indígenas!$A$2:$G$988,7,0),\"No\")","v":"No"}]
[24,"013","Ciudad_Valles","0265","El Turu (0265)","R","Ciudad Valles (013)El Turu (0265)",21.788056000000001,-98.893889000000001,7,"*","*",2,240130265,"SI",null,null,{"$f":"IFERROR(VLOOKUP(CONCATENATE(B1776,D1776),Padrón_Indígenas!$A$2:$G$988,7,0),\"No\")","v":"No"}]
[24,"013","Ciudad_Valles","0963","El Tutuche (0963)","R","Ciudad Valles (013)El Tutuche (0963)",21.808463,-99.018130999999997,1,"*","*",1,240130963,null,null,null,{"$f":"IFERROR(VLOOKUP(CONCATENATE(B1777,D1777),Padrón_Indígenas!$A$2:$G$988,7,0),\"No\")","v":"No"}]
[24,"013","Ciudad_Valles","0706","El Vecino (0706)","R","Ciudad Valles (013)El Vecino (0706)",22.182258999999998,-99.214017999999996,4,"*","*",1,240130706,"SI",null,null,{"$f":"IFERROR(VLOOKUP(CONCATENATE(B1778,D1778),Padrón_Indígenas!$A$2:$G$988,7,0),\"No\")","v":"No"}]
[24,"013","Ciudad_Valles","0964","El Veinte (0964)","R","Ciudad Valles (013)El Veinte (0964)",22.023302999999999,-99.108091000000002,3,"*","*",1,240130964,null,null,null,{"$f":"IFERROR(VLOOKUP(CONCATENATE(B1779,D1779),Padrón_Indígenas!$A$2:$G$988,7,0),\"No\")","v":"No"}]
[24,"013","Ciudad_Valles","0542","El Veladero (0542)","R","Ciudad Valles (013)El Veladero (0542)",22.127656000000002,-99.182990000000004,167,93,74,45,240130542,null,"Alto","Bajo",{"$f":"IFERROR(VLOOKUP(CONCATENATE(B1780,D1780),Padrón_Indígenas!$A$2:$G$988,7,0),\"No\")","v":"No"}]
[24,"013","Ciudad_Valles","0239","El Verde (0239)","R","Ciudad Valles (013)El Verde (0239)",22.044523000000002,-99.079344000000006,90,47,43,28,240130239,null,"Alto","Medio",{"$f":"IFERROR(VLOOKUP(CONCATENATE(B1781,D1781),Padrón_Indígenas!$A$2:$G$988,7,0),\"No\")","v":"No"}]
[24,"013","Ciudad_Valles","0858","Eligio Quintanilla (0858)","R","Ciudad Valles (013)Eligio Quintanilla (0858)",22.247788,-99.032365999999996,3,"*","*",1,240130858,null,null,null,{"$f":"IFERROR(VLOOKUP(CONCATENATE(B1782,D1782),Padrón_Indígenas!$A$2:$G$988,7,0),\"No\")","v":"No"}]
[24,"013","Ciudad_Valles","1031","Eloy Hernández Noriega (1031)","R","Ciudad Valles (013)Eloy Hernández Noriega (1031)",22.267291,-99.065574999999995,3,"*","*",1,240131031,null,null,null,{"$f":"IFERROR(VLOOKUP(CONCATENATE(B1783,D1783),Padrón_Indígenas!$A$2:$G$988,7,0),\"No\")","v":"No"}]
[24,"013","Ciudad_Valles","0859","Entrada a Camillas (0859)","R","Ciudad Valles (013)Entrada a Camillas (0859)",22.063759999999998,-99.120870999999994,11,6,5,3,240130859,null,"Alto","Bajo",{"$f":"IFERROR(VLOOKUP(CONCATENATE(B1784,D1784),Padrón_Indígenas!$A$2:$G$988,7,0),\"No\")","v":"No"}]
[24,"013","Ciudad_Valles","0213","Entrada a Tamalte (0213)","R","Ciudad Valles (013)Entrada a Tamalte (0213)",21.752036,-98.955759999999998,39,14,25,10,240130213,"SI","Alto","Bajo",{"$f":"IFERROR(VLOOKUP(CONCATENATE(B1785,D1785),Padrón_Indígenas!$A$2:$G$988,7,0),\"No\")","v":"No"}]
[24,"013","Ciudad_Valles","0860","Erasmo Altamirano (Las Piedras) (0860)","R","Ciudad Valles (013)Erasmo Altamirano (Las Piedras) (0860)",22.348133000000001,-99.147754000000006,0,0,0,0,240130860,null,null,null,{"$f":"IFERROR(VLOOKUP(CONCATENATE(B1786,D1786),Padrón_Indígenas!$A$2:$G$988,7,0),\"No\")","v":"No"}]
[24,"013","Ciudad_Valles","0847","Ernesto Ponce Martínez (0847)","R","Ciudad Valles (013)Ernesto Ponce Martínez (0847)",21.930143999999999,-99.054507999999998,0,0,0,0,240130847,null,null,null,{"$f":"IFERROR(VLOOKUP(CONCATENATE(B1787,D1787),Padrón_Indígenas!$A$2:$G$988,7,0),\"No\")","v":"No"}]
[24,"013","Ciudad_Valles","0070","Españita (0070)","R","Ciudad Valles (013)Españita (0070)",22.197004,-99.226814000000005,2,"*","*",1,240130070,null,null,null,{"$f":"IFERROR(VLOOKUP(CONCATENATE(B1788,D1788),Padrón_Indígenas!$A$2:$G$988,7,0),\"No\")","v":"No"}]
[24,"013","Ciudad_Valles","1000","Estación de Bombeo DAPA (1000)","R","Ciudad Valles (013)Estación de Bombeo DAPA (1000)",22.007234,-99.044625999999994,0,0,0,0,240131000,null,null,null,{"$f":"IFERROR(VLOOKUP(CONCATENATE(B1789,D1789),Padrón_Indígenas!$A$2:$G$988,7,0),\"No\")","v":"No"}]
[24,"013","Ciudad_Valles","0760","Estación de Servicios los Grillitos [Gasolinera] (0760)","R","Ciudad Valles (013)Estación de Servicios los Grillitos [Gasolinera] (0760)",21.988548999999999,-99.041978,0,0,0,0,240130760,null,null,null,{"$f":"IFERROR(VLOOKUP(CONCATENATE(B1790,D1790),Padrón_Indígenas!$A$2:$G$988,7,0),\"No\")","v":"No"}]
[24,"013","Ciudad_Valles","0118","Estación Micos (0118)","R","Ciudad Valles (013)Estación Micos (0118)",22.116458999999999,-99.168432999999993,247,114,133,72,240130118,"SI","Alto","Muy bajo",{"$f":"IFERROR(VLOOKUP(CONCATENATE(B1791,D1791),Padrón_Indígenas!$A$2:$G$988,7,0),\"No\")","v":"No"}]
[24,"013","Ciudad_Valles","0159","Estación Quinientos (0159)","R","Ciudad Valles (013)Estación Quinientos (0159)",22.103121000000002,-99.205461999999997,32,19,13,10,240130159,"SI","Muy alto","Alto",{"$f":"IFERROR(VLOOKUP(CONCATENATE(B1792,D1792),Padrón_Indígenas!$A$2:$G$988,7,0),\"No\")","v":"No"}]
[24,"013","Ciudad_Valles","0574","Esteban Pérez (0574)","R","Ciudad Valles (013)Esteban Pérez (0574)",22.249721999999998,-99.247500000000002,0,0,0,0,240130574,null,null,null,{"$f":"IFERROR(VLOOKUP(CONCATENATE(B1793,D1793),Padrón_Indígenas!$A$2:$G$988,7,0),\"No\")","v":"No"}]
[24,"013","Ciudad_Valles","1082","Eufemio Cruz (1082)","R","Ciudad Valles (013)Eufemio Cruz (1082)",21.904167000000001,-99.004722000000001,5,"*","*",1,240131082,"SI",null,null,{"$f":"IFERROR(VLOOKUP(CONCATENATE(B1794,D1794),Padrón_Indígenas!$A$2:$G$988,7,0),\"No\")","v":"No"}]
[24,"013","Ciudad_Valles","0777","Ex-Hacienda Tanzacalte Fracción Tres (0777)","R","Ciudad Valles (013)Ex-Hacienda Tanzacalte Fracción Tres (0777)",22.074999999999999,-99.021388999999999,2,"*","*",1,240130777,null,null,null,{"$f":"IFERROR(VLOOKUP(CONCATENATE(B1795,D1795),Padrón_Indígenas!$A$2:$G$988,7,0),\"No\")","v":"No"}]
[24,"013","Ciudad_Valles","0866","Felipe Herrera (0866)","R","Ciudad Valles (013)Felipe Herrera (0866)",22.202777999999999,-99.253611000000006,0,0,0,0,240130866,null,null,null,{"$f":"IFERROR(VLOOKUP(CONCATENATE(B1796,D1796),Padrón_Indígenas!$A$2:$G$988,7,0),\"No\")","v":"No"}]
[24,"013","Ciudad_Valles","1076","Felipe Trejo (1076)","R","Ciudad Valles (013)Felipe Trejo (1076)",22.291111000000001,-99.161389,0,0,0,0,240131076,null,null,null,{"$f":"IFERROR(VLOOKUP(CONCATENATE(B1797,D1797),Padrón_Indígenas!$A$2:$G$988,7,0),\"No\")","v":"No"}]
[24,"013","Ciudad_Valles","0987","Fernando Figueroa (0987)","R","Ciudad Valles (013)Fernando Figueroa (0987)",22.060278,-99.051111000000006,0,0,0,0,240130987,null,null,null,{"$f":"IFERROR(VLOOKUP(CONCATENATE(B1798,D1798),Padrón_Indígenas!$A$2:$G$988,7,0),\"No\")","v":"No"}]
[24,"013","Ciudad_Valles","0755","Fidel Ramos (0755)","R","Ciudad Valles (013)Fidel Ramos (0755)",22.052222,-99.102778000000001,0,0,0,0,240130755,null,null,null,{"$f":"IFERROR(VLOOKUP(CONCATENATE(B1799,D1799),Padrón_Indígenas!$A$2:$G$988,7,0),\"No\")","v":"No"}]
[24,"013","Ciudad_Valles","1034","Fidela González (El Remolino) (1034)","R","Ciudad Valles (013)Fidela González (El Remolino) (1034)",21.845492,-98.940004000000002,0,0,0,0,240131034,null,null,null,{"$f":"IFERROR(VLOOKUP(CONCATENATE(B1800,D1800),Padrón_Indígenas!$A$2:$G$988,7,0),\"No\")","v":"No"}]
[24,"013","Ciudad_Valles","0536","Fidencio Moctezuma (0536)","R","Ciudad Valles (013)Fidencio Moctezuma (0536)",22.025288,-99.204581000000005,0,0,0,0,240130536,null,null,null,{"$f":"IFERROR(VLOOKUP(CONCATENATE(B1801,D1801),Padrón_Indígenas!$A$2:$G$988,7,0),\"No\")","v":"No"}]
[24,"013","Ciudad_Valles","1113","Finca Santa Lucía (1113)","R","Ciudad Valles (013)Finca Santa Lucía (1113)",21.956847,-98.976056,6,"*","*",1,240131113,null,null,null,{"$f":"IFERROR(VLOOKUP(CONCATENATE(B1802,D1802),Padrón_Indígenas!$A$2:$G$988,7,0),\"No\")","v":"No"}]
[24,"013","Ciudad_Valles","0904","Fracción el Pacaque (0904)","R","Ciudad Valles (013)Fracción el Pacaque (0904)",22.348807000000001,-99.143787000000003,1,"*","*",1,240130904,null,null,null,{"$f":"IFERROR(VLOOKUP(CONCATENATE(B1803,D1803),Padrón_Indígenas!$A$2:$G$988,7,0),\"No\")","v":"No"}]
[24,"013","Ciudad_Valles","1114","Fracción el Turu (1114)","R","Ciudad Valles (013)Fracción el Turu (1114)",21.804444,-98.887777999999997,18,10,8,3,240131114,"SI","Alto","Medio",{"$f":"IFERROR(VLOOKUP(CONCATENATE(B1804,D1804),Padrón_Indígenas!$A$2:$G$988,7,0),\"No\")","v":"No"}]
[24,"013","Ciudad_Valles","1004","Fracción Extremadura (1004)","R","Ciudad Valles (013)Fracción Extremadura (1004)",22.000833,-99.077222000000006,0,0,0,0,240131004,null,null,null,{"$f":"IFERROR(VLOOKUP(CONCATENATE(B1805,D1805),Padrón_Indígenas!$A$2:$G$988,7,0),\"No\")","v":"No"}]
[24,"013","Ciudad_Valles","1097","Fraccionamiento Buenos Aires (1097)","R","Ciudad Valles (013)Fraccionamiento Buenos Aires (1097)",22.022456999999999,-99.003972000000005,50,24,26,13,240131097,"SI","Muy alto","Medio",{"$f":"IFERROR(VLOOKUP(CONCATENATE(B1806,D1806),Padrón_Indígenas!$A$2:$G$988,7,0),\"No\")","v":"No"}]
[24,"013","Ciudad_Valles","0479","Fraccionamiento las Granjas (0479)","R","Ciudad Valles (013)Fraccionamiento las Granjas (0479)",22.027104999999999,-98.979163999999997,252,131,121,62,240130479,"SI","Alto","Muy bajo",{"$f":"IFERROR(VLOOKUP(CONCATENATE(B1807,D1807),Padrón_Indígenas!$A$2:$G$988,7,0),\"No\")","v":"No"}]
[24,"013","Ciudad_Valles","0478","Fraccionamiento Lomas del Real (0478)","R","Ciudad Valles (013)Fraccionamiento Lomas del Real (0478)",22.019461,-98.986182999999997,207,107,100,61,240130478,"SI","Alto","Medio",{"$f":"IFERROR(VLOOKUP(CONCATENATE(B1808,D1808),Padrón_Indígenas!$A$2:$G$988,7,0),\"No\")","v":"No"}]
[24,"013","Ciudad_Valles","1093","Fraccionamiento Miravalle (1093)","R","Ciudad Valles (013)Fraccionamiento Miravalle (1093)",22.029646,-98.991816999999998,0,0,0,0,240131093,null,null,null,{"$f":"IFERROR(VLOOKUP(CONCATENATE(B1809,D1809),Padrón_Indígenas!$A$2:$G$988,7,0),\"No\")","v":"No"}]
[24,"013","Ciudad_Valles","1013","Fraccionamiento Misión de San Miguel (1013)","R","Ciudad Valles (013)Fraccionamiento Misión de San Miguel (1013)",21.963080999999999,-99.023657,227,109,118,69,240131013,"SI","Muy bajo","Muy bajo",{"$f":"IFERROR(VLOOKUP(CONCATENATE(B1810,D1810),Padrón_Indígenas!$A$2:$G$988,7,0),\"No\")","v":"No"}]
[24,"013","Ciudad_Valles","0770","Francisca Jiménez (0770)","R","Ciudad Valles (013)Francisca Jiménez (0770)",22.043036000000001,-99.024061000000003,0,0,0,0,240130770,null,null,null,{"$f":"IFERROR(VLOOKUP(CONCATENATE(B1811,D1811),Padrón_Indígenas!$A$2:$G$988,7,0),\"No\")","v":"No"}]
[24,"013","Ciudad_Valles","1115","Francisco Castilleja (1115)","R","Ciudad Valles (013)Francisco Castilleja (1115)",22.247078999999999,-99.012257000000005,0,0,0,0,240131115,null,null,null,{"$f":"IFERROR(VLOOKUP(CONCATENATE(B1812,D1812),Padrón_Indígenas!$A$2:$G$988,7,0),\"No\")","v":"No"}]
[24,"013","Ciudad_Valles","0790","Gelasio Garay Ramiro (0790)","R","Ciudad Valles (013)Gelasio Garay Ramiro (0790)",21.900010999999999,-99.019476999999995,0,0,0,0,240130790,null,null,null,{"$f":"IFERROR(VLOOKUP(CONCATENATE(B1813,D1813),Padrón_Indígenas!$A$2:$G$988,7,0),\"No\")","v":"No"}]
[24,"013","Ciudad_Valles","1038","Gerardo Medellín (Los Corrales) (1038)","R","Ciudad Valles (013)Gerardo Medellín (Los Corrales) (1038)",22.262778000000001,-99.216389000000007,0,0,0,0,240131038,null,null,null,{"$f":"IFERROR(VLOOKUP(CONCATENATE(B1814,D1814),Padrón_Indígenas!$A$2:$G$988,7,0),\"No\")","v":"No"}]
[24,"013","Ciudad_Valles","0332","Gilda (El Carpintero) (0332)","R","Ciudad Valles (013)Gilda (El Carpintero) (0332)",21.910442,-99.044341000000003,0,0,0,0,240130332,null,null,null,{"$f":"IFERROR(VLOOKUP(CONCATENATE(B1815,D1815),Padrón_Indígenas!$A$2:$G$988,7,0),\"No\")","v":"No"}]
[24,"013","Ciudad_Valles","0586","Granja Charito (0586)","R","Ciudad Valles (013)Granja Charito (0586)",21.926922999999999,-98.963798999999995,5,"*","*",1,240130586,"SI",null,null,{"$f":"IFERROR(VLOOKUP(CONCATENATE(B1816,D1816),Padrón_Indígenas!$A$2:$G$988,7,0),\"No\")","v":"No"}]
[24,"013","Ciudad_Valles","0669","Granja la Aurora (0669)","R","Ciudad Valles (013)Granja la Aurora (0669)",21.933233000000001,-98.967635999999999,0,0,0,0,240130669,null,null,null,{"$f":"IFERROR(VLOOKUP(CONCATENATE(B1817,D1817),Padrón_Indígenas!$A$2:$G$988,7,0),\"No\")","v":"No"}]
[24,"013","Ciudad_Valles","0871","Granja los Peregrinos Kilómetro Veintitrés (0871)","R","Ciudad Valles (013)Granja los Peregrinos Kilómetro Veintitrés (0871)",22.191984000000001,-98.981283000000005,0,0,0,0,240130871,null,null,null,{"$f":"IFERROR(VLOOKUP(CONCATENATE(B1818,D1818),Padrón_Indígenas!$A$2:$G$988,7,0),\"No\")","v":"No"}]
[24,"013","Ciudad_Valles","0872","Granja María Alejandra (0872)","R","Ciudad Valles (013)Granja María Alejandra (0872)",22.044048,-98.985096999999996,5,"*","*",1,240130872,null,null,null,{"$f":"IFERROR(VLOOKUP(CONCATENATE(B1819,D1819),Padrón_Indígenas!$A$2:$G$988,7,0),\"No\")","v":"No"}]
[24,"013","Ciudad_Valles","1005","Granja San Isidro (1005)","R","Ciudad Valles (013)Granja San Isidro (1005)",22.002293999999999,-99.080259999999996,5,"*","*",1,240131005,null,null,null,{"$f":"IFERROR(VLOOKUP(CONCATENATE(B1820,D1820),Padrón_Indígenas!$A$2:$G$988,7,0),\"No\")","v":"No"}]
[24,"013","Ciudad_Valles","0862","Granja Vickos DIF [Escuela] (0862)","R","Ciudad Valles (013)Granja Vickos DIF [Escuela] (0862)",21.980554000000001,-99.030270999999999,0,0,0,0,240130862,null,null,null,{"$f":"IFERROR(VLOOKUP(CONCATENATE(B1821,D1821),Padrón_Indígenas!$A$2:$G$988,7,0),\"No\")","v":"No"}]
[24,"013","Ciudad_Valles","0873","Granja Victoria (0873)","R","Ciudad Valles (013)Granja Victoria (0873)",22.043143000000001,-98.987195,0,0,0,0,240130873,null,null,null,{"$f":"IFERROR(VLOOKUP(CONCATENATE(B1822,D1822),Padrón_Indígenas!$A$2:$G$988,7,0),\"No\")","v":"No"}]
[24,"013","Ciudad_Valles","1006","Granja Villa Paulina (1006)","R","Ciudad Valles (013)Granja Villa Paulina (1006)",21.939347000000001,-99.070428000000007,0,0,0,0,240131006,null,null,null,{"$f":"IFERROR(VLOOKUP(CONCATENATE(B1823,D1823),Padrón_Indígenas!$A$2:$G$988,7,0),\"No\")","v":"No"}]
[24,"013","Ciudad_Valles","1116","Guadalupe Briones (1116)","R","Ciudad Valles (013)Guadalupe Briones (1116)",22.050283,-99.030645000000007,0,0,0,0,240131116,null,null,null,{"$f":"IFERROR(VLOOKUP(CONCATENATE(B1824,D1824),Padrón_Indígenas!$A$2:$G$988,7,0),\"No\")","v":"No"}]
[24,"013","Ciudad_Valles","0084","Gustavo Garmendia (La Unión) (0084)","R","Ciudad Valles (013)Gustavo Garmendia (La Unión) (0084)",22.122216999999999,-98.982570999999993,434,219,215,121,240130084,"SI","Alto","Medio",{"$f":"IFERROR(VLOOKUP(CONCATENATE(B1825,D1825),Padrón_Indígenas!$A$2:$G$988,7,0),\"No\")","v":"No"}]
[24,"013","Ciudad_Valles","1117","Héctor Soria Martell (1117)","R","Ciudad Valles (013)Héctor Soria Martell (1117)",22.057722999999999,-98.983154999999996,0,0,0,0,240131117,null,null,null,{"$f":"IFERROR(VLOOKUP(CONCATENATE(B1826,D1826),Padrón_Indígenas!$A$2:$G$988,7,0),\"No\")","v":"No"}]
[24,"013","Ciudad_Valles","1039","Heriberto Moctezuma (1039)","R","Ciudad Valles (013)Heriberto Moctezuma (1039)",22.012222000000001,-99.209166999999994,0,0,0,0,240131039,null,null,null,{"$f":"IFERROR(VLOOKUP(CONCATENATE(B1827,D1827),Padrón_Indígenas!$A$2:$G$988,7,0),\"No\")","v":"No"}]
[24,"013","Ciudad_Valles","1040","Hilario Cruz Chomp (1040)","R","Ciudad Valles (013)Hilario Cruz Chomp (1040)",21.828168000000002,-98.953907999999998,6,"*","*",1,240131040,null,null,null,{"$f":"IFERROR(VLOOKUP(CONCATENATE(B1828,D1828),Padrón_Indígenas!$A$2:$G$988,7,0),\"No\")","v":"No"}]
[24,"013","Ciudad_Valles","0783","Hipólito Pérez (El Azulejo) (0783)","R","Ciudad Valles (013)Hipólito Pérez (El Azulejo) (0783)",21.897500000000001,-99.002778000000006,3,"*","*",1,240130783,null,null,null,{"$f":"IFERROR(VLOOKUP(CONCATENATE(B1829,D1829),Padrón_Indígenas!$A$2:$G$988,7,0),\"No\")","v":"No"}]
[24,"013","Ciudad_Valles","1016","Huasteco-Miel [Planta de Alimentos] (1016)","R","Ciudad Valles (013)Huasteco-Miel [Planta de Alimentos] (1016)",21.977650000000001,-98.946055999999999,0,0,0,0,240131016,null,null,null,{"$f":"IFERROR(VLOOKUP(CONCATENATE(B1830,D1830),Padrón_Indígenas!$A$2:$G$988,7,0),\"No\")","v":"No"}]
[24,"013","Ciudad_Valles","0298","Huizachal (0298)","R","Ciudad Valles (013)Huizachal (0298)",22.06962,-99.098049000000003,2,"*","*",1,240130298,null,null,null,{"$f":"IFERROR(VLOOKUP(CONCATENATE(B1831,D1831),Padrón_Indígenas!$A$2:$G$988,7,0),\"No\")","v":"No"}]
[24,"013","Ciudad_Valles","0677","Inca Rural (0677)","R","Ciudad Valles (013)Inca Rural (0677)",21.914918,-98.952267000000006,0,0,0,0,240130677,null,null,null,{"$f":"IFERROR(VLOOKUP(CONCATENATE(B1832,D1832),Padrón_Indígenas!$A$2:$G$988,7,0),\"No\")","v":"No"}]
[24,"013","Ciudad_Valles","0865","Irene González Delgado (Pujal) (0865)","R","Ciudad Valles (013)Irene González Delgado (Pujal) (0865)",21.845652999999999,-98.938956000000005,0,0,0,0,240130865,null,null,null,{"$f":"IFERROR(VLOOKUP(CONCATENATE(B1833,D1833),Padrón_Indígenas!$A$2:$G$988,7,0),\"No\")","v":"No"}]
[24,"013","Ciudad_Valles","0772","Isabel Rivera (0772)","R","Ciudad Valles (013)Isabel Rivera (0772)",22.017372999999999,-98.951302999999996,1,"*","*",1,240130772,null,null,null,{"$f":"IFERROR(VLOOKUP(CONCATENATE(B1834,D1834),Padrón_Indígenas!$A$2:$G$988,7,0),\"No\")","v":"No"}]
[24,"013","Ciudad_Valles","0876","Isidro Cruz (0876)","R","Ciudad Valles (013)Isidro Cruz (0876)",22.234480999999999,-99.245660999999998,0,0,0,0,240130876,null,null,null,{"$f":"IFERROR(VLOOKUP(CONCATENATE(B1835,D1835),Padrón_Indígenas!$A$2:$G$988,7,0),\"No\")","v":"No"}]
[24,"013","Ciudad_Valles","0982","Isidro Rodríguez Hernández (0982)","R","Ciudad Valles (013)Isidro Rodríguez Hernández (0982)",21.968722,-98.957920000000001,5,"*","*",1,240130982,"SI",null,null,{"$f":"IFERROR(VLOOKUP(CONCATENATE(B1836,D1836),Padrón_Indígenas!$A$2:$G$988,7,0),\"No\")","v":"No"}]
[24,"013","Ciudad_Valles","0093","Jabalí (0093)","R","Ciudad Valles (013)Jabalí (0093)",21.878785000000001,-98.943882000000002,132,66,66,30,240130093,"SI","Alto","Bajo",{"$f":"IFERROR(VLOOKUP(CONCATENATE(B1837,D1837),Padrón_Indígenas!$A$2:$G$988,7,0),\"No\")","v":"No"}]
[24,"013","Ciudad_Valles","0595","Jacinto López (0595)","R","Ciudad Valles (013)Jacinto López (0595)",21.932524999999998,-98.923085999999998,14,8,6,7,240130595,"SI","Muy alto","Alto",{"$f":"IFERROR(VLOOKUP(CONCATENATE(B1838,D1838),Padrón_Indígenas!$A$2:$G$988,7,0),\"No\")","v":"No"}]
[24,"013","Ciudad_Valles","1118","Javier Castro (1118)","R","Ciudad Valles (013)Javier Castro (1118)",21.785,-98.886111,0,0,0,0,240131118,null,null,null,{"$f":"IFERROR(VLOOKUP(CONCATENATE(B1839,D1839),Padrón_Indígenas!$A$2:$G$988,7,0),\"No\")","v":"No"}]
[24,"013","Ciudad_Valles","0976","Javier López Cárdenas (0976)","R","Ciudad Valles (013)Javier López Cárdenas (0976)",21.997778,-98.989444000000006,0,0,0,0,240130976,null,null,null,{"$f":"IFERROR(VLOOKUP(CONCATENATE(B1840,D1840),Padrón_Indígenas!$A$2:$G$988,7,0),\"No\")","v":"No"}]
[24,"013","Ciudad_Valles","1007","Jesús Monzón (1007)","R","Ciudad Valles (013)Jesús Monzón (1007)",22.075035,-99.051831000000007,1,"*","*",1,240131007,null,null,null,{"$f":"IFERROR(VLOOKUP(CONCATENATE(B1841,D1841),Padrón_Indígenas!$A$2:$G$988,7,0),\"No\")","v":"No"}]
[24,"013","Ciudad_Valles","0979","Jesús Pérez Zapata (0979)","R","Ciudad Valles (013)Jesús Pérez Zapata (0979)",21.974129999999999,-98.992363999999995,0,0,0,0,240130979,null,null,null,{"$f":"IFERROR(VLOOKUP(CONCATENATE(B1842,D1842),Padrón_Indígenas!$A$2:$G$988,7,0),\"No\")","v":"No"}]
[24,"013","Ciudad_Valles","1043","Joaquín Peralta (1043)","R","Ciudad Valles (013)Joaquín Peralta (1043)",22.188611000000002,-98.981110999999999,5,"*","*",1,240131043,null,null,null,{"$f":"IFERROR(VLOOKUP(CONCATENATE(B1843,D1843),Padrón_Indígenas!$A$2:$G$988,7,0),\"No\")","v":"No"}]
[24,"013","Ciudad_Valles","1044","José Ángel Vázquez (1044)","R","Ciudad Valles (013)José Ángel Vázquez (1044)",22.068341,-99.238354000000001,0,0,0,0,240131044,null,null,null,{"$f":"IFERROR(VLOOKUP(CONCATENATE(B1844,D1844),Padrón_Indígenas!$A$2:$G$988,7,0),\"No\")","v":"No"}]
[24,"013","Ciudad_Valles","1008","Juan (1008)","R","Ciudad Valles (013)Juan (1008)",21.967811000000001,-99.036030999999994,5,"*","*",1,240131008,null,null,null,{"$f":"IFERROR(VLOOKUP(CONCATENATE(B1845,D1845),Padrón_Indígenas!$A$2:$G$988,7,0),\"No\")","v":"No"}]
[24,"013","Ciudad_Valles","0891","Juan Martínez Amaya (0891)","R","Ciudad Valles (013)Juan Martínez Amaya (0891)",21.936944,-99.073055999999994,0,0,0,0,240130891,null,null,null,{"$f":"IFERROR(VLOOKUP(CONCATENATE(B1846,D1846),Padrón_Indígenas!$A$2:$G$988,7,0),\"No\")","v":"No"}]
[24,"013","Ciudad_Valles","1161","Juana Rodríguez (1161)","R","Ciudad Valles (013)Juana Rodríguez (1161)",22.060352999999999,-99.094005999999993,"-","-","-","-",240131161,null,null,null,{"$f":"IFERROR(VLOOKUP(CONCATENATE(B1847,D1847),Padrón_Indígenas!$A$2:$G$988,7,0),\"No\")","v":"No"}]
[24,"013","Ciudad_Valles","1066","Kilómetro 5 (1066)","R","Ciudad Valles (013)Kilómetro 5 (1066)",22.036650000000002,-98.987885000000006,5,"*","*",1,240131066,"SI",null,null,{"$f":"IFERROR(VLOOKUP(CONCATENATE(B1848,D1848),Padrón_Indígenas!$A$2:$G$988,7,0),\"No\")","v":"No"}]
[24,"013","Ciudad_Valles","1028","La Aguaje (1028)","R","Ciudad Valles (013)La Aguaje (1028)",22.056265,-98.918694000000002,12,9,3,9,240131028,"SI","Muy alto","Alto",{"$f":"IFERROR(VLOOKUP(CONCATENATE(B1849,D1849),Padrón_Indígenas!$A$2:$G$988,7,0),\"No\")","v":"No"}]
[24,"013","Ciudad_Valles","0351","La Antigua (0351)","R","Ciudad Valles (013)La Antigua (0351)",21.878934000000001,-99.089089000000001,279,138,141,56,240130351,"SI","Alto","Medio",{"$f":"IFERROR(VLOOKUP(CONCATENATE(B1850,D1850),Padrón_Indígenas!$A$2:$G$988,7,0),\"No\")","v":"Sí"}]
[24,"013","Ciudad_Valles","0814","La Argentina (0814)","R","Ciudad Valles (013)La Argentina (0814)",21.949444,-99.066111000000006,0,0,0,0,240130814,null,null,null,{"$f":"IFERROR(VLOOKUP(CONCATENATE(B1851,D1851),Padrón_Indígenas!$A$2:$G$988,7,0),\"No\")","v":"No"}]
[24,"013","Ciudad_Valles","0691","La Bolsa (0691)","R","Ciudad Valles (013)La Bolsa (0691)",21.956215,-98.963869000000003,8,7,1,3,240130691,null,"Muy alto","Alto",{"$f":"IFERROR(VLOOKUP(CONCATENATE(B1852,D1852),Padrón_Indígenas!$A$2:$G$988,7,0),\"No\")","v":"No"}]
[24,"013","Ciudad_Valles","1063","La Bomba (1063)","R","Ciudad Valles (013)La Bomba (1063)",22.287368000000001,-99.123699000000002,0,0,0,0,240131063,null,null,null,{"$f":"IFERROR(VLOOKUP(CONCATENATE(B1853,D1853),Padrón_Indígenas!$A$2:$G$988,7,0),\"No\")","v":"No"}]
[24,"013","Ciudad_Valles","0820","La Boquilla (0820)","R","Ciudad Valles (013)La Boquilla (0820)",22.112000999999999,-99.090947999999997,0,0,0,0,240130820,null,null,null,{"$f":"IFERROR(VLOOKUP(CONCATENATE(B1854,D1854),Padrón_Indígenas!$A$2:$G$988,7,0),\"No\")","v":"No"}]
[24,"013","Ciudad_Valles","1162","La Cabaña de Don Pepe (1162)","R","Ciudad Valles (013)La Cabaña de Don Pepe (1162)",22.182784000000002,-98.975577999999999,"-","-","-","-",240131162,null,null,null,{"$f":"IFERROR(VLOOKUP(CONCATENATE(B1855,D1855),Padrón_Indígenas!$A$2:$G$988,7,0),\"No\")","v":"No"}]
[24,"013","Ciudad_Valles","0487","La Cajita (0487)","R","Ciudad Valles (013)La Cajita (0487)",22.022500000000001,-99.244721999999996,0,0,0,0,240130487,null,null,null,{"$f":"IFERROR(VLOOKUP(CONCATENATE(B1856,D1856),Padrón_Indígenas!$A$2:$G$988,7,0),\"No\")","v":"No"}]
[24,"013","Ciudad_Valles","0360","La Calera (0360)","R","Ciudad Valles (013)La Calera (0360)",21.892797999999999,-98.949770000000001,545,271,274,137,240130360,"SI","Alto","Bajo",{"$f":"IFERROR(VLOOKUP(CONCATENATE(B1857,D1857),Padrón_Indígenas!$A$2:$G$988,7,0),\"No\")","v":"No"}]
[24,"013","Ciudad_Valles","0326","La Camelia (0326)","R","Ciudad Valles (013)La Camelia (0326)",21.865410000000001,-99.010673999999995,10,6,4,3,240130326,null,"Alto","Medio",{"$f":"IFERROR(VLOOKUP(CONCATENATE(B1858,D1858),Padrón_Indígenas!$A$2:$G$988,7,0),\"No\")","v":"No"}]
[24,"013","Ciudad_Valles","0031","La Carolina (0031)","R","Ciudad Valles (013)La Carolina (0031)",21.800325000000001,-98.950215999999998,3,"*","*",1,240130031,null,null,null,{"$f":"IFERROR(VLOOKUP(CONCATENATE(B1859,D1859),Padrón_Indígenas!$A$2:$G$988,7,0),\"No\")","v":"No"}]
[24,"013","Ciudad_Valles","0036","La Ceiba (0036)","R","Ciudad Valles (013)La Ceiba (0036)",22.063987999999998,-99.240333000000007,4,"*","*",1,240130036,"SI",null,null,{"$f":"IFERROR(VLOOKUP(CONCATENATE(B1860,D1860),Padrón_Indígenas!$A$2:$G$988,7,0),\"No\")","v":"No"}]
[24,"013","Ciudad_Valles","0787","La Ceiba (0787)","R","Ciudad Valles (013)La Ceiba (0787)",21.898260000000001,-99.063811000000001,5,"*","*",1,240130787,null,null,null,{"$f":"IFERROR(VLOOKUP(CONCATENATE(B1861,D1861),Padrón_Indígenas!$A$2:$G$988,7,0),\"No\")","v":"No"}]
[24,"013","Ciudad_Valles","1119","La Ceiba (1119)","R","Ciudad Valles (013)La Ceiba (1119)",21.826820999999999,-98.974226000000002,2,"*","*",1,240131119,null,null,null,{"$f":"IFERROR(VLOOKUP(CONCATENATE(B1862,D1862),Padrón_Indígenas!$A$2:$G$988,7,0),\"No\")","v":"No"}]
[24,"013","Ciudad_Valles","0734","La Chaca (0734)","R","Ciudad Valles (013)La Chaca (0734)",22.012077999999999,-99.196235999999999,0,0,0,0,240130734,null,null,null,{"$f":"IFERROR(VLOOKUP(CONCATENATE(B1863,D1863),Padrón_Indígenas!$A$2:$G$988,7,0),\"No\")","v":"No"}]
[24,"013","Ciudad_Valles","0727","La Chicharilla (0727)","R","Ciudad Valles (013)La Chicharilla (0727)",22.146599999999999,-99.251223999999993,1,"*","*",1,240130727,null,null,null,{"$f":"IFERROR(VLOOKUP(CONCATENATE(B1864,D1864),Padrón_Indígenas!$A$2:$G$988,7,0),\"No\")","v":"No"}]
[24,"013","Ciudad_Valles","0718","La China (0718)","R","Ciudad Valles (013)La China (0718)",22.183056000000001,-99.140556000000004,0,0,0,0,240130718,null,null,null,{"$f":"IFERROR(VLOOKUP(CONCATENATE(B1865,D1865),Padrón_Indígenas!$A$2:$G$988,7,0),\"No\")","v":"No"}]
[24,"013","Ciudad_Valles","0836","La Cima (0836)","R","Ciudad Valles (013)La Cima (0836)",22.096388999999999,-98.917500000000004,2,"*","*",1,240130836,null,null,null,{"$f":"IFERROR(VLOOKUP(CONCATENATE(B1866,D1866),Padrón_Indígenas!$A$2:$G$988,7,0),\"No\")","v":"No"}]
[24,"013","Ciudad_Valles","0311","La Coincidencia (El Encuerado) (0311)","R","Ciudad Valles (013)La Coincidencia (El Encuerado) (0311)",21.863333000000001,-98.981667000000002,5,"*","*",2,240130311,null,null,null,{"$f":"IFERROR(VLOOKUP(CONCATENATE(B1867,D1867),Padrón_Indígenas!$A$2:$G$988,7,0),\"No\")","v":"No"}]
[24,"013","Ciudad_Valles","1120","La Composta (1120)","R","Ciudad Valles (013)La Composta (1120)",22.007633999999999,-99.072784999999996,3,"*","*",1,240131120,null,null,null,{"$f":"IFERROR(VLOOKUP(CONCATENATE(B1868,D1868),Padrón_Indígenas!$A$2:$G$988,7,0),\"No\")","v":"No"}]
[24,"013","Ciudad_Valles","0044","La Concepción (La Concha) (0044)","R","Ciudad Valles (013)La Concepción (La Concha) (0044)",21.849247999999999,-99.009730000000005,115,64,51,31,240130044,"SI","Medio","Bajo",{"$f":"IFERROR(VLOOKUP(CONCATENATE(B1869,D1869),Padrón_Indígenas!$A$2:$G$988,7,0),\"No\")","v":"No"}]
[24,"013","Ciudad_Valles","0046","La Copa (0046)","R","Ciudad Valles (013)La Copa (0046)",22.230913000000001,-99.103531000000004,1,"*","*",1,240130046,null,null,null,{"$f":"IFERROR(VLOOKUP(CONCATENATE(B1870,D1870),Padrón_Indígenas!$A$2:$G$988,7,0),\"No\")","v":"No"}]
[24,"013","Ciudad_Valles","0331","La Copa (0331)","R","Ciudad Valles (013)La Copa (0331)",21.906148000000002,-99.030152999999999,9,"*","*",2,240130331,null,null,null,{"$f":"IFERROR(VLOOKUP(CONCATENATE(B1871,D1871),Padrón_Indígenas!$A$2:$G$988,7,0),\"No\")","v":"No"}]
[24,"013","Ciudad_Valles","0258","La Crucita (Barrio de Guadalupe) (0258)","R","Ciudad Valles (013)La Crucita (Barrio de Guadalupe) (0258)",21.894794000000001,-99.091403,85,43,42,15,240130258,"SI","Alto","Medio",{"$f":"IFERROR(VLOOKUP(CONCATENATE(B1872,D1872),Padrón_Indígenas!$A$2:$G$988,7,0),\"No\")","v":"Sí"}]
[24,"013","Ciudad_Valles","0650","La Cueva (0650)","R","Ciudad Valles (013)La Cueva (0650)",22.185082000000001,-99.214209999999994,0,0,0,0,240130650,null,null,null,{"$f":"IFERROR(VLOOKUP(CONCATENATE(B1873,D1873),Padrón_Indígenas!$A$2:$G$988,7,0),\"No\")","v":"No"}]
[24,"013","Ciudad_Valles","0853","La Curva (0853)","R","Ciudad Valles (013)La Curva (0853)",21.782567,-98.951528999999994,4,"*","*",1,240130853,null,null,null,{"$f":"IFERROR(VLOOKUP(CONCATENATE(B1874,D1874),Padrón_Indígenas!$A$2:$G$988,7,0),\"No\")","v":"No"}]
[24,"013","Ciudad_Valles","0637","La Diana (0637)","R","Ciudad Valles (013)La Diana (0637)",21.927827000000001,-99.033563999999998,3,"*","*",1,240130637,"SI",null,null,{"$f":"IFERROR(VLOOKUP(CONCATENATE(B1875,D1875),Padrón_Indígenas!$A$2:$G$988,7,0),\"No\")","v":"No"}]
[24,"013","Ciudad_Valles","0630","La Encantada (0630)","R","Ciudad Valles (013)La Encantada (0630)",21.830825000000001,-99.071976000000006,0,0,0,0,240130630,null,null,null,{"$f":"IFERROR(VLOOKUP(CONCATENATE(B1876,D1876),Padrón_Indígenas!$A$2:$G$988,7,0),\"No\")","v":"No"}]
[24,"013","Ciudad_Valles","0318","La Escondida (0318)","R","Ciudad Valles (013)La Escondida (0318)",21.872682000000001,-99.087868,237,120,117,49,240130318,"SI","Alto","Medio",{"$f":"IFERROR(VLOOKUP(CONCATENATE(B1877,D1877),Padrón_Indígenas!$A$2:$G$988,7,0),\"No\")","v":"Sí"}]
[24,"013","Ciudad_Valles","0861","La Escondida (Salomón Fonseca) (0861)","R","Ciudad Valles (013)La Escondida (Salomón Fonseca) (0861)",22.110317999999999,-98.918505999999994,0,0,0,0,240130861,null,null,null,{"$f":"IFERROR(VLOOKUP(CONCATENATE(B1878,D1878),Padrón_Indígenas!$A$2:$G$988,7,0),\"No\")","v":"No"}]
[24,"013","Ciudad_Valles","0071","La Esperanza (0071)","R","Ciudad Valles (013)La Esperanza (0071)",21.841388999999999,-98.899444000000003,0,0,0,0,240130071,null,null,null,{"$f":"IFERROR(VLOOKUP(CONCATENATE(B1879,D1879),Padrón_Indígenas!$A$2:$G$988,7,0),\"No\")","v":"No"}]
[24,"013","Ciudad_Valles","0392","La Esperanza (0392)","R","Ciudad Valles (013)La Esperanza (0392)",22.405277999999999,-99.125,10,"*","*",2,240130392,null,null,null,{"$f":"IFERROR(VLOOKUP(CONCATENATE(B1880,D1880),Padrón_Indígenas!$A$2:$G$988,7,0),\"No\")","v":"No"}]
[24,"013","Ciudad_Valles","0463","La Esperanza (La Loma) (0463)","R","Ciudad Valles (013)La Esperanza (La Loma) (0463)",21.91958,-99.061413000000002,19,8,11,6,240130463,"SI","Alto","Bajo",{"$f":"IFERROR(VLOOKUP(CONCATENATE(B1881,D1881),Padrón_Indígenas!$A$2:$G$988,7,0),\"No\")","v":"No"}]
[24,"013","Ciudad_Valles","1061","La Estrella (1061)","R","Ciudad Valles (013)La Estrella (1061)",22.183004,-98.977247000000006,0,0,0,0,240131061,null,null,null,{"$f":"IFERROR(VLOOKUP(CONCATENATE(B1882,D1882),Padrón_Indígenas!$A$2:$G$988,7,0),\"No\")","v":"No"}]
[24,"013","Ciudad_Valles","0076","La Estribera (0076)","R","Ciudad Valles (013)La Estribera (0076)",22.180333000000001,-99.135953999999998,490,243,247,130,240130076,"SI","Medio","Muy bajo",{"$f":"IFERROR(VLOOKUP(CONCATENATE(B1883,D1883),Padrón_Indígenas!$A$2:$G$988,7,0),\"No\")","v":"No"}]
[24,"013","Ciudad_Valles","0075","La Extremadura (0075)","R","Ciudad Valles (013)La Extremadura (0075)",21.999399,-99.077237999999994,12,"*","*",2,240130075,"SI",null,null,{"$f":"IFERROR(VLOOKUP(CONCATENATE(B1884,D1884),Padrón_Indígenas!$A$2:$G$988,7,0),\"No\")","v":"No"}]
[24,"013","Ciudad_Valles","0272","La Favorita (0272)","R","Ciudad Valles (013)La Favorita (0272)",22.148837,-99.107288999999994,0,0,0,0,240130272,null,null,null,{"$f":"IFERROR(VLOOKUP(CONCATENATE(B1885,D1885),Padrón_Indígenas!$A$2:$G$988,7,0),\"No\")","v":"No"}]
[24,"013","Ciudad_Valles","0078","La Flor (0078)","R","Ciudad Valles (013)La Flor (0078)",22.123125999999999,-99.182923000000002,1,"*","*",1,240130078,null,null,null,{"$f":"IFERROR(VLOOKUP(CONCATENATE(B1886,D1886),Padrón_Indígenas!$A$2:$G$988,7,0),\"No\")","v":"No"}]
[24,"013","Ciudad_Valles","1174","La Flor (1174)","R","Ciudad Valles (013)La Flor (1174)",22.034678,-98.977430999999996,"-","-","-","-",240131174,null,null,null,{"$f":"IFERROR(VLOOKUP(CONCATENATE(B1887,D1887),Padrón_Indígenas!$A$2:$G$988,7,0),\"No\")","v":"No"}]
[24,"013","Ciudad_Valles","0167","La Florida (0167)","R","Ciudad Valles (013)La Florida (0167)",22.407499999999999,-99.030833000000001,0,0,0,0,240130167,null,null,null,{"$f":"IFERROR(VLOOKUP(CONCATENATE(B1888,D1888),Padrón_Indígenas!$A$2:$G$988,7,0),\"No\")","v":"No"}]
[24,"013","Ciudad_Valles","1036","La Florida (1036)","R","Ciudad Valles (013)La Florida (1036)",22.001617,-99.044799999999995,0,0,0,0,240131036,null,null,null,{"$f":"IFERROR(VLOOKUP(CONCATENATE(B1889,D1889),Padrón_Indígenas!$A$2:$G$988,7,0),\"No\")","v":"No"}]
[24,"013","Ciudad_Valles","0081","La Gavia (0081)","R","Ciudad Valles (013)La Gavia (0081)",22.058821999999999,-99.076301000000001,2,"*","*",1,240130081,"SI",null,null,{"$f":"IFERROR(VLOOKUP(CONCATENATE(B1890,D1890),Padrón_Indígenas!$A$2:$G$988,7,0),\"No\")","v":"No"}]
[24,"013","Ciudad_Valles","0497","La Gloria (0497)","R","Ciudad Valles (013)La Gloria (0497)",22.071846000000001,-99.238427000000001,0,0,0,0,240130497,null,null,null,{"$f":"IFERROR(VLOOKUP(CONCATENATE(B1891,D1891),Padrón_Indígenas!$A$2:$G$988,7,0),\"No\")","v":"No"}]
[24,"013","Ciudad_Valles","0869","La Gloria (0869)","R","Ciudad Valles (013)La Gloria (0869)",22.127222,-99.095556000000002,21,11,10,6,240130869,"SI","Alto","Medio",{"$f":"IFERROR(VLOOKUP(CONCATENATE(B1892,D1892),Padrón_Indígenas!$A$2:$G$988,7,0),\"No\")","v":"No"}]
[24,"013","Ciudad_Valles","1067","La Granja (1067)","R","Ciudad Valles (013)La Granja (1067)",22.035278000000002,-98.987499999999997,0,0,0,0,240131067,null,null,null,{"$f":"IFERROR(VLOOKUP(CONCATENATE(B1893,D1893),Padrón_Indígenas!$A$2:$G$988,7,0),\"No\")","v":"No"}]
[24,"013","Ciudad_Valles","0874","La Granja Yesenia (0874)","R","Ciudad Valles (013)La Granja Yesenia (0874)",21.978515999999999,-99.080172000000005,3,"*","*",1,240130874,null,null,null,{"$f":"IFERROR(VLOOKUP(CONCATENATE(B1894,D1894),Padrón_Indígenas!$A$2:$G$988,7,0),\"No\")","v":"No"}]
[24,"013","Ciudad_Valles","0988","La Herradura (0988)","R","Ciudad Valles (013)La Herradura (0988)",22.336245000000002,-99.087604999999996,0,0,0,0,240130988,null,null,null,{"$f":"IFERROR(VLOOKUP(CONCATENATE(B1895,D1895),Padrón_Indígenas!$A$2:$G$988,7,0),\"No\")","v":"No"}]
[24,"013","Ciudad_Valles","0768","La Ilusión (0768)","R","Ciudad Valles (013)La Ilusión (0768)",21.950793000000001,-99.062583000000004,0,0,0,0,240130768,null,null,null,{"$f":"IFERROR(VLOOKUP(CONCATENATE(B1896,D1896),Padrón_Indígenas!$A$2:$G$988,7,0),\"No\")","v":"No"}]
[24,"013","Ciudad_Valles","1122","La Jutemosa (1122)","R","Ciudad Valles (013)La Jutemosa (1122)",22.062103,-99.138311000000002,0,0,0,0,240131122,null,null,null,{"$f":"IFERROR(VLOOKUP(CONCATENATE(B1897,D1897),Padrón_Indígenas!$A$2:$G$988,7,0),\"No\")","v":"No"}]
[24,"013","Ciudad_Valles","1084","La Lagartija (1084)","R","Ciudad Valles (013)La Lagartija (1084)",21.895751000000001,-99.001677999999998,0,0,0,0,240131084,null,null,null,{"$f":"IFERROR(VLOOKUP(CONCATENATE(B1898,D1898),Padrón_Indígenas!$A$2:$G$988,7,0),\"No\")","v":"No"}]
[24,"013","Ciudad_Valles","0101","La Lagunita (0101)","R","Ciudad Valles (013)La Lagunita (0101)",21.959357000000001,-99.047478999999996,76,33,43,21,240130101,"SI","Alto","Bajo",{"$f":"IFERROR(VLOOKUP(CONCATENATE(B1899,D1899),Padrón_Indígenas!$A$2:$G$988,7,0),\"No\")","v":"No"}]
[24,"013","Ciudad_Valles","0437","La Lagunita (0437)","R","Ciudad Valles (013)La Lagunita (0437)",22.159164000000001,-99.105407,17,8,9,5,240130437,null,"Alto","Medio",{"$f":"IFERROR(VLOOKUP(CONCATENATE(B1900,D1900),Padrón_Indígenas!$A$2:$G$988,7,0),\"No\")","v":"No"}]
[24,"013","Ciudad_Valles","1123","La Lagunita Dos (1123)","R","Ciudad Valles (013)La Lagunita Dos (1123)",22.153608999999999,-99.105777000000003,13,7,6,3,240131123,null,"Alto","Medio",{"$f":"IFERROR(VLOOKUP(CONCATENATE(B1901,D1901),Padrón_Indígenas!$A$2:$G$988,7,0),\"No\")","v":"No"}]
[24,"013","Ciudad_Valles","1163","La Lajilla [Restaurant] (1163)","R","Ciudad Valles (013)La Lajilla [Restaurant] (1163)",22.245103,-99.033877000000004,"-","-","-","-",240131163,null,null,null,{"$f":"IFERROR(VLOOKUP(CONCATENATE(B1902,D1902),Padrón_Indígenas!$A$2:$G$988,7,0),\"No\")","v":"No"}]
[24,"013","Ciudad_Valles","0104","La Lajita (0104)","R","Ciudad Valles (013)La Lajita (0104)",22.080539000000002,-99.084052999999997,1,"*","*",1,240130104,null,null,null,{"$f":"IFERROR(VLOOKUP(CONCATENATE(B1903,D1903),Padrón_Indígenas!$A$2:$G$988,7,0),\"No\")","v":"No"}]
[24,"013","Ciudad_Valles","0654","La Lata (0654)","R","Ciudad Valles (013)La Lata (0654)",22.176373999999999,-99.197821000000005,2,"*","*",1,240130654,null,null,null,{"$f":"IFERROR(VLOOKUP(CONCATENATE(B1904,D1904),Padrón_Indígenas!$A$2:$G$988,7,0),\"No\")","v":"No"}]
[24,"013","Ciudad_Valles","1124","La Lata (1124)","R","Ciudad Valles (013)La Lata (1124)",22.177833,-99.213106999999994,5,"*","*",1,240131124,null,null,null,{"$f":"IFERROR(VLOOKUP(CONCATENATE(B1905,D1905),Padrón_Indígenas!$A$2:$G$988,7,0),\"No\")","v":"No"}]
[24,"013","Ciudad_Valles","0107","La Lima (0107)","R","Ciudad Valles (013)La Lima (0107)",21.924648999999999,-99.101592999999994,1579,809,770,327,240130107,"SI","Alto","Medio",{"$f":"IFERROR(VLOOKUP(CONCATENATE(B1906,D1906),Padrón_Indígenas!$A$2:$G$988,7,0),\"No\")","v":"Sí"}]
[24,"013","Ciudad_Valles","0802","La Lima (Aserradera) (0802)","R","Ciudad Valles (013)La Lima (Aserradera) (0802)",21.849384000000001,-98.929248000000001,0,0,0,0,240130802,null,null,null,{"$f":"IFERROR(VLOOKUP(CONCATENATE(B1907,D1907),Padrón_Indígenas!$A$2:$G$988,7,0),\"No\")","v":"No"}]
[24,"013","Ciudad_Valles","1045","La Llamarada (1045)","R","Ciudad Valles (013)La Llamarada (1045)",22.237704000000001,-99.130803999999998,0,0,0,0,240131045,null,null,null,{"$f":"IFERROR(VLOOKUP(CONCATENATE(B1908,D1908),Padrón_Indígenas!$A$2:$G$988,7,0),\"No\")","v":"No"}]
[24,"013","Ciudad_Valles","1074","La Loma (1074)","R","Ciudad Valles (013)La Loma (1074)",21.915735000000002,-99.103408000000002,32,19,13,6,240131074,"SI","Muy alto","Alto",{"$f":"IFERROR(VLOOKUP(CONCATENATE(B1909,D1909),Padrón_Indígenas!$A$2:$G$988,7,0),\"No\")","v":"No"}]
[24,"013","Ciudad_Valles","0333","La Loma (Quinientos Uno) (0333)","R","Ciudad Valles (013)La Loma (Quinientos Uno) (0333)",22.062038000000001,-99.089716999999993,32,19,13,12,240130333,null,"Alto","Medio",{"$f":"IFERROR(VLOOKUP(CONCATENATE(B1910,D1910),Padrón_Indígenas!$A$2:$G$988,7,0),\"No\")","v":"No"}]
[24,"013","Ciudad_Valles","0636","La Loma de San Juan (0636)","R","Ciudad Valles (013)La Loma de San Juan (0636)",21.924249,-99.058665000000005,6,"*","*",2,240130636,null,null,null,{"$f":"IFERROR(VLOOKUP(CONCATENATE(B1911,D1911),Padrón_Indígenas!$A$2:$G$988,7,0),\"No\")","v":"No"}]
[24,"013","Ciudad_Valles","0797","La Lomita (0797)","R","Ciudad Valles (013)La Lomita (0797)",21.840837000000001,-99.057511000000005,24,11,13,7,240130797,"SI","Muy alto","Alto",{"$f":"IFERROR(VLOOKUP(CONCATENATE(B1912,D1912),Padrón_Indígenas!$A$2:$G$988,7,0),\"No\")","v":"No"}]
[24,"013","Ciudad_Valles","0888","La Lucha (0888)","R","Ciudad Valles (013)La Lucha (0888)",22.138276000000001,-99.113320000000002,5,"*","*",1,240130888,null,null,null,{"$f":"IFERROR(VLOOKUP(CONCATENATE(B1913,D1913),Padrón_Indígenas!$A$2:$G$988,7,0),\"No\")","v":"No"}]
[24,"013","Ciudad_Valles","0313","La Luz (0313)","R","Ciudad Valles (013)La Luz (0313)",21.875637999999999,-98.985139000000004,3,"*","*",1,240130313,null,null,null,{"$f":"IFERROR(VLOOKUP(CONCATENATE(B1914,D1914),Padrón_Indígenas!$A$2:$G$988,7,0),\"No\")","v":"No"}]
[24,"013","Ciudad_Valles","0890","La Mangana (0890)","R","Ciudad Valles (013)La Mangana (0890)",22.280638,-99.142064000000005,0,0,0,0,240130890,null,null,null,{"$f":"IFERROR(VLOOKUP(CONCATENATE(B1915,D1915),Padrón_Indígenas!$A$2:$G$988,7,0),\"No\")","v":"No"}]
[24,"013","Ciudad_Valles","0892","La Marina (0892)","R","Ciudad Valles (013)La Marina (0892)",21.834605,-98.920326000000003,10,4,6,3,240130892,null,"Muy alto","Alto",{"$f":"IFERROR(VLOOKUP(CONCATENATE(B1916,D1916),Padrón_Indígenas!$A$2:$G$988,7,0),\"No\")","v":"No"}]
[24,"013","Ciudad_Valles","0492","La Mariposa (Las Chacas) (0492)","R","Ciudad Valles (013)La Mariposa (Las Chacas) (0492)",22.312083000000001,-99.173666999999995,4,"*","*",1,240130492,null,null,null,{"$f":"IFERROR(VLOOKUP(CONCATENATE(B1917,D1917),Padrón_Indígenas!$A$2:$G$988,7,0),\"No\")","v":"No"}]
[24,"013","Ciudad_Valles","0678","La Maroma (0678)","R","Ciudad Valles (013)La Maroma (0678)",21.776667,-98.950833000000003,0,0,0,0,240130678,null,null,null,{"$f":"IFERROR(VLOOKUP(CONCATENATE(B1918,D1918),Padrón_Indígenas!$A$2:$G$988,7,0),\"No\")","v":"No"}]
[24,"013","Ciudad_Valles","0117","La Merced (0117)","R","Ciudad Valles (013)La Merced (0117)",21.803024000000001,-98.975032999999996,4,"*","*",1,240130117,"SI",null,null,{"$f":"IFERROR(VLOOKUP(CONCATENATE(B1919,D1919),Padrón_Indígenas!$A$2:$G$988,7,0),\"No\")","v":"No"}]
[24,"013","Ciudad_Valles","0896","La Milpa (0896)","R","Ciudad Valles (013)La Milpa (0896)",22.177772999999998,-99.103853000000001,12,"*","*",2,240130896,null,null,null,{"$f":"IFERROR(VLOOKUP(CONCATENATE(B1920,D1920),Padrón_Indígenas!$A$2:$G$988,7,0),\"No\")","v":"No"}]
[24,"013","Ciudad_Valles","1069","La Montserrat (1069)","R","Ciudad Valles (013)La Montserrat (1069)",22.231527,-99.005262000000002,0,0,0,0,240131069,null,null,null,{"$f":"IFERROR(VLOOKUP(CONCATENATE(B1921,D1921),Padrón_Indígenas!$A$2:$G$988,7,0),\"No\")","v":"No"}]
[24,"013","Ciudad_Valles","0898","La Morenita (0898)","R","Ciudad Valles (013)La Morenita (0898)",21.840662999999999,-99.008201999999997,5,"*","*",1,240130898,"SI",null,null,{"$f":"IFERROR(VLOOKUP(CONCATENATE(B1922,D1922),Padrón_Indígenas!$A$2:$G$988,7,0),\"No\")","v":"No"}]
[24,"013","Ciudad_Valles","0212","La Morita (0212)","R","Ciudad Valles (013)La Morita (0212)",22.130645999999999,-99.201436999999999,4,"*","*",2,240130212,null,null,null,{"$f":"IFERROR(VLOOKUP(CONCATENATE(B1923,D1923),Padrón_Indígenas!$A$2:$G$988,7,0),\"No\")","v":"No"}]
[24,"013","Ciudad_Valles","1125","La Nacua (1125)","R","Ciudad Valles (013)La Nacua (1125)",22.095832999999999,-99.092222000000007,0,0,0,0,240131125,null,null,null,{"$f":"IFERROR(VLOOKUP(CONCATENATE(B1924,D1924),Padrón_Indígenas!$A$2:$G$988,7,0),\"No\")","v":"No"}]
[24,"013","Ciudad_Valles","0901","La Nueva Esperanza (0901)","R","Ciudad Valles (013)La Nueva Esperanza (0901)",21.918056,-98.969443999999996,0,0,0,0,240130901,null,null,null,{"$f":"IFERROR(VLOOKUP(CONCATENATE(B1925,D1925),Padrón_Indígenas!$A$2:$G$988,7,0),\"No\")","v":"No"}]
[24,"013","Ciudad_Valles","0130","La Pagua (0130)","R","Ciudad Valles (013)La Pagua (0130)",22.132719000000002,-99.207768000000002,1,"*","*",1,240130130,null,null,null,{"$f":"IFERROR(VLOOKUP(CONCATENATE(B1926,D1926),Padrón_Indígenas!$A$2:$G$988,7,0),\"No\")","v":"No"}]
[24,"013","Ciudad_Valles","0508","La Palangana (0508)","R","Ciudad Valles (013)La Palangana (0508)",21.802778,-98.985277999999994,0,0,0,0,240130508,null,null,null,{"$f":"IFERROR(VLOOKUP(CONCATENATE(B1927,D1927),Padrón_Indígenas!$A$2:$G$988,7,0),\"No\")","v":"No"}]
[24,"013","Ciudad_Valles","0490","La Pasadita (La Colmena) (0490)","R","Ciudad Valles (013)La Pasadita (La Colmena) (0490)",22.082331,-99.063609,9,"*","*",2,240130490,"SI",null,null,{"$f":"IFERROR(VLOOKUP(CONCATENATE(B1928,D1928),Padrón_Indígenas!$A$2:$G$988,7,0),\"No\")","v":"No"}]
[24,"013","Ciudad_Valles","0314","La Pedregosa (0314)","R","Ciudad Valles (013)La Pedregosa (0314)",21.829519000000001,-99.037075999999999,0,0,0,0,240130314,null,null,null,{"$f":"IFERROR(VLOOKUP(CONCATENATE(B1929,D1929),Padrón_Indígenas!$A$2:$G$988,7,0),\"No\")","v":"No"}]
[24,"013","Ciudad_Valles","0139","La Perla (0139)","R","Ciudad Valles (013)La Perla (0139)",22.188437,-99.137505000000004,51,26,25,15,240130139,null,"Alto","Bajo",{"$f":"IFERROR(VLOOKUP(CONCATENATE(B1930,D1930),Padrón_Indígenas!$A$2:$G$988,7,0),\"No\")","v":"No"}]
[24,"013","Ciudad_Valles","0773","La Piedra (0773)","R","Ciudad Valles (013)La Piedra (0773)",22.043265999999999,-99.017176000000006,0,0,0,0,240130773,null,null,null,{"$f":"IFERROR(VLOOKUP(CONCATENATE(B1931,D1931),Padrón_Indígenas!$A$2:$G$988,7,0),\"No\")","v":"No"}]
[24,"013","Ciudad_Valles","0141","La Pila (0141)","R","Ciudad Valles (013)La Pila (0141)",21.868462000000001,-99.083618999999999,598,317,281,125,240130141,"SI","Alto","Medio",{"$f":"IFERROR(VLOOKUP(CONCATENATE(B1932,D1932),Padrón_Indígenas!$A$2:$G$988,7,0),\"No\")","v":"Sí"}]
[24,"013","Ciudad_Valles","0143","La Pitaya (La Pitahaya) (0143)","R","Ciudad Valles (013)La Pitaya (La Pitahaya) (0143)",21.999886,-99.127326999999994,260,134,126,74,240130143,"SI","Alto","Bajo",{"$f":"IFERROR(VLOOKUP(CONCATENATE(B1933,D1933),Padrón_Indígenas!$A$2:$G$988,7,0),\"No\")","v":"Sí"}]
[24,"013","Ciudad_Valles","0611","La Primavera (0611)","R","Ciudad Valles (013)La Primavera (0611)",21.991475999999999,-99.052509000000001,8,"*","*",2,240130611,"SI",null,null,{"$f":"IFERROR(VLOOKUP(CONCATENATE(B1934,D1934),Padrón_Indígenas!$A$2:$G$988,7,0),\"No\")","v":"No"}]
[24,"013","Ciudad_Valles","0610","La Primavera (Antonio Ramiro Reyes) (0610)","R","Ciudad Valles (013)La Primavera (Antonio Ramiro Reyes) (0610)",21.992878999999999,-99.053107999999995,1,"*","*",1,240130610,null,null,null,{"$f":"IFERROR(VLOOKUP(CONCATENATE(B1935,D1935),Padrón_Indígenas!$A$2:$G$988,7,0),\"No\")","v":"No"}]
[24,"013","Ciudad_Valles","0154","La Providencia (0154)","R","Ciudad Valles (013)La Providencia (0154)",22.131630000000001,-99.112572999999998,3,"*","*",1,240130154,null,null,null,{"$f":"IFERROR(VLOOKUP(CONCATENATE(B1936,D1936),Padrón_Indígenas!$A$2:$G$988,7,0),\"No\")","v":"No"}]
[24,"013","Ciudad_Valles","0764","La Providencia (0764)","R","Ciudad Valles (013)La Providencia (0764)",21.995556000000001,-99.056944000000001,1,"*","*",1,240130764,null,null,null,{"$f":"IFERROR(VLOOKUP(CONCATENATE(B1937,D1937),Padrón_Indígenas!$A$2:$G$988,7,0),\"No\")","v":"No"}]
[24,"013","Ciudad_Valles","1164","La Providencia Dos (1164)","R","Ciudad Valles (013)La Providencia Dos (1164)",22.122923,-99.096253000000004,"-","-","-","-",240131164,null,null,null,{"$f":"IFERROR(VLOOKUP(CONCATENATE(B1938,D1938),Padrón_Indígenas!$A$2:$G$988,7,0),\"No\")","v":"No"}]
[24,"013","Ciudad_Valles","1165","La Providencia Dos (Santa Cruz) (1165)","R","Ciudad Valles (013)La Providencia Dos (Santa Cruz) (1165)",22.123096,-99.095229000000003,"-","-","-","-",240131165,null,null,null,{"$f":"IFERROR(VLOOKUP(CONCATENATE(B1939,D1939),Padrón_Indígenas!$A$2:$G$988,7,0),\"No\")","v":"No"}]
[24,"013","Ciudad_Valles","0681","La Puerta de Dios (0681)","R","Ciudad Valles (013)La Puerta de Dios (0681)",21.877645999999999,-98.990436000000003,3,"*","*",1,240130681,null,null,null,{"$f":"IFERROR(VLOOKUP(CONCATENATE(B1940,D1940),Padrón_Indígenas!$A$2:$G$988,7,0),\"No\")","v":"No"}]
[24,"013","Ciudad_Valles","0156","La Puerta del Espíritu Santo (0156)","R","Ciudad Valles (013)La Puerta del Espíritu Santo (0156)",22.253477,-99.211571000000006,163,94,69,42,240130156,null,"Alto","Bajo",{"$f":"IFERROR(VLOOKUP(CONCATENATE(B1941,D1941),Padrón_Indígenas!$A$2:$G$988,7,0),\"No\")","v":"No"}]
[24,"013","Ciudad_Valles","1126","La Puntilla (1126)","R","Ciudad Valles (013)La Puntilla (1126)",21.854721999999999,-98.825556000000006,0,0,0,0,240131126,null,null,null,{"$f":"IFERROR(VLOOKUP(CONCATENATE(B1942,D1942),Padrón_Indígenas!$A$2:$G$988,7,0),\"No\")","v":"No"}]
[24,"013","Ciudad_Valles","0164","La Raya (0164)","R","Ciudad Valles (013)La Raya (0164)",21.965775000000001,-98.954245,143,70,73,38,240130164,"SI","Alto","Bajo",{"$f":"IFERROR(VLOOKUP(CONCATENATE(B1943,D1943),Padrón_Indígenas!$A$2:$G$988,7,0),\"No\")","v":"No"}]
[24,"013","Ciudad_Valles","0095","La Raya del Jobo (El Jobo) (0095)","R","Ciudad Valles (013)La Raya del Jobo (El Jobo) (0095)",22.041758999999999,-99.013592000000003,0,0,0,0,240130095,null,null,null,{"$f":"IFERROR(VLOOKUP(CONCATENATE(B1944,D1944),Padrón_Indígenas!$A$2:$G$988,7,0),\"No\")","v":"No"}]
[24,"013","Ciudad_Valles","0723","La Reforma (0723)","R","Ciudad Valles (013)La Reforma (0723)",21.845663999999999,-98.893877000000003,5,"*","*",1,240130723,"SI",null,null,{"$f":"IFERROR(VLOOKUP(CONCATENATE(B1945,D1945),Padrón_Indígenas!$A$2:$G$988,7,0),\"No\")","v":"No"}]
[24,"013","Ciudad_Valles","0451","La Soledad (0451)","R","Ciudad Valles (013)La Soledad (0451)",22.087149,-99.118340000000003,15,7,8,3,240130451,"SI","Alto","Medio",{"$f":"IFERROR(VLOOKUP(CONCATENATE(B1946,D1946),Padrón_Indígenas!$A$2:$G$988,7,0),\"No\")","v":"No"}]
[24,"013","Ciudad_Valles","0210","La Subida (0210)","R","Ciudad Valles (013)La Subida (0210)",21.904322000000001,-99.098618999999999,1515,765,750,311,240130210,"SI","Alto","Medio",{"$f":"IFERROR(VLOOKUP(CONCATENATE(B1947,D1947),Padrón_Indígenas!$A$2:$G$988,7,0),\"No\")","v":"Sí"}]
[24,"013","Ciudad_Valles","0959","La Temporada (0959)","R","Ciudad Valles (013)La Temporada (0959)",21.971392000000002,-99.096768999999995,5,"*","*",1,240130959,null,null,null,{"$f":"IFERROR(VLOOKUP(CONCATENATE(B1948,D1948),Padrón_Indígenas!$A$2:$G$988,7,0),\"No\")","v":"No"}]
[24,"013","Ciudad_Valles","0236","La Urbina (0236)","R","Ciudad Valles (013)La Urbina (0236)",21.897117999999999,-99.038432,62,30,32,14,240130236,null,"Alto","Bajo",{"$f":"IFERROR(VLOOKUP(CONCATENATE(B1949,D1949),Padrón_Indígenas!$A$2:$G$988,7,0),\"No\")","v":"No"}]
[24,"013","Ciudad_Valles","0531","La Vega (Quinientos Uno) (0531)","R","Ciudad Valles (013)La Vega (Quinientos Uno) (0531)",22.054846000000001,-99.093504999999993,0,0,0,0,240130531,null,null,null,{"$f":"IFERROR(VLOOKUP(CONCATENATE(B1950,D1950),Padrón_Indígenas!$A$2:$G$988,7,0),\"No\")","v":"No"}]
[24,"013","Ciudad_Valles","0242","La Virgen (0242)","R","Ciudad Valles (013)La Virgen (0242)",22.261647,-99.222275999999994,9,"*","*",2,240130242,null,null,null,{"$f":"IFERROR(VLOOKUP(CONCATENATE(B1951,D1951),Padrón_Indígenas!$A$2:$G$988,7,0),\"No\")","v":"No"}]
[24,"013","Ciudad_Valles","0247","La Virtud (0247)","R","Ciudad Valles (013)La Virtud (0247)",21.836181,-98.997714000000002,0,0,0,0,240130247,null,null,null,{"$f":"IFERROR(VLOOKUP(CONCATENATE(B1952,D1952),Padrón_Indígenas!$A$2:$G$988,7,0),\"No\")","v":"No"}]
[24,"013","Ciudad_Valles","0986","Laguna del Aguacate (0986)","R","Ciudad Valles (013)Laguna del Aguacate (0986)",22.133056,-98.949167000000003,0,0,0,0,240130986,null,null,null,{"$f":"IFERROR(VLOOKUP(CONCATENATE(B1953,D1953),Padrón_Indígenas!$A$2:$G$988,7,0),\"No\")","v":"No"}]
[24,"013","Ciudad_Valles","0244","Laguna del Mante (0244)","R","Ciudad Valles (013)Laguna del Mante (0244)",22.220020999999999,-98.989652000000007,2036,1018,1018,512,240130244,"SI","Alto","Bajo",{"$f":"IFERROR(VLOOKUP(CONCATENATE(B1954,D1954),Padrón_Indígenas!$A$2:$G$988,7,0),\"No\")","v":"No"}]
[24,"013","Ciudad_Valles","0882","Laguna del Olmo (0882)","R","Ciudad Valles (013)Laguna del Olmo (0882)",22.142108,-99.188287000000003,5,"*","*",1,240130882,null,null,null,{"$f":"IFERROR(VLOOKUP(CONCATENATE(B1955,D1955),Padrón_Indígenas!$A$2:$G$988,7,0),\"No\")","v":"No"}]
[24,"013","Ciudad_Valles","0671","Lamberto Martínez (0671)","R","Ciudad Valles (013)Lamberto Martínez (0671)",21.963141,-98.963836999999998,0,0,0,0,240130671,null,null,null,{"$f":"IFERROR(VLOOKUP(CONCATENATE(B1956,D1956),Padrón_Indígenas!$A$2:$G$988,7,0),\"No\")","v":"No"}]
[24,"013","Ciudad_Valles","0822","Las Cabañas (0822)","R","Ciudad Valles (013)Las Cabañas (0822)",21.998078,-99.072408999999993,0,0,0,0,240130822,null,null,null,{"$f":"IFERROR(VLOOKUP(CONCATENATE(B1957,D1957),Padrón_Indígenas!$A$2:$G$988,7,0),\"No\")","v":"No"}]
[24,"013","Ciudad_Valles","0315","Las Chochas (0315)","R","Ciudad Valles (013)Las Chochas (0315)",21.84966,-99.072474,34,13,21,11,240130315,"SI","Muy alto","Alto",{"$f":"IFERROR(VLOOKUP(CONCATENATE(B1958,D1958),Padrón_Indígenas!$A$2:$G$988,7,0),\"No\")","v":"No"}]
[24,"013","Ciudad_Valles","0848","Las Cotorras (0848)","R","Ciudad Valles (013)Las Cotorras (0848)",21.977508,-98.952996999999996,0,0,0,0,240130848,null,null,null,{"$f":"IFERROR(VLOOKUP(CONCATENATE(B1959,D1959),Padrón_Indígenas!$A$2:$G$988,7,0),\"No\")","v":"No"}]
[24,"013","Ciudad_Valles","0053","Las Crucitas (0053)","R","Ciudad Valles (013)Las Crucitas (0053)",22.086483000000001,-99.244230999999999,443,226,217,123,240130053,"SI","Alto","Bajo",{"$f":"IFERROR(VLOOKUP(CONCATENATE(B1960,D1960),Padrón_Indígenas!$A$2:$G$988,7,0),\"No\")","v":"No"}]
[24,"013","Ciudad_Valles","0659","Las Cuatro Milpas (Rancho del Tío Pedro) (0659)","R","Ciudad Valles (013)Las Cuatro Milpas (Rancho del Tío Pedro) (0659)",22.020918999999999,-98.975898000000001,5,"*","*",1,240130659,"SI",null,null,{"$f":"IFERROR(VLOOKUP(CONCATENATE(B1961,D1961),Padrón_Indígenas!$A$2:$G$988,7,0),\"No\")","v":"No"}]
[24,"013","Ciudad_Valles","0577","Las Evitas (0577)","R","Ciudad Valles (013)Las Evitas (0577)",22.258313000000001,-99.133115000000004,1,"*","*",1,240130577,null,null,null,{"$f":"IFERROR(VLOOKUP(CONCATENATE(B1962,D1962),Padrón_Indígenas!$A$2:$G$988,7,0),\"No\")","v":"No"}]
[24,"013","Ciudad_Valles","0474","Las Fincas (0474)","R","Ciudad Valles (013)Las Fincas (0474)",22.029465999999999,-98.984378000000007,356,181,175,86,240130474,"SI","Medio","Muy bajo",{"$f":"IFERROR(VLOOKUP(CONCATENATE(B1963,D1963),Padrón_Indígenas!$A$2:$G$988,7,0),\"No\")","v":"No"}]
[24,"013","Ciudad_Valles","0079","Las Flores (0079)","R","Ciudad Valles (013)Las Flores (0079)",22.111754999999999,-99.137444000000002,166,91,75,50,240130079,null,"Alto","Bajo",{"$f":"IFERROR(VLOOKUP(CONCATENATE(B1964,D1964),Padrón_Indígenas!$A$2:$G$988,7,0),\"No\")","v":"No"}]
[24,"013","Ciudad_Valles","0494","Las Flores (0494)","R","Ciudad Valles (013)Las Flores (0494)",22.224546,-99.210386999999997,7,3,4,3,240130494,null,"Alto","Medio",{"$f":"IFERROR(VLOOKUP(CONCATENATE(B1965,D1965),Padrón_Indígenas!$A$2:$G$988,7,0),\"No\")","v":"No"}]
[24,"013","Ciudad_Valles","0603","Las Flores (0603)","R","Ciudad Valles (013)Las Flores (0603)",22.033928,-98.994439,"-","-","-","-",240130603,null,null,null,{"$f":"IFERROR(VLOOKUP(CONCATENATE(B1966,D1966),Padrón_Indígenas!$A$2:$G$988,7,0),\"No\")","v":"No"}]
[24,"013","Ciudad_Valles","1035","Las Flores Cuatro (1035)","R","Ciudad Valles (013)Las Flores Cuatro (1035)",22.238184,-99.215260999999998,5,"*","*",1,240131035,null,null,null,{"$f":"IFERROR(VLOOKUP(CONCATENATE(B1967,D1967),Padrón_Indígenas!$A$2:$G$988,7,0),\"No\")","v":"No"}]
[24,"013","Ciudad_Valles","0752","Las Gavias (0752)","R","Ciudad Valles (013)Las Gavias (0752)",22.063123000000001,-99.081677999999997,2,"*","*",1,240130752,null,null,null,{"$f":"IFERROR(VLOOKUP(CONCATENATE(B1968,D1968),Padrón_Indígenas!$A$2:$G$988,7,0),\"No\")","v":"No"}]
[24,"013","Ciudad_Valles","1065","Las Golondrinas (1065)","R","Ciudad Valles (013)Las Golondrinas (1065)",22.140481000000001,-98.977554999999995,3,"*","*",2,240131065,null,null,null,{"$f":"IFERROR(VLOOKUP(CONCATENATE(B1969,D1969),Padrón_Indígenas!$A$2:$G$988,7,0),\"No\")","v":"No"}]
[24,"013","Ciudad_Valles","0632","Las Guirnaldas (San Antonio) (0632)","R","Ciudad Valles (013)Las Guirnaldas (San Antonio) (0632)",21.810002999999998,-99.065483999999998,0,0,0,0,240130632,null,null,null,{"$f":"IFERROR(VLOOKUP(CONCATENATE(B1970,D1970),Padrón_Indígenas!$A$2:$G$988,7,0),\"No\")","v":"No"}]
[24,"013","Ciudad_Valles","0085","Las Higuerillas (0085)","R","Ciudad Valles (013)Las Higuerillas (0085)",22.189533000000001,-99.098144000000005,1,"*","*",1,240130085,"SI",null,null,{"$f":"IFERROR(VLOOKUP(CONCATENATE(B1971,D1971),Padrón_Indígenas!$A$2:$G$988,7,0),\"No\")","v":"No"}]
[24,"013","Ciudad_Valles","0088","Las Huertas (0088)","R","Ciudad Valles (013)Las Huertas (0088)",22.396405999999999,-99.207730999999995,329,170,159,95,240130088,null,"Alto","Bajo",{"$f":"IFERROR(VLOOKUP(CONCATENATE(B1972,D1972),Padrón_Indígenas!$A$2:$G$988,7,0),\"No\")","v":"No"}]
[24,"013","Ciudad_Valles","1166","Las Margaritas (1166)","R","Ciudad Valles (013)Las Margaritas (1166)",22.08257,-98.981677000000005,"-","-","-","-",240131166,null,null,null,{"$f":"IFERROR(VLOOKUP(CONCATENATE(B1973,D1973),Padrón_Indígenas!$A$2:$G$988,7,0),\"No\")","v":"No"}]
[24,"013","Ciudad_Valles","0122","Las Moritas (0122)","R","Ciudad Valles (013)Las Moritas (0122)",21.784182000000001,-98.914793000000003,16,6,10,5,240130122,null,"Alto","Medio",{"$f":"IFERROR(VLOOKUP(CONCATENATE(B1974,D1974),Padrón_Indígenas!$A$2:$G$988,7,0),\"No\")","v":"No"}]
[24,"013","Ciudad_Valles","0140","Las Piedras (0140)","R","Ciudad Valles (013)Las Piedras (0140)",22.350294999999999,-99.134495000000001,0,0,0,0,240130140,null,null,null,{"$f":"IFERROR(VLOOKUP(CONCATENATE(B1975,D1975),Padrón_Indígenas!$A$2:$G$988,7,0),\"No\")","v":"No"}]
[24,"013","Ciudad_Valles","0142","Las Pitas (0142)","R","Ciudad Valles (013)Las Pitas (0142)",22.374434000000001,-99.107833999999997,187,91,96,53,240130142,"SI","Alto","Bajo",{"$f":"IFERROR(VLOOKUP(CONCATENATE(B1976,D1976),Padrón_Indígenas!$A$2:$G$988,7,0),\"No\")","v":"No"}]
[24,"013","Ciudad_Valles","0642","Las Pulgas (Los Ciruelos) (0642)","R","Ciudad Valles (013)Las Pulgas (Los Ciruelos) (0642)",21.936354000000001,-99.003265999999996,3,"*","*",1,240130642,null,null,null,{"$f":"IFERROR(VLOOKUP(CONCATENATE(B1977,D1977),Padrón_Indígenas!$A$2:$G$988,7,0),\"No\")","v":"No"}]
[24,"013","Ciudad_Valles","0795","Las Teresitas (Santa Rita) (0795)","R","Ciudad Valles (013)Las Teresitas (Santa Rita) (0795)",21.913732,-99.027168000000003,0,0,0,0,240130795,null,null,null,{"$f":"IFERROR(VLOOKUP(CONCATENATE(B1978,D1978),Padrón_Indígenas!$A$2:$G$988,7,0),\"No\")","v":"No"}]
[24,"013","Ciudad_Valles","0647","Las Yeguas (0647)","R","Ciudad Valles (013)Las Yeguas (0647)",22.278748,-98.962862999999999,0,0,0,0,240130647,null,null,null,{"$f":"IFERROR(VLOOKUP(CONCATENATE(B1979,D1979),Padrón_Indígenas!$A$2:$G$988,7,0),\"No\")","v":"No"}]
[24,"013","Ciudad_Valles","0105","León García (0105)","R","Ciudad Valles (013)León García (0105)",22.016978000000002,-98.969331999999994,237,128,109,54,240130105,"SI","Alto","Bajo",{"$f":"IFERROR(VLOOKUP(CONCATENATE(B1980,D1980),Padrón_Indígenas!$A$2:$G$988,7,0),\"No\")","v":"No"}]
[24,"013","Ciudad_Valles","0884","Leonardo Trejo Flores (0884)","R","Ciudad Valles (013)Leonardo Trejo Flores (0884)",21.828333000000001,-99.064166999999998,0,0,0,0,240130884,null,null,null,{"$f":"IFERROR(VLOOKUP(CONCATENATE(B1981,D1981),Padrón_Indígenas!$A$2:$G$988,7,0),\"No\")","v":"No"}]
[24,"013","Ciudad_Valles","0809","Lino Lárraga (La Unión) (0809)","R","Ciudad Valles (013)Lino Lárraga (La Unión) (0809)",22.134404,-98.938489000000004,8,"*","*",1,240130809,null,null,null,{"$f":"IFERROR(VLOOKUP(CONCATENATE(B1982,D1982),Padrón_Indígenas!$A$2:$G$988,7,0),\"No\")","v":"No"}]
[24,"013","Ciudad_Valles","0690","Loma de las Conchas (0690)","R","Ciudad Valles (013)Loma de las Conchas (0690)",21.857391,-99.008753999999996,102,54,48,27,240130690,"SI","Alto","Bajo",{"$f":"IFERROR(VLOOKUP(CONCATENATE(B1983,D1983),Padrón_Indígenas!$A$2:$G$988,7,0),\"No\")","v":"No"}]
[24,"013","Ciudad_Valles","0885","Loma del Barranco (0885)","R","Ciudad Valles (013)Loma del Barranco (0885)",21.855277999999998,-99.055833000000007,12,6,6,3,240130885,"SI","Muy alto","Alto",{"$f":"IFERROR(VLOOKUP(CONCATENATE(B1984,D1984),Padrón_Indígenas!$A$2:$G$988,7,0),\"No\")","v":"No"}]
[24,"013","Ciudad_Valles","0589","Loma del Desengaño (Ejido el Desengaño Dos) (0589)","R","Ciudad Valles (013)Loma del Desengaño (Ejido el Desengaño Dos) (0589)",21.829785000000001,-98.854594000000006,370,196,174,101,240130589,"SI","Alto","Bajo",{"$f":"IFERROR(VLOOKUP(CONCATENATE(B1985,D1985),Padrón_Indígenas!$A$2:$G$988,7,0),\"No\")","v":"No"}]
[24,"013","Ciudad_Valles","0504","Loma del Mirador (0504)","R","Ciudad Valles (013)Loma del Mirador (0504)",21.823049000000001,-98.977276000000003,58,31,27,18,240130504,null,"Alto","Medio",{"$f":"IFERROR(VLOOKUP(CONCATENATE(B1986,D1986),Padrón_Indígenas!$A$2:$G$988,7,0),\"No\")","v":"No"}]
[24,"013","Ciudad_Valles","0282","Loma Dura (0282)","R","Ciudad Valles (013)Loma Dura (0282)",22.080278,-99.023055999999997,0,0,0,0,240130282,null,null,null,{"$f":"IFERROR(VLOOKUP(CONCATENATE(B1987,D1987),Padrón_Indígenas!$A$2:$G$988,7,0),\"No\")","v":"No"}]
[24,"013","Ciudad_Valles","0886","Loma Dura (Doña Cuca) (0886)","R","Ciudad Valles (013)Loma Dura (Doña Cuca) (0886)",22.077390999999999,-99.037758999999994,0,0,0,0,240130886,null,null,null,{"$f":"IFERROR(VLOOKUP(CONCATENATE(B1988,D1988),Padrón_Indígenas!$A$2:$G$988,7,0),\"No\")","v":"No"}]
[24,"013","Ciudad_Valles","0009","Los Algodones (0009)","R","Ciudad Valles (013)Los Algodones (0009)",22.147527,-99.119675999999998,2,"*","*",1,240130009,null,null,null,{"$f":"IFERROR(VLOOKUP(CONCATENATE(B1989,D1989),Padrón_Indígenas!$A$2:$G$988,7,0),\"No\")","v":"No"}]
[24,"013","Ciudad_Valles","0985","Los Ángeles (0985)","R","Ciudad Valles (013)Los Ángeles (0985)",22.092860000000002,-99.080730000000003,0,0,0,0,240130985,null,null,null,{"$f":"IFERROR(VLOOKUP(CONCATENATE(B1990,D1990),Padrón_Indígenas!$A$2:$G$988,7,0),\"No\")","v":"No"}]
[24,"013","Ciudad_Valles","0393","Los Bagres (0393)","R","Ciudad Valles (013)Los Bagres (0393)",22.388278,-99.130483999999996,1,"*","*",1,240130393,null,null,null,{"$f":"IFERROR(VLOOKUP(CONCATENATE(B1991,D1991),Padrón_Indígenas!$A$2:$G$988,7,0),\"No\")","v":"No"}]
[24,"013","Ciudad_Valles","0830","Los Cedros (0830)","R","Ciudad Valles (013)Los Cedros (0830)",22.213155,-99.204984999999994,0,0,0,0,240130830,null,null,null,{"$f":"IFERROR(VLOOKUP(CONCATENATE(B1992,D1992),Padrón_Indígenas!$A$2:$G$988,7,0),\"No\")","v":"No"}]
[24,"013","Ciudad_Valles","1073","Los Cedros (1073)","R","Ciudad Valles (013)Los Cedros (1073)",22.090278000000001,-98.981388999999993,0,0,0,0,240131073,null,null,null,{"$f":"IFERROR(VLOOKUP(CONCATENATE(B1993,D1993),Padrón_Indígenas!$A$2:$G$988,7,0),\"No\")","v":"No"}]
[24,"013","Ciudad_Valles","0683","Los Cinco Hermanos (0683)","R","Ciudad Valles (013)Los Cinco Hermanos (0683)",22.192378000000001,-99.117461000000006,0,0,0,0,240130683,null,null,null,{"$f":"IFERROR(VLOOKUP(CONCATENATE(B1994,D1994),Padrón_Indígenas!$A$2:$G$988,7,0),\"No\")","v":"No"}]
[24,"013","Ciudad_Valles","1167","Los Encinos (1167)","R","Ciudad Valles (013)Los Encinos (1167)",22.141928,-98.971214000000003,"-","-","-","-",240131167,null,null,null,{"$f":"IFERROR(VLOOKUP(CONCATENATE(B1995,D1995),Padrón_Indígenas!$A$2:$G$988,7,0),\"No\")","v":"No"}]
[24,"013","Ciudad_Valles","1083","Los Framboyanes (1083)","R","Ciudad Valles (013)Los Framboyanes (1083)",22.012606000000002,-99.082313999999997,3,"*","*",1,240131083,null,null,null,{"$f":"IFERROR(VLOOKUP(CONCATENATE(B1996,D1996),Padrón_Indígenas!$A$2:$G$988,7,0),\"No\")","v":"No"}]
[24,"013","Ciudad_Valles","0749","Los Halcones (0749)","R","Ciudad Valles (013)Los Halcones (0749)",22.041944000000001,-99.046666999999999,0,0,0,0,240130749,null,null,null,{"$f":"IFERROR(VLOOKUP(CONCATENATE(B1997,D1997),Padrón_Indígenas!$A$2:$G$988,7,0),\"No\")","v":"No"}]
[24,"013","Ciudad_Valles","0092","Los Humos (0092)","R","Ciudad Valles (013)Los Humos (0092)",21.844909999999999,-98.880454999999998,13,7,6,4,240130092,"SI","Alto","Medio",{"$f":"IFERROR(VLOOKUP(CONCATENATE(B1998,D1998),Padrón_Indígenas!$A$2:$G$988,7,0),\"No\")","v":"No"}]
[24,"013","Ciudad_Valles","0875","Los Humos (Antonio Juan Chemas) (0875)","R","Ciudad Valles (013)Los Humos (Antonio Juan Chemas) (0875)",21.849938000000002,-98.865029000000007,3,"*","*",1,240130875,null,null,null,{"$f":"IFERROR(VLOOKUP(CONCATENATE(B1999,D1999),Padrón_Indígenas!$A$2:$G$988,7,0),\"No\")","v":"No"}]
[24,"013","Ciudad_Valles","0712","Los Jobitos (0712)","R","Ciudad Valles (013)Los Jobitos (0712)",22.028597999999999,-99.017233000000004,107,52,55,34,240130712,"SI","Muy alto","Alto",{"$f":"IFERROR(VLOOKUP(CONCATENATE(B2000,D2000),Padrón_Indígenas!$A$2:$G$988,7,0),\"No\")","v":"No"}]
[24,"013","Ciudad_Valles","0096","Los Jobos (0096)","R","Ciudad Valles (013)Los Jobos (0096)",22.127262000000002,-99.109718999999998,14,7,7,5,240130096,null,"Muy alto","Medio",{"$f":"IFERROR(VLOOKUP(CONCATENATE(B2001,D2001),Padrón_Indígenas!$A$2:$G$988,7,0),\"No\")","v":"No"}]
[24,"013","Ciudad_Valles","0306","Los Patos (0306)","R","Ciudad Valles (013)Los Patos (0306)",22.205224000000001,-98.961617000000004,0,0,0,0,240130306,null,null,null,{"$f":"IFERROR(VLOOKUP(CONCATENATE(B2005,D2005),Padrón_Indígenas!$A$2:$G$988,7,0),\"No\")","v":"No"}]
[24,"013","Ciudad_Valles","0557","Los Plátanos (La Estancia) (0557)","R","Ciudad Valles (013)Los Plátanos (La Estancia) (0557)",22.125471999999998,-98.916858000000005,3,"*","*",1,240130557,null,null,null,{"$f":"IFERROR(VLOOKUP(CONCATENATE(B2010,D2010),Padrón_Indígenas!$A$2:$G$988,7,0),\"No\")","v":"No"}]
[24,"013","Ciudad_Valles","0769","Maranata (0769)","R","Ciudad Valles (013)Maranata (0769)",21.957654000000002,-99.047860999999997,0,0,0,0,240130769,null,null,null,{"$f":"IFERROR(VLOOKUP(CONCATENATE(B2013,D2013),Padrón_Indígenas!$A$2:$G$988,7,0),\"No\")","v":"No"}]
[24,"013","Ciudad_Valles","0839","María de la Luz Núñez (El Coco) (0839)","R","Ciudad Valles (013)María de la Luz Núñez (El Coco) (0839)",22.259777,-99.272898999999995,2,"*","*",1,240130839,null,null,null,{"$f":"IFERROR(VLOOKUP(CONCATENATE(B2015,D2015),Padrón_Indígenas!$A$2:$G$988,7,0),\"No\")","v":"No"}]
[24,"013","Ciudad_Valles","0119","Montecillos (0119)","R","Ciudad Valles (013)Montecillos (0119)",22.031497999999999,-98.966921999999997,75,34,41,20,240130119,"SI","Alto","Bajo",{"$f":"IFERROR(VLOOKUP(CONCATENATE(B2020,D2020),Padrón_Indígenas!$A$2:$G$988,7,0),\"No\")","v":"No"}]
[24,"013","Ciudad_Valles","1060","Ninguno (1060)","R","Ciudad Valles (013)Ninguno (1060)",22.177092999999999,-98.972896000000006,0,0,0,0,240131060,null,null,null,{"$f":"IFERROR(VLOOKUP(CONCATENATE(B2024,D2024),Padrón_Indígenas!$A$2:$G$988,7,0),\"No\")","v":"No"}]
[24,"013","Ciudad_Valles","1127","Ninguno (1127)","R","Ciudad Valles (013)Ninguno (1127)",21.873888999999998,-98.9,0,0,0,0,240131127,null,null,null,{"$f":"IFERROR(VLOOKUP(CONCATENATE(B2025,D2025),Padrón_Indígenas!$A$2:$G$988,7,0),\"No\")","v":"No"}]
[24,"013","Ciudad_Valles","1155","Ninguno (1155)","R","Ciudad Valles (013)Ninguno (1155)",22.20542,-98.984802999999999,"-","-","-","-",240131155,null,null,null,{"$f":"IFERROR(VLOOKUP(CONCATENATE(B2029,D2029),Padrón_Indígenas!$A$2:$G$988,7,0),\"No\")","v":"No"}]
[24,"013","Ciudad_Valles","1171","Ninguno (1171)","R","Ciudad Valles (013)Ninguno (1171)",22.203652000000002,-98.984306000000004,"-","-","-","-",240131171,null,null,null,{"$f":"IFERROR(VLOOKUP(CONCATENATE(B2033,D2033),Padrón_Indígenas!$A$2:$G$988,7,0),\"No\")","v":"No"}]
[24,"013","Ciudad_Valles","0124","Nombre de Dios (0124)","R","Ciudad Valles (013)Nombre de Dios (0124)",22.123913999999999,-99.096475999999996,28,17,11,8,240130124,null,"Bajo","Muy bajo",{"$f":"IFERROR(VLOOKUP(CONCATENATE(B2038,D2038),Padrón_Indígenas!$A$2:$G$988,7,0),\"No\")","v":"No"}]
[24,"013","Ciudad_Valles","0216","Nuevo Tambolón (0216)","R","Ciudad Valles (013)Nuevo Tambolón (0216)",21.820550999999998,-98.962812999999997,160,72,88,46,240130216,"SI","Bajo","Muy bajo",{"$f":"IFERROR(VLOOKUP(CONCATENATE(B2041,D2041),Padrón_Indígenas!$A$2:$G$988,7,0),\"No\")","v":"No"}]
[24,"013","Ciudad_Valles","0127","Ojo de Agua (0127)","R","Ciudad Valles (013)Ojo de Agua (0127)",21.961551,-99.115133,1107,571,536,242,240130127,"SI","Alto","Medio",{"$f":"IFERROR(VLOOKUP(CONCATENATE(B2043,D2043),Padrón_Indígenas!$A$2:$G$988,7,0),\"No\")","v":"Sí"}]
[24,"013","Ciudad_Valles","0278","Okinawa (0278)","R","Ciudad Valles (013)Okinawa (0278)",22.124528999999999,-99.182935000000001,0,0,0,0,240130278,null,null,null,{"$f":"IFERROR(VLOOKUP(CONCATENATE(B2048,D2048),Padrón_Indígenas!$A$2:$G$988,7,0),\"No\")","v":"No"}]
[24,"013","Ciudad_Valles","0793","Omoralia (0793)","R","Ciudad Valles (013)Omoralia (0793)",21.917259000000001,-99.026545999999996,0,0,0,0,240130793,null,null,null,{"$f":"IFERROR(VLOOKUP(CONCATENATE(B2049,D2049),Padrón_Indígenas!$A$2:$G$988,7,0),\"No\")","v":"No"}]
[24,"013","Ciudad_Valles","0633","Paligual (0633)","R","Ciudad Valles (013)Paligual (0633)",21.807500000000001,-99.056667000000004,0,0,0,0,240130633,null,null,null,{"$f":"IFERROR(VLOOKUP(CONCATENATE(B2052,D2052),Padrón_Indígenas!$A$2:$G$988,7,0),\"No\")","v":"No"}]
[24,"013","Ciudad_Valles","0908","Paso Piedras (0908)","R","Ciudad Valles (013)Paso Piedras (0908)",21.842396000000001,-98.988341000000005,6,"*","*",1,240130908,null,null,null,{"$f":"IFERROR(VLOOKUP(CONCATENATE(B2057,D2057),Padrón_Indígenas!$A$2:$G$988,7,0),\"No\")","v":"No"}]
[24,"013","Ciudad_Valles","0911","Pedro Mondragón (0911)","R","Ciudad Valles (013)Pedro Mondragón (0911)",22.072251000000001,-98.980756999999997,0,0,0,0,240130911,null,null,null,{"$f":"IFERROR(VLOOKUP(CONCATENATE(B2061,D2061),Padrón_Indígenas!$A$2:$G$988,7,0),\"No\")","v":"No"}]
[24,"013","Ciudad_Valles","0136","Pozo Blanco (0136)","R","Ciudad Valles (013)Pozo Blanco (0136)",22.291388999999999,-99.245555999999993,3,"*","*",1,240130136,null,null,null,{"$f":"IFERROR(VLOOKUP(CONCATENATE(B2064,D2064),Padrón_Indígenas!$A$2:$G$988,7,0),\"No\")","v":"No"}]
[24,"013","Ciudad_Valles","0336","Prodigio (0336)","R","Ciudad Valles (013)Prodigio (0336)",21.858418,-99.051944000000006,11,"*","*",2,240130336,"SI",null,null,{"$f":"IFERROR(VLOOKUP(CONCATENATE(B2066,D2066),Padrón_Indígenas!$A$2:$G$988,7,0),\"No\")","v":"No"}]
[24,"013","Ciudad_Valles","0918","Quinta la Valenciana (0918)","R","Ciudad Valles (013)Quinta la Valenciana (0918)",21.993607999999998,-99.055409999999995,3,"*","*",1,240130918,null,null,null,{"$f":"IFERROR(VLOOKUP(CONCATENATE(B2072,D2072),Padrón_Indígenas!$A$2:$G$988,7,0),\"No\")","v":"No"}]
[24,"013","Ciudad_Valles","1135","Rancho Agua Dulce (1135)","R","Ciudad Valles (013)Rancho Agua Dulce (1135)",22.152470000000001,-99.105720000000005,3,"*","*",1,240131135,null,null,null,{"$f":"IFERROR(VLOOKUP(CONCATENATE(B2075,D2075),Padrón_Indígenas!$A$2:$G$988,7,0),\"No\")","v":"No"}]
[24,"013","Ciudad_Valles","0921","Rancho Alejandra (0921)","R","Ciudad Valles (013)Rancho Alejandra (0921)",21.976548999999999,-99.078743000000003,4,"*","*",1,240130921,null,null,null,{"$f":"IFERROR(VLOOKUP(CONCATENATE(B2077,D2077),Padrón_Indígenas!$A$2:$G$988,7,0),\"No\")","v":"No"}]
[24,"013","Ciudad_Valles","0034","Rancho Casas Viejas (0034)","R","Ciudad Valles (013)Rancho Casas Viejas (0034)",22.193641,-99.101142999999993,147,76,71,38,240130034,"SI","Medio","Muy bajo",{"$f":"IFERROR(VLOOKUP(CONCATENATE(B2080,D2080),Padrón_Indígenas!$A$2:$G$988,7,0),\"No\")","v":"No"}]
[24,"013","Ciudad_Valles","1136","Rancho Dos Hermanos (1136)","R","Ciudad Valles (013)Rancho Dos Hermanos (1136)",22.211877000000001,-99.222757000000001,1,"*","*",1,240131136,null,null,null,{"$f":"IFERROR(VLOOKUP(CONCATENATE(B2085,D2085),Padrón_Indígenas!$A$2:$G$988,7,0),\"No\")","v":"No"}]
[24,"013","Ciudad_Valles","0856","Rancho el Caballito (0856)","R","Ciudad Valles (013)Rancho el Caballito (0856)",22.258327999999999,-99.281863000000001,3,"*","*",1,240130856,"SI",null,null,{"$f":"IFERROR(VLOOKUP(CONCATENATE(B2089,D2089),Padrón_Indígenas!$A$2:$G$988,7,0),\"No\")","v":"No"}]
[24,"013","Ciudad_Valles","0733","Rancho el Charrito (0733)","R","Ciudad Valles (013)Rancho el Charrito (0733)",22.118385,-99.096866000000006,0,0,0,0,240130733,null,null,null,{"$f":"IFERROR(VLOOKUP(CONCATENATE(B2092,D2092),Padrón_Indígenas!$A$2:$G$988,7,0),\"No\")","v":"No"}]
[24,"013","Ciudad_Valles","0694","Rancho el Esterito (0694)","R","Ciudad Valles (013)Rancho el Esterito (0694)",22.320979000000001,-99.183919000000003,0,0,0,0,240130694,null,null,null,{"$f":"IFERROR(VLOOKUP(CONCATENATE(B2096,D2096),Padrón_Indígenas!$A$2:$G$988,7,0),\"No\")","v":"No"}]
[24,"013","Ciudad_Valles","1139","Rancho el Lucero (1139)","R","Ciudad Valles (013)Rancho el Lucero (1139)",21.803989999999999,-98.892449999999997,0,0,0,0,240131139,null,null,null,{"$f":"IFERROR(VLOOKUP(CONCATENATE(B2098,D2098),Padrón_Indígenas!$A$2:$G$988,7,0),\"No\")","v":"No"}]
[24,"013","Ciudad_Valles","0707","Rancho el Nacimiento (0707)","R","Ciudad Valles (013)Rancho el Nacimiento (0707)",22.067264000000002,-99.241423999999995,0,0,0,0,240130707,null,null,null,{"$f":"IFERROR(VLOOKUP(CONCATENATE(B2101,D2101),Padrón_Indígenas!$A$2:$G$988,7,0),\"No\")","v":"No"}]
[24,"013","Ciudad_Valles","0452","Rancho el Progreso (0452)","R","Ciudad Valles (013)Rancho el Progreso (0452)",22.131176,-99.098117999999999,0,0,0,0,240130452,null,null,null,{"$f":"IFERROR(VLOOKUP(CONCATENATE(B2107,D2107),Padrón_Indígenas!$A$2:$G$988,7,0),\"No\")","v":"No"}]
[24,"013","Ciudad_Valles","0324","Rancho el Puma (Los Chotes) (0324)","R","Ciudad Valles (013)Rancho el Puma (Los Chotes) (0324)",21.877458000000001,-99.037355000000005,1,"*","*",1,240130324,null,null,null,{"$f":"IFERROR(VLOOKUP(CONCATENATE(B2108,D2108),Padrón_Indígenas!$A$2:$G$988,7,0),\"No\")","v":"No"}]
[24,"013","Ciudad_Valles","1140","Rancho el Tuzo (1140)","R","Ciudad Valles (013)Rancho el Tuzo (1140)",22.013888999999999,-99.094722000000004,1,"*","*",1,240131140,null,null,null,{"$f":"IFERROR(VLOOKUP(CONCATENATE(B2112,D2112),Padrón_Indígenas!$A$2:$G$988,7,0),\"No\")","v":"No"}]
[24,"013","Ciudad_Valles","0498","Rancho Guadalupe (0498)","R","Ciudad Valles (013)Rancho Guadalupe (0498)",21.973793000000001,-99.083541999999994,4,"*","*",2,240130498,"SI",null,null,{"$f":"IFERROR(VLOOKUP(CONCATENATE(B2116,D2116),Padrón_Indígenas!$A$2:$G$988,7,0),\"No\")","v":"No"}]
[24,"013","Ciudad_Valles","0928","Rancho la Gloria (0928)","R","Ciudad Valles (013)Rancho la Gloria (0928)",21.908189,-98.952844999999996,4,"*","*",1,240130928,null,null,null,{"$f":"IFERROR(VLOOKUP(CONCATENATE(B2121,D2121),Padrón_Indígenas!$A$2:$G$988,7,0),\"No\")","v":"No"}]
[24,"013","Ciudad_Valles","0543","Rancho la Noria (0543)","R","Ciudad Valles (013)Rancho la Noria (0543)",22.106083999999999,-99.094374000000002,3,"*","*",1,240130543,null,null,null,{"$f":"IFERROR(VLOOKUP(CONCATENATE(B2124,D2124),Padrón_Indígenas!$A$2:$G$988,7,0),\"No\")","v":"No"}]
[24,"013","Ciudad_Valles","0929","Rancho la Poza (El Remolino) (0929)","R","Ciudad Valles (013)Rancho la Poza (El Remolino) (0929)",21.843993999999999,-98.943530999999993,4,"*","*",1,240130929,null,null,null,{"$f":"IFERROR(VLOOKUP(CONCATENATE(B2126,D2126),Padrón_Indígenas!$A$2:$G$988,7,0),\"No\")","v":"No"}]
[24,"013","Ciudad_Valles","0530","Rancho la Toconala (0530)","R","Ciudad Valles (013)Rancho la Toconala (0530)",21.902006,-98.981731999999994,5,"*","*",2,240130530,null,null,null,{"$f":"IFERROR(VLOOKUP(CONCATENATE(B2129,D2129),Padrón_Indígenas!$A$2:$G$988,7,0),\"No\")","v":"No"}]
[24,"013","Ciudad_Valles","0932","Rancho las Piedras (0932)","R","Ciudad Valles (013)Rancho las Piedras (0932)",22.344303,-99.146061000000003,0,0,0,0,240130932,null,null,null,{"$f":"IFERROR(VLOOKUP(CONCATENATE(B2135,D2135),Padrón_Indígenas!$A$2:$G$988,7,0),\"No\")","v":"No"}]
[24,"013","Ciudad_Valles","1023","Rancho las Tablas (1023)","R","Ciudad Valles (013)Rancho las Tablas (1023)",21.928332999999999,-98.962592999999998,6,"*","*",1,240131023,null,null,null,{"$f":"IFERROR(VLOOKUP(CONCATENATE(B2136,D2136),Padrón_Indígenas!$A$2:$G$988,7,0),\"No\")","v":"No"}]
[24,"013","Ciudad_Valles","0735","Rancho los Cedros (0735)","R","Ciudad Valles (013)Rancho los Cedros (0735)",22.021424,-99.220885999999993,0,0,0,0,240130735,null,null,null,{"$f":"IFERROR(VLOOKUP(CONCATENATE(B2140,D2140),Padrón_Indígenas!$A$2:$G$988,7,0),\"No\")","v":"No"}]
[24,"013","Ciudad_Valles","0639","Rancho los Patitos (0639)","R","Ciudad Valles (013)Rancho los Patitos (0639)",21.914677000000001,-98.984773000000004,1,"*","*",1,240130639,null,null,null,{"$f":"IFERROR(VLOOKUP(CONCATENATE(B2144,D2144),Padrón_Indígenas!$A$2:$G$988,7,0),\"No\")","v":"No"}]
[24,"013","Ciudad_Valles","1027","Rancho Mandingas (1027)","R","Ciudad Valles (013)Rancho Mandingas (1027)",21.844443999999999,-99.011944,0,0,0,0,240131027,null,null,null,{"$f":"IFERROR(VLOOKUP(CONCATENATE(B2148,D2148),Padrón_Indígenas!$A$2:$G$988,7,0),\"No\")","v":"No"}]
[24,"013","Ciudad_Valles","1143","Rancho Manga Larga (1143)","R","Ciudad Valles (013)Rancho Manga Larga (1143)",22.217713,-99.222656000000001,0,0,0,0,240131143,null,null,null,{"$f":"IFERROR(VLOOKUP(CONCATENATE(B2149,D2149),Padrón_Indígenas!$A$2:$G$988,7,0),\"No\")","v":"No"}]
[24,"013","Ciudad_Valles","0467","Rancho Nuevo (0467)","R","Ciudad Valles (013)Rancho Nuevo (0467)",21.948619999999998,-99.111065999999994,138,67,71,31,240130467,"SI","Alto","Medio",{"$f":"IFERROR(VLOOKUP(CONCATENATE(B2155,D2155),Padrón_Indígenas!$A$2:$G$988,7,0),\"No\")","v":"Sí"}]
[24,"013","Ciudad_Valles","0614","Rancho Palma Doble (0614)","R","Ciudad Valles (013)Rancho Palma Doble (0614)",21.975847999999999,-99.078768999999994,5,"*","*",1,240130614,null,null,null,{"$f":"IFERROR(VLOOKUP(CONCATENATE(B2158,D2158),Padrón_Indígenas!$A$2:$G$988,7,0),\"No\")","v":"No"}]
[24,"013","Ciudad_Valles","1146","Rancho Quemado (1146)","R","Ciudad Valles (013)Rancho Quemado (1146)",21.859449000000001,-98.915666000000002,2,"*","*",1,240131146,"SI",null,null,{"$f":"IFERROR(VLOOKUP(CONCATENATE(B2160,D2160),Padrón_Indígenas!$A$2:$G$988,7,0),\"No\")","v":"No"}]
[24,"013","Ciudad_Valles","0181","Rancho San Carlos (0181)","R","Ciudad Valles (013)Rancho San Carlos (0181)",21.838151,-99.027949000000007,105,53,52,30,240130181,null,"Alto","Bajo",{"$f":"IFERROR(VLOOKUP(CONCATENATE(B2163,D2163),Padrón_Indígenas!$A$2:$G$988,7,0),\"No\")","v":"No"}]
[24,"013","Ciudad_Valles","0798","Rancho San Lorenzo (0798)","R","Ciudad Valles (013)Rancho San Lorenzo (0798)",21.868333,-99.021030999999994,4,"*","*",1,240130798,null,null,null,{"$f":"IFERROR(VLOOKUP(CONCATENATE(B2168,D2168),Padrón_Indígenas!$A$2:$G$988,7,0),\"No\")","v":"No"}]
[24,"013","Ciudad_Valles","0693","Rancho Santa Fe (0693)","R","Ciudad Valles (013)Rancho Santa Fe (0693)",22.028656000000002,-99.105198999999999,15,6,9,4,240130693,null,"Alto","Medio",{"$f":"IFERROR(VLOOKUP(CONCATENATE(B2172,D2172),Padrón_Indígenas!$A$2:$G$988,7,0),\"No\")","v":"No"}]
[24,"013","Ciudad_Valles","0598","Rancho Tonantzin (0598)","R","Ciudad Valles (013)Rancho Tonantzin (0598)",21.889057999999999,-98.996156999999997,0,0,0,0,240130598,null,null,null,{"$f":"IFERROR(VLOOKUP(CONCATENATE(B2176,D2176),Padrón_Indígenas!$A$2:$G$988,7,0),\"No\")","v":"No"}]
[24,"013","Ciudad_Valles","0782","Rancho Tormes (0782)","R","Ciudad Valles (013)Rancho Tormes (0782)",21.931343999999999,-98.962414999999993,0,0,0,0,240130782,null,null,null,{"$f":"IFERROR(VLOOKUP(CONCATENATE(B2177,D2177),Padrón_Indígenas!$A$2:$G$988,7,0),\"No\")","v":"No"}]
[24,"013","Ciudad_Valles","1090","Ricardo Cabrera (1090)","R","Ciudad Valles (013)Ricardo Cabrera (1090)",21.905165,-99.016193000000001,0,0,0,0,240131090,null,null,null,{"$f":"IFERROR(VLOOKUP(CONCATENATE(B2183,D2183),Padrón_Indígenas!$A$2:$G$988,7,0),\"No\")","v":"No"}]
[24,"013","Ciudad_Valles","0171","Rioverdito (0171)","R","Ciudad Valles (013)Rioverdito (0171)",22.214343,-99.258792999999997,20,10,10,3,240130171,null,"Alto","Medio",{"$f":"IFERROR(VLOOKUP(CONCATENATE(B2186,D2186),Padrón_Indígenas!$A$2:$G$988,7,0),\"No\")","v":"No"}]
[24,"013","Ciudad_Valles","0789","Rogelio Rivera (0789)","R","Ciudad Valles (013)Rogelio Rivera (0789)",21.887612000000001,-99.031503999999998,1,"*","*",1,240130789,null,null,null,{"$f":"IFERROR(VLOOKUP(CONCATENATE(B2188,D2188),Padrón_Indígenas!$A$2:$G$988,7,0),\"No\")","v":"No"}]
[24,"013","Ciudad_Valles","0776","Sabás Ordóñez (0776)","R","Ciudad Valles (013)Sabás Ordóñez (0776)",22.046904000000001,-99.028527999999994,0,0,0,0,240130776,null,null,null,{"$f":"IFERROR(VLOOKUP(CONCATENATE(B2192,D2192),Padrón_Indígenas!$A$2:$G$988,7,0),\"No\")","v":"No"}]
[24,"013","Ciudad_Valles","0177","San Alejo (0177)","R","Ciudad Valles (013)San Alejo (0177)",22.273213999999999,-99.240380000000002,0,0,0,0,240130177,null,null,null,{"$f":"IFERROR(VLOOKUP(CONCATENATE(B2195,D2195),Padrón_Indígenas!$A$2:$G$988,7,0),\"No\")","v":"No"}]
[24,"013","Ciudad_Valles","0516","San Antonio Número Uno (0516)","R","Ciudad Valles (013)San Antonio Número Uno (0516)",22.354831000000001,-99.033268000000007,0,0,0,0,240130516,null,null,null,{"$f":"IFERROR(VLOOKUP(CONCATENATE(B2199,D2199),Padrón_Indígenas!$A$2:$G$988,7,0),\"No\")","v":"No"}]
[24,"013","Ciudad_Valles","0942","San Felipe (0942)","R","Ciudad Valles (013)San Felipe (0942)",21.860821999999999,-98.980654999999999,7,"*","*",2,240130942,null,null,null,{"$f":"IFERROR(VLOOKUP(CONCATENATE(B2204,D2204),Padrón_Indígenas!$A$2:$G$988,7,0),\"No\")","v":"No"}]
[24,"013","Ciudad_Valles","1071","San Felipe (Licenciado José María Padilla) (1071)","R","Ciudad Valles (013)San Felipe (Licenciado José María Padilla) (1071)",21.974138,-98.935516000000007,0,0,0,0,240131071,null,null,null,{"$f":"IFERROR(VLOOKUP(CONCATENATE(B2207,D2207),Padrón_Indígenas!$A$2:$G$988,7,0),\"No\")","v":"No"}]
[24,"013","Ciudad_Valles","0616","San Francisco (0616)","R","Ciudad Valles (013)San Francisco (0616)",21.997472999999999,-99.072866000000005,7,"*","*",1,240130616,null,null,null,{"$f":"IFERROR(VLOOKUP(CONCATENATE(B2209,D2209),Padrón_Indígenas!$A$2:$G$988,7,0),\"No\")","v":"No"}]
[24,"013","Ciudad_Valles","0944","San Heraclio (0944)","R","Ciudad Valles (013)San Heraclio (0944)",22.015184000000001,-99.088909000000001,0,0,0,0,240130944,null,null,null,{"$f":"IFERROR(VLOOKUP(CONCATENATE(B2212,D2212),Padrón_Indígenas!$A$2:$G$988,7,0),\"No\")","v":"No"}]
[24,"013","Ciudad_Valles","0945","San Jacobo (0945)","R","Ciudad Valles (013)San Jacobo (0945)",22.265519000000001,-99.281300999999999,1,"*","*",1,240130945,"SI",null,null,{"$f":"IFERROR(VLOOKUP(CONCATENATE(B2218,D2218),Padrón_Indígenas!$A$2:$G$988,7,0),\"No\")","v":"No"}]
[24,"013","Ciudad_Valles","0190","San Juan (0190)","R","Ciudad Valles (013)San Juan (0190)",22.285962000000001,-99.012873999999996,0,0,0,0,240130190,null,null,null,{"$f":"IFERROR(VLOOKUP(CONCATENATE(B2220,D2220),Padrón_Indígenas!$A$2:$G$988,7,0),\"No\")","v":"No"}]
[24,"013","Ciudad_Valles","0767","San Judas Tadeo (El Rocío) (0767)","R","Ciudad Valles (013)San Judas Tadeo (El Rocío) (0767)",21.948384999999998,-99.059978999999998,3,"*","*",2,240130767,null,null,null,{"$f":"IFERROR(VLOOKUP(CONCATENATE(B2223,D2223),Padrón_Indígenas!$A$2:$G$988,7,0),\"No\")","v":"No"}]
[24,"013","Ciudad_Valles","0192","San Mateo (0192)","R","Ciudad Valles (013)San Mateo (0192)",22.044201999999999,-99.140840999999995,170,90,80,54,240130192,"SI","Alto","Bajo",{"$f":"IFERROR(VLOOKUP(CONCATENATE(B2227,D2227),Padrón_Indígenas!$A$2:$G$988,7,0),\"No\")","v":"No"}]
[24,"013","Ciudad_Valles","0305","San Ricardito (0305)","R","Ciudad Valles (013)San Ricardito (0305)",22.227795,-99.000292999999999,5,"*","*",1,240130305,null,null,null,{"$f":"IFERROR(VLOOKUP(CONCATENATE(B2232,D2232),Padrón_Indígenas!$A$2:$G$988,7,0),\"No\")","v":"No"}]
[24,"013","Ciudad_Valles","1091","Santa Anita (1091)","R","Ciudad Valles (013)Santa Anita (1091)",22.261143000000001,-99.062656000000004,3,"*","*",1,240131091,null,null,null,{"$f":"IFERROR(VLOOKUP(CONCATENATE(B2235,D2235),Padrón_Indígenas!$A$2:$G$988,7,0),\"No\")","v":"No"}]
[24,"013","Ciudad_Valles","0696","Santa Elena (0696)","R","Ciudad Valles (013)Santa Elena (0696)",22.083195,-99.203908999999996,2,"*","*",1,240130696,null,null,null,{"$f":"IFERROR(VLOOKUP(CONCATENATE(B2238,D2238),Padrón_Indígenas!$A$2:$G$988,7,0),\"No\")","v":"No"}]
[24,"013","Ciudad_Valles","0807","Santa Fe (0807)","R","Ciudad Valles (013)Santa Fe (0807)",21.985455000000002,-99.089365999999998,0,0,0,0,240130807,null,null,null,{"$f":"IFERROR(VLOOKUP(CONCATENATE(B2241,D2241),Padrón_Indígenas!$A$2:$G$988,7,0),\"No\")","v":"No"}]
[24,"013","Ciudad_Valles","0523","Santa Isabel (0523)","R","Ciudad Valles (013)Santa Isabel (0523)",22.137574000000001,-99.240859999999998,1,"*","*",1,240130523,null,null,null,{"$f":"IFERROR(VLOOKUP(CONCATENATE(B2243,D2243),Padrón_Indígenas!$A$2:$G$988,7,0),\"No\")","v":"No"}]
[24,"013","Ciudad_Valles","0579","Santa María del Tigre (Martínez Grande) (0579)","R","Ciudad Valles (013)Santa María del Tigre (Martínez Grande) (0579)",22.262428,-99.130320999999995,4,"*","*",2,240130579,"SI",null,null,{"$f":"IFERROR(VLOOKUP(CONCATENATE(B2246,D2246),Padrón_Indígenas!$A$2:$G$988,7,0),\"No\")","v":"No"}]
[24,"013","Ciudad_Valles","0913","Santa Petrita (0913)","R","Ciudad Valles (013)Santa Petrita (0913)",22.273267000000001,-99.283135999999999,0,0,0,0,240130913,null,null,null,{"$f":"IFERROR(VLOOKUP(CONCATENATE(B2251,D2251),Padrón_Indígenas!$A$2:$G$988,7,0),\"No\")","v":"No"}]
[24,"013","Ciudad_Valles","0428","Santiaguillo (0428)","R","Ciudad Valles (013)Santiaguillo (0428)",21.817404,-98.950593999999995,15,8,7,7,240130428,"SI","Muy alto","Alto",{"$f":"IFERROR(VLOOKUP(CONCATENATE(B2255,D2255),Padrón_Indígenas!$A$2:$G$988,7,0),\"No\")","v":"No"}]
[24,"013","Ciudad_Valles","1151","Sempuale (1151)","R","Ciudad Valles (013)Sempuale (1151)",22.168538999999999,-98.975821999999994,0,0,0,0,240131151,null,null,null,{"$f":"IFERROR(VLOOKUP(CONCATENATE(B2259,D2259),Padrón_Indígenas!$A$2:$G$988,7,0),\"No\")","v":"No"}]
[24,"013","Ciudad_Valles","0644","Sigoal (0644)","R","Ciudad Valles (013)Sigoal (0644)",21.993884999999999,-99.044901999999993,2,"*","*",1,240130644,null,null,null,{"$f":"IFERROR(VLOOKUP(CONCATENATE(B2260,D2260),Padrón_Indígenas!$A$2:$G$988,7,0),\"No\")","v":"No"}]
[24,"013","Ciudad_Valles","0431","Tamunal (0431)","R","Ciudad Valles (013)Tamunal (0431)",21.882815000000001,-98.971146000000005,80,36,44,24,240130431,"SI","Alto","Medio",{"$f":"IFERROR(VLOOKUP(CONCATENATE(B2264,D2264),Padrón_Indígenas!$A$2:$G$988,7,0),\"No\")","v":"No"}]
[24,"013","Ciudad_Valles","1153","Tanculpaya (1153)","R","Ciudad Valles (013)Tanculpaya (1153)",22.004722000000001,-98.985833,0,0,0,0,240131153,null,null,null,{"$f":"IFERROR(VLOOKUP(CONCATENATE(B2269,D2269),Padrón_Indígenas!$A$2:$G$988,7,0),\"No\")","v":"No"}]
[24,"013","Ciudad_Valles","0223","Tantizohuiche (0223)","R","Ciudad Valles (013)Tantizohuiche (0223)",21.810917,-98.994934000000001,177,101,76,51,240130223,"SI","Alto","Medio",{"$f":"IFERROR(VLOOKUP(CONCATENATE(B2271,D2271),Padrón_Indígenas!$A$2:$G$988,7,0),\"No\")","v":"No"}]
[24,"013","Ciudad_Valles","0227","Tanzacalte (0227)","R","Ciudad Valles (013)Tanzacalte (0227)",22.059169000000001,-99.035223999999999,89,48,41,27,240130227,null,"Alto","Bajo",{"$f":"IFERROR(VLOOKUP(CONCATENATE(B2274,D2274),Padrón_Indígenas!$A$2:$G$988,7,0),\"No\")","v":"No"}]
[24,"013","Ciudad_Valles","1154","Tres Marías (1154)","R","Ciudad Valles (013)Tres Marías (1154)",21.947222,-99.067499999999995,2,"*","*",1,240131154,"SI",null,null,{"$f":"IFERROR(VLOOKUP(CONCATENATE(B2279,D2279),Padrón_Indígenas!$A$2:$G$988,7,0),\"No\")","v":"No"}]
[24,"013","Ciudad_Valles","0613","Valle María (0613)","R","Ciudad Valles (013)Valle María (0613)",21.968889000000001,-99.037499999999994,5,"*","*",1,240130613,null,null,null,{"$f":"IFERROR(VLOOKUP(CONCATENATE(B2283,D2283),Padrón_Indígenas!$A$2:$G$988,7,0),\"No\")","v":"No"}]
[24,"013","Ciudad_Valles","0459","Vista Hermosa (0459)","R","Ciudad Valles (013)Vista Hermosa (0459)",22.028055999999999,-99.108610999999996,1,"*","*",1,240130459,null,null,null,{"$f":"IFERROR(VLOOKUP(CONCATENATE(B2287,D2287),Padrón_Indígenas!$A$2:$G$988,7,0),\"No\")","v":"No"}]
[24,"013","Ciudad_Valles","0968","Zona Rioverdito (René González) (0968)","R","Ciudad Valles (013)Zona Rioverdito (René González) (0968)",22.190885000000002,-99.247507999999996,3,"*","*",1,240130968,null,null,null,{"$f":"IFERROR(VLOOKUP(CONCATENATE(B2290,D2290),Padrón_Indígenas!$A$2:$G$988,7,0),\"No\")","v":"No"}]
[24,"014","Coxcatlán","0002","Ajacaco (0002)","R","Coxcatlán (014)Ajacaco (0002)",21.499077,-98.961145999999999,132,66,66,28,240140002,"SI","Alto","Medio",{"$f":"IFERROR(VLOOKUP(CONCATENATE(B2292,D2292),Padrón_Indígenas!$A$2:$G$988,7,0),\"No\")","v":"Sí"}]
[24,"014","Coxcatlán","0004","Amaxac (0004)","R","Coxcatlán (014)Amaxac (0004)",21.498232000000002,-98.897250999999997,816,422,394,204,240140004,"SI","Alto","Medio",{"$f":"IFERROR(VLOOKUP(CONCATENATE(B2295,D2295),Padrón_Indígenas!$A$2:$G$988,7,0),\"No\")","v":"Sí"}]
[24,"014","Coxcatlán","0083","Barrio Panuhuaya (0083)","R","Coxcatlán (014)Barrio Panuhuaya (0083)",21.53604,-98.918779000000001,27,13,14,6,240140083,"SI","Alto","Medio",{"$f":"IFERROR(VLOOKUP(CONCATENATE(B2301,D2301),Padrón_Indígenas!$A$2:$G$988,7,0),\"No\")","v":"No"}]
[24,"014","Coxcatlán","0052","Cahameli (0052)","R","Coxcatlán (014)Cahameli (0052)",21.515633000000001,-98.938463999999996,32,16,16,9,240140052,"SI","Medio","Medio",{"$f":"IFERROR(VLOOKUP(CONCATENATE(B2303,D2303),Padrón_Indígenas!$A$2:$G$988,7,0),\"No\")","v":"Sí"}]
[24,"014","Coxcatlán","0009","Colaltitla (0009)","R","Coxcatlán (014)Colaltitla (0009)",21.555201,-98.913872999999995,144,79,65,43,240140009,"SI","Alto","Medio",{"$f":"IFERROR(VLOOKUP(CONCATENATE(B2306,D2306),Padrón_Indígenas!$A$2:$G$988,7,0),\"No\")","v":"Sí"}]
[24,"014","Coxcatlán","0010","Cuilonico (0010)","R","Coxcatlán (014)Cuilonico (0010)",21.518156000000001,-98.936722000000003,189,108,81,47,240140010,"SI","Alto","Medio",{"$f":"IFERROR(VLOOKUP(CONCATENATE(B2310,D2310),Padrón_Indígenas!$A$2:$G$988,7,0),\"No\")","v":"No"}]
[24,"014","Coxcatlán","0039","El Zapote (0039)","R","Coxcatlán (014)El Zapote (0039)",21.52909,-98.928786000000002,48,26,22,13,240140039,"SI","Alto","Bajo",{"$f":"IFERROR(VLOOKUP(CONCATENATE(B2315,D2315),Padrón_Indígenas!$A$2:$G$988,7,0),\"No\")","v":"No"}]
[24,"014","Coxcatlán","0016","Las Mesas (0016)","R","Coxcatlán (014)Las Mesas (0016)",21.526983999999999,-98.854044000000002,627,317,310,146,240140016,"SI","Alto","Medio",{"$f":"IFERROR(VLOOKUP(CONCATENATE(B2318,D2318),Padrón_Indígenas!$A$2:$G$988,7,0),\"No\")","v":"Sí"}]
[24,"014","Coxcatlán","0014","Mahuajco (0014)","R","Coxcatlán (014)Mahuajco (0014)",21.527601000000001,-98.942702999999995,387,200,187,87,240140014,"SI","Alto","Medio",{"$f":"IFERROR(VLOOKUP(CONCATENATE(B2320,D2320),Padrón_Indígenas!$A$2:$G$988,7,0),\"No\")","v":"Sí"}]
[24,"014","Coxcatlán","0017","Moyotla (0017)","R","Coxcatlán (014)Moyotla (0017)",21.514946999999999,-98.914738,444,226,218,89,240140017,"SI","Alto","Medio",{"$f":"IFERROR(VLOOKUP(CONCATENATE(B2323,D2323),Padrón_Indígenas!$A$2:$G$988,7,0),\"No\")","v":"Sí"}]
[24,"014","Coxcatlán","0056","Picholco (0056)","R","Coxcatlán (014)Picholco (0056)",21.503927999999998,-98.885955999999993,152,83,69,41,240140056,"SI","Alto","Medio",{"$f":"IFERROR(VLOOKUP(CONCATENATE(B2329,D2329),Padrón_Indígenas!$A$2:$G$988,7,0),\"No\")","v":"Sí"}]
[24,"014","Coxcatlán","0042","Pochotitla (0042)","R","Coxcatlán (014)Pochotitla (0042)",21.514206999999999,-98.883270999999993,7,"*","*",1,240140042,"SI",null,null,{"$f":"IFERROR(VLOOKUP(CONCATENATE(B2331,D2331),Padrón_Indígenas!$A$2:$G$988,7,0),\"No\")","v":"Sí"}]
[24,"014","Coxcatlán","0084","Rancho Cuilonico (0084)","R","Coxcatlán (014)Rancho Cuilonico (0084)",21.519977000000001,-98.935147000000001,"-","-","-","-",240140084,"SI",null,null,{"$f":"IFERROR(VLOOKUP(CONCATENATE(B2334,D2334),Padrón_Indígenas!$A$2:$G$988,7,0),\"No\")","v":"No"}]
[24,"014","Coxcatlán","0079","Rancho San Pablo (Melesio Hernández) (0079)","R","Coxcatlán (014)Rancho San Pablo (Melesio Hernández) (0079)",21.539055000000001,-98.923596000000003,26,15,11,6,240140079,"SI","Alto","Medio",{"$f":"IFERROR(VLOOKUP(CONCATENATE(B2338,D2338),Padrón_Indígenas!$A$2:$G$988,7,0),\"No\")","v":"No"}]
[24,"014","Coxcatlán","0041","San Francisco (0041)","R","Coxcatlán (014)San Francisco (0041)",21.484366999999999,-98.907653999999994,35,14,21,7,240140041,"SI","Alto","Medio",{"$f":"IFERROR(VLOOKUP(CONCATENATE(B2342,D2342),Padrón_Indígenas!$A$2:$G$988,7,0),\"No\")","v":"No"}]
[24,"014","Coxcatlán","0081","San Miguel (El Naranjal) (0081)","R","Coxcatlán (014)San Miguel (El Naranjal) (0081)",21.528888999999999,-98.921389000000005,11,4,7,3,240140081,"SI","Muy alto","Muy alto",{"$f":"IFERROR(VLOOKUP(CONCATENATE(B2343,D2343),Padrón_Indígenas!$A$2:$G$988,7,0),\"No\")","v":"No"}]
[24,"014","Coxcatlán","0029","Suchiaco (0029)","R","Coxcatlán (014)Suchiaco (0029)",21.507234,-98.932552999999999,371,182,189,105,240140029,"SI","Alto","Medio",{"$f":"IFERROR(VLOOKUP(CONCATENATE(B2347,D2347),Padrón_Indígenas!$A$2:$G$988,7,0),\"No\")","v":"Sí"}]
[24,"014","Coxcatlán","0034","Tepetlanco (0034)","R","Coxcatlán (014)Tepetlanco (0034)",21.520996,-98.930411000000007,65,31,34,15,240140034,"SI","Alto","Medio",{"$f":"IFERROR(VLOOKUP(CONCATENATE(B2352,D2352),Padrón_Indígenas!$A$2:$G$988,7,0),\"No\")","v":"Sí"}]
[24,"014","Coxcatlán","0035","Tepotzuapa Primera Sección (0035)","R","Coxcatlán (014)Tepotzuapa Primera Sección (0035)",21.48011,-98.925600000000003,680,329,351,184,240140035,"SI","Alto","Medio",{"$f":"IFERROR(VLOOKUP(CONCATENATE(B2354,D2354),Padrón_Indígenas!$A$2:$G$988,7,0),\"No\")","v":"Sí"}]
[24,"014","Coxcatlán","0037","Tlapani (0037)","R","Coxcatlán (014)Tlapani (0037)",21.548228999999999,-98.884866000000002,345,183,162,87,240140037,"SI","Alto","Medio",{"$f":"IFERROR(VLOOKUP(CONCATENATE(B2357,D2357),Padrón_Indígenas!$A$2:$G$988,7,0),\"No\")","v":"Sí"}]
[24,"014","Coxcatlán",null,"Todo el municipio ",null,{"$f":"_xlfn.CONCAT(C2362,\" (\",B2362,\")\",E2362)","v":"Coxcatlán (014)Todo el municipio "},null,null,{"$f":"SUM(J2292:J2361)","v":17015}]
[24,"016","Ebano","0087","Aurelio Manrique (0087)","R","Ebano (016)Aurelio Manrique (0087)",22.288720999999999,-98.651336999999998,2245,1080,1165,503,240160087,"SI","Alto","Bajo",{"$f":"IFERROR(VLOOKUP(CONCATENATE(B2366,D2366),Padrón_Indígenas!$A$2:$G$988,7,0),\"No\")","v":"Sí"}]
[24,"016","Ebano","0279","Caminos Grupo de Ponciano (0279)","R","Ebano (016)Caminos Grupo de Ponciano (0279)",22.282222000000001,-98.596389000000002,2,"*","*",1,240160279,null,null,null,{"$f":"IFERROR(VLOOKUP(CONCATENATE(B2370,D2370),Padrón_Indígenas!$A$2:$G$988,7,0),\"No\")","v":"No"}]
[24,"016","Ebano","0098","Campamento Tractores Rojos (0098)","R","Ebano (016)Campamento Tractores Rojos (0098)",22.183838999999999,-98.495054999999994,3,"*","*",1,240160098,null,null,null,{"$f":"IFERROR(VLOOKUP(CONCATENATE(B2371,D2371),Padrón_Indígenas!$A$2:$G$988,7,0),\"No\")","v":"No"}]
[24,"016","Ebano","0114","Dos Amigos (0114)","R","Ebano (016)Dos Amigos (0114)",22.185521000000001,-98.526404999999997,0,0,0,0,240160114,null,null,null,{"$f":"IFERROR(VLOOKUP(CONCATENATE(B2375,D2375),Padrón_Indígenas!$A$2:$G$988,7,0),\"No\")","v":"No"}]
[24,"016","Ebano","0239","Ébano (Colonia Veinte de Noviembre) (0239)","R","Ebano (016)Ébano (Colonia Veinte de Noviembre) (0239)",22.230208999999999,-98.385673999999995,4,"*","*",2,240160239,null,null,null,{"$f":"IFERROR(VLOOKUP(CONCATENATE(B2378,D2378),Padrón_Indígenas!$A$2:$G$988,7,0),\"No\")","v":"No"}]
[24,"016","Ebano","0248","Ejido Auza (Carlos San Martín) (0248)","R","Ebano (016)Ejido Auza (Carlos San Martín) (0248)",22.174603000000001,-98.407481000000004,1,"*","*",1,240160248,null,null,null,{"$f":"IFERROR(VLOOKUP(CONCATENATE(B2384,D2384),Padrón_Indígenas!$A$2:$G$988,7,0),\"No\")","v":"No"}]
[24,"016","Ebano","0151","Ejido Doce de Octubre (0151)","R","Ebano (016)Ejido Doce de Octubre (0151)",22.270422,-98.490651,13,4,9,3,240160151,null,"Muy alto","Alto",{"$f":"IFERROR(VLOOKUP(CONCATENATE(B2386,D2386),Padrón_Indígenas!$A$2:$G$988,7,0),\"No\")","v":"No"}]
[24,"016","Ebano","0069","Ejido Francisco Villa (0069)","R","Ebano (016)Ejido Francisco Villa (0069)",22.184615000000001,-98.441785999999993,0,0,0,0,240160069,null,null,null,{"$f":"IFERROR(VLOOKUP(CONCATENATE(B2389,D2389),Padrón_Indígenas!$A$2:$G$988,7,0),\"No\")","v":"No"}]
[24,"016","Ebano","0158","Ejido los Amigos (0158)","R","Ebano (016)Ejido los Amigos (0158)",22.237518000000001,-98.583759000000001,1,"*","*",1,240160158,null,null,null,{"$f":"IFERROR(VLOOKUP(CONCATENATE(B2394,D2394),Padrón_Indígenas!$A$2:$G$988,7,0),\"No\")","v":"No"}]
[24,"016","Ebano","0153","Ejido Veinte de Noviembre (0153)","R","Ebano (016)Ejido Veinte de Noviembre (0153)",22.223879,-98.403926999999996,0,0,0,0,240160153,null,null,null,{"$f":"IFERROR(VLOOKUP(CONCATENATE(B2398,D2398),Padrón_Indígenas!$A$2:$G$988,7,0),\"No\")","v":"No"}]
[24,"016","Ebano","0226","El Cascabel (0226)","R","Ebano (016)El Cascabel (0226)",22.260584999999999,-98.412572999999995,0,0,0,0,240160226,null,null,null,{"$f":"IFERROR(VLOOKUP(CONCATENATE(B2401,D2401),Padrón_Indígenas!$A$2:$G$988,7,0),\"No\")","v":"No"}]
[24,"016","Ebano","0264","El Cube (Ejido Auza) (0264)","R","Ebano (016)El Cube (Ejido Auza) (0264)",22.158439999999999,-98.420038000000005,4,"*","*",1,240160264,null,null,null,{"$f":"IFERROR(VLOOKUP(CONCATENATE(B2403,D2403),Padrón_Indígenas!$A$2:$G$988,7,0),\"No\")","v":"No"}]
[24,"016","Ebano","0137","El Esfuerzo (0137)","R","Ebano (016)El Esfuerzo (0137)",22.277957000000001,-98.641718999999995,0,0,0,0,240160137,null,null,null,{"$f":"IFERROR(VLOOKUP(CONCATENATE(B2406,D2406),Padrón_Indígenas!$A$2:$G$988,7,0),\"No\")","v":"No"}]
[24,"016","Ebano","0178","El Pitayo (0178)","R","Ebano (016)El Pitayo (0178)",22.258474,-98.497232999999994,3,"*","*",1,240160178,null,null,null,{"$f":"IFERROR(VLOOKUP(CONCATENATE(B2412,D2412),Padrón_Indígenas!$A$2:$G$988,7,0),\"No\")","v":"No"}]
[24,"016","Ebano","0277","El Ranchito (0277)","R","Ebano (016)El Ranchito (0277)",22.182319,-98.514178000000001,4,"*","*",1,240160277,null,null,null,{"$f":"IFERROR(VLOOKUP(CONCATENATE(B2414,D2414),Padrón_Indígenas!$A$2:$G$988,7,0),\"No\")","v":"No"}]
[24,"016","Ebano","0065","El Tamarindo (El Seminario) (0065)","R","Ebano (016)El Tamarindo (El Seminario) (0065)",22.211507999999998,-98.486615999999998,0,0,0,0,240160065,null,null,null,{"$f":"IFERROR(VLOOKUP(CONCATENATE(B2417,D2417),Padrón_Indígenas!$A$2:$G$988,7,0),\"No\")","v":"No"}]
[24,"016","Ebano","0275","El Tronconal (Porfirio Olivares) (0275)","R","Ebano (016)El Tronconal (Porfirio Olivares) (0275)",21.978611000000001,-98.547777999999994,0,0,0,0,240160275,null,null,null,{"$f":"IFERROR(VLOOKUP(CONCATENATE(B2422,D2422),Padrón_Indígenas!$A$2:$G$988,7,0),\"No\")","v":"No"}]
[24,"016","Ebano","0268","ELGO [Graneros] (0268)","R","Ebano (016)ELGO [Graneros] (0268)",22.157639,-98.497363000000007,1,"*","*",1,240160268,null,null,null,{"$f":"IFERROR(VLOOKUP(CONCATENATE(B2426,D2426),Padrón_Indígenas!$A$2:$G$988,7,0),\"No\")","v":"No"}]
[24,"016","Ebano","0011","Estación Velazco (0011)","R","Ebano (016)Estación Velazco (0011)",22.192316000000002,-98.564733000000004,594,299,295,155,240160011,"SI","Alto","Medio",{"$f":"IFERROR(VLOOKUP(CONCATENATE(B2429,D2429),Padrón_Indígenas!$A$2:$G$988,7,0),\"No\")","v":"No"}]
[24,"016","Ebano","0073","Ganadería la Holandesa (0073)","R","Ebano (016)Ganadería la Holandesa (0073)",22.197569000000001,-98.571680000000001,7,"*","*",2,240160073,null,null,null,{"$f":"IFERROR(VLOOKUP(CONCATENATE(B2430,D2430),Padrón_Indígenas!$A$2:$G$988,7,0),\"No\")","v":"No"}]
[24,"016","Ebano","0250","Isabel Zamora Castillo (0250)","R","Ebano (016)Isabel Zamora Castillo (0250)",22.189871,-98.416549000000003,4,"*","*",1,240160250,null,null,null,{"$f":"IFERROR(VLOOKUP(CONCATENATE(B2435,D2435),Padrón_Indígenas!$A$2:$G$988,7,0),\"No\")","v":"No"}]
[24,"016","Ebano","0111","La Buena Tierra (0111)","R","Ebano (016)La Buena Tierra (0111)",22.200908999999999,-98.519745999999998,5,"*","*",1,240160111,"SI",null,null,{"$f":"IFERROR(VLOOKUP(CONCATENATE(B2438,D2438),Padrón_Indígenas!$A$2:$G$988,7,0),\"No\")","v":"No"}]
[24,"016","Ebano","0234","La Loma (El Bordito) (0234)","R","Ebano (016)La Loma (El Bordito) (0234)",22.205765,-98.359309999999994,12,"*","*",1,240160234,null,null,null,{"$f":"IFERROR(VLOOKUP(CONCATENATE(B2440,D2440),Padrón_Indígenas!$A$2:$G$988,7,0),\"No\")","v":"No"}]
[24,"016","Ebano","0205","Las Bugambilias (0205)","R","Ebano (016)Las Bugambilias (0205)",22.247765999999999,-98.456795999999997,0,0,0,0,240160205,null,null,null,{"$f":"IFERROR(VLOOKUP(CONCATENATE(B2445,D2445),Padrón_Indígenas!$A$2:$G$988,7,0),\"No\")","v":"No"}]
[24,"016","Ebano","0096","Las Tres Flores (0096)","R","Ebano (016)Las Tres Flores (0096)",22.184963,-98.494614999999996,0,0,0,0,240160096,null,null,null,{"$f":"IFERROR(VLOOKUP(CONCATENATE(B2449,D2449),Padrón_Indígenas!$A$2:$G$988,7,0),\"No\")","v":"No"}]
[24,"016","Ebano","0232","Los Jagüeyes (0232)","R","Ebano (016)Los Jagüeyes (0232)",22.205079000000001,-98.396080999999995,0,0,0,0,240160232,null,null,null,{"$f":"IFERROR(VLOOKUP(CONCATENATE(B2453,D2453),Padrón_Indígenas!$A$2:$G$988,7,0),\"No\")","v":"No"}]
[24,"016","Ebano","0131","Los Mezquites (0131)","R","Ebano (016)Los Mezquites (0131)",22.204999999999998,-98.344443999999996,0,0,0,0,240160131,null,null,null,{"$f":"IFERROR(VLOOKUP(CONCATENATE(B2454,D2454),Padrón_Indígenas!$A$2:$G$988,7,0),\"No\")","v":"No"}]
[24,"016","Ebano","0173","Martín Pollero (0173)","R","Ebano (016)Martín Pollero (0173)",22.251449000000001,-98.414647000000002,0,0,0,0,240160173,null,null,null,{"$f":"IFERROR(VLOOKUP(CONCATENATE(B2458,D2458),Padrón_Indígenas!$A$2:$G$988,7,0),\"No\")","v":"No"}]
[24,"016","Ebano","0236","Parcela del Ejido Felipe Ángeles (0236)","R","Ebano (016)Parcela del Ejido Felipe Ángeles (0236)",22.167183999999999,-98.500958999999995,1,"*","*",1,240160236,null,null,null,{"$f":"IFERROR(VLOOKUP(CONCATENATE(B2463,D2463),Padrón_Indígenas!$A$2:$G$988,7,0),\"No\")","v":"No"}]
[24,"016","Ebano","0097","Pinitos Uno (0097)","R","Ebano (016)Pinitos Uno (0097)",22.173226,-98.490561,1,"*","*",1,240160097,null,null,null,{"$f":"IFERROR(VLOOKUP(CONCATENATE(B2466,D2466),Padrón_Indígenas!$A$2:$G$988,7,0),\"No\")","v":"No"}]
[24,"016","Ebano","0022","Plan de Iguala (0022)","R","Ebano (016)Plan de Iguala (0022)",22.035944000000001,-98.466972999999996,1596,797,799,409,240160022,"SI","Alto","Bajo",{"$f":"IFERROR(VLOOKUP(CONCATENATE(B2468,D2468),Padrón_Indígenas!$A$2:$G$988,7,0),\"No\")","v":"No"}]
[24,"016","Ebano","0180","Rancho Buenavista (0180)","R","Ebano (016)Rancho Buenavista (0180)",22.233802000000001,-98.466286999999994,1,"*","*",1,240160180,null,null,null,{"$f":"IFERROR(VLOOKUP(CONCATENATE(B2473,D2473),Padrón_Indígenas!$A$2:$G$988,7,0),\"No\")","v":"No"}]
[24,"016","Ebano","0169","Rancho el Alto (0169)","R","Ebano (016)Rancho el Alto (0169)",22.251798000000001,-98.412406000000004,0,0,0,0,240160169,null,null,null,{"$f":"IFERROR(VLOOKUP(CONCATENATE(B2477,D2477),Padrón_Indígenas!$A$2:$G$988,7,0),\"No\")","v":"No"}]
[24,"016","Ebano","0058","Rancho el Dorado (0058)","R","Ebano (016)Rancho el Dorado (0058)",22.155654999999999,-98.500821000000002,1,"*","*",1,240160058,null,null,null,{"$f":"IFERROR(VLOOKUP(CONCATENATE(B2481,D2481),Padrón_Indígenas!$A$2:$G$988,7,0),\"No\")","v":"No"}]
[24,"016","Ebano","0238","Rancho el Ebanal (0238)","R","Ebano (016)Rancho el Ebanal (0238)",22.215555999999999,-98.405000000000001,0,0,0,0,240160238,null,null,null,{"$f":"IFERROR(VLOOKUP(CONCATENATE(B2482,D2482),Padrón_Indígenas!$A$2:$G$988,7,0),\"No\")","v":"No"}]
[24,"016","Ebano","0170","Rancho el Limón (0170)","R","Ebano (016)Rancho el Limón (0170)",22.148986000000001,-98.461662000000004,0,0,0,0,240160170,null,null,null,{"$f":"IFERROR(VLOOKUP(CONCATENATE(B2486,D2486),Padrón_Indígenas!$A$2:$G$988,7,0),\"No\")","v":"No"}]
[24,"016","Ebano","0190","Rancho el Refugio (Reynaldo Díaz) (0190)","R","Ebano (016)Rancho el Refugio (Reynaldo Díaz) (0190)",22.304361,-98.446845999999994,0,0,0,0,240160190,null,null,null,{"$f":"IFERROR(VLOOKUP(CONCATENATE(B2489,D2489),Padrón_Indígenas!$A$2:$G$988,7,0),\"No\")","v":"No"}]
[24,"016","Ebano","0192","Rancho el Venadillo (0192)","R","Ebano (016)Rancho el Venadillo (0192)",22.301210000000001,-98.672467999999995,3,"*","*",1,240160192,"SI",null,null,{"$f":"IFERROR(VLOOKUP(CONCATENATE(B2495,D2495),Padrón_Indígenas!$A$2:$G$988,7,0),\"No\")","v":"No"}]
[24,"016","Ebano","0082","Rancho Juan José (0082)","R","Ebano (016)Rancho Juan José (0082)",22.152063999999999,-98.466571000000002,2,"*","*",1,240160082,null,null,null,{"$f":"IFERROR(VLOOKUP(CONCATENATE(B2497,D2497),Padrón_Indígenas!$A$2:$G$988,7,0),\"No\")","v":"No"}]
[24,"016","Ebano","0196","Rancho la Escondida (0196)","R","Ebano (016)Rancho la Escondida (0196)",22.293614000000002,-98.454414,0,0,0,0,240160196,null,null,null,{"$f":"IFERROR(VLOOKUP(CONCATENATE(B2500,D2500),Padrón_Indígenas!$A$2:$G$988,7,0),\"No\")","v":"No"}]
[24,"016","Ebano","0138","Rancho la Miniatura (0138)","R","Ebano (016)Rancho la Miniatura (0138)",22.195556,-98.446667000000005,3,"*","*",1,240160138,null,null,null,{"$f":"IFERROR(VLOOKUP(CONCATENATE(B2505,D2505),Padrón_Indígenas!$A$2:$G$988,7,0),\"No\")","v":"No"}]
[24,"016","Ebano","0033","Rancho la Unión de Don Lupe (0033)","R","Ebano (016)Rancho la Unión de Don Lupe (0033)",22.155397000000001,-98.498572999999993,5,"*","*",1,240160033,null,null,null,{"$f":"IFERROR(VLOOKUP(CONCATENATE(B2509,D2509),Padrón_Indígenas!$A$2:$G$988,7,0),\"No\")","v":"No"}]
[24,"016","Ebano","0284","Rancho las Ánimas (0284)","R","Ebano (016)Rancho las Ánimas (0284)",22.283332999999999,-98.599444000000005,5,"*","*",1,240160284,"SI",null,null,{"$f":"IFERROR(VLOOKUP(CONCATENATE(B2510,D2510),Padrón_Indígenas!$A$2:$G$988,7,0),\"No\")","v":"No"}]
[24,"016","Ebano","0059","Rancho los Cedros (0059)","R","Ebano (016)Rancho los Cedros (0059)",22.160636,-98.491551999999999,3,"*","*",1,240160059,null,null,null,{"$f":"IFERROR(VLOOKUP(CONCATENATE(B2514,D2514),Padrón_Indígenas!$A$2:$G$988,7,0),\"No\")","v":"No"}]
[24,"016","Ebano","0076","Rancho los Manzanos (0076)","R","Ebano (016)Rancho los Manzanos (0076)",22.166853,-98.477209999999999,0,0,0,0,240160076,null,null,null,{"$f":"IFERROR(VLOOKUP(CONCATENATE(B2517,D2517),Padrón_Indígenas!$A$2:$G$988,7,0),\"No\")","v":"No"}]
[24,"016","Ebano","0102","Rancho los Tres Huastecos (0102)","R","Ebano (016)Rancho los Tres Huastecos (0102)",22.202853999999999,-98.337506000000005,2,"*","*",1,240160102,"SI",null,null,{"$f":"IFERROR(VLOOKUP(CONCATENATE(B2521,D2521),Padrón_Indígenas!$A$2:$G$988,7,0),\"No\")","v":"No"}]
[24,"016","Ebano","0109","Rancho Nuevo (0109)","R","Ebano (016)Rancho Nuevo (0109)",22.197628999999999,-98.535892000000004,0,0,0,0,240160109,null,null,null,{"$f":"IFERROR(VLOOKUP(CONCATENATE(B2523,D2523),Padrón_Indígenas!$A$2:$G$988,7,0),\"No\")","v":"No"}]
[24,"016","Ebano","0208","Rancho San Francisco (0208)","R","Ebano (016)Rancho San Francisco (0208)",22.241838000000001,-98.474658000000005,3,"*","*",1,240160208,null,null,null,{"$f":"IFERROR(VLOOKUP(CONCATENATE(B2529,D2529),Padrón_Indígenas!$A$2:$G$988,7,0),\"No\")","v":"No"}]
[24,"016","Ebano","0209","Rancho San Juan (0209)","R","Ebano (016)Rancho San Juan (0209)",22.282416000000001,-98.463736999999995,0,0,0,0,240160209,null,null,null,{"$f":"IFERROR(VLOOKUP(CONCATENATE(B2532,D2532),Padrón_Indígenas!$A$2:$G$988,7,0),\"No\")","v":"No"}]
[24,"016","Ebano","0273","Rancho Santo Domingo (0273)","R","Ebano (016)Rancho Santo Domingo (0273)",22.202809999999999,-98.554672999999994,2,"*","*",1,240160273,null,null,null,{"$f":"IFERROR(VLOOKUP(CONCATENATE(B2536,D2536),Padrón_Indígenas!$A$2:$G$988,7,0),\"No\")","v":"No"}]
[24,"016","Ebano","0211","Rancho Sayonara (0211)","R","Ebano (016)Rancho Sayonara (0211)",22.206719,-98.443438999999998,0,0,0,0,240160211,null,null,null,{"$f":"IFERROR(VLOOKUP(CONCATENATE(B2537,D2537),Padrón_Indígenas!$A$2:$G$988,7,0),\"No\")","v":"No"}]
[24,"016","Ebano","0241","Refugio Chon (0241)","R","Ebano (016)Refugio Chon (0241)",22.196988999999999,-98.437984,0,0,0,0,240160241,null,null,null,{"$f":"IFERROR(VLOOKUP(CONCATENATE(B2541,D2541),Padrón_Indígenas!$A$2:$G$988,7,0),\"No\")","v":"No"}]
[24,"016","Ebano","0242","San Gerardo (0242)","R","Ebano (016)San Gerardo (0242)",22.260359999999999,-98.426826000000005,0,0,0,0,240160242,null,null,null,{"$f":"IFERROR(VLOOKUP(CONCATENATE(B2546,D2546),Padrón_Indígenas!$A$2:$G$988,7,0),\"No\")","v":"No"}]
[24,"016","Ebano","0216","San Vicente (El Xocoyo) (0216)","R","Ebano (016)San Vicente (El Xocoyo) (0216)",22.299906,-98.543567999999993,6,"*","*",1,240160216,"SI",null,null,{"$f":"IFERROR(VLOOKUP(CONCATENATE(B2549,D2549),Padrón_Indígenas!$A$2:$G$988,7,0),\"No\")","v":"No"}]
[24,"016","Ebano","0081","Santa Cruz (0081)","R","Ebano (016)Santa Cruz (0081)",22.201809000000001,-98.411423999999997,0,0,0,0,240160081,null,null,null,{"$f":"IFERROR(VLOOKUP(CONCATENATE(B2551,D2551),Padrón_Indígenas!$A$2:$G$988,7,0),\"No\")","v":"No"}]
[24,"016","Ebano","0115","Valle Verde (0115)","R","Ebano (016)Valle Verde (0115)",22.193394000000001,-98.480521999999993,0,0,0,0,240160115,null,null,null,{"$f":"IFERROR(VLOOKUP(CONCATENATE(B2557,D2557),Padrón_Indígenas!$A$2:$G$988,7,0),\"No\")","v":"No"}]
[24,"058","El_Naranjo","0112","Abraham García (0112)","R","El Naranjo (058)Abraham García (0112)",22.526944,-99.336388999999997,5,"*","*",2,240580112,null,null,null,{"$f":"IFERROR(VLOOKUP(CONCATENATE(B2560,D2560),Padrón_Indígenas!$A$2:$G$988,7,0),\"No\")","v":"No"}]
[24,"058","El_Naranjo","0116","Campamento Benito Juárez (0116)","R","El Naranjo (058)Campamento Benito Juárez (0116)",22.416944000000001,-99.267222000000004,0,0,0,0,240580116,null,null,null,{"$f":"IFERROR(VLOOKUP(CONCATENATE(B2564,D2564),Padrón_Indígenas!$A$2:$G$988,7,0),\"No\")","v":"No"}]
[24,"058","El_Naranjo","0091","Campamento SCT (0091)","R","El Naranjo (058)Campamento SCT (0091)",22.524296,-99.373458999999997,9,5,4,3,240580091,null,"Alto","Muy bajo",{"$f":"IFERROR(VLOOKUP(CONCATENATE(B2565,D2565),Padrón_Indígenas!$A$2:$G$988,7,0),\"No\")","v":"No"}]
[24,"058","El_Naranjo","0047","Colonia el Meco (0047)","R","El Naranjo (058)Colonia el Meco (0047)",22.571838,-99.344432999999995,1272,640,632,319,240580047,"SI","Bajo","Muy bajo",{"$f":"IFERROR(VLOOKUP(CONCATENATE(B2569,D2569),Padrón_Indígenas!$A$2:$G$988,7,0),\"No\")","v":"No"}]
[24,"058","El_Naranjo","0148","Cruz Montoya Hernández (0148)","R","El Naranjo (058)Cruz Montoya Hernández (0148)",22.667663000000001,-99.493662,4,"*","*",1,240580148,null,null,null,{"$f":"IFERROR(VLOOKUP(CONCATENATE(B2573,D2573),Padrón_Indígenas!$A$2:$G$988,7,0),\"No\")","v":"No"}]
[24,"058","El_Naranjo","0004","El Aguacate (0004)","R","El Naranjo (058)El Aguacate (0004)",22.479196999999999,-99.362700000000004,74,37,37,15,240580004,null,"Alto","Medio",{"$f":"IFERROR(VLOOKUP(CONCATENATE(B2578,D2578),Padrón_Indígenas!$A$2:$G$988,7,0),\"No\")","v":"No"}]
[24,"058","El_Naranjo","0140","El Bule (0140)","R","El Naranjo (058)El Bule (0140)",22.584458999999999,-99.379490000000004,0,0,0,0,240580140,null,null,null,{"$f":"IFERROR(VLOOKUP(CONCATENATE(B2580,D2580),Padrón_Indígenas!$A$2:$G$988,7,0),\"No\")","v":"No"}]
[24,"058","El_Naranjo","0027","El Colorado (0027)","R","El Naranjo (058)El Colorado (0027)",22.549520999999999,-99.322209000000001,107,54,53,26,240580027,null,"Alto","Bajo",{"$f":"IFERROR(VLOOKUP(CONCATENATE(B2583,D2583),Padrón_Indígenas!$A$2:$G$988,7,0),\"No\")","v":"No"}]
[24,"058","El_Naranjo","0039","El Guamúchil (0039)","R","El Naranjo (058)El Guamúchil (0039)",22.530543999999999,-99.376604999999998,39,19,20,11,240580039,null,"Bajo","Muy bajo",{"$f":"IFERROR(VLOOKUP(CONCATENATE(B2588,D2588),Padrón_Indígenas!$A$2:$G$988,7,0),\"No\")","v":"No"}]
[24,"058","El_Naranjo","0144","El Molino (0144)","R","El Naranjo (058)El Molino (0144)",22.327286999999998,-99.257063000000002,4,"*","*",1,240580144,null,null,null,{"$f":"IFERROR(VLOOKUP(CONCATENATE(B2592,D2592),Padrón_Indígenas!$A$2:$G$988,7,0),\"No\")","v":"No"}]
[24,"058","El_Naranjo","0103","El Naranjito (0103)","R","El Naranjo (058)El Naranjito (0103)",22.520243000000001,-99.362460999999996,10,"*","*",2,240580103,null,null,null,{"$f":"IFERROR(VLOOKUP(CONCATENATE(B2593,D2593),Padrón_Indígenas!$A$2:$G$988,7,0),\"No\")","v":"No"}]
[24,"058","El_Naranjo","0056","El Ojo Frío (0056)","R","El Naranjo (058)El Ojo Frío (0056)",22.19323,-99.309951999999996,5,"*","*",2,240580056,null,null,null,{"$f":"IFERROR(VLOOKUP(CONCATENATE(B2597,D2597),Padrón_Indígenas!$A$2:$G$988,7,0),\"No\")","v":"No"}]
[24,"058","El_Naranjo","0125","El Puerto (0125)","R","El Naranjo (058)El Puerto (0125)",22.626913999999999,-99.407702999999998,4,"*","*",2,240580125,null,null,null,{"$f":"IFERROR(VLOOKUP(CONCATENATE(B2601,D2601),Padrón_Indígenas!$A$2:$G$988,7,0),\"No\")","v":"No"}]
[24,"058","El_Naranjo","0073","El Sabinito Plan del Naranjo (0073)","R","El Naranjo (058)El Sabinito Plan del Naranjo (0073)",22.517524999999999,-99.337259000000003,565,283,282,136,240580073,"SI","Alto","Muy bajo",{"$f":"IFERROR(VLOOKUP(CONCATENATE(B2606,D2606),Padrón_Indígenas!$A$2:$G$988,7,0),\"No\")","v":"No"}]
[24,"058","El_Naranjo","0110","El Triunfo (0110)","R","El Naranjo (058)El Triunfo (0110)",22.492946,-99.304034000000001,0,0,0,0,240580110,null,null,null,{"$f":"IFERROR(VLOOKUP(CONCATENATE(B2608,D2608),Padrón_Indígenas!$A$2:$G$988,7,0),\"No\")","v":"No"}]
[24,"058","El_Naranjo","0149","Francisco Ventura Hernández (0149)","R","El Naranjo (058)Francisco Ventura Hernández (0149)",22.554936000000001,-99.386342999999997,2,"*","*",1,240580149,null,null,null,{"$f":"IFERROR(VLOOKUP(CONCATENATE(B2611,D2611),Padrón_Indígenas!$A$2:$G$988,7,0),\"No\")","v":"No"}]
[24,"058","El_Naranjo","0042","Kilómetro Cuarenta y Dos (0042)","R","El Naranjo (058)Kilómetro Cuarenta y Dos (0042)",22.452072999999999,-99.313672999999994,374,189,185,85,240580042,null,"Medio","Muy bajo",{"$f":"IFERROR(VLOOKUP(CONCATENATE(B2616,D2616),Padrón_Indígenas!$A$2:$G$988,7,0),\"No\")","v":"No"}]
[24,"058","El_Naranjo","0019","La Cascadita (0019)","R","El Naranjo (058)La Cascadita (0019)",22.566389000000001,-99.357221999999993,0,0,0,0,240580019,null,null,null,{"$f":"IFERROR(VLOOKUP(CONCATENATE(B2619,D2619),Padrón_Indígenas!$A$2:$G$988,7,0),\"No\")","v":"No"}]
[24,"058","El_Naranjo","0020","La Ceiba (0020)","R","El Naranjo (058)La Ceiba (0020)",22.586662,-99.367356000000001,1,"*","*",1,240580020,null,null,null,{"$f":"IFERROR(VLOOKUP(CONCATENATE(B2620,D2620),Padrón_Indígenas!$A$2:$G$988,7,0),\"No\")","v":"No"}]
[24,"058","El_Naranjo","0038","La Germinal (0038)","R","El Naranjo (058)La Germinal (0038)",22.501577000000001,-99.307670999999999,30,15,15,9,240580038,null,"Medio","Muy bajo",{"$f":"IFERROR(VLOOKUP(CONCATENATE(B2624,D2624),Padrón_Indígenas!$A$2:$G$988,7,0),\"No\")","v":"No"}]
[24,"058","El_Naranjo","0048","La Mequihuana (0048)","R","El Naranjo (058)La Mequihuana (0048)",22.713571000000002,-99.500838000000002,7,"*","*",1,240580048,null,null,null,{"$f":"IFERROR(VLOOKUP(CONCATENATE(B2629,D2629),Padrón_Indígenas!$A$2:$G$988,7,0),\"No\")","v":"No"}]
[24,"058","El_Naranjo","0134","La Mutua (El Estribo) (0134)","R","El Naranjo (058)La Mutua (El Estribo) (0134)",22.455832999999998,-99.286111000000005,0,0,0,0,240580134,null,null,null,{"$f":"IFERROR(VLOOKUP(CONCATENATE(B2632,D2632),Padrón_Indígenas!$A$2:$G$988,7,0),\"No\")","v":"No"}]
[24,"058","El_Naranjo","0059","La Palma (0059)","R","El Naranjo (058)La Palma (0059)",22.3,-99.223611000000005,0,0,0,0,240580059,null,null,null,{"$f":"IFERROR(VLOOKUP(CONCATENATE(B2634,D2634),Padrón_Indígenas!$A$2:$G$988,7,0),\"No\")","v":"No"}]
[24,"058","El_Naranjo","0132","La Tinaja (0132)","R","El Naranjo (058)La Tinaja (0132)",22.365601000000002,-99.305104999999998,11,"*","*",2,240580132,null,null,null,{"$f":"IFERROR(VLOOKUP(CONCATENATE(B2640,D2640),Padrón_Indígenas!$A$2:$G$988,7,0),\"No\")","v":"No"}]
[24,"058","El_Naranjo","0087","La Yerbabuena del Norte (0087)","R","El Naranjo (058)La Yerbabuena del Norte (0087)",22.536273000000001,-99.427193000000003,1,"*","*",1,240580087,null,null,null,{"$f":"IFERROR(VLOOKUP(CONCATENATE(B2643,D2643),Padrón_Indígenas!$A$2:$G$988,7,0),\"No\")","v":"No"}]
[24,"058","El_Naranjo","0003","Las Abritas (0003)","R","El Naranjo (058)Las Abritas (0003)",22.496445999999999,-99.401374000000004,181,96,85,40,240580003,null,"Alto","Bajo",{"$f":"IFERROR(VLOOKUP(CONCATENATE(B2645,D2645),Padrón_Indígenas!$A$2:$G$988,7,0),\"No\")","v":"No"}]
[24,"058","El_Naranjo","0133","Loma Alta (0133)","R","El Naranjo (058)Loma Alta (0133)",22.438889,-99.348332999999997,5,4,1,4,240580133,null,"Muy alto","Muy alto",{"$f":"IFERROR(VLOOKUP(CONCATENATE(B2648,D2648),Padrón_Indígenas!$A$2:$G$988,7,0),\"No\")","v":"No"}]
[24,"058","El_Naranjo","0092","Los Cedros (0092)","R","El Naranjo (058)Los Cedros (0092)",22.295278,-99.222222000000002,0,0,0,0,240580092,null,null,null,{"$f":"IFERROR(VLOOKUP(CONCATENATE(B2652,D2652),Padrón_Indígenas!$A$2:$G$988,7,0),\"No\")","v":"No"}]
[24,"058","El_Naranjo","0046","Maitinez (0046)","R","El Naranjo (058)Maitinez (0046)",22.371666999999999,-99.293056000000007,1076,557,519,269,240580046,"SI","Alto","Muy bajo",{"$f":"IFERROR(VLOOKUP(CONCATENATE(B2657,D2657),Padrón_Indígenas!$A$2:$G$988,7,0),\"No\")","v":"No"}]
[24,"058","El_Naranjo","0055","Ojo de Agua de Tierra Nueva (0055)","R","El Naranjo (058)Ojo de Agua de Tierra Nueva (0055)",22.690073000000002,-99.497264000000001,500,265,235,119,240580055,null,"Alto","Bajo",{"$f":"IFERROR(VLOOKUP(CONCATENATE(B2660,D2660),Padrón_Indígenas!$A$2:$G$988,7,0),\"No\")","v":"No"}]
[24,"058","El_Naranjo","0064","Peña Amarilla (0064)","R","El Naranjo (058)Peña Amarilla (0064)",22.328437000000001,-99.334913,9,5,4,3,240580064,null,"Muy alto","Alto",{"$f":"IFERROR(VLOOKUP(CONCATENATE(B2663,D2663),Padrón_Indígenas!$A$2:$G$988,7,0),\"No\")","v":"No"}]
[24,"058","El_Naranjo","0010","Rancho Buenavista (0010)","R","El Naranjo (058)Rancho Buenavista (0010)",22.351358999999999,-99.262307000000007,0,0,0,0,240580010,null,null,null,{"$f":"IFERROR(VLOOKUP(CONCATENATE(B2666,D2666),Padrón_Indígenas!$A$2:$G$988,7,0),\"No\")","v":"No"}]
[24,"058","El_Naranjo","0127","Rancho el Cimarrón (0127)","R","El Naranjo (058)Rancho el Cimarrón (0127)",22.350556000000001,-99.328610999999995,0,0,0,0,240580127,null,null,null,{"$f":"IFERROR(VLOOKUP(CONCATENATE(B2671,D2671),Padrón_Indígenas!$A$2:$G$988,7,0),\"No\")","v":"No"}]
[24,"058","El_Naranjo","0106","Rancho el Rosario (0106)","R","El Naranjo (058)Rancho el Rosario (0106)",22.483198999999999,-99.310533000000007,1,"*","*",1,240580106,null,null,null,{"$f":"IFERROR(VLOOKUP(CONCATENATE(B2675,D2675),Padrón_Indígenas!$A$2:$G$988,7,0),\"No\")","v":"No"}]
[24,"058","El_Naranjo","0011","Rancho la Cascada (0011)","R","El Naranjo (058)Rancho la Cascada (0011)",22.58633,-99.380573999999996,0,0,0,0,240580011,null,null,null,{"$f":"IFERROR(VLOOKUP(CONCATENATE(B2676,D2676),Padrón_Indígenas!$A$2:$G$988,7,0),\"No\")","v":"No"}]
[24,"058","El_Naranjo","0129","Rancho la Paloma (0129)","R","El Naranjo (058)Rancho la Paloma (0129)",22.564741999999999,-99.335735999999997,3,"*","*",1,240580129,null,null,null,{"$f":"IFERROR(VLOOKUP(CONCATENATE(B2680,D2680),Padrón_Indígenas!$A$2:$G$988,7,0),\"No\")","v":"No"}]
[24,"058","El_Naranjo","0061","Rancho Nuevo Paso del Águila (0061)","R","El Naranjo (058)Rancho Nuevo Paso del Águila (0061)",22.344479,-99.257047999999998,0,0,0,0,240580061,null,null,null,{"$f":"IFERROR(VLOOKUP(CONCATENATE(B2684,D2684),Padrón_Indígenas!$A$2:$G$988,7,0),\"No\")","v":"No"}]
[24,"058","El_Naranjo","0076","San Juan del Viejo (0076)","R","El Naranjo (058)San Juan del Viejo (0076)",22.366800999999999,-99.34769,0,0,0,0,240580076,null,null,null,{"$f":"IFERROR(VLOOKUP(CONCATENATE(B2689,D2689),Padrón_Indígenas!$A$2:$G$988,7,0),\"No\")","v":"No"}]
[24,"058","El_Naranjo","0086","San Rafael (Ojo de Agua de la Vieja) (0086)","R","El Naranjo (058)San Rafael (Ojo de Agua de la Vieja) (0086)",22.369561000000001,-99.334644999999995,12,8,4,3,240580086,null,"Muy alto","Alto",{"$f":"IFERROR(VLOOKUP(CONCATENATE(B2692,D2692),Padrón_Indígenas!$A$2:$G$988,7,0),\"No\")","v":"No"}]
[24,"058","El_Naranjo","0080","Santa Laura (0080)","R","El Naranjo (058)Santa Laura (0080)",22.570387,-99.364161999999993,1,"*","*",1,240580080,null,null,null,{"$f":"IFERROR(VLOOKUP(CONCATENATE(B2694,D2694),Padrón_Indígenas!$A$2:$G$988,7,0),\"No\")","v":"No"}]
[24,"017","Guadalcázar","0004","Aguaje de Sánchez (0004)","R","Guadalcázar (017)Aguaje de Sánchez (0004)",22.657758000000001,-100.339007,36,17,19,11,240170004,null,"Alto","Medio",{"$f":"IFERROR(VLOOKUP(CONCATENATE(B2699,D2699),Padrón_Indígenas!$A$2:$G$988,7,0),\"No\")","v":"No"}]
[24,"017","Guadalcázar","0172","Café Marisol [Restaurante] (0172)","R","Guadalcázar (017)Café Marisol [Restaurante] (0172)",22.787828000000001,-100.49041200000001,2,"*","*",1,240170172,null,null,null,{"$f":"IFERROR(VLOOKUP(CONCATENATE(B2703,D2703),Padrón_Indígenas!$A$2:$G$988,7,0),\"No\")","v":"No"}]
[24,"017","Guadalcázar","0160","Cañón del Zurrón (0160)","R","Guadalcázar (017)Cañón del Zurrón (0160)",22.916875000000001,-100.200666,6,"*","*",1,240170160,null,null,null,{"$f":"IFERROR(VLOOKUP(CONCATENATE(B2704,D2704),Padrón_Indígenas!$A$2:$G$988,7,0),\"No\")","v":"No"}]
[24,"017","Guadalcázar","0180","Colonia Menonita del Huizache (0180)","R","Guadalcázar (017)Colonia Menonita del Huizache (0180)",22.902187999999999,-100.510993,97,47,50,19,240170180,null,"Medio","Medio",{"$f":"IFERROR(VLOOKUP(CONCATENATE(B2708,D2708),Padrón_Indígenas!$A$2:$G$988,7,0),\"No\")","v":"No"}]
[24,"017","Guadalcázar","0100","Crucero Noria de las Flores (0100)","R","Guadalcázar (017)Crucero Noria de las Flores (0100)",22.797778000000001,-100.48944400000001,5,"*","*",1,240170100,null,null,null,{"$f":"IFERROR(VLOOKUP(CONCATENATE(B2712,D2712),Padrón_Indígenas!$A$2:$G$988,7,0),\"No\")","v":"No"}]
[24,"017","Guadalcázar","0013","Domingo Gámez (0013)","R","Guadalcázar (017)Domingo Gámez (0013)",23.116091000000001,-100.19653599999999,80,42,38,19,240170013,null,"Alto","Medio",{"$f":"IFERROR(VLOOKUP(CONCATENATE(B2715,D2715),Padrón_Indígenas!$A$2:$G$988,7,0),\"No\")","v":"No"}]
[24,"017","Guadalcázar","0123","El Anteojo (0123)","R","Guadalcázar (017)El Anteojo (0123)",23.051352999999999,-100.41840500000001,0,0,0,0,240170123,null,null,null,{"$f":"IFERROR(VLOOKUP(CONCATENATE(B2717,D2717),Padrón_Indígenas!$A$2:$G$988,7,0),\"No\")","v":"No"}]
[24,"017","Guadalcázar","0020","El Jicote (0020)","R","Guadalcázar (017)El Jicote (0020)",22.939423000000001,-100.12263900000001,301,152,149,71,240170020,null,"Alto","Medio",{"$f":"IFERROR(VLOOKUP(CONCATENATE(B2723,D2723),Padrón_Indígenas!$A$2:$G$988,7,0),\"No\")","v":"No"}]
[24,"017","Guadalcázar","0131","El Murciélago (0131)","R","Guadalcázar (017)El Murciélago (0131)",22.765931999999999,-100.349159,4,"*","*",1,240170131,null,null,null,{"$f":"IFERROR(VLOOKUP(CONCATENATE(B2726,D2726),Padrón_Indígenas!$A$2:$G$988,7,0),\"No\")","v":"No"}]
[24,"017","Guadalcázar","0164","El Paisano (0164)","R","Guadalcázar (017)El Paisano (0164)",22.902470000000001,-100.189565,0,0,0,0,240170164,null,null,null,{"$f":"IFERROR(VLOOKUP(CONCATENATE(B2728,D2728),Padrón_Indígenas!$A$2:$G$988,7,0),\"No\")","v":"No"}]
[24,"017","Guadalcázar","0046","El Quelital (0046)","R","Guadalcázar (017)El Quelital (0046)",22.548107000000002,-100.195464,868,442,426,199,240170046,"SI","Alto","Bajo",{"$f":"IFERROR(VLOOKUP(CONCATENATE(B2731,D2731),Padrón_Indígenas!$A$2:$G$988,7,0),\"No\")","v":"No"}]
[24,"017","Guadalcázar","0075","El Terrero de los Posadas (0075)","R","Guadalcázar (017)El Terrero de los Posadas (0075)",22.695837999999998,-100.351603,89,49,40,30,240170075,null,"Muy alto","Alto",{"$f":"IFERROR(VLOOKUP(CONCATENATE(B2735,D2735),Padrón_Indígenas!$A$2:$G$988,7,0),\"No\")","v":"No"}]
[24,"017","Guadalcázar","0173","Fidel Zapata Pecina (Cerro el Salto) (0173)","R","Guadalcázar (017)Fidel Zapata Pecina (Cerro el Salto) (0173)",23.027290000000001,-100.27396899999999,0,0,0,0,240170173,null,null,null,{"$f":"IFERROR(VLOOKUP(CONCATENATE(B2740,D2740),Padrón_Indígenas!$A$2:$G$988,7,0),\"No\")","v":"No"}]
[24,"017","Guadalcázar","0145","La Arena (Martín Llamas Agundis) (0145)","R","Guadalcázar (017)La Arena (Martín Llamas Agundis) (0145)",23.001550999999999,-100.19405399999999,0,0,0,0,240170145,null,null,null,{"$f":"IFERROR(VLOOKUP(CONCATENATE(B2743,D2743),Padrón_Indígenas!$A$2:$G$988,7,0),\"No\")","v":"No"}]
[24,"017","Guadalcázar","0113","La Campana (0113)","R","Guadalcázar (017)La Campana (0113)",22.742491999999999,-100.49390699999999,152,73,79,27,240170113,"SI","Muy alto","Alto",{"$f":"IFERROR(VLOOKUP(CONCATENATE(B2745,D2745),Padrón_Indígenas!$A$2:$G$988,7,0),\"No\")","v":"No"}]
[24,"017","Guadalcázar","0142","La Joya de la Laja (0142)","R","Guadalcázar (017)La Joya de la Laja (0142)",23.019949,-100.150875,0,0,0,0,240170142,null,null,null,{"$f":"IFERROR(VLOOKUP(CONCATENATE(B2751,D2751),Padrón_Indígenas!$A$2:$G$988,7,0),\"No\")","v":"No"}]
[24,"017","Guadalcázar","0027","La Negrita (0027)","R","Guadalcázar (017)La Negrita (0027)",22.789527,-100.521585,180,94,86,44,240170027,"SI","Alto","Medio",{"$f":"IFERROR(VLOOKUP(CONCATENATE(B2754,D2754),Padrón_Indígenas!$A$2:$G$988,7,0),\"No\")","v":"No"}]
[24,"017","Guadalcázar","0128","La Nueva Jerusalén (La Borrega) (0128)","R","Guadalcázar (017)La Nueva Jerusalén (La Borrega) (0128)",22.786939,-100.50454499999999,3,"*","*",2,240170128,null,null,null,{"$f":"IFERROR(VLOOKUP(CONCATENATE(B2756,D2756),Padrón_Indígenas!$A$2:$G$988,7,0),\"No\")","v":"No"}]
[24,"017","Guadalcázar","0036","La Pólvora (0036)","R","Guadalcázar (017)La Pólvora (0036)",22.930883000000001,-100.339207,699,358,341,165,240170036,"SI","Alto","Medio",{"$f":"IFERROR(VLOOKUP(CONCATENATE(B2759,D2759),Padrón_Indígenas!$A$2:$G$988,7,0),\"No\")","v":"No"}]
[24,"017","Guadalcázar","0078","La Ventana (0078)","R","Guadalcázar (017)La Ventana (0078)",23.006143000000002,-100.2659,758,385,373,190,240170078,null,"Alto","Medio",{"$f":"IFERROR(VLOOKUP(CONCATENATE(B2763,D2763),Padrón_Indígenas!$A$2:$G$988,7,0),\"No\")","v":"No"}]
[24,"017","Guadalcázar","0171","Las Clavellinas (0171)","R","Guadalcázar (017)Las Clavellinas (0171)",22.63353,-100.385974,0,0,0,0,240170171,null,null,null,{"$f":"IFERROR(VLOOKUP(CONCATENATE(B2767,D2767),Padrón_Indígenas!$A$2:$G$988,7,0),\"No\")","v":"No"}]
[24,"017","Guadalcázar","0105","Los Ángeles Número Dos (0105)","R","Guadalcázar (017)Los Ángeles Número Dos (0105)",23.113202999999999,-100.148123,71,38,33,12,240170105,null,"Muy alto","Alto",{"$f":"IFERROR(VLOOKUP(CONCATENATE(B2772,D2772),Padrón_Indígenas!$A$2:$G$988,7,0),\"No\")","v":"No"}]
[24,"017","Guadalcázar","0183","Los Feos [Rancho] (0183)","R","Guadalcázar (017)Los Feos [Rancho] (0183)",22.953095999999999,-100.464344,"-","-","-","-",240170183,null,null,null,{"$f":"IFERROR(VLOOKUP(CONCATENATE(B2775,D2775),Padrón_Indígenas!$A$2:$G$988,7,0),\"No\")","v":"No"}]
[24,"017","Guadalcázar","0177","Los Torres [Restaurante] (0177)","R","Guadalcázar (017)Los Torres [Restaurante] (0177)",23.096699999999998,-100.50466400000001,16,9,7,5,240170177,null,"Alto","Muy bajo",{"$f":"IFERROR(VLOOKUP(CONCATENATE(B2777,D2777),Padrón_Indígenas!$A$2:$G$988,7,0),\"No\")","v":"No"}]
[24,"017","Guadalcázar","0031","Núñez (0031)","R","Guadalcázar (017)Núñez (0031)",22.689871,-100.50351000000001,817,414,403,184,240170031,"SI","Alto","Bajo",{"$f":"IFERROR(VLOOKUP(CONCATENATE(B2782,D2782),Padrón_Indígenas!$A$2:$G$988,7,0),\"No\")","v":"No"}]
[24,"017","Guadalcázar","0037","Potreritos (0037)","R","Guadalcázar (017)Potreritos (0037)",22.648771,-100.26132200000001,37,21,16,13,240170037,null,"Alto","Medio",{"$f":"IFERROR(VLOOKUP(CONCATENATE(B2786,D2786),Padrón_Indígenas!$A$2:$G$988,7,0),\"No\")","v":"No"}]
[24,"017","Guadalcázar","0039","Potrero de los Sánchez (0039)","R","Guadalcázar (017)Potrero de los Sánchez (0039)",22.688275999999998,-100.263105,4,"*","*",2,240170039,null,null,null,{"$f":"IFERROR(VLOOKUP(CONCATENATE(B2787,D2787),Padrón_Indígenas!$A$2:$G$988,7,0),\"No\")","v":"No"}]
[24,"017","Guadalcázar","0044","Pozo Colorado (0044)","R","Guadalcázar (017)Pozo Colorado (0044)",22.987219,-100.16965,15,7,8,6,240170044,null,"Muy alto","Muy alto",{"$f":"IFERROR(VLOOKUP(CONCATENATE(B2791,D2791),Padrón_Indígenas!$A$2:$G$988,7,0),\"No\")","v":"No"}]
[24,"017","Guadalcázar","0097","Presita del Tepetate (0097)","R","Guadalcázar (017)Presita del Tepetate (0097)",22.931830000000001,-100.22121199999999,324,170,154,67,240170097,null,"Alto","Medio",{"$f":"IFERROR(VLOOKUP(CONCATENATE(B2795,D2795),Padrón_Indígenas!$A$2:$G$988,7,0),\"No\")","v":"No"}]
[24,"017","Guadalcázar","0124","Rancho el Castillo (0124)","R","Guadalcázar (017)Rancho el Castillo (0124)",22.716457999999999,-100.415536,2,"*","*",1,240170124,null,null,null,{"$f":"IFERROR(VLOOKUP(CONCATENATE(B2800,D2800),Padrón_Indígenas!$A$2:$G$988,7,0),\"No\")","v":"No"}]
[24,"017","Guadalcázar","0048","Realejo (0048)","R","Guadalcázar (017)Realejo (0048)",22.668914000000001,-100.42430899999999,171,82,89,52,240170048,null,"Alto","Bajo",{"$f":"IFERROR(VLOOKUP(CONCATENATE(B2803,D2803),Padrón_Indígenas!$A$2:$G$988,7,0),\"No\")","v":"No"}]
[24,"017","Guadalcázar","0051","San Antonio de Trojes (0051)","R","Guadalcázar (017)San Antonio de Trojes (0051)",22.691628000000001,-100.217136,230,112,118,70,240170051,"SI","Alto","Medio",{"$f":"IFERROR(VLOOKUP(CONCATENATE(B2806,D2806),Padrón_Indígenas!$A$2:$G$988,7,0),\"No\")","v":"No"}]
[24,"017","Guadalcázar","0053","San Cristóbal (0053)","R","Guadalcázar (017)San Cristóbal (0053)",22.543310999999999,-100.360946,141,72,69,42,240170053,null,"Medio","Bajo",{"$f":"IFERROR(VLOOKUP(CONCATENATE(B2809,D2809),Padrón_Indígenas!$A$2:$G$988,7,0),\"No\")","v":"No"}]
[24,"017","Guadalcázar","0073","San Francisco del Tulillo (0073)","R","Guadalcázar (017)San Francisco del Tulillo (0073)",23.228849,-100.272538,189,91,98,49,240170073,null,"Alto","Medio",{"$f":"IFERROR(VLOOKUP(CONCATENATE(B2811,D2811),Padrón_Indígenas!$A$2:$G$988,7,0),\"No\")","v":"No"}]
[24,"017","Guadalcázar","0058","San Isidro (0058)","R","Guadalcázar (017)San Isidro (0058)",22.712284,-100.32143499999999,5,"*","*",2,240170058,null,null,null,{"$f":"IFERROR(VLOOKUP(CONCATENATE(B2814,D2814),Padrón_Indígenas!$A$2:$G$988,7,0),\"No\")","v":"No"}]
[24,"017","Guadalcázar","0063","San José del Refugio (0063)","R","Guadalcázar (017)San José del Refugio (0063)",23.086869,-100.468204,0,0,0,0,240170063,null,null,null,{"$f":"IFERROR(VLOOKUP(CONCATENATE(B2819,D2819),Padrón_Indígenas!$A$2:$G$988,7,0),\"No\")","v":"No"}]
[24,"017","Guadalcázar","0114","San Mauricio (La Carbonera) (0114)","R","Guadalcázar (017)San Mauricio (La Carbonera) (0114)",23.073858999999999,-100.364026,0,0,0,0,240170114,null,null,null,{"$f":"IFERROR(VLOOKUP(CONCATENATE(B2823,D2823),Padrón_Indígenas!$A$2:$G$988,7,0),\"No\")","v":"No"}]
[24,"017","Guadalcázar","0168","San Pedro el Alto (0168)","R","Guadalcázar (017)San Pedro el Alto (0168)",22.547391000000001,-100.423163,7,4,3,3,240170168,null,"Alto","Medio",{"$f":"IFERROR(VLOOKUP(CONCATENATE(B2826,D2826),Padrón_Indígenas!$A$2:$G$988,7,0),\"No\")","v":"No"}]
[24,"017","Guadalcázar","0169","San Vicente (0169)","R","Guadalcázar (017)San Vicente (0169)",22.910463,-100.19874900000001,2,"*","*",1,240170169,null,null,null,{"$f":"IFERROR(VLOOKUP(CONCATENATE(B2828,D2828),Padrón_Indígenas!$A$2:$G$988,7,0),\"No\")","v":"No"}]
[24,"017","Guadalcázar",null,"Todo el municipio ",null,{"$f":"_xlfn.CONCAT(C2834,\" (\",B2834,\")\",E2834)","v":"Guadalcázar (017)Todo el municipio "},null,null,{"$f":"SUM(J2698:J2833)","v":25985}]
[24,"018","Huehuetlán","0060","Barrio Francisco Villa (0060)","R","Huehuetlán (018)Barrio Francisco Villa (0060)",21.471357000000001,-98.968300999999997,135,67,68,33,240180060,"SI","Alto","Medio",{"$f":"IFERROR(VLOOKUP(CONCATENATE(B2837,D2837),Padrón_Indígenas!$A$2:$G$988,7,0),\"No\")","v":"No"}]
[24,"018","Huehuetlán","0003","Chununtzén Dos (0003)","R","Huehuetlán (018)Chununtzén Dos (0003)",21.515234,-98.982067999999998,348,173,175,94,240180003,"SI","Alto","Medio",{"$f":"IFERROR(VLOOKUP(CONCATENATE(B2839,D2839),Padrón_Indígenas!$A$2:$G$988,7,0),\"No\")","v":"Sí"}]
[24,"018","Huehuetlán","0036","Chununtzén Dos Sección Diez (0036)","R","Huehuetlán (018)Chununtzén Dos Sección Diez (0036)",21.51681,-98.972042999999999,152,80,72,36,240180036,"SI","Alto","Medio",{"$f":"IFERROR(VLOOKUP(CONCATENATE(B2842,D2842),Padrón_Indígenas!$A$2:$G$988,7,0),\"No\")","v":"Sí"}]
[24,"018","Huehuetlán","0032","Chununtzén Dos Sección Seis (0032)","R","Huehuetlán (018)Chununtzén Dos Sección Seis (0032)",21.500395999999999,-98.965113000000002,102,57,45,24,240180032,"SI","Alto","Medio",{"$f":"IFERROR(VLOOKUP(CONCATENATE(B2847,D2847),Padrón_Indígenas!$A$2:$G$988,7,0),\"No\")","v":"Sí"}]
[24,"018","Huehuetlán","0002","Chununtzén Uno (0002)","R","Huehuetlán (018)Chununtzén Uno (0002)",21.483899999999998,-98.972198000000006,1066,520,546,252,240180002,"SI","Alto","Bajo",{"$f":"IFERROR(VLOOKUP(CONCATENATE(B2851,D2851),Padrón_Indígenas!$A$2:$G$988,7,0),\"No\")","v":"Sí"}]
[24,"018","Huehuetlán","0027","El Arrozal (0027)","R","Huehuetlán (018)El Arrozal (0027)",21.505233,-98.999252999999996,8,"*","*",2,240180027,null,null,null,{"$f":"IFERROR(VLOOKUP(CONCATENATE(B2854,D2854),Padrón_Indígenas!$A$2:$G$988,7,0),\"No\")","v":"No"}]
[24,"018","Huehuetlán","0046","El Retoño (0046)","R","Huehuetlán (018)El Retoño (0046)",21.494862999999999,-98.988568999999998,0,0,0,0,240180046,null,null,null,{"$f":"IFERROR(VLOOKUP(CONCATENATE(B2858,D2858),Padrón_Indígenas!$A$2:$G$988,7,0),\"No\")","v":"No"}]
[24,"018","Huehuetlán","0041","Higinio Correa (0041)","R","Huehuetlán (018)Higinio Correa (0041)",21.556121000000001,-99.002716000000007,0,0,0,0,240180041,null,null,null,{"$f":"IFERROR(VLOOKUP(CONCATENATE(B2860,D2860),Padrón_Indígenas!$A$2:$G$988,7,0),\"No\")","v":"No"}]
[24,"018","Huehuetlán","0004","Huichihuayán (0004)","R","Huehuetlán (018)Huichihuayán (0004)",21.483089,-98.967502999999994,2073,976,1097,516,240180004,"SI","Bajo","Muy bajo",{"$f":"IFERROR(VLOOKUP(CONCATENATE(B2863,D2863),Padrón_Indígenas!$A$2:$G$988,7,0),\"No\")","v":"No"}]
[24,"018","Huehuetlán","0048","La Tableta (0048)","R","Huehuetlán (018)La Tableta (0048)",21.519444,-99.006388999999999,49,25,24,12,240180048,"SI","Alto","Bajo",{"$f":"IFERROR(VLOOKUP(CONCATENATE(B2869,D2869),Padrón_Indígenas!$A$2:$G$988,7,0),\"No\")","v":"No"}]
[24,"018","Huehuetlán","0017","Los Pinos (0017)","R","Huehuetlán (018)Los Pinos (0017)",21.562038000000001,-99.006511000000003,260,123,137,49,240180017,"SI","Alto","Medio",{"$f":"IFERROR(VLOOKUP(CONCATENATE(B2870,D2870),Padrón_Indígenas!$A$2:$G$988,7,0),\"No\")","v":"Sí"}]
[24,"018","Huehuetlán","0063","Rancho Santa Bárbara (0063)","R","Huehuetlán (018)Rancho Santa Bárbara (0063)",21.569476000000002,-99.001572999999993,2,"*","*",1,240180063,null,null,null,{"$f":"IFERROR(VLOOKUP(CONCATENATE(B2874,D2874),Padrón_Indígenas!$A$2:$G$988,7,0),\"No\")","v":"No"}]
[24,"018","Huehuetlán","0040","Sitio de Negocios Huichuihuayán INIFAP (0040)","R","Huehuetlán (018)Sitio de Negocios Huichuihuayán INIFAP (0040)",21.475196,-98.977549999999994,0,0,0,0,240180040,null,null,null,{"$f":"IFERROR(VLOOKUP(CONCATENATE(B2878,D2878),Padrón_Indígenas!$A$2:$G$988,7,0),\"No\")","v":"No"}]
[24,"018","Huehuetlán","0012","Tantocoy Uno (0012)","R","Huehuetlán (018)Tantocoy Uno (0012)",21.529910000000001,-98.991032000000004,925,451,474,183,240180012,"SI","Alto","Medio",{"$f":"IFERROR(VLOOKUP(CONCATENATE(B2883,D2883),Padrón_Indígenas!$A$2:$G$988,7,0),\"No\")","v":"Sí"}]
[24,"018","Huehuetlán","0016","Tierras Coloradas (0016)","R","Huehuetlán (018)Tierras Coloradas (0016)",21.50281,-98.978762000000003,101,58,43,23,240180016,"SI","Medio","Bajo",{"$f":"IFERROR(VLOOKUP(CONCATENATE(B2886,D2886),Padrón_Indígenas!$A$2:$G$988,7,0),\"No\")","v":"No"}]
[24,"018","Huehuetlán","0015","Tzinejá Uno (0015)","R","Huehuetlán (018)Tzinejá Uno (0015)",21.567281000000001,-98.966970000000003,630,312,318,135,240180015,"SI","Alto","Medio",{"$f":"IFERROR(VLOOKUP(CONCATENATE(B2888,D2888),Padrón_Indígenas!$A$2:$G$988,7,0),\"No\")","v":"Sí"}]
[24,"019","Lagunillas","0078","Anteoco Martínez Olvera (Lambarría) (0078)","R","Lagunillas (019)Anteoco Martínez Olvera (Lambarría) (0078)",21.724034,-99.569732000000002,6,"*","*",2,240190078,"SI",null,null,{"$f":"IFERROR(VLOOKUP(CONCATENATE(B2891,D2891),Padrón_Indígenas!$A$2:$G$988,7,0),\"No\")","v":"No"}]
[24,"019","Lagunillas","0090","Corral de Toros (0090)","R","Lagunillas (019)Corral de Toros (0090)",21.684166999999999,-99.779722000000007,0,0,0,0,240190090,null,null,null,{"$f":"IFERROR(VLOOKUP(CONCATENATE(B2897,D2897),Padrón_Indígenas!$A$2:$G$988,7,0),\"No\")","v":"No"}]
[24,"019","Lagunillas","0082","Crucitas (0082)","R","Lagunillas (019)Crucitas (0082)",21.642189999999999,-99.543233999999998,0,0,0,0,240190082,null,null,null,{"$f":"IFERROR(VLOOKUP(CONCATENATE(B2898,D2898),Padrón_Indígenas!$A$2:$G$988,7,0),\"No\")","v":"No"}]
[24,"019","Lagunillas","0052","El Boludo (0052)","R","Lagunillas (019)El Boludo (0052)",21.656001,-99.596722,2,"*","*",1,240190052,null,null,null,{"$f":"IFERROR(VLOOKUP(CONCATENATE(B2902,D2902),Padrón_Indígenas!$A$2:$G$988,7,0),\"No\")","v":"No"}]
[24,"019","Lagunillas","0013","El Charco de Piedra (0013)","R","Lagunillas (019)El Charco de Piedra (0013)",21.626913999999999,-99.580557999999996,163,87,76,47,240190013,"SI","Alto","Bajo",{"$f":"IFERROR(VLOOKUP(CONCATENATE(B2906,D2906),Padrón_Indígenas!$A$2:$G$988,7,0),\"No\")","v":"No"}]
[24,"019","Lagunillas","0084","El Divisadero (0084)","R","Lagunillas (019)El Divisadero (0084)",21.704813999999999,-99.590688,5,"*","*",2,240190084,null,null,null,{"$f":"IFERROR(VLOOKUP(CONCATENATE(B2910,D2910),Padrón_Indígenas!$A$2:$G$988,7,0),\"No\")","v":"No"}]
[24,"019","Lagunillas","0017","El Epazote (0017)","R","Lagunillas (019)El Epazote (0017)",21.572513000000001,-99.504435000000001,184,85,99,49,240190017,null,"Alto","Bajo",{"$f":"IFERROR(VLOOKUP(CONCATENATE(B2911,D2911),Padrón_Indígenas!$A$2:$G$988,7,0),\"No\")","v":"No"}]
[24,"019","Lagunillas","0071","El Potrero del Limoncito (0071)","R","Lagunillas (019)El Potrero del Limoncito (0071)",21.571373999999999,-99.560659000000001,0,0,0,0,240190071,null,null,null,{"$f":"IFERROR(VLOOKUP(CONCATENATE(B2917,D2917),Padrón_Indígenas!$A$2:$G$988,7,0),\"No\")","v":"No"}]
[24,"019","Lagunillas","0092","El Puerto del Charco de Piedra (0092)","R","Lagunillas (019)El Puerto del Charco de Piedra (0092)",21.624953000000001,-99.565816999999996,2,"*","*",1,240190092,null,null,null,{"$f":"IFERROR(VLOOKUP(CONCATENATE(B2920,D2920),Padrón_Indígenas!$A$2:$G$988,7,0),\"No\")","v":"No"}]
[24,"019","Lagunillas","0054","El Tepamal (0054)","R","Lagunillas (019)El Tepamal (0054)",21.601727,-99.580669,2,"*","*",1,240190054,null,null,null,{"$f":"IFERROR(VLOOKUP(CONCATENATE(B2922,D2922),Padrón_Indígenas!$A$2:$G$988,7,0),\"No\")","v":"No"}]
[24,"019","Lagunillas","0019","Garrillos (0019)","R","Lagunillas (019)Garrillos (0019)",21.535231,-99.550253999999995,0,0,0,0,240190019,null,null,null,{"$f":"IFERROR(VLOOKUP(CONCATENATE(B2925,D2925),Padrón_Indígenas!$A$2:$G$988,7,0),\"No\")","v":"No"}]
[24,"019","Lagunillas","0018","La Escondida de Puerto Hondo (0018)","R","Lagunillas (019)La Escondida de Puerto Hondo (0018)",21.628333000000001,-99.688889000000003,17,8,9,6,240190018,null,"Alto","Medio",{"$f":"IFERROR(VLOOKUP(CONCATENATE(B2930,D2930),Padrón_Indígenas!$A$2:$G$988,7,0),\"No\")","v":"No"}]
[24,"019","Lagunillas","0035","La Presa (0035)","R","Lagunillas (019)La Presa (0035)",21.512381999999999,-99.599177999999995,186,93,93,52,240190035,"SI","Alto","Bajo",{"$f":"IFERROR(VLOOKUP(CONCATENATE(B2934,D2934),Padrón_Indígenas!$A$2:$G$988,7,0),\"No\")","v":"No"}]
[24,"019","Lagunillas","0022","Laguna Colorada (0022)","R","Lagunillas (019)Laguna Colorada (0022)",21.580100000000002,-99.580116000000004,68,36,32,17,240190022,null,"Alto","Bajo",{"$f":"IFERROR(VLOOKUP(CONCATENATE(B2938,D2938),Padrón_Indígenas!$A$2:$G$988,7,0),\"No\")","v":"No"}]
[24,"019","Lagunillas","0053","Laguna de Pastores (0053)","R","Lagunillas (019)Laguna de Pastores (0053)",21.616056,-99.59205,3,"*","*",1,240190053,null,null,null,{"$f":"IFERROR(VLOOKUP(CONCATENATE(B2939,D2939),Padrón_Indígenas!$A$2:$G$988,7,0),\"No\")","v":"No"}]
[24,"019","Lagunillas","0087","Los Corrales (0087)","R","Lagunillas (019)Los Corrales (0087)",21.628166,-99.769154,2,"*","*",1,240190087,null,null,null,{"$f":"IFERROR(VLOOKUP(CONCATENATE(B2945,D2945),Padrón_Indígenas!$A$2:$G$988,7,0),\"No\")","v":"No"}]
[24,"019","Lagunillas","0026","Mesa de los Camachos (0026)","R","Lagunillas (019)Mesa de los Camachos (0026)",21.741724000000001,-99.605992999999998,0,0,0,0,240190026,null,null,null,{"$f":"IFERROR(VLOOKUP(CONCATENATE(B2946,D2946),Padrón_Indígenas!$A$2:$G$988,7,0),\"No\")","v":"No"}]
[24,"019","Lagunillas","0089","San Agustín (María Guadalupe Cárdenas) (0089)","R","Lagunillas (019)San Agustín (María Guadalupe Cárdenas) (0089)",21.680451000000001,-99.633261000000005,4,"*","*",1,240190089,null,null,null,{"$f":"IFERROR(VLOOKUP(CONCATENATE(B2952,D2952),Padrón_Indígenas!$A$2:$G$988,7,0),\"No\")","v":"No"}]
[24,"019","Lagunillas","0042","San Isidro (0042)","R","Lagunillas (019)San Isidro (0042)",21.662804000000001,-99.533676999999997,93,42,51,28,240190042,null,"Alto","Medio",{"$f":"IFERROR(VLOOKUP(CONCATENATE(B2954,D2954),Padrón_Indígenas!$A$2:$G$988,7,0),\"No\")","v":"No"}]
[24,"019","Lagunillas","0045","San Ramón (0045)","R","Lagunillas (019)San Ramón (0045)",21.534549999999999,-99.621844999999993,60,29,31,12,240190045,"SI","Alto","Bajo",{"$f":"IFERROR(VLOOKUP(CONCATENATE(B2957,D2957),Padrón_Indígenas!$A$2:$G$988,7,0),\"No\")","v":"No"}]
[24,"019","Lagunillas","0073","Tanque Blanco (0073)","R","Lagunillas (019)Tanque Blanco (0073)",21.676389,-99.542777999999998,7,"*","*",2,240190073,null,null,null,{"$f":"IFERROR(VLOOKUP(CONCATENATE(B2961,D2961),Padrón_Indígenas!$A$2:$G$988,7,0),\"No\")","v":"No"}]
[24,"020","Matehuala","0268","Ampliación de San Rafael (0268)","R","Matehuala (020)Ampliación de San Rafael (0268)",23.697308,-100.649112,14,5,9,3,240200268,null,"Medio","Bajo",{"$f":"IFERROR(VLOOKUP(CONCATENATE(B2966,D2966),Padrón_Indígenas!$A$2:$G$988,7,0),\"No\")","v":"No"}]
[24,"020","Matehuala","0006","Buenavista (0006)","R","Matehuala (020)Buenavista (0006)",23.613346,-100.52794400000001,193,97,96,41,240200006,null,"Alto","Bajo",{"$f":"IFERROR(VLOOKUP(CONCATENATE(B2969,D2969),Padrón_Indígenas!$A$2:$G$988,7,0),\"No\")","v":"No"}]
[24,"020","Matehuala","0187","Casa Blanca (0187)","R","Matehuala (020)Casa Blanca (0187)",23.471643,-100.657657,0,0,0,0,240200187,null,null,null,{"$f":"IFERROR(VLOOKUP(CONCATENATE(B2971,D2971),Padrón_Indígenas!$A$2:$G$988,7,0),\"No\")","v":"No"}]
[24,"020","Matehuala","0143","Cerrito de Santa Cruz (0143)","R","Matehuala (020)Cerrito de Santa Cruz (0143)",23.260975999999999,-100.63507,7,"*","*",1,240200143,null,null,null,{"$f":"IFERROR(VLOOKUP(CONCATENATE(B2974,D2974),Padrón_Indígenas!$A$2:$G$988,7,0),\"No\")","v":"No"}]
[24,"020","Matehuala","0277","Colonia los Pinos (0277)","R","Matehuala (020)Colonia los Pinos (0277)",23.600047,-100.782053,9,"*","*",2,240200277,null,null,null,{"$f":"IFERROR(VLOOKUP(CONCATENATE(B2980,D2980),Padrón_Indígenas!$A$2:$G$988,7,0),\"No\")","v":"No"}]
[24,"020","Matehuala","0228","Colonia Luis Echeverría (0228)","R","Matehuala (020)Colonia Luis Echeverría (0228)",23.660001999999999,-100.66098700000001,5,"*","*",1,240200228,null,null,null,{"$f":"IFERROR(VLOOKUP(CONCATENATE(B2982,D2982),Padrón_Indígenas!$A$2:$G$988,7,0),\"No\")","v":"No"}]
[24,"020","Matehuala","0248","Crucero de San Miguel (0248)","R","Matehuala (020)Crucero de San Miguel (0248)",23.311682000000001,-100.565152,37,20,17,10,240200248,null,"Alto","Bajo",{"$f":"IFERROR(VLOOKUP(CONCATENATE(B2985,D2985),Padrón_Indígenas!$A$2:$G$988,7,0),\"No\")","v":"No"}]
[24,"020","Matehuala","0016","Dieciséis de Septiembre (0016)","R","Matehuala (020)Dieciséis de Septiembre (0016)",23.400680000000001,-100.59024700000001,57,31,26,12,240200016,null,"Alto","Medio",{"$f":"IFERROR(VLOOKUP(CONCATENATE(B2989,D2989),Padrón_Indígenas!$A$2:$G$988,7,0),\"No\")","v":"No"}]
[24,"020","Matehuala","0234","El Abajeño (0234)","R","Matehuala (020)El Abajeño (0234)",23.540278000000001,-100.624444,0,0,0,0,240200234,null,null,null,{"$f":"IFERROR(VLOOKUP(CONCATENATE(B2994,D2994),Padrón_Indígenas!$A$2:$G$988,7,0),\"No\")","v":"No"}]
[24,"020","Matehuala","0012","El Carmen (0012)","R","Matehuala (020)El Carmen (0012)",23.362784000000001,-100.55789799999999,362,190,172,77,240200012,null,"Alto","Bajo",{"$f":"IFERROR(VLOOKUP(CONCATENATE(B2997,D2997),Padrón_Indígenas!$A$2:$G$988,7,0),\"No\")","v":"No"}]
[24,"020","Matehuala","0171","El Chamizal (San Francisco del Durazno) (0171)","R","Matehuala (020)El Chamizal (San Francisco del Durazno) (0171)",23.675086,-100.661236,6,"*","*",2,240200171,null,null,null,{"$f":"IFERROR(VLOOKUP(CONCATENATE(B2998,D2998),Padrón_Indígenas!$A$2:$G$988,7,0),\"No\")","v":"No"}]
[24,"020","Matehuala","0249","El Desmonte de Don Julio Salazar Peña (0249)","R","Matehuala (020)El Desmonte de Don Julio Salazar Peña (0249)",23.526395999999998,-100.57798099999999,0,0,0,0,240200249,null,null,null,{"$f":"IFERROR(VLOOKUP(CONCATENATE(B3003,D3003),Padrón_Indígenas!$A$2:$G$988,7,0),\"No\")","v":"No"}]
[24,"020","Matehuala","0254","El Gran Chaparral (0254)","R","Matehuala (020)El Gran Chaparral (0254)",23.328451000000001,-100.56989900000001,21,13,8,3,240200254,null,"Alto","Medio",{"$f":"IFERROR(VLOOKUP(CONCATENATE(B3005,D3005),Padrón_Indígenas!$A$2:$G$988,7,0),\"No\")","v":"No"}]
[24,"020","Matehuala","0025","El Herrero (0025)","R","Matehuala (020)El Herrero (0025)",23.574843000000001,-100.67455099999999,326,174,152,72,240200025,null,"Alto","Bajo",{"$f":"IFERROR(VLOOKUP(CONCATENATE(B3008,D3008),Padrón_Indígenas!$A$2:$G$988,7,0),\"No\")","v":"No"}]
[24,"020","Matehuala","0192","El Pilar (0192)","R","Matehuala (020)El Pilar (0192)",23.384722,-100.58583299999999,6,"*","*",1,240200192,null,null,null,{"$f":"IFERROR(VLOOKUP(CONCATENATE(B3013,D3013),Padrón_Indígenas!$A$2:$G$988,7,0),\"No\")","v":"No"}]
[24,"020","Matehuala","0112","El Refugio (0112)","R","Matehuala (020)El Refugio (0112)",23.585317,-100.67042499999999,76,37,39,17,240200112,null,"Alto","Bajo",{"$f":"IFERROR(VLOOKUP(CONCATENATE(B3017,D3017),Padrón_Indígenas!$A$2:$G$988,7,0),\"No\")","v":"No"}]
[24,"020","Matehuala","0068","El Saltillito (0068)","R","Matehuala (020)El Saltillito (0068)",23.707699000000002,-100.517808,10,5,5,3,240200068,null,"Muy alto","Alto",{"$f":"IFERROR(VLOOKUP(CONCATENATE(B3021,D3021),Padrón_Indígenas!$A$2:$G$988,7,0),\"No\")","v":"No"}]
[24,"020","Matehuala","0138","El Tanquito (0138)","R","Matehuala (020)El Tanquito (0138)",23.618711999999999,-100.53278899999999,9,"*","*",2,240200138,null,null,null,{"$f":"IFERROR(VLOOKUP(CONCATENATE(B3022,D3022),Padrón_Indígenas!$A$2:$G$988,7,0),\"No\")","v":"No"}]
[24,"020","Matehuala","0142","El Vergel y el Oasis (0142)","R","Matehuala (020)El Vergel y el Oasis (0142)",23.257254,-100.639021,9,"*","*",2,240200142,null,null,null,{"$f":"IFERROR(VLOOKUP(CONCATENATE(B3026,D3026),Padrón_Indígenas!$A$2:$G$988,7,0),\"No\")","v":"No"}]
[24,"020","Matehuala","0291","Fraccionamiento Real de las Camelias (0291)","R","Matehuala (020)Fraccionamiento Real de las Camelias (0291)",23.705832999999998,-100.649444,0,0,0,0,240200291,null,null,null,{"$f":"IFERROR(VLOOKUP(CONCATENATE(B3031,D3031),Padrón_Indígenas!$A$2:$G$988,7,0),\"No\")","v":"No"}]
[24,"020","Matehuala","0253","Francisco Estrada (0253)","R","Matehuala (020)Francisco Estrada (0253)",23.378360000000001,-100.58520799999999,0,0,0,0,240200253,null,null,null,{"$f":"IFERROR(VLOOKUP(CONCATENATE(B3033,D3033),Padrón_Indígenas!$A$2:$G$988,7,0),\"No\")","v":"No"}]
[24,"020","Matehuala","0182","Granja los Rojas (0182)","R","Matehuala (020)Granja los Rojas (0182)",23.735278000000001,-100.598333,4,"*","*",1,240200182,null,null,null,{"$f":"IFERROR(VLOOKUP(CONCATENATE(B3036,D3036),Padrón_Indígenas!$A$2:$G$988,7,0),\"No\")","v":"No"}]
[24,"020","Matehuala","0271","Jesús Medellín Varela (0271)","R","Matehuala (020)Jesús Medellín Varela (0271)",23.557224999999999,-100.62298199999999,0,0,0,0,240200271,null,null,null,{"$f":"IFERROR(VLOOKUP(CONCATENATE(B3041,D3041),Padrón_Indígenas!$A$2:$G$988,7,0),\"No\")","v":"No"}]
[24,"020","Matehuala","0005","La Bonita (0005)","R","Matehuala (020)La Bonita (0005)",23.478605999999999,-100.614997,117,58,59,26,240200005,null,"Alto","Bajo",{"$f":"IFERROR(VLOOKUP(CONCATENATE(B3044,D3044),Padrón_Indígenas!$A$2:$G$988,7,0),\"No\")","v":"No"}]
[24,"020","Matehuala","0230","La Desabrida (Encarnación de Arriba) (0230)","R","Matehuala (020)La Desabrida (Encarnación de Arriba) (0230)",23.537913,-100.60145,0,0,0,0,240200230,null,null,null,{"$f":"IFERROR(VLOOKUP(CONCATENATE(B3049,D3049),Padrón_Indígenas!$A$2:$G$988,7,0),\"No\")","v":"No"}]
[24,"020","Matehuala","0131","La Huerta de la Lobera (0131)","R","Matehuala (020)La Huerta de la Lobera (0131)",23.513103000000001,-100.58763,5,"*","*",1,240200131,null,null,null,{"$f":"IFERROR(VLOOKUP(CONCATENATE(B3052,D3052),Padrón_Indígenas!$A$2:$G$988,7,0),\"No\")","v":"No"}]
[24,"020","Matehuala","0256","La Jara Brava (Elvira de la Torre) (0256)","R","Matehuala (020)La Jara Brava (Elvira de la Torre) (0256)",23.498358,-100.673642,0,0,0,0,240200256,null,null,null,{"$f":"IFERROR(VLOOKUP(CONCATENATE(B3054,D3054),Padrón_Indígenas!$A$2:$G$988,7,0),\"No\")","v":"No"}]
[24,"020","Matehuala","0236","La Loma (0236)","R","Matehuala (020)La Loma (0236)",23.602022999999999,-100.66547799999999,0,0,0,0,240200236,null,null,null,{"$f":"IFERROR(VLOOKUP(CONCATENATE(B3057,D3057),Padrón_Indígenas!$A$2:$G$988,7,0),\"No\")","v":"No"}]
[24,"020","Matehuala","0040","La Misión (0040)","R","Matehuala (020)La Misión (0040)",23.740516,-100.529448,69,38,31,20,240200040,"SI","Alto","Bajo",{"$f":"IFERROR(VLOOKUP(CONCATENATE(B3063,D3063),Padrón_Indígenas!$A$2:$G$988,7,0),\"No\")","v":"No"}]
[24,"020","Matehuala","0122","La Palma (0122)","R","Matehuala (020)La Palma (0122)",23.471447999999999,-100.633526,33,15,18,7,240200122,null,"Alto","Bajo",{"$f":"IFERROR(VLOOKUP(CONCATENATE(B3065,D3065),Padrón_Indígenas!$A$2:$G$988,7,0),\"No\")","v":"No"}]
[24,"020","Matehuala","0059","La Presita (0059)","R","Matehuala (020)La Presita (0059)",23.512419000000001,-100.534032,0,0,0,0,240200059,null,null,null,{"$f":"IFERROR(VLOOKUP(CONCATENATE(B3068,D3068),Padrón_Indígenas!$A$2:$G$988,7,0),\"No\")","v":"No"}]
[24,"020","Matehuala","0294","Las Dos Potrancas (0294)","R","Matehuala (020)Las Dos Potrancas (0294)",23.607517000000001,-100.672573,0,0,0,0,240200294,null,null,null,{"$f":"IFERROR(VLOOKUP(CONCATENATE(B3073,D3073),Padrón_Indígenas!$A$2:$G$988,7,0),\"No\")","v":"No"}]
[24,"020","Matehuala","0134","Las Majadas (0134)","R","Matehuala (020)Las Majadas (0134)",23.598889,-100.72361100000001,35,17,18,8,240200134,null,"Medio","Bajo",{"$f":"IFERROR(VLOOKUP(CONCATENATE(B3077,D3077),Padrón_Indígenas!$A$2:$G$988,7,0),\"No\")","v":"No"}]
[24,"020","Matehuala","0111","Los Cinco Señores (0111)","R","Matehuala (020)Los Cinco Señores (0111)",23.495871999999999,-100.55458899999999,0,0,0,0,240200111,null,null,null,{"$f":"IFERROR(VLOOKUP(CONCATENATE(B3080,D3080),Padrón_Indígenas!$A$2:$G$988,7,0),\"No\")","v":"No"}]
[24,"020","Matehuala","0255","Los Huizachitos (0255)","R","Matehuala (020)Los Huizachitos (0255)",23.562563999999998,-100.741834,11,"*","*",2,240200255,null,null,null,{"$f":"IFERROR(VLOOKUP(CONCATENATE(B3082,D3082),Padrón_Indígenas!$A$2:$G$988,7,0),\"No\")","v":"No"}]
[24,"020","Matehuala","0160","Los Mendoza (0160)","R","Matehuala (020)Los Mendoza (0160)",23.629408000000002,-100.655029,6,"*","*",1,240200160,null,null,null,{"$f":"IFERROR(VLOOKUP(CONCATENATE(B3085,D3085),Padrón_Indígenas!$A$2:$G$988,7,0),\"No\")","v":"No"}]
[24,"020","Matehuala","0169","Los Rodríguez (0169)","R","Matehuala (020)Los Rodríguez (0169)",23.606667000000002,-100.664444,0,0,0,0,240200169,null,null,null,{"$f":"IFERROR(VLOOKUP(CONCATENATE(B3091,D3091),Padrón_Indígenas!$A$2:$G$988,7,0),\"No\")","v":"No"}]
[24,"020","Matehuala","0176","Los Torres (0176)","R","Matehuala (020)Los Torres (0176)",23.628252,-100.656834,40,20,20,3,240200176,"SI","Alto","Bajo",{"$f":"IFERROR(VLOOKUP(CONCATENATE(B3093,D3093),Padrón_Indígenas!$A$2:$G$988,7,0),\"No\")","v":"No"}]
[24,"020","Matehuala","0260","Majada Ranchito Carranza (0260)","R","Matehuala (020)Majada Ranchito Carranza (0260)",23.670935,-100.46709799999999,5,"*","*",1,240200260,null,null,null,{"$f":"IFERROR(VLOOKUP(CONCATENATE(B3096,D3096),Padrón_Indígenas!$A$2:$G$988,7,0),\"No\")","v":"No"}]
[24,"020","Matehuala","0298","Ninguno (0298)","R","Matehuala (020)Ninguno (0298)",23.589157,-100.638643,0,0,0,0,240200298,null,null,null,{"$f":"IFERROR(VLOOKUP(CONCATENATE(B3100,D3100),Padrón_Indígenas!$A$2:$G$988,7,0),\"No\")","v":"No"}]
[24,"020","Matehuala","0300","Ninguno [Motel] (0300)","R","Matehuala (020)Ninguno [Motel] (0300)",23.710719999999998,-100.63799899999999,0,0,0,0,240200300,null,null,null,{"$f":"IFERROR(VLOOKUP(CONCATENATE(B3104,D3104),Padrón_Indígenas!$A$2:$G$988,7,0),\"No\")","v":"No"}]
[24,"020","Matehuala","0247","Ninguno [Radiodifusora XEIE] (0247)","R","Matehuala (020)Ninguno [Radiodifusora XEIE] (0247)",23.620961000000001,-100.667084,0,0,0,0,240200247,null,null,null,{"$f":"IFERROR(VLOOKUP(CONCATENATE(B3105,D3105),Padrón_Indígenas!$A$2:$G$988,7,0),\"No\")","v":"No"}]
[24,"020","Matehuala","0048","Palmas (0048)","R","Matehuala (020)Palmas (0048)",23.595880999999999,-100.657021,96,43,53,25,240200048,"SI","Medio","Muy bajo",{"$f":"IFERROR(VLOOKUP(CONCATENATE(B3109,D3109),Padrón_Indígenas!$A$2:$G$988,7,0),\"No\")","v":"No"}]
[24,"020","Matehuala","0050","Pastoriza (0050)","R","Matehuala (020)Pastoriza (0050)",23.445329999999998,-100.625569,222,110,112,61,240200050,"SI","Alto","Medio",{"$f":"IFERROR(VLOOKUP(CONCATENATE(B3114,D3114),Padrón_Indígenas!$A$2:$G$988,7,0),\"No\")","v":"No"}]
[24,"020","Matehuala","0054","Piedra Blanca (0054)","R","Matehuala (020)Piedra Blanca (0054)",23.568691999999999,-100.643576,241,122,119,52,240200054,"SI","Medio","Muy bajo",{"$f":"IFERROR(VLOOKUP(CONCATENATE(B3116,D3116),Padrón_Indígenas!$A$2:$G$988,7,0),\"No\")","v":"No"}]
[24,"020","Matehuala","0262","Potrero de Santo Tomás (0262)","R","Matehuala (020)Potrero de Santo Tomás (0262)",23.595707999999998,-100.566883,6,"*","*",1,240200262,null,null,null,{"$f":"IFERROR(VLOOKUP(CONCATENATE(B3119,D3119),Padrón_Indígenas!$A$2:$G$988,7,0),\"No\")","v":"No"}]
[24,"020","Matehuala","0060","Puerta del Refugio (0060)","R","Matehuala (020)Puerta del Refugio (0060)",23.426188,-100.576193,47,25,22,15,240200060,null,"Alto","Bajo",{"$f":"IFERROR(VLOOKUP(CONCATENATE(B3124,D3124),Padrón_Indígenas!$A$2:$G$988,7,0),\"No\")","v":"No"}]
[24,"020","Matehuala","0063","Rancho Alegre (0063)","R","Matehuala (020)Rancho Alegre (0063)",23.736245,-100.582252,19,9,10,6,240200063,null,"Alto","Medio",{"$f":"IFERROR(VLOOKUP(CONCATENATE(B3128,D3128),Padrón_Indígenas!$A$2:$G$988,7,0),\"No\")","v":"No"}]
[24,"020","Matehuala","0181","Rancho el Palmar (0181)","R","Matehuala (020)Rancho el Palmar (0181)",23.288259,-100.61484799999999,2,"*","*",1,240200181,null,null,null,{"$f":"IFERROR(VLOOKUP(CONCATENATE(B3132,D3132),Padrón_Indígenas!$A$2:$G$988,7,0),\"No\")","v":"No"}]
[24,"020","Matehuala","0066","Rancho el Retorno (0066)","R","Matehuala (020)Rancho el Retorno (0066)",23.263368,-100.552716,0,0,0,0,240200066,null,null,null,{"$f":"IFERROR(VLOOKUP(CONCATENATE(B3133,D3133),Padrón_Indígenas!$A$2:$G$988,7,0),\"No\")","v":"No"}]
[24,"020","Matehuala","0183","Rancho la Herradura (0183)","R","Matehuala (020)Rancho la Herradura (0183)",23.580452999999999,-100.631821,6,4,2,3,240200183,null,"Medio","Bajo",{"$f":"IFERROR(VLOOKUP(CONCATENATE(B3137,D3137),Padrón_Indígenas!$A$2:$G$988,7,0),\"No\")","v":"No"}]
[24,"020","Matehuala","0193","Rancho las Vegas (0193)","R","Matehuala (020)Rancho las Vegas (0193)",23.235555999999999,-100.543333,0,0,0,0,240200193,null,null,null,{"$f":"IFERROR(VLOOKUP(CONCATENATE(B3140,D3140),Padrón_Indígenas!$A$2:$G$988,7,0),\"No\")","v":"No"}]
[24,"020","Matehuala","0242","Rancho San Isidro (0242)","R","Matehuala (020)Rancho San Isidro (0242)",23.631667,-100.62222199999999,0,0,0,0,240200242,null,null,null,{"$f":"IFERROR(VLOOKUP(CONCATENATE(B3146,D3146),Padrón_Indígenas!$A$2:$G$988,7,0),\"No\")","v":"No"}]
[24,"020","Matehuala","0145","Rancho Santa Elena (0145)","R","Matehuala (020)Rancho Santa Elena (0145)",23.281727,-100.60554,26,13,13,7,240200145,null,"Alto","Medio",{"$f":"IFERROR(VLOOKUP(CONCATENATE(B3148,D3148),Padrón_Indígenas!$A$2:$G$988,7,0),\"No\")","v":"No"}]
[24,"020","Matehuala","0244","Salitrillos del Refugio (0244)","R","Matehuala (020)Salitrillos del Refugio (0244)",23.726917,-100.642116,184,101,83,50,240200244,null,"Bajo","Muy bajo",{"$f":"IFERROR(VLOOKUP(CONCATENATE(B3151,D3151),Padrón_Indígenas!$A$2:$G$988,7,0),\"No\")","v":"No"}]
[24,"020","Matehuala","0071","San Carlos (0071)","R","Matehuala (020)San Carlos (0071)",23.510221000000001,-100.64965599999999,73,34,39,17,240200071,null,"Alto","Bajo",{"$f":"IFERROR(VLOOKUP(CONCATENATE(B3156,D3156),Padrón_Indígenas!$A$2:$G$988,7,0),\"No\")","v":"No"}]
[24,"020","Matehuala","0136","San Isidro (0136)","R","Matehuala (020)San Isidro (0136)",23.582170000000001,-100.602155,0,0,0,0,240200136,null,null,null,{"$f":"IFERROR(VLOOKUP(CONCATENATE(B3160,D3160),Padrón_Indígenas!$A$2:$G$988,7,0),\"No\")","v":"No"}]
[24,"020","Matehuala","0076","San Joaquín (0076)","R","Matehuala (020)San Joaquín (0076)",23.62518,-100.693579,7,"*","*",2,240200076,null,null,null,{"$f":"IFERROR(VLOOKUP(CONCATENATE(B3163,D3163),Padrón_Indígenas!$A$2:$G$988,7,0),\"No\")","v":"No"}]
[24,"020","Matehuala","0052","San José de la Peña (0052)","R","Matehuala (020)San José de la Peña (0052)",23.661165,-100.515243,132,73,59,32,240200052,null,"Alto","Medio",{"$f":"IFERROR(VLOOKUP(CONCATENATE(B3165,D3165),Padrón_Indígenas!$A$2:$G$988,7,0),\"No\")","v":"No"}]
[24,"020","Matehuala","0080","San José de los Guajes (0080)","R","Matehuala (020)San José de los Guajes (0080)",23.369589000000001,-100.617684,368,198,170,95,240200080,"SI","Alto","Medio",{"$f":"IFERROR(VLOOKUP(CONCATENATE(B3168,D3168),Padrón_Indígenas!$A$2:$G$988,7,0),\"No\")","v":"No"}]
[24,"020","Matehuala","0196","San Luis Potosí (0196)","R","Matehuala (020)San Luis Potosí (0196)",23.604599,-100.66615899999999,0,0,0,0,240200196,null,null,null,{"$f":"IFERROR(VLOOKUP(CONCATENATE(B3174,D3174),Padrón_Indígenas!$A$2:$G$988,7,0),\"No\")","v":"No"}]
[24,"020","Matehuala","0085","San Miguel (0085)","R","Matehuala (020)San Miguel (0085)",23.313310999999999,-100.545846,215,110,105,40,240200085,null,"Alto","Bajo",{"$f":"IFERROR(VLOOKUP(CONCATENATE(B3176,D3176),Padrón_Indígenas!$A$2:$G$988,7,0),\"No\")","v":"No"}]
[24,"020","Matehuala","0161","San Pedro (0161)","R","Matehuala (020)San Pedro (0161)",23.648813000000001,-100.69050300000001,3,"*","*",1,240200161,null,null,null,{"$f":"IFERROR(VLOOKUP(CONCATENATE(B3179,D3179),Padrón_Indígenas!$A$2:$G$988,7,0),\"No\")","v":"No"}]
[24,"020","Matehuala","0090","Santa Ana de Arriba (0090)","R","Matehuala (020)Santa Ana de Arriba (0090)",23.607581,-100.641232,74,32,42,14,240200090,null,"Medio","Muy bajo",{"$f":"IFERROR(VLOOKUP(CONCATENATE(B3184,D3184),Padrón_Indígenas!$A$2:$G$988,7,0),\"No\")","v":"No"}]
[24,"020","Matehuala","0093","Santa Cruz (0093)","R","Matehuala (020)Santa Cruz (0093)",23.269323,-100.618909,576,290,286,144,240200093,null,"Medio","Bajo",{"$f":"IFERROR(VLOOKUP(CONCATENATE(B3187,D3187),Padrón_Indígenas!$A$2:$G$988,7,0),\"No\")","v":"No"}]
[24,"020","Matehuala","0209","Santa Elena de Abajo (0209)","R","Matehuala (020)Santa Elena de Abajo (0209)",23.659624000000001,-100.463207,22,10,12,4,240200209,null,"Alto","Medio",{"$f":"IFERROR(VLOOKUP(CONCATENATE(B3188,D3188),Padrón_Indígenas!$A$2:$G$988,7,0),\"No\")","v":"No"}]
[24,"020","Matehuala","0174","Santa Rosalía (0174)","R","Matehuala (020)Santa Rosalía (0174)",23.664334,-100.694963,1,"*","*",1,240200174,null,null,null,{"$f":"IFERROR(VLOOKUP(CONCATENATE(B3192,D3192),Padrón_Indígenas!$A$2:$G$988,7,0),\"No\")","v":"No"}]
[24,"020","Matehuala","0191","Trópico de Cáncer (0191)","R","Matehuala (020)Trópico de Cáncer (0191)",23.450164999999998,-100.605429,12,7,5,3,240200191,null,"Alto","Muy bajo",{"$f":"IFERROR(VLOOKUP(CONCATENATE(B3197,D3197),Padrón_Indígenas!$A$2:$G$988,7,0),\"No\")","v":"No"}]
[24,"020","Matehuala","0211","Víctor Araujo Rubio (0211)","R","Matehuala (020)Víctor Araujo Rubio (0211)",23.715278000000001,-100.645,0,0,0,0,240200211,null,null,null,{"$f":"IFERROR(VLOOKUP(CONCATENATE(B3200,D3200),Padrón_Indígenas!$A$2:$G$988,7,0),\"No\")","v":"No"}]
[24,"020","Matehuala","0121","Zacatonal (0121)","R","Matehuala (020)Zacatonal (0121)",23.496790000000001,-100.664216,6,"*","*",2,240200121,"SI",null,null,{"$f":"IFERROR(VLOOKUP(CONCATENATE(B3202,D3202),Padrón_Indígenas!$A$2:$G$988,7,0),\"No\")","v":"No"}]
[24,"057","Matlapa","0004","Ahuehueyo Segundo (0004)","R","Matlapa (057)Ahuehueyo Segundo (0004)",21.357509,-98.840900000000005,194,96,98,46,240570004,"SI","Alto","Medio",{"$f":"IFERROR(VLOOKUP(CONCATENATE(B3207,D3207),Padrón_Indígenas!$A$2:$G$988,7,0),\"No\")","v":"Sí"}]
[24,"057","Matlapa","0039","Aquichamel (0039)","R","Matlapa (057)Aquichamel (0039)",21.366254000000001,-98.858430999999996,0,0,0,0,240570039,"SI",null,null,{"$f":"IFERROR(VLOOKUP(CONCATENATE(B3211,D3211),Padrón_Indígenas!$A$2:$G$988,7,0),\"No\")","v":"No"}]
[24,"057","Matlapa","0007","Barrio de Arriba (0007)","R","Matlapa (057)Barrio de Arriba (0007)",21.332279,-98.829297999999994,651,327,324,149,240570007,"SI","Alto","Bajo",{"$f":"IFERROR(VLOOKUP(CONCATENATE(B3215,D3215),Padrón_Indígenas!$A$2:$G$988,7,0),\"No\")","v":"Sí"}]
[24,"057","Matlapa","0008","Barrio de En Medio (0008)","R","Matlapa (057)Barrio de En Medio (0008)",21.337084000000001,-98.834377000000003,714,351,363,146,240570008,"SI","Alto","Bajo",{"$f":"IFERROR(VLOOKUP(CONCATENATE(B3216,D3216),Padrón_Indígenas!$A$2:$G$988,7,0),\"No\")","v":"Sí"}]
[24,"057","Matlapa","0034","Barrio San José (Tlajumpal) (0034)","R","Matlapa (057)Barrio San José (Tlajumpal) (0034)",21.362124000000001,-98.808127999999996,393,195,198,89,240570034,"SI","Alto","Medio",{"$f":"IFERROR(VLOOKUP(CONCATENATE(B3220,D3220),Padrón_Indígenas!$A$2:$G$988,7,0),\"No\")","v":"Sí"}]
[24,"057","Matlapa","0010","Chalchocoyo (0010)","U","Matlapa (057)Chalchocoyo (0010)",21.316793000000001,-98.790582000000001,3614,1788,1826,711,240570010,"SI",null,null,{"$f":"IFERROR(VLOOKUP(CONCATENATE(B3225,D3225),Padrón_Indígenas!$A$2:$G$988,7,0),\"No\")","v":"Sí"}]
[24,"057","Matlapa","0092","Colonia Apanco (0092)","R","Matlapa (057)Colonia Apanco (0092)",21.321241000000001,-98.813274000000007,"-","-","-","-",240570092,"SI",null,null,{"$f":"IFERROR(VLOOKUP(CONCATENATE(B3228,D3228),Padrón_Indígenas!$A$2:$G$988,7,0),\"No\")","v":"No"}]
[24,"057","Matlapa","0013","Coyolo (0013)","R","Matlapa (057)Coyolo (0013)",21.345224999999999,-98.787148000000002,227,117,110,39,240570013,"SI","Alto","Medio",{"$f":"IFERROR(VLOOKUP(CONCATENATE(B3230,D3230),Padrón_Indígenas!$A$2:$G$988,7,0),\"No\")","v":"Sí"}]
[24,"057","Matlapa","0064","El Zocohuite (0064)","R","Matlapa (057)El Zocohuite (0064)",21.355402999999999,-98.836976000000007,0,0,0,0,240570064,null,null,null,{"$f":"IFERROR(VLOOKUP(CONCATENATE(B3235,D3235),Padrón_Indígenas!$A$2:$G$988,7,0),\"No\")","v":"No"}]
[24,"057","Matlapa","0079","Jorge Ramírez (0079)","R","Matlapa (057)Jorge Ramírez (0079)",21.327155999999999,-98.810021000000006,0,0,0,0,240570079,null,null,null,{"$f":"IFERROR(VLOOKUP(CONCATENATE(B3239,D3239),Padrón_Indígenas!$A$2:$G$988,7,0),\"No\")","v":"No"}]
[24,"057","Matlapa","0070","La Providencia (0070)","R","Matlapa (057)La Providencia (0070)",21.330680999999998,-98.874613999999994,116,58,58,24,240570070,"SI","Alto","Medio",{"$f":"IFERROR(VLOOKUP(CONCATENATE(B3243,D3243),Padrón_Indígenas!$A$2:$G$988,7,0),\"No\")","v":"No"}]
[24,"057","Matlapa","0073","La Tinaja (0073)","R","Matlapa (057)La Tinaja (0073)",21.325178000000001,-98.876823000000002,18,10,8,5,240570073,"SI","Alto","Medio",{"$f":"IFERROR(VLOOKUP(CONCATENATE(B3244,D3244),Padrón_Indígenas!$A$2:$G$988,7,0),\"No\")","v":"Sí"}]
[24,"057","Matlapa","0033","Los Tigres (0033)","R","Matlapa (057)Los Tigres (0033)",21.300843,-98.783945000000003,112,56,56,25,240570033,"SI","Muy alto","Alto",{"$f":"IFERROR(VLOOKUP(CONCATENATE(B3248,D3248),Padrón_Indígenas!$A$2:$G$988,7,0),\"No\")","v":"No"}]
[24,"057","Matlapa","0058","Matlapa (Colonia el Paraíso) (0058)","R","Matlapa (057)Matlapa (Colonia el Paraíso) (0058)",21.339724,-98.826221000000004,16,7,9,4,240570058,"SI","Alto","Medio",{"$f":"IFERROR(VLOOKUP(CONCATENATE(B3251,D3251),Padrón_Indígenas!$A$2:$G$988,7,0),\"No\")","v":"No"}]
[24,"057","Matlapa","0020","Otlayo (0020)","R","Matlapa (057)Otlayo (0020)",21.333812999999999,-98.779940999999994,303,156,147,62,240570020,"SI","Alto","Medio",{"$f":"IFERROR(VLOOKUP(CONCATENATE(B3257,D3257),Padrón_Indígenas!$A$2:$G$988,7,0),\"No\")","v":"Sí"}]
[24,"057","Matlapa","0067","Pahuayo Primero (0067)","R","Matlapa (057)Pahuayo Primero (0067)",21.319842999999999,-98.894802999999996,520,285,235,112,240570067,"SI","Muy alto","Medio",{"$f":"IFERROR(VLOOKUP(CONCATENATE(B3259,D3259),Padrón_Indígenas!$A$2:$G$988,7,0),\"No\")","v":"Sí"}]
[24,"057","Matlapa","0052","Pilvega Atlamaxátl (0052)","R","Matlapa (057)Pilvega Atlamaxátl (0052)",21.296710999999998,-98.855451000000002,34,14,20,8,240570052,"SI","Alto","Medio",{"$f":"IFERROR(VLOOKUP(CONCATENATE(B3262,D3262),Padrón_Indígenas!$A$2:$G$988,7,0),\"No\")","v":"No"}]
[24,"057","Matlapa","0051","Rancho los Falsetes (Perfecto Alfaro) (0051)","R","Matlapa (057)Rancho los Falsetes (Perfecto Alfaro) (0051)",21.366111,-98.866667000000007,0,0,0,0,240570051,null,null,null,{"$f":"IFERROR(VLOOKUP(CONCATENATE(B3267,D3267),Padrón_Indígenas!$A$2:$G$988,7,0),\"No\")","v":"No"}]
[24,"057","Matlapa","0023","Sajuanco (0023)","R","Matlapa (057)Sajuanco (0023)",21.333338000000001,-98.806380000000004,190,116,74,41,240570023,"SI","Alto","Medio",{"$f":"IFERROR(VLOOKUP(CONCATENATE(B3271,D3271),Padrón_Indígenas!$A$2:$G$988,7,0),\"No\")","v":"No"}]
[24,"057","Matlapa","0024","San Antonio (0024)","R","Matlapa (057)San Antonio (0024)",21.340720999999998,-98.809427999999997,524,261,263,109,240570024,"SI","Alto","Medio",{"$f":"IFERROR(VLOOKUP(CONCATENATE(B3272,D3272),Padrón_Indígenas!$A$2:$G$988,7,0),\"No\")","v":"Sí"}]
[24,"057","Matlapa","0027","Tancuilín (0027)","R","Matlapa (057)Tancuilín (0027)",21.358591000000001,-98.863730000000004,366,186,180,98,240570027,"SI","Alto","Medio",{"$f":"IFERROR(VLOOKUP(CONCATENATE(B3276,D3276),Padrón_Indígenas!$A$2:$G$988,7,0),\"No\")","v":"Sí"}]
[24,"057","Matlapa","0029","Tepetzintla (0029)","R","Matlapa (057)Tepetzintla (0029)",21.305018,-98.820065999999997,873,451,422,176,240570029,"SI","Alto","Medio",{"$f":"IFERROR(VLOOKUP(CONCATENATE(B3279,D3279),Padrón_Indígenas!$A$2:$G$988,7,0),\"No\")","v":"Sí"}]
[24,"057","Matlapa","0032","Texquitote Segundo (0032)","R","Matlapa (057)Texquitote Segundo (0032)",21.295798000000001,-98.817059,513,258,255,94,240570032,"SI","Alto","Medio",{"$f":"IFERROR(VLOOKUP(CONCATENATE(B3283,D3283),Padrón_Indígenas!$A$2:$G$988,7,0),\"No\")","v":"Sí"}]
[24,"057","Matlapa","0074","Tlacohuaque (0074)","R","Matlapa (057)Tlacohuaque (0074)",21.336271,-98.908158,593,292,301,115,240570074,"SI","Alto","Medio",{"$f":"IFERROR(VLOOKUP(CONCATENATE(B3285,D3285),Padrón_Indígenas!$A$2:$G$988,7,0),\"No\")","v":"Sí"}]
[24,"057","Matlapa","0055","Xochicuatitla (0055)","R","Matlapa (057)Xochicuatitla (0055)",21.33304,-98.776330999999999,390,205,185,80,240570055,"SI","Alto","Medio",{"$f":"IFERROR(VLOOKUP(CONCATENATE(B3291,D3291),Padrón_Indígenas!$A$2:$G$988,7,0),\"No\")","v":"Sí"}]
[24,"057","Matlapa","0077","Zacayo (0077)","R","Matlapa (057)Zacayo (0077)",21.318061,-98.912970000000001,963,486,477,205,240570077,"SI","Alto","Medio",{"$f":"IFERROR(VLOOKUP(CONCATENATE(B3294,D3294),Padrón_Indígenas!$A$2:$G$988,7,0),\"No\")","v":"Sí"}]
[24,"021","Mexquitic_de_Carmona","0005","Barbecho (0005)","R","Mexquitic de Carmona (021)Barbecho (0005)",22.232213000000002,-101.185619,300,140,160,79,240210005,"SI","Alto","Medio",{"$f":"IFERROR(VLOOKUP(CONCATENATE(B3298,D3298),Padrón_Indígenas!$A$2:$G$988,7,0),\"No\")","v":"No"}]
[24,"021","Mexquitic_de_Carmona","0006","Benito Juárez (0006)","R","Mexquitic de Carmona (021)Benito Juárez (0006)",22.354928000000001,-101.173751,272,124,148,62,240210006,null,"Medio","Bajo",{"$f":"IFERROR(VLOOKUP(CONCATENATE(B3299,D3299),Padrón_Indígenas!$A$2:$G$988,7,0),\"No\")","v":"No"}]
[24,"021","Mexquitic_de_Carmona","0145","Cañón de Ojo Zarco (0145)","R","Mexquitic de Carmona (021)Cañón de Ojo Zarco (0145)",22.302408,-101.28836200000001,35,17,18,5,240210145,null,"Alto","Medio",{"$f":"IFERROR(VLOOKUP(CONCATENATE(B3303,D3303),Padrón_Indígenas!$A$2:$G$988,7,0),\"No\")","v":"No"}]
[24,"021","Mexquitic_de_Carmona","0017","Cerro Prieto (0017)","R","Mexquitic de Carmona (021)Cerro Prieto (0017)",22.232702,-101.305426,476,233,243,109,240210017,null,"Alto","Bajo",{"$f":"IFERROR(VLOOKUP(CONCATENATE(B3308,D3308),Padrón_Indígenas!$A$2:$G$988,7,0),\"No\")","v":"No"}]
[24,"021","Mexquitic_de_Carmona","0148","Colonia el Llanito (0148)","R","Mexquitic de Carmona (021)Colonia el Llanito (0148)",22.281376999999999,-101.128218,23,11,12,5,240210148,null,"Medio","Muy bajo",{"$f":"IFERROR(VLOOKUP(CONCATENATE(B3311,D3311),Padrón_Indígenas!$A$2:$G$988,7,0),\"No\")","v":"No"}]
[24,"021","Mexquitic_de_Carmona","0028","Colonia Guadalupes (0028)","R","Mexquitic de Carmona (021)Colonia Guadalupes (0028)",22.411875999999999,-101.07246499999999,405,182,223,92,240210028,"SI","Alto","Bajo",{"$f":"IFERROR(VLOOKUP(CONCATENATE(B3313,D3313),Padrón_Indígenas!$A$2:$G$988,7,0),\"No\")","v":"No"}]
[24,"021","Mexquitic_de_Carmona","0024","Comunidad de Corte Segundo (0024)","R","Mexquitic de Carmona (021)Comunidad de Corte Segundo (0024)",22.364046999999999,-101.150143,1351,653,698,278,240210024,null,"Alto","Bajo",{"$f":"IFERROR(VLOOKUP(CONCATENATE(B3319,D3319),Padrón_Indígenas!$A$2:$G$988,7,0),\"No\")","v":"No"}]
[24,"021","Mexquitic_de_Carmona","0025","Derramaderos (0025)","R","Mexquitic de Carmona (021)Derramaderos (0025)",22.292959,-101.13692,532,244,288,113,240210025,null,"Alto","Bajo",{"$f":"IFERROR(VLOOKUP(CONCATENATE(B3322,D3322),Padrón_Indígenas!$A$2:$G$988,7,0),\"No\")","v":"No"}]
[24,"021","Mexquitic_de_Carmona","0092","Ejido Milpillas (0092)","R","Mexquitic de Carmona (021)Ejido Milpillas (0092)",22.311682000000001,-101.216121,202,90,112,37,240210092,null,"Alto","Bajo",{"$f":"IFERROR(VLOOKUP(CONCATENATE(B3326,D3326),Padrón_Indígenas!$A$2:$G$988,7,0),\"No\")","v":"No"}]
[24,"021","Mexquitic_de_Carmona","0004","El Arbolito (0004)","R","Mexquitic de Carmona (021)El Arbolito (0004)",22.256155,-101.234088,53,28,25,13,240210004,null,"Alto","Medio",{"$f":"IFERROR(VLOOKUP(CONCATENATE(B3327,D3327),Padrón_Indígenas!$A$2:$G$988,7,0),\"No\")","v":"No"}]
[24,"021","Mexquitic_de_Carmona","0014","El Cerrito (0014)","R","Mexquitic de Carmona (021)El Cerrito (0014)",22.255875,-101.21650200000001,145,71,74,34,240210014,"SI","Alto","Medio",{"$f":"IFERROR(VLOOKUP(CONCATENATE(B3331,D3331),Padrón_Indígenas!$A$2:$G$988,7,0),\"No\")","v":"No"}]
[24,"021","Mexquitic_de_Carmona","0055","El Palmar Primero (0055)","R","Mexquitic de Carmona (021)El Palmar Primero (0055)",22.369108000000001,-101.096386,1016,458,558,233,240210055,"SI","Alto","Bajo",{"$f":"IFERROR(VLOOKUP(CONCATENATE(B3335,D3335),Padrón_Indígenas!$A$2:$G$988,7,0),\"No\")","v":"No"}]
[24,"021","Mexquitic_de_Carmona","0026","Estanzuela (0026)","R","Mexquitic de Carmona (021)Estanzuela (0026)",22.270125,-101.00746599999999,1379,664,715,289,240210026,"SI","Medio","Muy bajo",{"$f":"IFERROR(VLOOKUP(CONCATENATE(B3340,D3340),Padrón_Indígenas!$A$2:$G$988,7,0),\"No\")","v":"No"}]
[24,"021","Mexquitic_de_Carmona","0067","Fracción Salitrera (0067)","R","Mexquitic de Carmona (021)Fracción Salitrera (0067)",22.264796,-101.26202600000001,125,61,64,28,240210067,null,"Alto","Medio",{"$f":"IFERROR(VLOOKUP(CONCATENATE(B3342,D3342),Padrón_Indígenas!$A$2:$G$988,7,0),\"No\")","v":"No"}]
[24,"021","Mexquitic_de_Carmona","0114","Iglesia del Desierto (0114)","R","Mexquitic de Carmona (021)Iglesia del Desierto (0114)",22.154197,-101.091026,2,"*","*",1,240210114,null,null,null,{"$f":"IFERROR(VLOOKUP(CONCATENATE(B3345,D3345),Padrón_Indígenas!$A$2:$G$988,7,0),\"No\")","v":"No"}]
[24,"021","Mexquitic_de_Carmona","0008","La Cabra (0008)","R","Mexquitic de Carmona (021)La Cabra (0008)",22.288830000000001,-100.995447,185,96,89,40,240210008,null,"Alto","Medio",{"$f":"IFERROR(VLOOKUP(CONCATENATE(B3350,D3350),Padrón_Indígenas!$A$2:$G$988,7,0),\"No\")","v":"No"}]
[24,"021","Mexquitic_de_Carmona","0147","La Cuenca (0147)","R","Mexquitic de Carmona (021)La Cuenca (0147)",22.366869999999999,-100.99523499999999,0,0,0,0,240210147,null,null,null,{"$f":"IFERROR(VLOOKUP(CONCATENATE(B3354,D3354),Padrón_Indígenas!$A$2:$G$988,7,0),\"No\")","v":"No"}]
[24,"021","Mexquitic_de_Carmona","0129","La Cueva (0129)","R","Mexquitic de Carmona (021)La Cueva (0129)",22.263521999999998,-101.187234,161,74,87,36,240210129,"SI","Medio","Bajo",{"$f":"IFERROR(VLOOKUP(CONCATENATE(B3355,D3355),Padrón_Indígenas!$A$2:$G$988,7,0),\"No\")","v":"No"}]
[24,"021","Mexquitic_de_Carmona","0139","La Matanza (0139)","R","Mexquitic de Carmona (021)La Matanza (0139)",22.256374000000001,-101.314655,40,21,19,7,240210139,null,"Muy alto","Alto",{"$f":"IFERROR(VLOOKUP(CONCATENATE(B3359,D3359),Padrón_Indígenas!$A$2:$G$988,7,0),\"No\")","v":"No"}]
[24,"021","Mexquitic_de_Carmona","0111","Las Mangas Dos (0111)","R","Mexquitic de Carmona (021)Las Mangas Dos (0111)",22.418313000000001,-101.046251,66,39,27,13,240210111,null,"Alto","Bajo",{"$f":"IFERROR(VLOOKUP(CONCATENATE(B3363,D3363),Padrón_Indígenas!$A$2:$G$988,7,0),\"No\")","v":"No"}]
[24,"021","Mexquitic_de_Carmona","0036","Los Jiménez (0036)","R","Mexquitic de Carmona (021)Los Jiménez (0036)",22.306531,-101.172589,158,75,83,44,240210036,null,"Alto","Bajo",{"$f":"IFERROR(VLOOKUP(CONCATENATE(B3368,D3368),Padrón_Indígenas!$A$2:$G$988,7,0),\"No\")","v":"No"}]
[24,"021","Mexquitic_de_Carmona","0051","Los Moreno (0051)","R","Mexquitic de Carmona (021)Los Moreno (0051)",22.253627999999999,-101.005696,881,395,486,192,240210051,null,"Medio","Muy bajo",{"$f":"IFERROR(VLOOKUP(CONCATENATE(B3370,D3370),Padrón_Indígenas!$A$2:$G$988,7,0),\"No\")","v":"No"}]
[24,"021","Mexquitic_de_Carmona","0135","Los Puertecitos (0135)","R","Mexquitic de Carmona (021)Los Puertecitos (0135)",22.253353000000001,-101.250192,21,7,14,3,240210135,null,"Alto","Medio",{"$f":"IFERROR(VLOOKUP(CONCATENATE(B3373,D3373),Padrón_Indígenas!$A$2:$G$988,7,0),\"No\")","v":"No"}]
[24,"021","Mexquitic_de_Carmona","0088","Los Vanegas (0088)","R","Mexquitic de Carmona (021)Los Vanegas (0088)",22.275714000000001,-101.065316,331,157,174,52,240210088,null,"Alto","Medio",{"$f":"IFERROR(VLOOKUP(CONCATENATE(B3378,D3378),Padrón_Indígenas!$A$2:$G$988,7,0),\"No\")","v":"No"}]
[24,"021","Mexquitic_de_Carmona","0080","Los Vázquez (0080)","R","Mexquitic de Carmona (021)Los Vázquez (0080)",22.291321,-101.063052,836,377,459,158,240210080,null,"Alto","Medio",{"$f":"IFERROR(VLOOKUP(CONCATENATE(B3379,D3379),Padrón_Indígenas!$A$2:$G$988,7,0),\"No\")","v":"No"}]
[24,"021","Mexquitic_de_Carmona","0140","Mexquitic [Zoológico] (0140)","R","Mexquitic de Carmona (021)Mexquitic [Zoológico] (0140)",22.262530000000002,-101.119024,0,0,0,0,240210140,null,null,null,{"$f":"IFERROR(VLOOKUP(CONCATENATE(B3382,D3382),Padrón_Indígenas!$A$2:$G$988,7,0),\"No\")","v":"No"}]
[24,"021","Mexquitic_de_Carmona","0050","Morelos (0050)","R","Mexquitic de Carmona (021)Morelos (0050)",22.184818,-101.274608,212,103,109,50,240210050,null,"Alto","Bajo",{"$f":"IFERROR(VLOOKUP(CONCATENATE(B3386,D3386),Padrón_Indígenas!$A$2:$G$988,7,0),\"No\")","v":"No"}]
[24,"021","Mexquitic_de_Carmona","0058","Paso Blanco (0058)","R","Mexquitic de Carmona (021)Paso Blanco (0058)",22.208053,-101.073651,1020,486,534,218,240210058,"SI","Alto","Bajo",{"$f":"IFERROR(VLOOKUP(CONCATENATE(B3391,D3391),Padrón_Indígenas!$A$2:$G$988,7,0),\"No\")","v":"No"}]
[24,"021","Mexquitic_de_Carmona","0060","Puerto de Providencia (0060)","R","Mexquitic de Carmona (021)Puerto de Providencia (0060)",22.363886000000001,-101.064556,1265,605,660,244,240210060,"SI","Alto","Medio",{"$f":"IFERROR(VLOOKUP(CONCATENATE(B3394,D3394),Padrón_Indígenas!$A$2:$G$988,7,0),\"No\")","v":"No"}]
[24,"021","Mexquitic_de_Carmona","0093","Rincón de San José (0093)","R","Mexquitic de Carmona (021)Rincón de San José (0093)",22.284756999999999,-101.164497,644,299,345,140,240210093,"SI","Alto","Bajo",{"$f":"IFERROR(VLOOKUP(CONCATENATE(B3396,D3396),Padrón_Indígenas!$A$2:$G$988,7,0),\"No\")","v":"No"}]
[24,"021","Mexquitic_de_Carmona","0069","San Agustín (0069)","R","Mexquitic de Carmona (021)San Agustín (0069)",22.317699999999999,-101.28294099999999,455,227,228,90,240210069,"SI","Alto","Medio",{"$f":"IFERROR(VLOOKUP(CONCATENATE(B3402,D3402),Padrón_Indígenas!$A$2:$G$988,7,0),\"No\")","v":"No"}]
[24,"021","Mexquitic_de_Carmona","0149","San Marcos Carmona (0149)","R","Mexquitic de Carmona (021)San Marcos Carmona (0149)",22.184849,-101.05831000000001,0,0,0,0,240210149,null,null,null,{"$f":"IFERROR(VLOOKUP(CONCATENATE(B3405,D3405),Padrón_Indígenas!$A$2:$G$988,7,0),\"No\")","v":"No"}]
[24,"021","Mexquitic_de_Carmona","0104","San Salvador (0104)","R","Mexquitic de Carmona (021)San Salvador (0104)",22.347633999999999,-101.065349,113,49,64,26,240210104,null,"Alto","Medio",{"$f":"IFERROR(VLOOKUP(CONCATENATE(B3407,D3407),Padrón_Indígenas!$A$2:$G$988,7,0),\"No\")","v":"No"}]
[24,"021","Mexquitic_de_Carmona","0126","Tanque Grande (Las Mesas) (0126)","R","Mexquitic de Carmona (021)Tanque Grande (Las Mesas) (0126)",22.402128000000001,-101.027148,23,9,14,4,240210126,null,"Muy alto","Alto",{"$f":"IFERROR(VLOOKUP(CONCATENATE(B3410,D3410),Padrón_Indígenas!$A$2:$G$988,7,0),\"No\")","v":"No"}]
[24,"021","Mexquitic_de_Carmona","0079","Valle Umbroso (0079)","R","Mexquitic de Carmona (021)Valle Umbroso (0079)",22.42568,-101.07346800000001,357,163,194,84,240210079,"SI","Alto","Bajo",{"$f":"IFERROR(VLOOKUP(CONCATENATE(B3414,D3414),Padrón_Indígenas!$A$2:$G$988,7,0),\"No\")","v":"No"}]
[24,"022","Moctezuma","0005","Arroyo Hondo (0005)","R","Moctezuma (022)Arroyo Hondo (0005)",22.613056,-101.072222,152,64,88,42,240220005,null,"Medio","Muy bajo",{"$f":"IFERROR(VLOOKUP(CONCATENATE(B3419,D3419),Padrón_Indígenas!$A$2:$G$988,7,0),\"No\")","v":"No"}]
[24,"022","Moctezuma","0175","Cerrito San Juan (0175)","R","Moctezuma (022)Cerrito San Juan (0175)",22.757785999999999,-101.09567699999999,3,"*","*",1,240220175,null,null,null,{"$f":"IFERROR(VLOOKUP(CONCATENATE(B3422,D3422),Padrón_Indígenas!$A$2:$G$988,7,0),\"No\")","v":"No"}]
[24,"022","Moctezuma","0010","Codorniz (0010)","R","Moctezuma (022)Codorniz (0010)",22.626771000000002,-101.20725400000001,253,119,134,68,240220010,"SI","Alto","Medio",{"$f":"IFERROR(VLOOKUP(CONCATENATE(B3425,D3425),Padrón_Indígenas!$A$2:$G$988,7,0),\"No\")","v":"No"}]
[24,"022","Moctezuma","0013","Cruces (0013)","R","Moctezuma (022)Cruces (0013)",22.732664,-101.33553499999999,487,235,252,147,240220013,"SI","Alto","Bajo",{"$f":"IFERROR(VLOOKUP(CONCATENATE(B3428,D3428),Padrón_Indígenas!$A$2:$G$988,7,0),\"No\")","v":"No"}]
[24,"022","Moctezuma","0130","El Carrizal (0130)","R","Moctezuma (022)El Carrizal (0130)",22.585277999999999,-101.08416699999999,29,17,12,8,240220130,null,"Muy alto","Alto",{"$f":"IFERROR(VLOOKUP(CONCATENATE(B3433,D3433),Padrón_Indígenas!$A$2:$G$988,7,0),\"No\")","v":"No"}]
[24,"022","Moctezuma","0183","El Coyote [Deshidratadora de Chile] (0183)","R","Moctezuma (022)El Coyote [Deshidratadora de Chile] (0183)",22.738012000000001,-100.933826,0,0,0,0,240220183,null,null,null,{"$f":"IFERROR(VLOOKUP(CONCATENATE(B3437,D3437),Padrón_Indígenas!$A$2:$G$988,7,0),\"No\")","v":"No"}]
[24,"022","Moctezuma","0014","El Cúcamo (0014)","R","Moctezuma (022)El Cúcamo (0014)",22.605042999999998,-101.13872600000001,357,172,185,78,240220014,null,"Alto","Bajo",{"$f":"IFERROR(VLOOKUP(CONCATENATE(B3438,D3438),Padrón_Indígenas!$A$2:$G$988,7,0),\"No\")","v":"No"}]
[24,"022","Moctezuma","0135","El Jaralito (0135)","R","Moctezuma (022)El Jaralito (0135)",22.579343000000001,-101.078002,9,5,4,3,240220135,null,"Alto","Medio",{"$f":"IFERROR(VLOOKUP(CONCATENATE(B3442,D3442),Padrón_Indígenas!$A$2:$G$988,7,0),\"No\")","v":"No"}]
[24,"022","Moctezuma","0085","El Mulero (0085)","R","Moctezuma (022)El Mulero (0085)",22.584197,-101.17392100000001,221,100,121,54,240220085,null,"Alto","Bajo",{"$f":"IFERROR(VLOOKUP(CONCATENATE(B3446,D3446),Padrón_Indígenas!$A$2:$G$988,7,0),\"No\")","v":"No"}]
[24,"022","Moctezuma","0113","El Pedernal (0113)","R","Moctezuma (022)El Pedernal (0113)",22.673328999999999,-101.172501,133,59,74,37,240220113,null,"Alto","Medio",{"$f":"IFERROR(VLOOKUP(CONCATENATE(B3451,D3451),Padrón_Indígenas!$A$2:$G$988,7,0),\"No\")","v":"No"}]
[24,"022","Moctezuma","0152","El Porvenir (0152)","R","Moctezuma (022)El Porvenir (0152)",22.753249,-100.929546,1,"*","*",1,240220152,null,null,null,{"$f":"IFERROR(VLOOKUP(CONCATENATE(B3454,D3454),Padrón_Indígenas!$A$2:$G$988,7,0),\"No\")","v":"No"}]
[24,"022","Moctezuma","0167","El Puerto de Duques (0167)","R","Moctezuma (022)El Puerto de Duques (0167)",22.524588000000001,-101.18567899999999,63,34,29,14,240220167,null,"Alto","Medio",{"$f":"IFERROR(VLOOKUP(CONCATENATE(B3456,D3456),Padrón_Indígenas!$A$2:$G$988,7,0),\"No\")","v":"No"}]
[24,"022","Moctezuma","0045","El Rosario (0045)","R","Moctezuma (022)El Rosario (0045)",22.761641999999998,-101.438868,33,15,18,9,240220045,null,"Muy alto","Medio",{"$f":"IFERROR(VLOOKUP(CONCATENATE(B3461,D3461),Padrón_Indígenas!$A$2:$G$988,7,0),\"No\")","v":"No"}]
[24,"022","Moctezuma","0154","El Sureño (0154)","R","Moctezuma (022)El Sureño (0154)",22.722916999999999,-100.95526099999999,8,2,6,3,240220154,"SI","Medio","Bajo",{"$f":"IFERROR(VLOOKUP(CONCATENATE(B3465,D3465),Padrón_Indígenas!$A$2:$G$988,7,0),\"No\")","v":"No"}]
[24,"022","Moctezuma","0066","El Tapado (0066)","R","Moctezuma (022)El Tapado (0066)",22.792200999999999,-101.440736,13,7,6,5,240220066,null,"Muy alto","Alto",{"$f":"IFERROR(VLOOKUP(CONCATENATE(B3466,D3466),Padrón_Indígenas!$A$2:$G$988,7,0),\"No\")","v":"No"}]
[24,"022","Moctezuma","0108","El Tule (0108)","R","Moctezuma (022)El Tule (0108)",22.815833000000001,-101.12222199999999,51,24,27,14,240220108,null,"Alto","Medio",{"$f":"IFERROR(VLOOKUP(CONCATENATE(B3469,D3469),Padrón_Indígenas!$A$2:$G$988,7,0),\"No\")","v":"No"}]
[24,"022","Moctezuma","0020","Estanco (0020)","R","Moctezuma (022)Estanco (0020)",22.618122,-101.148445,139,67,72,43,240220020,null,"Alto","Bajo",{"$f":"IFERROR(VLOOKUP(CONCATENATE(B3474,D3474),Padrón_Indígenas!$A$2:$G$988,7,0),\"No\")","v":"No"}]
[24,"022","Moctezuma","0160","Flavio Reyna (El Rosa) (0160)","R","Moctezuma (022)Flavio Reyna (El Rosa) (0160)",22.765048,-101.497125,5,"*","*",2,240220160,null,null,null,{"$f":"IFERROR(VLOOKUP(CONCATENATE(B3477,D3477),Padrón_Indígenas!$A$2:$G$988,7,0),\"No\")","v":"No"}]
[24,"022","Moctezuma","0021","Garabatillo (0021)","R","Moctezuma (022)Garabatillo (0021)",22.793087,-101.088624,172,83,89,47,240220021,null,"Alto","Medio",{"$f":"IFERROR(VLOOKUP(CONCATENATE(B3479,D3479),Padrón_Indígenas!$A$2:$G$988,7,0),\"No\")","v":"No"}]
[24,"022","Moctezuma","0069","La Cañada (0069)","R","Moctezuma (022)La Cañada (0069)",22.601029,-101.093819,0,0,0,0,240220069,null,null,null,{"$f":"IFERROR(VLOOKUP(CONCATENATE(B3485,D3485),Padrón_Indígenas!$A$2:$G$988,7,0),\"No\")","v":"No"}]
[24,"022","Moctezuma","0008","La Carpa (0008)","R","Moctezuma (022)La Carpa (0008)",22.693981000000001,-100.95068499999999,93,47,46,25,240220008,"SI","Alto","Medio",{"$f":"IFERROR(VLOOKUP(CONCATENATE(B3488,D3488),Padrón_Indígenas!$A$2:$G$988,7,0),\"No\")","v":"No"}]
[24,"022","Moctezuma","0017","La Encarnación (0017)","R","Moctezuma (022)La Encarnación (0017)",22.770676999999999,-100.980794,34,16,18,6,240220017,null,"Alto","Bajo",{"$f":"IFERROR(VLOOKUP(CONCATENATE(B3490,D3490),Padrón_Indígenas!$A$2:$G$988,7,0),\"No\")","v":"No"}]
[24,"022","Moctezuma","0146","La Esmeralda (0146)","R","Moctezuma (022)La Esmeralda (0146)",22.743632999999999,-100.964377,4,"*","*",1,240220146,null,null,null,{"$f":"IFERROR(VLOOKUP(CONCATENATE(B3493,D3493),Padrón_Indígenas!$A$2:$G$988,7,0),\"No\")","v":"No"}]
[24,"022","Moctezuma","0027","La Luz (0027)","R","Moctezuma (022)La Luz (0027)",22.759354999999999,-100.878539,375,175,200,92,240220027,null,"Alto","Bajo",{"$f":"IFERROR(VLOOKUP(CONCATENATE(B3498,D3498),Padrón_Indígenas!$A$2:$G$988,7,0),\"No\")","v":"No"}]
[24,"022","Moctezuma","0200","La Noria (0200)","R","Moctezuma (022)La Noria (0200)",22.576136000000002,-101.18540900000001,11,"*","*",2,240220200,null,null,null,{"$f":"IFERROR(VLOOKUP(CONCATENATE(B3502,D3502),Padrón_Indígenas!$A$2:$G$988,7,0),\"No\")","v":"No"}]
[24,"022","Moctezuma","0106","La Soledad (0106)","R","Moctezuma (022)La Soledad (0106)",22.613119999999999,-101.12703,105,53,52,24,240220106,null,"Alto","Medio",{"$f":"IFERROR(VLOOKUP(CONCATENATE(B3505,D3505),Padrón_Indígenas!$A$2:$G$988,7,0),\"No\")","v":"No"}]
[24,"022","Moctezuma","0142","Las Alteñas (0142)","R","Moctezuma (022)Las Alteñas (0142)",22.680693999999999,-101.22223,122,56,66,20,240220142,null,"Alto","Medio",{"$f":"IFERROR(VLOOKUP(CONCATENATE(B3507,D3507),Padrón_Indígenas!$A$2:$G$988,7,0),\"No\")","v":"No"}]
[24,"022","Moctezuma","0090","Las Pilitas (0090)","R","Moctezuma (022)Las Pilitas (0090)",22.606667000000002,-101.13888900000001,82,40,42,21,240220090,null,"Alto","Bajo",{"$f":"IFERROR(VLOOKUP(CONCATENATE(B3513,D3513),Padrón_Indígenas!$A$2:$G$988,7,0),\"No\")","v":"No"}]
[24,"022","Moctezuma","0161","Los Gatos (0161)","R","Moctezuma (022)Los Gatos (0161)",22.546482999999998,-101.200838,19,8,11,4,240220161,null,"Muy alto","Alto",{"$f":"IFERROR(VLOOKUP(CONCATENATE(B3516,D3516),Padrón_Indígenas!$A$2:$G$988,7,0),\"No\")","v":"No"}]
[24,"022","Moctezuma","0082","Malpaso (0082)","R","Moctezuma (022)Malpaso (0082)",22.612338000000001,-101.138169,243,111,132,52,240220082,null,"Alto","Medio",{"$f":"IFERROR(VLOOKUP(CONCATENATE(B3518,D3518),Padrón_Indígenas!$A$2:$G$988,7,0),\"No\")","v":"No"}]
[24,"022","Moctezuma","0032","Morterillos (0032)","R","Moctezuma (022)Morterillos (0032)",22.706735999999999,-101.07431800000001,266,133,133,62,240220032,null,"Alto","Bajo",{"$f":"IFERROR(VLOOKUP(CONCATENATE(B3521,D3521),Padrón_Indígenas!$A$2:$G$988,7,0),\"No\")","v":"No"}]
[24,"022","Moctezuma","0088","Palo Blanco (0088)","R","Moctezuma (022)Palo Blanco (0088)",22.598914000000001,-101.15987199999999,42,21,21,10,240220088,null,"Alto","Medio",{"$f":"IFERROR(VLOOKUP(CONCATENATE(B3525,D3525),Padrón_Indígenas!$A$2:$G$988,7,0),\"No\")","v":"No"}]
[24,"022","Moctezuma","0092","Pozo Blanco (0092)","R","Moctezuma (022)Pozo Blanco (0092)",22.710440999999999,-101.071173,276,140,136,71,240220092,null,"Alto","Bajo",{"$f":"IFERROR(VLOOKUP(CONCATENATE(B3529,D3529),Padrón_Indígenas!$A$2:$G$988,7,0),\"No\")","v":"No"}]
[24,"022","Moctezuma","0041","Ramírez (0041)","R","Moctezuma (022)Ramírez (0041)",22.657432,-101.218526,65,35,30,16,240220041,null,"Alto","Medio",{"$f":"IFERROR(VLOOKUP(CONCATENATE(B3534,D3534),Padrón_Indígenas!$A$2:$G$988,7,0),\"No\")","v":"No"}]
[24,"022","Moctezuma","0173","Rancho Dos Amigos (0173)","R","Moctezuma (022)Rancho Dos Amigos (0173)",22.727778000000001,-100.897778,4,"*","*",1,240220173,null,null,null,{"$f":"IFERROR(VLOOKUP(CONCATENATE(B3537,D3537),Padrón_Indígenas!$A$2:$G$988,7,0),\"No\")","v":"No"}]
[24,"022","Moctezuma","0132","Rancho el Lobo (0132)","R","Moctezuma (022)Rancho el Lobo (0132)",22.742408999999999,-100.988563,0,0,0,0,240220132,null,null,null,{"$f":"IFERROR(VLOOKUP(CONCATENATE(B3539,D3539),Padrón_Indígenas!$A$2:$G$988,7,0),\"No\")","v":"No"}]
[24,"022","Moctezuma","0042","Rancho Nuevo (0042)","R","Moctezuma (022)Rancho Nuevo (0042)",22.650865,-101.142607,149,84,65,39,240220042,null,"Alto","Bajo",{"$f":"IFERROR(VLOOKUP(CONCATENATE(B3544,D3544),Padrón_Indígenas!$A$2:$G$988,7,0),\"No\")","v":"No"}]
[24,"022","Moctezuma","0098","Rancho Viejo (0098)","R","Moctezuma (022)Rancho Viejo (0098)",22.727823000000001,-101.373282,0,0,0,0,240220098,null,null,null,{"$f":"IFERROR(VLOOKUP(CONCATENATE(B3548,D3548),Padrón_Indígenas!$A$2:$G$988,7,0),\"No\")","v":"No"}]
[24,"022","Moctezuma","0046","Salsipuedes (0046)","R","Moctezuma (022)Salsipuedes (0046)",22.668865,-100.97192699999999,192,99,93,42,240220046,null,"Medio","Muy bajo",{"$f":"IFERROR(VLOOKUP(CONCATENATE(B3549,D3549),Padrón_Indígenas!$A$2:$G$988,7,0),\"No\")","v":"No"}]
[24,"022","Moctezuma","0049","San Francisco de la Dicha (0049)","R","Moctezuma (022)San Francisco de la Dicha (0049)",22.770555999999999,-100.886667,238,120,118,56,240220049,"SI","Medio","Muy bajo",{"$f":"IFERROR(VLOOKUP(CONCATENATE(B3553,D3553),Padrón_Indígenas!$A$2:$G$988,7,0),\"No\")","v":"No"}]
[24,"022","Moctezuma","0194","San Isidro (0194)","R","Moctezuma (022)San Isidro (0194)",22.709261000000001,-100.96183499999999,0,0,0,0,240220194,null,null,null,{"$f":"IFERROR(VLOOKUP(CONCATENATE(B3557,D3557),Padrón_Indígenas!$A$2:$G$988,7,0),\"No\")","v":"No"}]
[24,"022","Moctezuma","0054","San José de Enramada (0054)","R","Moctezuma (022)San José de Enramada (0054)",22.671832999999999,-101.036469,344,167,177,68,240220054,null,"Alto","Medio",{"$f":"IFERROR(VLOOKUP(CONCATENATE(B3562,D3562),Padrón_Indígenas!$A$2:$G$988,7,0),\"No\")","v":"No"}]
[24,"022","Moctezuma","0104","San Matías (0104)","R","Moctezuma (022)San Matías (0104)",22.760138999999999,-100.998881,28,14,14,6,240220104,null,"Alto","Medio",{"$f":"IFERROR(VLOOKUP(CONCATENATE(B3565,D3565),Padrón_Indígenas!$A$2:$G$988,7,0),\"No\")","v":"No"}]
[24,"022","Moctezuma","0187","Santa Cecilia (0187)","R","Moctezuma (022)Santa Cecilia (0187)",22.751608000000001,-100.957691,0,0,0,0,240220187,null,null,null,{"$f":"IFERROR(VLOOKUP(CONCATENATE(B3568,D3568),Padrón_Indígenas!$A$2:$G$988,7,0),\"No\")","v":"No"}]
[24,"022","Moctezuma","0059","Santa María de la Luz (Las Liebres) (0059)","R","Moctezuma (022)Santa María de la Luz (Las Liebres) (0059)",22.774187000000001,-101.030608,25,11,14,8,240220059,null,"Muy alto","Alto",{"$f":"IFERROR(VLOOKUP(CONCATENATE(B3571,D3571),Padrón_Indígenas!$A$2:$G$988,7,0),\"No\")","v":"No"}]
[24,"022","Moctezuma","0182","Santa Rosa (0182)","R","Moctezuma (022)Santa Rosa (0182)",22.696066999999999,-100.970989,38,18,20,9,240220182,null,"Alto","Bajo",{"$f":"IFERROR(VLOOKUP(CONCATENATE(B3573,D3573),Padrón_Indígenas!$A$2:$G$988,7,0),\"No\")","v":"No"}]
[24,"022","Moctezuma","0158","Timizcuán (0158)","R","Moctezuma (022)Timizcuán (0158)",22.596674,-101.12183400000001,6,"*","*",2,240220158,null,null,null,{"$f":"IFERROR(VLOOKUP(CONCATENATE(B3576,D3576),Padrón_Indígenas!$A$2:$G$988,7,0),\"No\")","v":"No"}]
[24,"023","Rayón","0006","Amoladeras (0006)","R","Rayón (023)Amoladeras (0006)",21.790710000000001,-99.730349000000004,382,180,202,99,240230006,null,"Alto","Muy bajo",{"$f":"IFERROR(VLOOKUP(CONCATENATE(B3581,D3581),Padrón_Indígenas!$A$2:$G$988,7,0),\"No\")","v":"No"}]
[24,"023","Rayón","0098","Benito Ibarra (0098)","R","Rayón (023)Benito Ibarra (0098)",21.865704999999998,-99.608069,0,0,0,0,240230098,null,null,null,{"$f":"IFERROR(VLOOKUP(CONCATENATE(B3585,D3585),Padrón_Indígenas!$A$2:$G$988,7,0),\"No\")","v":"No"}]
[24,"023","Rayón","0105","Cerrito de Catarina (0105)","R","Rayón (023)Cerrito de Catarina (0105)",21.832545,-99.620653000000004,1,"*","*",1,240230105,null,null,null,{"$f":"IFERROR(VLOOKUP(CONCATENATE(B3588,D3588),Padrón_Indígenas!$A$2:$G$988,7,0),\"No\")","v":"No"}]
[24,"023","Rayón","0080","Colonia Paso Prieto (Curva de los Barrenos) (0080)","R","Rayón (023)Colonia Paso Prieto (Curva de los Barrenos) (0080)",21.782385999999999,-99.583151000000001,8,4,4,3,240230080,null,"Muy alto","Muy alto",{"$f":"IFERROR(VLOOKUP(CONCATENATE(B3590,D3590),Padrón_Indígenas!$A$2:$G$988,7,0),\"No\")","v":"No"}]
[24,"023","Rayón","0082","El Mirador (0082)","R","Rayón (023)El Mirador (0082)",21.839544,-99.621415999999996,0,0,0,0,240230082,null,null,null,{"$f":"IFERROR(VLOOKUP(CONCATENATE(B3596,D3596),Padrón_Indígenas!$A$2:$G$988,7,0),\"No\")","v":"No"}]
[24,"023","Rayón","0026","El Pajarito (0026)","R","Rayón (023)El Pajarito (0026)",21.726568,-99.676111000000006,518,235,283,159,240230026,null,"Alto","Muy bajo",{"$f":"IFERROR(VLOOKUP(CONCATENATE(B3599,D3599),Padrón_Indígenas!$A$2:$G$988,7,0),\"No\")","v":"No"}]
[24,"023","Rayón","0035","El Ranchito (0035)","R","Rayón (023)El Ranchito (0035)",21.803692999999999,-99.753750999999994,104,58,46,31,240230035,null,"Alto","Bajo",{"$f":"IFERROR(VLOOKUP(CONCATENATE(B3601,D3601),Padrón_Indígenas!$A$2:$G$988,7,0),\"No\")","v":"No"}]
[24,"023","Rayón","0045","El Tigre (0045)","R","Rayón (023)El Tigre (0045)",21.869564,-99.673247000000003,24,15,9,11,240230045,"SI","Alto","Medio",{"$f":"IFERROR(VLOOKUP(CONCATENATE(B3604,D3604),Padrón_Indígenas!$A$2:$G$988,7,0),\"No\")","v":"No"}]
[24,"023","Rayón","0107","Granja los Cedros (0107)","R","Rayón (023)Granja los Cedros (0107)",21.879006,-99.623258000000007,0,0,0,0,240230107,null,null,null,{"$f":"IFERROR(VLOOKUP(CONCATENATE(B3609,D3609),Padrón_Indígenas!$A$2:$G$988,7,0),\"No\")","v":"No"}]
[24,"023","Rayón","0007","La Ardilla (0007)","R","Rayón (023)La Ardilla (0007)",21.913924000000002,-99.634051999999997,2,"*","*",1,240230007,null,null,null,{"$f":"IFERROR(VLOOKUP(CONCATENATE(B3612,D3612),Padrón_Indígenas!$A$2:$G$988,7,0),\"No\")","v":"No"}]
[24,"023","Rayón","0068","La Esperanza (0068)","R","Rayón (023)La Esperanza (0068)",21.875147999999999,-99.515583000000007,15,8,7,4,240230068,null,"Medio","Muy bajo",{"$f":"IFERROR(VLOOKUP(CONCATENATE(B3617,D3617),Padrón_Indígenas!$A$2:$G$988,7,0),\"No\")","v":"Sí"}]
[24,"023","Rayón","0081","La Loma (0081)","R","Rayón (023)La Loma (0081)",21.722864999999999,-99.657865999999999,0,0,0,0,240230081,null,null,null,{"$f":"IFERROR(VLOOKUP(CONCATENATE(B3620,D3620),Padrón_Indígenas!$A$2:$G$988,7,0),\"No\")","v":"No"}]
[24,"023","Rayón","0018","La Luz (0018)","R","Rayón (023)La Luz (0018)",21.841514,-99.709647000000004,131,67,64,38,240230018,null,"Alto","Bajo",{"$f":"IFERROR(VLOOKUP(CONCATENATE(B3622,D3622),Padrón_Indígenas!$A$2:$G$988,7,0),\"No\")","v":"No"}]
[24,"023","Rayón","0116","La Nueva Villa de la Nueva Palma (0116)","R","Rayón (023)La Nueva Villa de la Nueva Palma (0116)",21.850341,-99.486941999999999,"-","-","-","-",240230116,null,null,null,{"$f":"IFERROR(VLOOKUP(CONCATENATE(B3625,D3625),Padrón_Indígenas!$A$2:$G$988,7,0),\"No\")","v":"No"}]
[24,"023","Rayón","0015","Las Guapas (0015)","R","Rayón (023)Las Guapas (0015)",21.927381,-99.460077999999996,660,340,320,129,240230015,"SI","Muy alto","Alto",{"$f":"IFERROR(VLOOKUP(CONCATENATE(B3631,D3631),Padrón_Indígenas!$A$2:$G$988,7,0),\"No\")","v":"Sí"}]
[24,"023","Rayón","0008","Los Barrenos (0008)","R","Rayón (023)Los Barrenos (0008)",21.791088999999999,-99.592601999999999,0,0,0,0,240230008,null,null,null,{"$f":"IFERROR(VLOOKUP(CONCATENATE(B3632,D3632),Padrón_Indígenas!$A$2:$G$988,7,0),\"No\")","v":"No"}]
[24,"023","Rayón","0109","Ninguno (0109)","R","Rayón (023)Ninguno (0109)",21.859722000000001,-99.663611000000003,0,0,0,0,240230109,null,null,null,{"$f":"IFERROR(VLOOKUP(CONCATENATE(B3636,D3636),Padrón_Indígenas!$A$2:$G$988,7,0),\"No\")","v":"No"}]
[24,"023","Rayón","0075","Plan del Cerrito (0075)","R","Rayón (023)Plan del Cerrito (0075)",21.907368000000002,-99.697567000000006,0,0,0,0,240230075,null,null,null,{"$f":"IFERROR(VLOOKUP(CONCATENATE(B3640,D3640),Padrón_Indígenas!$A$2:$G$988,7,0),\"No\")","v":"No"}]
[24,"023","Rayón","0083","Rafael Torres (0083)","R","Rayón (023)Rafael Torres (0083)",21.783135999999999,-99.679850999999999,0,0,0,0,240230083,null,null,null,{"$f":"IFERROR(VLOOKUP(CONCATENATE(B3645,D3645),Padrón_Indígenas!$A$2:$G$988,7,0),\"No\")","v":"No"}]
[24,"023","Rayón","0114","Rancho las Peñitas (0114)","R","Rayón (023)Rancho las Peñitas (0114)",21.909441000000001,-99.702181999999993,10,"*","*",2,240230114,null,null,null,{"$f":"IFERROR(VLOOKUP(CONCATENATE(B3648,D3648),Padrón_Indígenas!$A$2:$G$988,7,0),\"No\")","v":"No"}]
[24,"023","Rayón","0001","Rayón (0001)","U","Rayón (023)Rayón (0001)",21.843724000000002,-99.645314999999997,5928,2861,3067,1542,240230001,"SI",null,null,{"$f":"IFERROR(VLOOKUP(CONCATENATE(B3650,D3650),Padrón_Indígenas!$A$2:$G$988,7,0),\"No\")","v":"No"}]
[24,"023","Rayón","0028","San Antonio del Perrillal (0028)","R","Rayón (023)San Antonio del Perrillal (0028)",21.790780999999999,-99.671330999999995,18,11,7,3,240230028,null,"Alto","Bajo",{"$f":"IFERROR(VLOOKUP(CONCATENATE(B3653,D3653),Padrón_Indígenas!$A$2:$G$988,7,0),\"No\")","v":"No"}]
[24,"023","Rayón","0043","San Patricio (0043)","R","Rayón (023)San Patricio (0043)",21.943064,-99.643101999999999,113,58,55,25,240230043,null,"Alto","Bajo",{"$f":"IFERROR(VLOOKUP(CONCATENATE(B3659,D3659),Padrón_Indígenas!$A$2:$G$988,7,0),\"No\")","v":"No"}]
[24,"023","Rayón","0104","Servicar [Autoservicio] (0104)","R","Rayón (023)Servicar [Autoservicio] (0104)",21.898489000000001,-99.627594000000002,0,0,0,0,240230104,null,null,null,{"$f":"IFERROR(VLOOKUP(CONCATENATE(B3660,D3660),Padrón_Indígenas!$A$2:$G$988,7,0),\"No\")","v":"No"}]
[24,"023","Rayón","0048","Vaqueros (0048)","R","Rayón (023)Vaqueros (0048)",21.711362999999999,-99.753474999999995,147,66,81,30,240230048,"SI","Alto","Bajo",{"$f":"IFERROR(VLOOKUP(CONCATENATE(B3664,D3664),Padrón_Indígenas!$A$2:$G$988,7,0),\"No\")","v":"No"}]
[24,"024","Rioverde","0317","Agua de los Robles (0317)","R","Rioverde (024)Agua de los Robles (0317)",21.960277999999999,-100.19888899999999,2,"*","*",1,240240317,null,null,null,{"$f":"IFERROR(VLOOKUP(CONCATENATE(B3668,D3668),Padrón_Indígenas!$A$2:$G$988,7,0),\"No\")","v":"No"}]
[24,"024","Rioverde","0138","Alameda (0138)","R","Rioverde (024)Alameda (0138)",21.679794000000001,-100.048244,30,14,16,6,240240138,null,"Muy alto","Alto",{"$f":"IFERROR(VLOOKUP(CONCATENATE(B3672,D3672),Padrón_Indígenas!$A$2:$G$988,7,0),\"No\")","v":"No"}]
[24,"024","Rioverde","0292","Álamos de los Fierros (0292)","R","Rioverde (024)Álamos de los Fierros (0292)",21.876612999999999,-100.185079,1,"*","*",1,240240292,null,null,null,{"$f":"IFERROR(VLOOKUP(CONCATENATE(B3673,D3673),Padrón_Indígenas!$A$2:$G$988,7,0),\"No\")","v":"No"}]
[24,"024","Rioverde","0009","Angostura (Los Canelos) (0009)","R","Rioverde (024)Angostura (Los Canelos) (0009)",22.253810000000001,-100.117107,400,195,205,104,240240009,null,"Alto","Bajo",{"$f":"IFERROR(VLOOKUP(CONCATENATE(B3679,D3679),Padrón_Indígenas!$A$2:$G$988,7,0),\"No\")","v":"No"}]
[24,"024","Rioverde","0474","Arroyo Hondo (0474)","R","Rioverde (024)Arroyo Hondo (0474)",21.710833000000001,-100.140833,0,0,0,0,240240474,null,null,null,{"$f":"IFERROR(VLOOKUP(CONCATENATE(B3682,D3682),Padrón_Indígenas!$A$2:$G$988,7,0),\"No\")","v":"No"}]
[24,"024","Rioverde","0012","Bagres de Abajo (0012)","R","Rioverde (024)Bagres de Abajo (0012)",21.623348,-100.099358,15,"*","*",2,240240012,null,null,null,{"$f":"IFERROR(VLOOKUP(CONCATENATE(B3684,D3684),Padrón_Indígenas!$A$2:$G$988,7,0),\"No\")","v":"No"}]
[24,"024","Rioverde","0254","Benito Juárez (0254)","R","Rioverde (024)Benito Juárez (0254)",22.138888999999999,-100.031111,0,0,0,0,240240254,null,null,null,{"$f":"IFERROR(VLOOKUP(CONCATENATE(B3687,D3687),Padrón_Indígenas!$A$2:$G$988,7,0),\"No\")","v":"No"}]
[24,"024","Rioverde","0015","Buenavista (0015)","R","Rioverde (024)Buenavista (0015)",21.898963999999999,-100.103261,161,90,71,52,240240015,null,"Alto","Bajo",{"$f":"IFERROR(VLOOKUP(CONCATENATE(B3692,D3692),Padrón_Indígenas!$A$2:$G$988,7,0),\"No\")","v":"No"}]
[24,"024","Rioverde","0492","Cecilio Martínez Cruz (0492)","R","Rioverde (024)Cecilio Martínez Cruz (0492)",21.949587999999999,-99.958911000000001,1,"*","*",1,240240492,null,null,null,{"$f":"IFERROR(VLOOKUP(CONCATENATE(B3696,D3696),Padrón_Indígenas!$A$2:$G$988,7,0),\"No\")","v":"No"}]
[24,"024","Rioverde","0175","Charco Salado (0175)","R","Rioverde (024)Charco Salado (0175)",21.961943999999999,-99.886111,103,61,42,18,240240175,null,"Muy alto","Alto",{"$f":"IFERROR(VLOOKUP(CONCATENATE(B3700,D3700),Padrón_Indígenas!$A$2:$G$988,7,0),\"No\")","v":"No"}]
[24,"024","Rioverde","0414","Cholotova (0414)","R","Rioverde (024)Cholotova (0414)",21.951667,-99.987499999999997,14,"*","*",2,240240414,null,null,null,{"$f":"IFERROR(VLOOKUP(CONCATENATE(B3701,D3701),Padrón_Indígenas!$A$2:$G$988,7,0),\"No\")","v":"No"}]
[24,"024","Rioverde","0336","Colonia Independencia (0336)","R","Rioverde (024)Colonia Independencia (0336)",21.916339000000001,-99.950481999999994,80,41,39,20,240240336,"SI","Medio","Muy bajo",{"$f":"IFERROR(VLOOKUP(CONCATENATE(B3707,D3707),Padrón_Indígenas!$A$2:$G$988,7,0),\"No\")","v":"No"}]
[24,"024","Rioverde","0389","Colonia la Esperanza Dos (0389)","R","Rioverde (024)Colonia la Esperanza Dos (0389)",21.899519999999999,-100.000602,3,"*","*",1,240240389,null,null,null,{"$f":"IFERROR(VLOOKUP(CONCATENATE(B3708,D3708),Padrón_Indígenas!$A$2:$G$988,7,0),\"No\")","v":"No"}]
[24,"024","Rioverde","0028","Desparramadas (0028)","R","Rioverde (024)Desparramadas (0028)",21.831901999999999,-100.090227,43,22,21,12,240240028,null,"Alto","Medio",{"$f":"IFERROR(VLOOKUP(CONCATENATE(B3714,D3714),Padrón_Indígenas!$A$2:$G$988,7,0),\"No\")","v":"No"}]
[24,"024","Rioverde","0321","El Abojón (Alameda) (0321)","R","Rioverde (024)El Abojón (Alameda) (0321)",21.674125,-100.050363,0,0,0,0,240240321,null,null,null,{"$f":"IFERROR(VLOOKUP(CONCATENATE(B3716,D3716),Padrón_Indígenas!$A$2:$G$988,7,0),\"No\")","v":"No"}]
[24,"024","Rioverde","0323","El Albur (0323)","R","Rioverde (024)El Albur (0323)",22.102093,-100.07112100000001,0,0,0,0,240240323,null,null,null,{"$f":"IFERROR(VLOOKUP(CONCATENATE(B3719,D3719),Padrón_Indígenas!$A$2:$G$988,7,0),\"No\")","v":"No"}]
[24,"024","Rioverde","0018","El Capulín (0018)","R","Rioverde (024)El Capulín (0018)",21.826391000000001,-100.036331,2049,996,1053,477,240240018,"SI","Alto","Bajo",{"$f":"IFERROR(VLOOKUP(CONCATENATE(B3723,D3723),Padrón_Indígenas!$A$2:$G$988,7,0),\"No\")","v":"No"}]
[24,"024","Rioverde","0026","El Charco (0026)","R","Rioverde (024)El Charco (0026)",22.017209000000001,-100.330809,111,57,54,37,240240026,null,"Alto","Bajo",{"$f":"IFERROR(VLOOKUP(CONCATENATE(B3728,D3728),Padrón_Indígenas!$A$2:$G$988,7,0),\"No\")","v":"No"}]
[24,"024","Rioverde","0024","El Coyote (0024)","R","Rioverde (024)El Coyote (0024)",21.85643,-100.03992700000001,57,31,26,16,240240024,null,"Alto","Bajo",{"$f":"IFERROR(VLOOKUP(CONCATENATE(B3731,D3731),Padrón_Indígenas!$A$2:$G$988,7,0),\"No\")","v":"No"}]
[24,"024","Rioverde","0505","El Dorado [Motel] (0505)","R","Rioverde (024)El Dorado [Motel] (0505)",21.863568999999998,-99.967447000000007,"-","-","-","-",240240505,null,null,null,{"$f":"IFERROR(VLOOKUP(CONCATENATE(B3733,D3733),Padrón_Indígenas!$A$2:$G$988,7,0),\"No\")","v":"No"}]
[24,"024","Rioverde","0180","El Garambullo (0180)","R","Rioverde (024)El Garambullo (0180)",21.782730000000001,-99.960301000000001,127,69,58,29,240240180,null,"Alto","Medio",{"$f":"IFERROR(VLOOKUP(CONCATENATE(B3736,D3736),Padrón_Indígenas!$A$2:$G$988,7,0),\"No\")","v":"No"}]
[24,"024","Rioverde","0047","El Nacimiento (0047)","R","Rioverde (024)El Nacimiento (0047)",21.935549000000002,-100.177781,102,58,44,29,240240047,null,"Alto","Medio",{"$f":"IFERROR(VLOOKUP(CONCATENATE(B3742,D3742),Padrón_Indígenas!$A$2:$G$988,7,0),\"No\")","v":"No"}]
[24,"024","Rioverde","0050","El Obrajero (0050)","R","Rioverde (024)El Obrajero (0050)",21.836725000000001,-99.908474999999996,74,36,38,19,240240050,null,"Alto","Bajo",{"$f":"IFERROR(VLOOKUP(CONCATENATE(B3744,D3744),Padrón_Indígenas!$A$2:$G$988,7,0),\"No\")","v":"No"}]
[24,"024","Rioverde","0105","El Paso de los Alisos (0105)","R","Rioverde (024)El Paso de los Alisos (0105)",21.851393999999999,-100.17853100000001,21,14,7,4,240240105,null,"Muy alto","Alto",{"$f":"IFERROR(VLOOKUP(CONCATENATE(B3747,D3747),Padrón_Indígenas!$A$2:$G$988,7,0),\"No\")","v":"No"}]
[24,"024","Rioverde","0367","El Puerto de los Ángeles (El Venadito) (0367)","R","Rioverde (024)El Puerto de los Ángeles (El Venadito) (0367)",22.333237,-99.939931000000001,1,"*","*",1,240240367,null,null,null,{"$f":"IFERROR(VLOOKUP(CONCATENATE(B3751,D3751),Padrón_Indígenas!$A$2:$G$988,7,0),\"No\")","v":"No"}]
[24,"024","Rioverde","0448","El Rincón Verde (0448)","R","Rioverde (024)El Rincón Verde (0448)",21.776647000000001,-100.151072,0,0,0,0,240240448,null,null,null,{"$f":"IFERROR(VLOOKUP(CONCATENATE(B3755,D3755),Padrón_Indígenas!$A$2:$G$988,7,0),\"No\")","v":"No"}]
[24,"024","Rioverde","0150","El Rodeo (0150)","R","Rioverde (024)El Rodeo (0150)",21.706384,-99.807541000000001,56,24,32,14,240240150,null,"Alto","Bajo",{"$f":"IFERROR(VLOOKUP(CONCATENATE(B3756,D3756),Padrón_Indígenas!$A$2:$G$988,7,0),\"No\")","v":"No"}]
[24,"024","Rioverde","0319","El Salto (0319)","R","Rioverde (024)El Salto (0319)",21.812864000000001,-100.065567,55,29,26,12,240240319,null,"Alto","Bajo",{"$f":"IFERROR(VLOOKUP(CONCATENATE(B3760,D3760),Padrón_Indígenas!$A$2:$G$988,7,0),\"No\")","v":"No"}]
[24,"024","Rioverde","0220","El Triángulo (0220)","R","Rioverde (024)El Triángulo (0220)",21.960445,-99.911377999999999,1,"*","*",1,240240220,null,null,null,{"$f":"IFERROR(VLOOKUP(CONCATENATE(B3765,D3765),Padrón_Indígenas!$A$2:$G$988,7,0),\"No\")","v":"No"}]
[24,"024","Rioverde","0096","El Tulillo (0096)","R","Rioverde (024)El Tulillo (0096)",21.631564000000001,-100.070599,3,3,0,3,240240096,null,"Muy alto","Muy alto",{"$f":"IFERROR(VLOOKUP(CONCATENATE(B3767,D3767),Padrón_Indígenas!$A$2:$G$988,7,0),\"No\")","v":"No"}]
[24,"024","Rioverde","0381","El Zancudo (Sambalamtram) (0381)","R","Rioverde (024)El Zancudo (Sambalamtram) (0381)",21.915406999999998,-100.02360299999999,7,"*","*",2,240240381,null,null,null,{"$f":"IFERROR(VLOOKUP(CONCATENATE(B3770,D3770),Padrón_Indígenas!$A$2:$G$988,7,0),\"No\")","v":"No"}]
[24,"024","Rioverde","0342","Evaristo Baldera (0342)","R","Rioverde (024)Evaristo Baldera (0342)",21.881568000000001,-100.081772,8,5,3,3,240240342,null,"Muy alto","Medio",{"$f":"IFERROR(VLOOKUP(CONCATENATE(B3775,D3775),Padrón_Indígenas!$A$2:$G$988,7,0),\"No\")","v":"No"}]
[24,"024","Rioverde","0471","Fraccionamiento Charco Verde (0471)","R","Rioverde (024)Fraccionamiento Charco Verde (0471)",21.894649999999999,-99.992970999999997,44,23,21,8,240240471,null,"Muy alto","Alto",{"$f":"IFERROR(VLOOKUP(CONCATENATE(B3779,D3779),Padrón_Indígenas!$A$2:$G$988,7,0),\"No\")","v":"No"}]
[24,"024","Rioverde","0032","Guayabas (0032)","R","Rioverde (024)Guayabas (0032)",21.838889000000002,-100.076667,35,18,17,8,240240032,null,"Alto","Muy bajo",{"$f":"IFERROR(VLOOKUP(CONCATENATE(B3783,D3783),Padrón_Indígenas!$A$2:$G$988,7,0),\"No\")","v":"No"}]
[24,"024","Rioverde","0200","Hacienda San Isidro (0200)","R","Rioverde (024)Hacienda San Isidro (0200)",21.907346,-99.960505999999995,0,0,0,0,240240200,null,null,null,{"$f":"IFERROR(VLOOKUP(CONCATENATE(B3784,D3784),Padrón_Indígenas!$A$2:$G$988,7,0),\"No\")","v":"No"}]
[24,"024","Rioverde","0349","Huerta las Carmelitas (0349)","R","Rioverde (024)Huerta las Carmelitas (0349)",21.925699999999999,-100.02382,4,"*","*",1,240240349,null,null,null,{"$f":"IFERROR(VLOOKUP(CONCATENATE(B3788,D3788),Padrón_Indígenas!$A$2:$G$988,7,0),\"No\")","v":"No"}]
[24,"024","Rioverde","0395","Jesús Díaz (Puente del Carmen) (0395)","R","Rioverde (024)Jesús Díaz (Puente del Carmen) (0395)",21.908055999999998,-99.998333000000002,0,0,0,0,240240395,null,null,null,{"$f":"IFERROR(VLOOKUP(CONCATENATE(B3793,D3793),Padrón_Indígenas!$A$2:$G$988,7,0),\"No\")","v":"No"}]
[24,"024","Rioverde","0137","Joya de Caballos (Joya de Jesús) (0137)","R","Rioverde (024)Joya de Caballos (Joya de Jesús) (0137)",21.654933,-99.946877000000001,15,9,6,4,240240137,null,"Muy alto","Muy alto",{"$f":"IFERROR(VLOOKUP(CONCATENATE(B3795,D3795),Padrón_Indígenas!$A$2:$G$988,7,0),\"No\")","v":"No"}]
[24,"024","Rioverde","0290","Joya de Luna (0290)","R","Rioverde (024)Joya de Luna (0290)",21.912768,-100.176818,1,"*","*",1,240240290,null,null,null,{"$f":"IFERROR(VLOOKUP(CONCATENATE(B3798,D3798),Padrón_Indígenas!$A$2:$G$988,7,0),\"No\")","v":"No"}]
[24,"024","Rioverde","0206","Joyas de Ventura (0206)","R","Rioverde (024)Joyas de Ventura (0206)",21.882221999999999,-100.32305599999999,28,16,12,4,240240206,null,"Muy alto","Alto",{"$f":"IFERROR(VLOOKUP(CONCATENATE(B3803,D3803),Padrón_Indígenas!$A$2:$G$988,7,0),\"No\")","v":"No"}]
[24,"024","Rioverde","0163","La Alegría (0163)","R","Rioverde (024)La Alegría (0163)",21.652159999999999,-100.101174,0,0,0,0,240240163,null,null,null,{"$f":"IFERROR(VLOOKUP(CONCATENATE(B3807,D3807),Padrón_Indígenas!$A$2:$G$988,7,0),\"No\")","v":"No"}]
[24,"024","Rioverde","0227","La Cenicienta (Rancho de los Pescados) (0227)","R","Rioverde (024)La Cenicienta (Rancho de los Pescados) (0227)",21.934747000000002,-99.955031000000005,10,"*","*",2,240240227,null,null,null,{"$f":"IFERROR(VLOOKUP(CONCATENATE(B3811,D3811),Padrón_Indígenas!$A$2:$G$988,7,0),\"No\")","v":"No"}]
[24,"024","Rioverde","0296","La Cruz del Alamito (0296)","R","Rioverde (024)La Cruz del Alamito (0296)",21.842248999999999,-100.071938,8,"*","*",1,240240296,null,null,null,{"$f":"IFERROR(VLOOKUP(CONCATENATE(B3814,D3814),Padrón_Indígenas!$A$2:$G$988,7,0),\"No\")","v":"No"}]
[24,"024","Rioverde","0494","La Ermita (0494)","R","Rioverde (024)La Ermita (0494)",22.023385000000001,-100.38104800000001,7,"*","*",1,240240494,null,null,null,{"$f":"IFERROR(VLOOKUP(CONCATENATE(B3816,D3816),Padrón_Indígenas!$A$2:$G$988,7,0),\"No\")","v":"No"}]
[24,"024","Rioverde","0469","La Escondida Segunda Sección (0469)","R","Rioverde (024)La Escondida Segunda Sección (0469)",21.894280999999999,-100.114159,0,0,0,0,240240469,null,null,null,{"$f":"IFERROR(VLOOKUP(CONCATENATE(B3819,D3819),Padrón_Indígenas!$A$2:$G$988,7,0),\"No\")","v":"No"}]
[24,"024","Rioverde","0347","La Huerta Juárez (0347)","R","Rioverde (024)La Huerta Juárez (0347)",21.896424,-100.084519,5,"*","*",1,240240347,null,null,null,{"$f":"IFERROR(VLOOKUP(CONCATENATE(B3825,D3825),Padrón_Indígenas!$A$2:$G$988,7,0),\"No\")","v":"No"}]
[24,"024","Rioverde","0350","La Jabonera (0350)","R","Rioverde (024)La Jabonera (0350)",21.699909000000002,-100.00455700000001,0,0,0,0,240240350,null,null,null,{"$f":"IFERROR(VLOOKUP(CONCATENATE(B3827,D3827),Padrón_Indígenas!$A$2:$G$988,7,0),\"No\")","v":"No"}]
[24,"024","Rioverde","0039","La Laborcilla (0039)","R","Rioverde (024)La Laborcilla (0039)",21.860913,-99.909751,351,178,173,81,240240039,null,"Alto","Bajo",{"$f":"IFERROR(VLOOKUP(CONCATENATE(B3830,D3830),Padrón_Indígenas!$A$2:$G$988,7,0),\"No\")","v":"No"}]
[24,"024","Rioverde","0480","La Manga (0480)","R","Rioverde (024)La Manga (0480)",21.846111000000001,-100.05249999999999,96,51,45,32,240240480,null,"Alto","Medio",{"$f":"IFERROR(VLOOKUP(CONCATENATE(B3835,D3835),Padrón_Indígenas!$A$2:$G$988,7,0),\"No\")","v":"No"}]
[24,"024","Rioverde","0046","La Muralla (0046)","R","Rioverde (024)La Muralla (0046)",22.157112999999999,-99.903701999999996,303,141,162,65,240240046,"SI","Alto","Medio",{"$f":"IFERROR(VLOOKUP(CONCATENATE(B3839,D3839),Padrón_Indígenas!$A$2:$G$988,7,0),\"No\")","v":"No"}]
[24,"024","Rioverde","0400","La Pared (La Virgen Dos) (0400)","R","Rioverde (024)La Pared (La Virgen Dos) (0400)",21.929614999999998,-100.296413,2,"*","*",1,240240400,null,null,null,{"$f":"IFERROR(VLOOKUP(CONCATENATE(B3842,D3842),Padrón_Indígenas!$A$2:$G$988,7,0),\"No\")","v":"No"}]
[24,"024","Rioverde","0426","La Pensión (0426)","R","Rioverde (024)La Pensión (0426)",21.927223999999999,-99.956995000000006,4,"*","*",1,240240426,null,null,null,{"$f":"IFERROR(VLOOKUP(CONCATENATE(B3844,D3844),Padrón_Indígenas!$A$2:$G$988,7,0),\"No\")","v":"No"}]
[24,"024","Rioverde","0060","La Perdida (0060)","R","Rioverde (024)La Perdida (0060)",21.704274000000002,-99.939757999999998,52,27,25,13,240240060,null,"Muy alto","Alto",{"$f":"IFERROR(VLOOKUP(CONCATENATE(B3847,D3847),Padrón_Indígenas!$A$2:$G$988,7,0),\"No\")","v":"No"}]
[24,"024","Rioverde","0121","La Providencia (0121)","R","Rioverde (024)La Providencia (0121)",21.894445000000001,-99.853005999999993,109,60,49,19,240240121,null,"Alto","Bajo",{"$f":"IFERROR(VLOOKUP(CONCATENATE(B3850,D3850),Padrón_Indígenas!$A$2:$G$988,7,0),\"No\")","v":"No"}]
[24,"024","Rioverde","0484","La Roca (0484)","R","Rioverde (024)La Roca (0484)",21.860555999999999,-99.995833000000005,6,"*","*",2,240240484,"SI",null,null,{"$f":"IFERROR(VLOOKUP(CONCATENATE(B3853,D3853),Padrón_Indígenas!$A$2:$G$988,7,0),\"No\")","v":"No"}]
[24,"024","Rioverde","0271","La Viga (0271)","R","Rioverde (024)La Viga (0271)",21.927050999999999,-100.37823400000001,0,0,0,0,240240271,null,null,null,{"$f":"IFERROR(VLOOKUP(CONCATENATE(B3858,D3858),Padrón_Indígenas!$A$2:$G$988,7,0),\"No\")","v":"No"}]
[24,"024","Rioverde","0146","Las Adjuntas (0146)","R","Rioverde (024)Las Adjuntas (0146)",21.902248,-100.304097,1,"*","*",1,240240146,null,null,null,{"$f":"IFERROR(VLOOKUP(CONCATENATE(B3862,D3862),Padrón_Indígenas!$A$2:$G$988,7,0),\"No\")","v":"No"}]
[24,"024","Rioverde","0234","Las Albercas (0234)","R","Rioverde (024)Las Albercas (0234)",21.801110999999999,-100.14,16,9,7,4,240240234,null,"Muy alto","Alto",{"$f":"IFERROR(VLOOKUP(CONCATENATE(B3866,D3866),Padrón_Indígenas!$A$2:$G$988,7,0),\"No\")","v":"No"}]
[24,"024","Rioverde","0476","Las Dos Trinidades (0476)","R","Rioverde (024)Las Dos Trinidades (0476)",22.224167000000001,-99.911111000000005,0,0,0,0,240240476,null,null,null,{"$f":"IFERROR(VLOOKUP(CONCATENATE(B3867,D3867),Padrón_Indígenas!$A$2:$G$988,7,0),\"No\")","v":"No"}]
[24,"024","Rioverde","0160","Las Guayabitas (0160)","R","Rioverde (024)Las Guayabitas (0160)",21.915444000000001,-100.155643,154,79,75,47,240240160,null,"Alto","Medio",{"$f":"IFERROR(VLOOKUP(CONCATENATE(B3871,D3871),Padrón_Indígenas!$A$2:$G$988,7,0),\"No\")","v":"No"}]
[24,"024","Rioverde","0130","Las Márgaras (0130)","R","Rioverde (024)Las Márgaras (0130)",21.799942999999999,-100.177559,17,13,4,4,240240130,null,"Muy alto","Alto",{"$f":"IFERROR(VLOOKUP(CONCATENATE(B3876,D3876),Padrón_Indígenas!$A$2:$G$988,7,0),\"No\")","v":"No"}]
[24,"024","Rioverde","0358","Las Moctezumas (0358)","R","Rioverde (024)Las Moctezumas (0358)",21.917749000000001,-100.208583,5,"*","*",1,240240358,null,null,null,{"$f":"IFERROR(VLOOKUP(CONCATENATE(B3879,D3879),Padrón_Indígenas!$A$2:$G$988,7,0),\"No\")","v":"No"}]
[24,"024","Rioverde","0115","Las Pilas (0115)","R","Rioverde (024)Las Pilas (0115)",21.676566000000001,-99.968802999999994,61,31,30,18,240240115,null,"Muy alto","Alto",{"$f":"IFERROR(VLOOKUP(CONCATENATE(B3881,D3881),Padrón_Indígenas!$A$2:$G$988,7,0),\"No\")","v":"No"}]
[24,"024","Rioverde","0235","Los Aguacatitos (0235)","R","Rioverde (024)Los Aguacatitos (0235)",21.780657999999999,-100.164142,0,0,0,0,240240235,null,null,null,{"$f":"IFERROR(VLOOKUP(CONCATENATE(B3886,D3886),Padrón_Indígenas!$A$2:$G$988,7,0),\"No\")","v":"No"}]
[24,"024","Rioverde","0325","Los Anteojitos (0325)","R","Rioverde (024)Los Anteojitos (0325)",21.878954,-100.005082,2,"*","*",1,240240325,"SI",null,null,{"$f":"IFERROR(VLOOKUP(CONCATENATE(B3890,D3890),Padrón_Indígenas!$A$2:$G$988,7,0),\"No\")","v":"No"}]
[24,"024","Rioverde","0391","Los Corrales (0391)","R","Rioverde (024)Los Corrales (0391)",22.192222000000001,-99.949721999999994,0,0,0,0,240240391,null,null,null,{"$f":"IFERROR(VLOOKUP(CONCATENATE(B3894,D3894),Padrón_Indígenas!$A$2:$G$988,7,0),\"No\")","v":"No"}]
[24,"024","Rioverde","0394","Los Huesos (0394)","R","Rioverde (024)Los Huesos (0394)",21.906110999999999,-100.175833,6,"*","*",1,240240394,null,null,null,{"$f":"IFERROR(VLOOKUP(CONCATENATE(B3897,D3897),Padrón_Indígenas!$A$2:$G$988,7,0),\"No\")","v":"No"}]
[24,"024","Rioverde","0516","Los Paisanos [Rancho] (0516)","R","Rioverde (024)Los Paisanos [Rancho] (0516)",21.869926,-99.933330999999995,"-","-","-","-",240240516,null,null,null,{"$f":"IFERROR(VLOOKUP(CONCATENATE(B3899,D3899),Padrón_Indígenas!$A$2:$G$988,7,0),\"No\")","v":"No"}]
[24,"024","Rioverde","0375","Los Rosales (0375)","R","Rioverde (024)Los Rosales (0375)",21.967525999999999,-99.982403000000005,0,0,0,0,240240375,null,null,null,{"$f":"IFERROR(VLOOKUP(CONCATENATE(B3902,D3902),Padrón_Indígenas!$A$2:$G$988,7,0),\"No\")","v":"No"}]
[24,"024","Rioverde","0241","Manantial de la Media Luna [Centro Vacacional] (0241)","R","Rioverde (024)Manantial de la Media Luna [Centro Vacacional] (0241)",21.862946999999998,-100.028811,0,0,0,0,240240241,null,null,null,{"$f":"IFERROR(VLOOKUP(CONCATENATE(B3908,D3908),Padrón_Indígenas!$A$2:$G$988,7,0),\"No\")","v":"No"}]
[24,"024","Rioverde","0511","Manuel Alvarado Flores (0511)","R","Rioverde (024)Manuel Alvarado Flores (0511)",21.947329,-99.960149000000001,"-","-","-","-",240240511,null,null,null,{"$f":"IFERROR(VLOOKUP(CONCATENATE(B3910,D3910),Padrón_Indígenas!$A$2:$G$988,7,0),\"No\")","v":"No"}]
[24,"024","Rioverde","0042","Mesa del Salto (0042)","R","Rioverde (024)Mesa del Salto (0042)",21.828333000000001,-100.07138500000001,131,58,73,40,240240042,null,"Alto","Bajo",{"$f":"IFERROR(VLOOKUP(CONCATENATE(B3913,D3913),Padrón_Indígenas!$A$2:$G$988,7,0),\"No\")","v":"No"}]
[24,"024","Rioverde","0357","Mitres (0357)","R","Rioverde (024)Mitres (0357)",22.318764000000002,-99.930715000000006,0,0,0,0,240240357,null,null,null,{"$f":"IFERROR(VLOOKUP(CONCATENATE(B3918,D3918),Padrón_Indígenas!$A$2:$G$988,7,0),\"No\")","v":"No"}]
[24,"024","Rioverde","0496","Nueva Colonia el Florido (0496)","R","Rioverde (024)Nueva Colonia el Florido (0496)",21.783432999999999,-99.924659000000005,3,"*","*",1,240240496,null,null,null,{"$f":"IFERROR(VLOOKUP(CONCATENATE(B3922,D3922),Padrón_Indígenas!$A$2:$G$988,7,0),\"No\")","v":"No"}]
[24,"024","Rioverde","0051","Ojo de Agua Seco (0051)","R","Rioverde (024)Ojo de Agua Seco (0051)",21.852401,-100.067007,551,263,288,141,240240051,"SI","Alto","Muy bajo",{"$f":"IFERROR(VLOOKUP(CONCATENATE(B3925,D3925),Padrón_Indígenas!$A$2:$G$988,7,0),\"No\")","v":"No"}]
[24,"024","Rioverde","0119","Palmillas (0119)","R","Rioverde (024)Palmillas (0119)",21.800606999999999,-100.02373900000001,80,39,41,13,240240119,null,"Muy alto","Alto",{"$f":"IFERROR(VLOOKUP(CONCATENATE(B3927,D3927),Padrón_Indígenas!$A$2:$G$988,7,0),\"No\")","v":"No"}]
[24,"024","Rioverde","0359","Paradero la Tapona (0359)","R","Rioverde (024)Paradero la Tapona (0359)",22.021281999999999,-100.189615,9,"*","*",2,240240359,null,null,null,{"$f":"IFERROR(VLOOKUP(CONCATENATE(B3930,D3930),Padrón_Indígenas!$A$2:$G$988,7,0),\"No\")","v":"No"}]
[24,"024","Rioverde","0058","Paso Real (0058)","R","Rioverde (024)Paso Real (0058)",21.844954999999999,-99.865131000000005,428,216,212,96,240240058,null,"Alto","Bajo",{"$f":"IFERROR(VLOOKUP(CONCATENATE(B3936,D3936),Padrón_Indígenas!$A$2:$G$988,7,0),\"No\")","v":"No"}]
[24,"024","Rioverde","0501","Pedregal San Marcos [Colonia] (0501)","R","Rioverde (024)Pedregal San Marcos [Colonia] (0501)",21.904568000000001,-99.984909999999999,"-","-","-","-",240240501,null,null,null,{"$f":"IFERROR(VLOOKUP(CONCATENATE(B3938,D3938),Padrón_Indígenas!$A$2:$G$988,7,0),\"No\")","v":"No"}]
[24,"024","Rioverde","0363","Potrero de la Cofradía Grande (0363)","R","Rioverde (024)Potrero de la Cofradía Grande (0363)",21.937142000000001,-99.958336000000003,0,0,0,0,240240363,null,null,null,{"$f":"IFERROR(VLOOKUP(CONCATENATE(B3941,D3941),Padrón_Indígenas!$A$2:$G$988,7,0),\"No\")","v":"No"}]
[24,"024","Rioverde","0364","Potrero del Llano (0364)","R","Rioverde (024)Potrero del Llano (0364)",21.930833,-99.957778000000005,0,0,0,0,240240364,null,null,null,{"$f":"IFERROR(VLOOKUP(CONCATENATE(B3946,D3946),Padrón_Indígenas!$A$2:$G$988,7,0),\"No\")","v":"No"}]
[24,"024","Rioverde","0178","Puente la Escondida (0178)","R","Rioverde (024)Puente la Escondida (0178)",21.886513999999998,-99.776950999999997,58,30,28,13,240240178,null,"Alto","Muy bajo",{"$f":"IFERROR(VLOOKUP(CONCATENATE(B3949,D3949),Padrón_Indígenas!$A$2:$G$988,7,0),\"No\")","v":"No"}]
[24,"024","Rioverde","0287","Puente Nueva (0287)","R","Rioverde (024)Puente Nueva (0287)",21.858056000000001,-99.919443999999999,0,0,0,0,240240287,null,null,null,{"$f":"IFERROR(VLOOKUP(CONCATENATE(B3950,D3950),Padrón_Indígenas!$A$2:$G$988,7,0),\"No\")","v":"No"}]
[24,"024","Rioverde","0243","Puerto de la Vaca (0243)","R","Rioverde (024)Puerto de la Vaca (0243)",21.806944000000001,-100.181111,16,9,7,3,240240243,null,"Muy alto","Alto",{"$f":"IFERROR(VLOOKUP(CONCATENATE(B3954,D3954),Padrón_Indígenas!$A$2:$G$988,7,0),\"No\")","v":"No"}]
[24,"024","Rioverde","0066","Rancho del Puente (Puente Prieto) (0066)","R","Rioverde (024)Rancho del Puente (Puente Prieto) (0066)",21.977416000000002,-100.372523,560,278,282,162,240240066,"SI","Alto","Bajo",{"$f":"IFERROR(VLOOKUP(CONCATENATE(B3959,D3959),Padrón_Indígenas!$A$2:$G$988,7,0),\"No\")","v":"No"}]
[24,"024","Rioverde","0463","Rancho el Esfuerzo (0463)","R","Rioverde (024)Rancho el Esfuerzo (0463)",21.821110999999998,-99.934443999999999,0,0,0,0,240240463,null,null,null,{"$f":"IFERROR(VLOOKUP(CONCATENATE(B3962,D3962),Padrón_Indígenas!$A$2:$G$988,7,0),\"No\")","v":"No"}]
[24,"024","Rioverde","0226","Rancho el Gran Chaparral (0226)","R","Rioverde (024)Rancho el Gran Chaparral (0226)",21.956396000000002,-99.932547999999997,6,"*","*",1,240240226,null,null,null,{"$f":"IFERROR(VLOOKUP(CONCATENATE(B3964,D3964),Padrón_Indígenas!$A$2:$G$988,7,0),\"No\")","v":"No"}]
[24,"024","Rioverde","0266","Rancho el Trébol (0266)","R","Rioverde (024)Rancho el Trébol (0266)",22.097073000000002,-100.052415,4,"*","*",1,240240266,null,null,null,{"$f":"IFERROR(VLOOKUP(CONCATENATE(B3969,D3969),Padrón_Indígenas!$A$2:$G$988,7,0),\"No\")","v":"No"}]
[24,"024","Rioverde","0267","Rancho el Vergel (0267)","R","Rioverde (024)Rancho el Vergel (0267)",22.126705999999999,-100.07355699999999,2,"*","*",1,240240267,"SI",null,null,{"$f":"IFERROR(VLOOKUP(CONCATENATE(B3973,D3973),Padrón_Indígenas!$A$2:$G$988,7,0),\"No\")","v":"No"}]
[24,"024","Rioverde","0225","Rancho la Concepción (0225)","R","Rioverde (024)Rancho la Concepción (0225)",21.957259000000001,-99.942610000000002,4,"*","*",1,240240225,null,null,null,{"$f":"IFERROR(VLOOKUP(CONCATENATE(B3977,D3977),Padrón_Indígenas!$A$2:$G$988,7,0),\"No\")","v":"No"}]
[24,"024","Rioverde","0434","Rancho la Gloria (0434)","R","Rioverde (024)Rancho la Gloria (0434)",22.113610999999999,-100.078889,6,"*","*",1,240240434,null,null,null,{"$f":"IFERROR(VLOOKUP(CONCATENATE(B3978,D3978),Padrón_Indígenas!$A$2:$G$988,7,0),\"No\")","v":"No"}]
[24,"024","Rioverde","0315","Rancho la Trinidad (0315)","R","Rioverde (024)Rancho la Trinidad (0315)",21.973799,-99.963784000000004,0,0,0,0,240240315,null,null,null,{"$f":"IFERROR(VLOOKUP(CONCATENATE(B3982,D3982),Padrón_Indígenas!$A$2:$G$988,7,0),\"No\")","v":"No"}]
[24,"024","Rioverde","0459","Rancho Loredo's (0459)","R","Rioverde (024)Rancho Loredo's (0459)",21.874561,-99.923372999999998,0,0,0,0,240240459,null,null,null,{"$f":"IFERROR(VLOOKUP(CONCATENATE(B3987,D3987),Padrón_Indígenas!$A$2:$G$988,7,0),\"No\")","v":"No"}]
[24,"024","Rioverde","0312","Rancho los Olivos (0312)","R","Rioverde (024)Rancho los Olivos (0312)",21.944544,-99.955690000000004,1,"*","*",1,240240312,null,null,null,{"$f":"IFERROR(VLOOKUP(CONCATENATE(B3990,D3990),Padrón_Indígenas!$A$2:$G$988,7,0),\"No\")","v":"No"}]
[24,"024","Rioverde","0353","Rancho los Salitrillos (El Mostrenco) (0353)","R","Rioverde (024)Rancho los Salitrillos (El Mostrenco) (0353)",21.919646,-100.013499,0,0,0,0,240240353,null,null,null,{"$f":"IFERROR(VLOOKUP(CONCATENATE(B3993,D3993),Padrón_Indígenas!$A$2:$G$988,7,0),\"No\")","v":"No"}]
[24,"024","Rioverde","0499","Rancho San Fidel (0499)","R","Rioverde (024)Rancho San Fidel (0499)",22.047222000000001,-99.855833000000004,0,0,0,0,240240499,null,null,null,{"$f":"IFERROR(VLOOKUP(CONCATENATE(B3996,D3996),Padrón_Indígenas!$A$2:$G$988,7,0),\"No\")","v":"No"}]
[24,"024","Rioverde","0378","Rancho San Isidro (0378)","R","Rioverde (024)Rancho San Isidro (0378)",22.120833000000001,-100.076944,0,0,0,0,240240378,null,null,null,{"$f":"IFERROR(VLOOKUP(CONCATENATE(B4001,D4001),Padrón_Indígenas!$A$2:$G$988,7,0),\"No\")","v":"No"}]
[24,"024","Rioverde","0439","Rancho San Juan (0439)","R","Rioverde (024)Rancho San Juan (0439)",21.965636,-99.961230999999998,1,"*","*",1,240240439,null,null,null,{"$f":"IFERROR(VLOOKUP(CONCATENATE(B4005,D4005),Padrón_Indígenas!$A$2:$G$988,7,0),\"No\")","v":"No"}]
[24,"024","Rioverde","0330","Rancho San Martín (Familia Prado) (0330)","R","Rioverde (024)Rancho San Martín (Familia Prado) (0330)",21.745560999999999,-99.959203000000002,0,0,0,0,240240330,null,null,null,{"$f":"IFERROR(VLOOKUP(CONCATENATE(B4006,D4006),Padrón_Indígenas!$A$2:$G$988,7,0),\"No\")","v":"No"}]
[24,"024","Rioverde","0467","Rancho Tierra Blanca (0467)","R","Rioverde (024)Rancho Tierra Blanca (0467)",21.938407000000002,-99.947912000000002,0,0,0,0,240240467,null,null,null,{"$f":"IFERROR(VLOOKUP(CONCATENATE(B4010,D4010),Padrón_Indígenas!$A$2:$G$988,7,0),\"No\")","v":"No"}]
[24,"024","Rioverde","0068","Redención Nacional (0068)","R","Rioverde (024)Redención Nacional (0068)",21.909524000000001,-99.894139999999993,119,69,50,33,240240068,null,"Medio","Muy bajo",{"$f":"IFERROR(VLOOKUP(CONCATENATE(B4013,D4013),Padrón_Indígenas!$A$2:$G$988,7,0),\"No\")","v":"No"}]
[24,"024","Rioverde","0074","San Diego (0074)","R","Rioverde (024)San Diego (0074)",21.915592,-100.102616,1065,515,550,305,240240074,"SI","Alto","Bajo",{"$f":"IFERROR(VLOOKUP(CONCATENATE(B4019,D4019),Padrón_Indígenas!$A$2:$G$988,7,0),\"No\")","v":"No"}]
[24,"024","Rioverde","0075","San Francisco (0075)","R","Rioverde (024)San Francisco (0075)",22.073384999999998,-99.860640000000004,1583,797,786,391,240240075,"SI","Alto","Medio",{"$f":"IFERROR(VLOOKUP(CONCATENATE(B4021,D4021),Padrón_Indígenas!$A$2:$G$988,7,0),\"No\")","v":"No"}]
[24,"024","Rioverde","0141","San Isidro de Vigas (El Huacal) (0141)","R","Rioverde (024)San Isidro de Vigas (El Huacal) (0141)",21.969985999999999,-100.28097099999999,79,40,39,21,240240141,null,"Alto","Bajo",{"$f":"IFERROR(VLOOKUP(CONCATENATE(B4024,D4024),Padrón_Indígenas!$A$2:$G$988,7,0),\"No\")","v":"No"}]
[24,"024","Rioverde","0081","San José del Tapanco (0081)","R","Rioverde (024)San José del Tapanco (0081)",21.772793,-99.907032000000001,1670,799,871,488,240240081,"SI","Alto","Bajo",{"$f":"IFERROR(VLOOKUP(CONCATENATE(B4029,D4029),Padrón_Indígenas!$A$2:$G$988,7,0),\"No\")","v":"No"}]
[24,"024","Rioverde","0085","San Sebastián (0085)","R","Rioverde (024)San Sebastián (0085)",21.767396000000002,-99.821957999999995,254,120,134,70,240240085,null,"Alto","Bajo",{"$f":"IFERROR(VLOOKUP(CONCATENATE(B4033,D4033),Padrón_Indígenas!$A$2:$G$988,7,0),\"No\")","v":"No"}]
[24,"024","Rioverde","0089","San Vicente (0089)","R","Rioverde (024)San Vicente (0089)",21.966719000000001,-99.763523000000006,658,333,325,148,240240089,"SI","Alto","Bajo",{"$f":"IFERROR(VLOOKUP(CONCATENATE(B4034,D4034),Padrón_Indígenas!$A$2:$G$988,7,0),\"No\")","v":"No"}]
[24,"024","Rioverde","0086","Santa Isabel (0086)","R","Rioverde (024)Santa Isabel (0086)",21.832262,-99.872174000000001,237,120,117,60,240240086,"SI","Alto","Medio",{"$f":"IFERROR(VLOOKUP(CONCATENATE(B4038,D4038),Padrón_Indígenas!$A$2:$G$988,7,0),\"No\")","v":"No"}]
[24,"024","Rioverde","0273","Santa María de las Parras (El Soldado) (0273)","R","Rioverde (024)Santa María de las Parras (El Soldado) (0273)",22.133889,-99.984166999999999,0,0,0,0,240240273,null,null,null,{"$f":"IFERROR(VLOOKUP(CONCATENATE(B4041,D4041),Padrón_Indígenas!$A$2:$G$988,7,0),\"No\")","v":"No"}]
[24,"024","Rioverde","0406","Sierra de la Virgen (El Chorro) (0406)","R","Rioverde (024)Sierra de la Virgen (El Chorro) (0406)",21.687435000000001,-100.15513900000001,0,0,0,0,240240406,null,null,null,{"$f":"IFERROR(VLOOKUP(CONCATENATE(B4045,D4045),Padrón_Indígenas!$A$2:$G$988,7,0),\"No\")","v":"No"}]
[24,"024","Rioverde","0091","Sorola (0091)","R","Rioverde (024)Sorola (0091)",21.764455999999999,-100.084186,0,0,0,0,240240091,null,null,null,{"$f":"IFERROR(VLOOKUP(CONCATENATE(B4047,D4047),Padrón_Indígenas!$A$2:$G$988,7,0),\"No\")","v":"No"}]
[24,"024","Rioverde","0493","Valle de los Ángeles (0493)","R","Rioverde (024)Valle de los Ángeles (0493)",21.951346999999998,-99.985733999999994,9,"*","*",2,240240493,null,null,null,{"$f":"IFERROR(VLOOKUP(CONCATENATE(B4053,D4053),Padrón_Indígenas!$A$2:$G$988,7,0),\"No\")","v":"No"}]
[24,"024","Rioverde","0204","Zapotito (0204)","R","Rioverde (024)Zapotito (0204)",21.775333,-100.174269,5,"*","*",2,240240204,null,null,null,{"$f":"IFERROR(VLOOKUP(CONCATENATE(B4056,D4056),Padrón_Indígenas!$A$2:$G$988,7,0),\"No\")","v":"No"}]
[24,"025","Salinas","0152","Bajío de los Encinos (Los Pirules) (0152)","R","Salinas (025)Bajío de los Encinos (Los Pirules) (0152)",22.793863000000002,-101.799226,18,7,11,3,240250152,null,"Alto","Medio",{"$f":"IFERROR(VLOOKUP(CONCATENATE(B4060,D4060),Padrón_Indígenas!$A$2:$G$988,7,0),\"No\")","v":"No"}]
[24,"025","Salinas","0105","Cerrito de los Tapeistes (0105)","R","Salinas (025)Cerrito de los Tapeistes (0105)",22.611405999999999,-101.61095899999999,12,"*","*",2,240250105,null,null,null,{"$f":"IFERROR(VLOOKUP(CONCATENATE(B4061,D4061),Padrón_Indígenas!$A$2:$G$988,7,0),\"No\")","v":"No"}]
[24,"025","Salinas","0058","Cuéllar (0058)","R","Salinas (025)Cuéllar (0058)",22.730709000000001,-101.71460999999999,120,59,61,19,240250058,null,"Alto","Medio",{"$f":"IFERROR(VLOOKUP(CONCATENATE(B4065,D4065),Padrón_Indígenas!$A$2:$G$988,7,0),\"No\")","v":"No"}]
[24,"025","Salinas","0104","El Carajo (0104)","R","Salinas (025)El Carajo (0104)",22.716712000000001,-101.63491399999999,66,37,29,12,240250104,null,"Alto","Medio",{"$f":"IFERROR(VLOOKUP(CONCATENATE(B4070,D4070),Padrón_Indígenas!$A$2:$G$988,7,0),\"No\")","v":"No"}]
[24,"025","Salinas","0073","El Cuervo (0073)","R","Salinas (025)El Cuervo (0073)",22.479806,-101.79765500000001,149,77,72,33,240250073,null,"Alto","Medio",{"$f":"IFERROR(VLOOKUP(CONCATENATE(B4073,D4073),Padrón_Indígenas!$A$2:$G$988,7,0),\"No\")","v":"No"}]
[24,"025","Salinas","0107","El Durazno (0107)","R","Salinas (025)El Durazno (0107)",22.63,-101.65388900000001,0,0,0,0,240250107,null,null,null,{"$f":"IFERROR(VLOOKUP(CONCATENATE(B4075,D4075),Padrón_Indígenas!$A$2:$G$988,7,0),\"No\")","v":"No"}]
[24,"025","Salinas","0074","El Lobito (0074)","R","Salinas (025)El Lobito (0074)",22.712268999999999,-101.684853,2,"*","*",1,240250074,null,null,null,{"$f":"IFERROR(VLOOKUP(CONCATENATE(B4081,D4081),Padrón_Indígenas!$A$2:$G$988,7,0),\"No\")","v":"No"}]
[24,"025","Salinas","0149","El Mezquite (0149)","R","Salinas (025)El Mezquite (0149)",22.589375,-101.716362,0,0,0,0,240250149,null,null,null,{"$f":"IFERROR(VLOOKUP(CONCATENATE(B4084,D4084),Padrón_Indígenas!$A$2:$G$988,7,0),\"No\")","v":"No"}]
[24,"025","Salinas","0156","El Peñón (Daniel Chávez) (0156)","R","Salinas (025)El Peñón (Daniel Chávez) (0156)",22.576954000000001,-101.736726,6,"*","*",1,240250156,null,null,null,{"$f":"IFERROR(VLOOKUP(CONCATENATE(B4088,D4088),Padrón_Indígenas!$A$2:$G$988,7,0),\"No\")","v":"No"}]
[24,"025","Salinas","0022","El Potro (0022)","R","Salinas (025)El Potro (0022)",22.643789999999999,-101.783334,379,177,202,93,240250022,null,"Alto","Bajo",{"$f":"IFERROR(VLOOKUP(CONCATENATE(B4089,D4089),Padrón_Indígenas!$A$2:$G$988,7,0),\"No\")","v":"No"}]
[24,"025","Salinas","0157","El Venadito (0157)","R","Salinas (025)El Venadito (0157)",22.643618,-101.66815,0,0,0,0,240250157,null,null,null,{"$f":"IFERROR(VLOOKUP(CONCATENATE(B4093,D4093),Padrón_Indígenas!$A$2:$G$988,7,0),\"No\")","v":"No"}]
[24,"025","Salinas","0014","Guadalupito (0014)","R","Salinas (025)Guadalupito (0014)",22.713346999999999,-101.764359,101,55,46,18,240250014,null,"Alto","Medio",{"$f":"IFERROR(VLOOKUP(CONCATENATE(B4097,D4097),Padrón_Indígenas!$A$2:$G$988,7,0),\"No\")","v":"No"}]
[24,"025","Salinas","0006","La Bolsa (0006)","R","Salinas (025)La Bolsa (0006)",22.680296999999999,-101.81993900000001,178,92,86,45,240250006,null,"Alto","Bajo",{"$f":"IFERROR(VLOOKUP(CONCATENATE(B4102,D4102),Padrón_Indígenas!$A$2:$G$988,7,0),\"No\")","v":"No"}]
[24,"025","Salinas","0159","La Esperanza (0159)","R","Salinas (025)La Esperanza (0159)",22.582222000000002,-101.715278,2,"*","*",1,240250159,null,null,null,{"$f":"IFERROR(VLOOKUP(CONCATENATE(B4104,D4104),Padrón_Indígenas!$A$2:$G$988,7,0),\"No\")","v":"No"}]
[24,"025","Salinas","0110","La Huerta (José López) (0110)","R","Salinas (025)La Huerta (José López) (0110)",22.596391000000001,-101.716328,0,0,0,0,240250110,null,null,null,{"$f":"IFERROR(VLOOKUP(CONCATENATE(B4107,D4107),Padrón_Indígenas!$A$2:$G$988,7,0),\"No\")","v":"No"}]
[24,"025","Salinas","0017","La Mesilla (0017)","R","Salinas (025)La Mesilla (0017)",22.678269,-101.62030300000001,188,104,84,42,240250017,null,"Alto","Medio",{"$f":"IFERROR(VLOOKUP(CONCATENATE(B4112,D4112),Padrón_Indígenas!$A$2:$G$988,7,0),\"No\")","v":"No"}]
[24,"025","Salinas","0121","La Pasión (0121)","R","Salinas (025)La Pasión (0121)",23.168133000000001,-101.525661,0,0,0,0,240250121,null,null,null,{"$f":"IFERROR(VLOOKUP(CONCATENATE(B4116,D4116),Padrón_Indígenas!$A$2:$G$988,7,0),\"No\")","v":"No"}]
[24,"025","Salinas","0134","La Pedrera (0134)","R","Salinas (025)La Pedrera (0134)",23.013862,-101.576885,2,"*","*",1,240250134,null,null,null,{"$f":"IFERROR(VLOOKUP(CONCATENATE(B4117,D4117),Padrón_Indígenas!$A$2:$G$988,7,0),\"No\")","v":"No"}]
[24,"025","Salinas","0069","Laguna del Carmen (0069)","R","Salinas (025)Laguna del Carmen (0069)",22.650093999999999,-101.602214,2,"*","*",1,240250069,null,null,null,{"$f":"IFERROR(VLOOKUP(CONCATENATE(B4121,D4121),Padrón_Indígenas!$A$2:$G$988,7,0),\"No\")","v":"No"}]
[24,"025","Salinas","0148","Las Coloradas (0148)","R","Salinas (025)Las Coloradas (0148)",22.579554000000002,-101.60097399999999,11,"*","*",2,240250148,null,null,null,{"$f":"IFERROR(VLOOKUP(CONCATENATE(B4125,D4125),Padrón_Indígenas!$A$2:$G$988,7,0),\"No\")","v":"No"}]
[24,"025","Salinas","0164","Los Güeros (0164)","R","Salinas (025)Los Güeros (0164)",22.591111000000001,-101.73867,22,11,11,6,240250164,null,"Alto","Bajo",{"$f":"IFERROR(VLOOKUP(CONCATENATE(B4130,D4130),Padrón_Indígenas!$A$2:$G$988,7,0),\"No\")","v":"No"}]
[24,"025","Salinas","0098","Los Montecitos (0098)","R","Salinas (025)Los Montecitos (0098)",22.634722,-101.845833,49,23,26,12,240250098,null,"Alto","Medio",{"$f":"IFERROR(VLOOKUP(CONCATENATE(B4132,D4132),Padrón_Indígenas!$A$2:$G$988,7,0),\"No\")","v":"No"}]
[24,"025","Salinas","0086","Noria de San Juan (0086)","R","Salinas (025)Noria de San Juan (0086)",22.911266999999999,-101.46892699999999,5,"*","*",1,240250086,null,null,null,{"$f":"IFERROR(VLOOKUP(CONCATENATE(B4136,D4136),Padrón_Indígenas!$A$2:$G$988,7,0),\"No\")","v":"No"}]
[24,"025","Salinas","0021","Palma Pegada (0021)","R","Salinas (025)Palma Pegada (0021)",22.708978999999999,-101.78970099999999,1516,723,793,385,240250021,null,"Alto","Bajo",{"$f":"IFERROR(VLOOKUP(CONCATENATE(B4139,D4139),Padrón_Indígenas!$A$2:$G$988,7,0),\"No\")","v":"No"}]
[24,"025","Salinas","0094","Piedras Negras (0094)","R","Salinas (025)Piedras Negras (0094)",22.767137000000002,-101.619968,56,25,31,12,240250094,null,"Alto","Alto",{"$f":"IFERROR(VLOOKUP(CONCATENATE(B4141,D4141),Padrón_Indígenas!$A$2:$G$988,7,0),\"No\")","v":"No"}]
[24,"025","Salinas","0024","Punteros (San José de Punteros) (0024)","R","Salinas (025)Punteros (San José de Punteros) (0024)",22.749043,-101.779787,707,325,382,158,240250024,null,"Alto","Medio",{"$f":"IFERROR(VLOOKUP(CONCATENATE(B4144,D4144),Padrón_Indígenas!$A$2:$G$988,7,0),\"No\")","v":"No"}]
[24,"025","Salinas","0143","Rancho la Esperanza (0143)","R","Salinas (025)Rancho la Esperanza (0143)",23.074439000000002,-101.559663,9,"*","*",2,240250143,null,null,null,{"$f":"IFERROR(VLOOKUP(CONCATENATE(B4148,D4148),Padrón_Indígenas!$A$2:$G$988,7,0),\"No\")","v":"No"}]
[24,"025","Salinas","0146","Rincón de Diego Martín (Charco Colorado) (0146)","R","Salinas (025)Rincón de Diego Martín (Charco Colorado) (0146)",22.639603000000001,-101.701464,17,9,8,4,240250146,null,"Muy alto","Alto",{"$f":"IFERROR(VLOOKUP(CONCATENATE(B4153,D4153),Padrón_Indígenas!$A$2:$G$988,7,0),\"No\")","v":"No"}]
[24,"025","Salinas","0016","Salto Matorral (0016)","R","Salinas (025)Salto Matorral (0016)",22.555392000000001,-101.68877500000001,38,16,22,8,240250016,null,"Muy alto","Alto",{"$f":"IFERROR(VLOOKUP(CONCATENATE(B4156,D4156),Padrón_Indígenas!$A$2:$G$988,7,0),\"No\")","v":"No"}]
[24,"025","Salinas","0068","San Cayetano (0068)","R","Salinas (025)San Cayetano (0068)",22.764320000000001,-101.505859,2,"*","*",1,240250068,null,null,null,{"$f":"IFERROR(VLOOKUP(CONCATENATE(B4158,D4158),Padrón_Indígenas!$A$2:$G$988,7,0),\"No\")","v":"No"}]
[24,"025","Salinas","0032","San Isidro Peñón Blanco (0032)","R","Salinas (025)San Isidro Peñón Blanco (0032)",22.480018999999999,-101.79348299999999,273,128,145,79,240250032,null,"Alto","Bajo",{"$f":"IFERROR(VLOOKUP(CONCATENATE(B4164,D4164),Padrón_Indígenas!$A$2:$G$988,7,0),\"No\")","v":"No"}]
[24,"025","Salinas","0080","San José del Olvido (0080)","R","Salinas (025)San José del Olvido (0080)",22.562778000000002,-101.755278,11,5,6,3,240250080,null,"Alto","Alto",{"$f":"IFERROR(VLOOKUP(CONCATENATE(B4167,D4167),Padrón_Indígenas!$A$2:$G$988,7,0),\"No\")","v":"No"}]
[24,"025","Salinas","0054","San Juan sin Agua (0054)","R","Salinas (025)San Juan sin Agua (0054)",22.525749000000001,-101.690404,76,41,35,13,240250054,null,"Muy alto","Medio",{"$f":"IFERROR(VLOOKUP(CONCATENATE(B4169,D4169),Padrón_Indígenas!$A$2:$G$988,7,0),\"No\")","v":"No"}]
[24,"025","Salinas","0100","San Pedro Alcántar (La Chinche) (0100)","R","Salinas (025)San Pedro Alcántar (La Chinche) (0100)",22.646941000000002,-101.614644,21,10,11,4,240250100,null,"Alto","Medio",{"$f":"IFERROR(VLOOKUP(CONCATENATE(B4172,D4172),Padrón_Indígenas!$A$2:$G$988,7,0),\"No\")","v":"No"}]
[24,"025","Salinas","0140","San Tadeo (0140)","R","Salinas (025)San Tadeo (0140)",22.803531,-101.76710199999999,51,24,27,11,240250140,null,"Alto","Bajo",{"$f":"IFERROR(VLOOKUP(CONCATENATE(B4176,D4176),Padrón_Indígenas!$A$2:$G$988,7,0),\"No\")","v":"No"}]
[24,"025","Salinas","0035","Santa María (0035)","R","Salinas (025)Santa María (0035)",22.734777000000001,-101.600903,197,107,90,40,240250035,null,"Alto","Medio",{"$f":"IFERROR(VLOOKUP(CONCATENATE(B4181,D4181),Padrón_Indígenas!$A$2:$G$988,7,0),\"No\")","v":"No"}]
[24,"025","Salinas","0051","Viborillas (0051)","R","Salinas (025)Viborillas (0051)",22.659721999999999,-101.907222,96,46,50,24,240250051,"SI","Alto","Medio",{"$f":"IFERROR(VLOOKUP(CONCATENATE(B4184,D4184),Padrón_Indígenas!$A$2:$G$988,7,0),\"No\")","v":"No"}]
[24,"026","San_Antonio","0047","Al Tzájib (0047)","R","San Antonio (026)Al Tzájib (0047)",21.646704,-98.849360000000004,259,133,126,49,240260047,"SI","Alto","Medio",{"$f":"IFERROR(VLOOKUP(CONCATENATE(B4188,D4188),Padrón_Indígenas!$A$2:$G$988,7,0),\"No\")","v":"Sí"}]
[24,"026","San_Antonio","0098","Altavista Tanchahuil (0098)","R","San Antonio (026)Altavista Tanchahuil (0098)",21.587599999999998,-98.882496000000003,"-","-","-","-",240260098,"SI",null,null,{"$f":"IFERROR(VLOOKUP(CONCATENATE(B4190,D4190),Padrón_Indígenas!$A$2:$G$988,7,0),\"No\")","v":"No"}]
[24,"026","San_Antonio","0032","Canoas (0032)","R","San Antonio (026)Canoas (0032)",21.636292000000001,-98.829903999999999,0,0,0,0,240260032,null,null,null,{"$f":"IFERROR(VLOOKUP(CONCATENATE(B4195,D4195),Padrón_Indígenas!$A$2:$G$988,7,0),\"No\")","v":"No"}]
[24,"026","San_Antonio","0085","Colonia Doce de Octubre (0085)","R","San Antonio (026)Colonia Doce de Octubre (0085)",21.616982,-98.899604999999994,44,24,20,9,240260085,"SI","Alto","Medio",{"$f":"IFERROR(VLOOKUP(CONCATENATE(B4199,D4199),Padrón_Indígenas!$A$2:$G$988,7,0),\"No\")","v":"No"}]
[24,"026","San_Antonio","0055","Colonia el Progreso (0055)","R","San Antonio (026)Colonia el Progreso (0055)",21.586307000000001,-98.879605999999995,294,158,136,60,240260055,"SI","Alto","Medio",{"$f":"IFERROR(VLOOKUP(CONCATENATE(B4200,D4200),Padrón_Indígenas!$A$2:$G$988,7,0),\"No\")","v":"Sí"}]
[24,"026","San_Antonio","0037","El Crucero de Lejem (0037)","R","San Antonio (026)El Crucero de Lejem (0037)",21.598973999999998,-98.878563,105,42,63,21,240260037,"SI","Alto","Medio",{"$f":"IFERROR(VLOOKUP(CONCATENATE(B4204,D4204),Padrón_Indígenas!$A$2:$G$988,7,0),\"No\")","v":"No"}]
[24,"026","San_Antonio","0070","El Palmar de Cuatro Hermanos (0070)","R","San Antonio (026)El Palmar de Cuatro Hermanos (0070)",21.650010000000002,-98.735220999999996,17,9,8,5,240260070,"SI","Muy alto","Muy alto",{"$f":"IFERROR(VLOOKUP(CONCATENATE(B4208,D4208),Padrón_Indígenas!$A$2:$G$988,7,0),\"No\")","v":"No"}]
[24,"026","San_Antonio","0003","Ic Té (Ipte) (0003)","R","San Antonio (026)Ic Té (Ipte) (0003)",21.615687000000001,-98.879250999999996,95,46,49,19,240260003,"SI","Alto","Medio",{"$f":"IFERROR(VLOOKUP(CONCATENATE(B4213,D4213),Padrón_Indígenas!$A$2:$G$988,7,0),\"No\")","v":"No"}]
[24,"026","San_Antonio","0074","La Rosita (0074)","R","San Antonio (026)La Rosita (0074)",21.654959000000002,-98.840947999999997,82,48,34,20,240260074,"SI","Alto","Medio",{"$f":"IFERROR(VLOOKUP(CONCATENATE(B4216,D4216),Padrón_Indígenas!$A$2:$G$988,7,0),\"No\")","v":"Sí"}]
[24,"026","San_Antonio","0052","Lanash (El Naranjal) (0052)","R","San Antonio (026)Lanash (El Naranjal) (0052)",21.615081,-98.908586,52,27,25,12,240260052,"SI","Alto","Medio",{"$f":"IFERROR(VLOOKUP(CONCATENATE(B4218,D4218),Padrón_Indígenas!$A$2:$G$988,7,0),\"No\")","v":"Sí"}]
[24,"026","San_Antonio","0023","Mante (0023)","R","San Antonio (026)Mante (0023)",21.627331999999999,-98.909143,17,6,11,6,240260023,"SI","Alto","Medio",{"$f":"IFERROR(VLOOKUP(CONCATENATE(B4223,D4223),Padrón_Indígenas!$A$2:$G$988,7,0),\"No\")","v":"No"}]
[24,"026","San_Antonio","0054","Piedra Parada (0054)","R","San Antonio (026)Piedra Parada (0054)",21.580268,-98.855615,6,"*","*",1,240260054,"SI",null,null,{"$f":"IFERROR(VLOOKUP(CONCATENATE(B4227,D4227),Padrón_Indígenas!$A$2:$G$988,7,0),\"No\")","v":"No"}]
[24,"026","San_Antonio","0006","Pokchich (0006)","R","San Antonio (026)Pokchich (0006)",21.647808999999999,-98.810434999999998,273,127,146,66,240260006,"SI","Alto","Medio",{"$f":"IFERROR(VLOOKUP(CONCATENATE(B4228,D4228),Padrón_Indígenas!$A$2:$G$988,7,0),\"No\")","v":"Sí"}]
[24,"026","San_Antonio","0093","Pozo Blanco III (Tanchahuil) (0093)","R","San Antonio (026)Pozo Blanco III (Tanchahuil) (0093)",21.579456,-98.868767000000005,72,35,37,21,240260093,"SI","Alto","Medio",{"$f":"IFERROR(VLOOKUP(CONCATENATE(B4231,D4231),Padrón_Indígenas!$A$2:$G$988,7,0),\"No\")","v":"Sí"}]
[24,"026","San_Antonio","0021","Rancho la Ladrillera (0021)","R","San Antonio (026)Rancho la Ladrillera (0021)",21.606662,-98.886323000000004,0,0,0,0,240260021,null,null,null,{"$f":"IFERROR(VLOOKUP(CONCATENATE(B4236,D4236),Padrón_Indígenas!$A$2:$G$988,7,0),\"No\")","v":"No"}]
[24,"026","San_Antonio","0020","Rancho Nuevo (0020)","R","San Antonio (026)Rancho Nuevo (0020)",21.610212000000001,-98.900240999999994,0,0,0,0,240260020,null,null,null,{"$f":"IFERROR(VLOOKUP(CONCATENATE(B4239,D4239),Padrón_Indígenas!$A$2:$G$988,7,0),\"No\")","v":"No"}]
[24,"026","San_Antonio","0073","Rancho Palmeras (0073)","R","San Antonio (026)Rancho Palmeras (0073)",21.612334000000001,-98.900520999999998,12,7,5,3,240260073,"SI","Muy alto","Alto",{"$f":"IFERROR(VLOOKUP(CONCATENATE(B4241,D4241),Padrón_Indígenas!$A$2:$G$988,7,0),\"No\")","v":"No"}]
[24,"026","San_Antonio","0008","Santa Martha (0008)","R","San Antonio (026)Santa Martha (0008)",21.650865,-98.750472000000002,808,422,386,239,240260008,"SI","Alto","Bajo",{"$f":"IFERROR(VLOOKUP(CONCATENATE(B4247,D4247),Padrón_Indígenas!$A$2:$G$988,7,0),\"No\")","v":"Sí"}]
[24,"026","San_Antonio","0018","Tan D'huyú (Tanzuyo) (0018)","R","San Antonio (026)Tan D'huyú (Tanzuyo) (0018)",21.640556,-98.902625,70,31,39,15,240260018,"SI","Alto","Medio",{"$f":"IFERROR(VLOOKUP(CONCATENATE(B4250,D4250),Padrón_Indígenas!$A$2:$G$988,7,0),\"No\")","v":"Sí"}]
[24,"026","San_Antonio","0017","Tan Gilim Tres (Leonardo Berberena) (0017)","R","San Antonio (026)Tan Gilim Tres (Leonardo Berberena) (0017)",21.626252000000001,-98.882857000000001,0,0,0,0,240260017,null,null,null,{"$f":"IFERROR(VLOOKUP(CONCATENATE(B4252,D4252),Padrón_Indígenas!$A$2:$G$988,7,0),\"No\")","v":"No"}]
[24,"026","San_Antonio","0076","Tanchahuil Segunda Sección (0076)","R","San Antonio (026)Tanchahuil Segunda Sección (0076)",21.606301999999999,-98.920601000000005,395,215,180,75,240260076,"SI","Muy alto","Medio",{"$f":"IFERROR(VLOOKUP(CONCATENATE(B4255,D4255),Padrón_Indígenas!$A$2:$G$988,7,0),\"No\")","v":"No"}]
[24,"026","San_Antonio","0014","Tzab It'adh (0014)","R","San Antonio (026)Tzab It'adh (0014)",21.631281999999999,-98.886007000000006,33,20,13,9,240260014,"SI","Muy alto","Alto",{"$f":"IFERROR(VLOOKUP(CONCATENATE(B4260,D4260),Padrón_Indígenas!$A$2:$G$988,7,0),\"No\")","v":"No"}]
[24,"026","San_Antonio","0012","Xolol (0012)","R","San Antonio (026)Xolol (0012)",21.633939999999999,-98.880374000000003,233,117,116,60,240260012,"SI","Alto","Medio",{"$f":"IFERROR(VLOOKUP(CONCATENATE(B4264,D4264),Padrón_Indígenas!$A$2:$G$988,7,0),\"No\")","v":"Sí"}]
[24,"027","San_Ciro_de_Acosta","0003","Agua Fría (0003)","R","San Ciro de Acosta (027)Agua Fría (0003)",21.553635,-100.066101,70,27,43,20,240270003,null,"Alto","Medio",{"$f":"IFERROR(VLOOKUP(CONCATENATE(B4267,D4267),Padrón_Indígenas!$A$2:$G$988,7,0),\"No\")","v":"No"}]
[24,"027","San_Ciro_de_Acosta","0008","Anteojos (0008)","R","San Ciro de Acosta (027)Anteojos (0008)",21.567968,-100.063181,0,0,0,0,240270008,null,null,null,{"$f":"IFERROR(VLOOKUP(CONCATENATE(B4269,D4269),Padrón_Indígenas!$A$2:$G$988,7,0),\"No\")","v":"No"}]
[24,"027","San_Ciro_de_Acosta","0068","Charco Largo (0068)","R","San Ciro de Acosta (027)Charco Largo (0068)",21.606317000000001,-100.01488000000001,19,8,11,4,240270068,null,"Alto","Medio",{"$f":"IFERROR(VLOOKUP(CONCATENATE(B4275,D4275),Padrón_Indígenas!$A$2:$G$988,7,0),\"No\")","v":"No"}]
[24,"027","San_Ciro_de_Acosta","0026","Corral Quemado (0026)","R","San Ciro de Acosta (027)Corral Quemado (0026)",21.589047999999998,-99.967775000000003,53,32,21,21,240270026,null,"Muy alto","Alto",{"$f":"IFERROR(VLOOKUP(CONCATENATE(B4278,D4278),Padrón_Indígenas!$A$2:$G$988,7,0),\"No\")","v":"No"}]
[24,"027","San_Ciro_de_Acosta","0084","El Cañón (0084)","R","San Ciro de Acosta (027)El Cañón (0084)",21.557376999999999,-99.779151999999996,8,6,2,3,240270084,null,"Alto","Bajo",{"$f":"IFERROR(VLOOKUP(CONCATENATE(B4282,D4282),Padrón_Indígenas!$A$2:$G$988,7,0),\"No\")","v":"No"}]
[24,"027","San_Ciro_de_Acosta","0019","El Capulín Chico (0019)","R","San Ciro de Acosta (027)El Capulín Chico (0019)",21.583235999999999,-99.865718000000001,67,31,36,18,240270019,null,"Alto","Bajo",{"$f":"IFERROR(VLOOKUP(CONCATENATE(B4283,D4283),Padrón_Indígenas!$A$2:$G$988,7,0),\"No\")","v":"No"}]
[24,"027","San_Ciro_de_Acosta","0029","El Chupadero (0029)","R","San Ciro de Acosta (027)El Chupadero (0029)",21.569769000000001,-99.912035000000003,0,0,0,0,240270029,null,null,null,{"$f":"IFERROR(VLOOKUP(CONCATENATE(B4287,D4287),Padrón_Indígenas!$A$2:$G$988,7,0),\"No\")","v":"No"}]
[24,"027","San_Ciro_de_Acosta","0040","El Órgano (0040)","R","San Ciro de Acosta (027)El Órgano (0040)",21.584603999999999,-99.799547000000004,202,99,103,61,240270040,null,"Alto","Bajo",{"$f":"IFERROR(VLOOKUP(CONCATENATE(B4291,D4291),Padrón_Indígenas!$A$2:$G$988,7,0),\"No\")","v":"No"}]
[24,"027","San_Ciro_de_Acosta","0057","El Rejalgar (Ojo de Agua) (0057)","R","San Ciro de Acosta (027)El Rejalgar (Ojo de Agua) (0057)",21.559626999999999,-99.903415999999993,12,5,7,4,240270057,null,"Alto","Medio",{"$f":"IFERROR(VLOOKUP(CONCATENATE(B4296,D4296),Padrón_Indígenas!$A$2:$G$988,7,0),\"No\")","v":"No"}]
[24,"027","San_Ciro_de_Acosta","0063","El Soyotal (0063)","R","San Ciro de Acosta (027)El Soyotal (0063)",21.521415000000001,-99.796936000000002,115,60,55,24,240270063,null,"Alto","Bajo",{"$f":"IFERROR(VLOOKUP(CONCATENATE(B4299,D4299),Padrón_Indígenas!$A$2:$G$988,7,0),\"No\")","v":"No"}]
[24,"027","San_Ciro_de_Acosta","0034","Joyas del Pino (0034)","R","San Ciro de Acosta (027)Joyas del Pino (0034)",21.520085999999999,-99.883964000000006,1,"*","*",1,240270034,null,null,null,{"$f":"IFERROR(VLOOKUP(CONCATENATE(B4301,D4301),Padrón_Indígenas!$A$2:$G$988,7,0),\"No\")","v":"No"}]
[24,"027","San_Ciro_de_Acosta","0011","La Barranca (0011)","R","San Ciro de Acosta (027)La Barranca (0011)",21.553964000000001,-99.770065000000002,68,31,37,21,240270011,null,"Alto","Medio",{"$f":"IFERROR(VLOOKUP(CONCATENATE(B4304,D4304),Padrón_Indígenas!$A$2:$G$988,7,0),\"No\")","v":"No"}]
[24,"027","San_Ciro_de_Acosta","0081","La Lomita (0081)","R","San Ciro de Acosta (027)La Lomita (0081)",21.569693000000001,-99.853403,8,"*","*",1,240270081,null,null,null,{"$f":"IFERROR(VLOOKUP(CONCATENATE(B4310,D4310),Padrón_Indígenas!$A$2:$G$988,7,0),\"No\")","v":"No"}]
[24,"027","San_Ciro_de_Acosta","0037","La Morita (0037)","R","San Ciro de Acosta (027)La Morita (0037)",21.627776999999998,-99.832767000000004,8,"*","*",2,240270037,null,null,null,{"$f":"IFERROR(VLOOKUP(CONCATENATE(B4311,D4311),Padrón_Indígenas!$A$2:$G$988,7,0),\"No\")","v":"No"}]
[24,"027","San_Ciro_de_Acosta","0053","La Puerta del Tanque (0053)","R","San Ciro de Acosta (027)La Puerta del Tanque (0053)",21.629984,-99.803937000000005,0,0,0,0,240270053,null,null,null,{"$f":"IFERROR(VLOOKUP(CONCATENATE(B4315,D4315),Padrón_Indígenas!$A$2:$G$988,7,0),\"No\")","v":"No"}]
[24,"027","San_Ciro_de_Acosta","0133","Las Hormigas (0133)","R","San Ciro de Acosta (027)Las Hormigas (0133)",21.610310999999999,-100.072278,"-","-","-","-",240270133,null,null,null,{"$f":"IFERROR(VLOOKUP(CONCATENATE(B4319,D4319),Padrón_Indígenas!$A$2:$G$988,7,0),\"No\")","v":"No"}]
[24,"027","San_Ciro_de_Acosta","0112","Los Cajones (0112)","R","San Ciro de Acosta (027)Los Cajones (0112)",21.559443999999999,-100.012778,0,0,0,0,240270112,null,null,null,{"$f":"IFERROR(VLOOKUP(CONCATENATE(B4324,D4324),Padrón_Indígenas!$A$2:$G$988,7,0),\"No\")","v":"No"}]
[24,"027","San_Ciro_de_Acosta","0028","Los Charcos (0028)","R","San Ciro de Acosta (027)Los Charcos (0028)",21.531064000000001,-100.02830400000001,10,4,6,3,240270028,null,"Muy alto","Muy alto",{"$f":"IFERROR(VLOOKUP(CONCATENATE(B4327,D4327),Padrón_Indígenas!$A$2:$G$988,7,0),\"No\")","v":"No"}]
[24,"027","San_Ciro_de_Acosta","0127","Los Parajitos (0127)","R","San Ciro de Acosta (027)Los Parajitos (0127)",21.611567000000001,-100.068854,2,"*","*",1,240270127,null,null,null,{"$f":"IFERROR(VLOOKUP(CONCATENATE(B4330,D4330),Padrón_Indígenas!$A$2:$G$988,7,0),\"No\")","v":"No"}]
[24,"027","San_Ciro_de_Acosta","0128","Nicolás Tolentino (0128)","R","San Ciro de Acosta (027)Nicolás Tolentino (0128)",21.656110999999999,-99.796666999999999,0,0,0,0,240270128,null,null,null,{"$f":"IFERROR(VLOOKUP(CONCATENATE(B4333,D4333),Padrón_Indígenas!$A$2:$G$988,7,0),\"No\")","v":"No"}]
[24,"027","San_Ciro_de_Acosta","0125","Ninguno (0125)","R","San Ciro de Acosta (027)Ninguno (0125)",21.678611,-99.806944000000001,0,0,0,0,240270125,null,null,null,{"$f":"IFERROR(VLOOKUP(CONCATENATE(B4335,D4335),Padrón_Indígenas!$A$2:$G$988,7,0),\"No\")","v":"No"}]
[24,"027","San_Ciro_de_Acosta","0039","Nuevo San Luis (0039)","R","San Ciro de Acosta (027)Nuevo San Luis (0039)",21.612368,-99.881529999999998,55,31,24,14,240270039,null,"Alto","Medio",{"$f":"IFERROR(VLOOKUP(CONCATENATE(B4338,D4338),Padrón_Indígenas!$A$2:$G$988,7,0),\"No\")","v":"No"}]
[24,"027","San_Ciro_de_Acosta","0129","Paraíso Terrenal (0129)","R","San Ciro de Acosta (027)Paraíso Terrenal (0129)",21.674468999999998,-99.805226000000005,1,"*","*",1,240270129,null,null,null,{"$f":"IFERROR(VLOOKUP(CONCATENATE(B4343,D4343),Padrón_Indígenas!$A$2:$G$988,7,0),\"No\")","v":"No"}]
[24,"027","San_Ciro_de_Acosta","0106","Potrero de la Pitahaya (Agustín Morales) (0106)","R","San Ciro de Acosta (027)Potrero de la Pitahaya (Agustín Morales) (0106)",21.656389000000001,-99.793888999999993,0,0,0,0,240270106,null,null,null,{"$f":"IFERROR(VLOOKUP(CONCATENATE(B4347,D4347),Padrón_Indígenas!$A$2:$G$988,7,0),\"No\")","v":"No"}]
[24,"027","San_Ciro_de_Acosta","0095","Potrero del Órgano (0095)","R","San Ciro de Acosta (027)Potrero del Órgano (0095)",21.682797000000001,-99.803843000000001,3,"*","*",1,240270095,null,null,null,{"$f":"IFERROR(VLOOKUP(CONCATENATE(B4350,D4350),Padrón_Indígenas!$A$2:$G$988,7,0),\"No\")","v":"No"}]
[24,"027","San_Ciro_de_Acosta","0096","Puerto de los Amantes (0096)","R","San Ciro de Acosta (027)Puerto de los Amantes (0096)",21.511465999999999,-99.793610999999999,4,"*","*",1,240270096,null,null,null,{"$f":"IFERROR(VLOOKUP(CONCATENATE(B4352,D4352),Padrón_Indígenas!$A$2:$G$988,7,0),\"No\")","v":"No"}]
[24,"027","San_Ciro_de_Acosta","0098","Rancho Palo Alto (Ramón Cervantes) (0098)","R","San Ciro de Acosta (027)Rancho Palo Alto (Ramón Cervantes) (0098)",21.651883999999999,-99.863939999999999,"-","-","-","-",240270098,null,null,null,{"$f":"IFERROR(VLOOKUP(CONCATENATE(B4358,D4358),Padrón_Indígenas!$A$2:$G$988,7,0),\"No\")","v":"No"}]
[24,"027","San_Ciro_de_Acosta","0060","San Carlos (0060)","R","San Ciro de Acosta (027)San Carlos (0060)",21.546368999999999,-99.753141999999997,19,7,12,5,240270060,null,"Alto","Bajo",{"$f":"IFERROR(VLOOKUP(CONCATENATE(B4361,D4361),Padrón_Indígenas!$A$2:$G$988,7,0),\"No\")","v":"No"}]
[24,"027","San_Ciro_de_Acosta","0102","San Isidro (0102)","R","San Ciro de Acosta (027)San Isidro (0102)",21.659365999999999,-99.798709000000002,0,0,0,0,240270102,null,null,null,{"$f":"IFERROR(VLOOKUP(CONCATENATE(B4363,D4363),Padrón_Indígenas!$A$2:$G$988,7,0),\"No\")","v":"No"}]
[24,"028","San_Luis_Potosí","0635","Agustín Chávez Ramírez (0635)","R","San Luis Potosí (028)Agustín Chávez Ramírez (0635)",22.253333000000001,-100.965278,3,"*","*",1,240280635,null,null,null,{"$f":"IFERROR(VLOOKUP(CONCATENATE(B4366,D4366),Padrón_Indígenas!$A$2:$G$988,7,0),\"No\")","v":"No"}]
[24,"028","San_Luis_Potosí","0217","Arroyos (0217)","R","San Luis Potosí (028)Arroyos (0217)",22.055872000000001,-100.903401,1367,670,697,319,240280217,"SI","Medio","Muy bajo",{"$f":"IFERROR(VLOOKUP(CONCATENATE(B4371,D4371),Padrón_Indígenas!$A$2:$G$988,7,0),\"No\")","v":"No"}]
[24,"028","San_Luis_Potosí","0382","Barajas (0382)","R","San Luis Potosí (028)Barajas (0382)",22.466034000000001,-101.052845,65,27,38,13,240280382,null,"Medio","Muy bajo",{"$f":"IFERROR(VLOOKUP(CONCATENATE(B4374,D4374),Padrón_Indígenas!$A$2:$G$988,7,0),\"No\")","v":"No"}]
[24,"028","San_Luis_Potosí","0229","Bosques la Florida (0229)","R","San Luis Potosí (028)Bosques la Florida (0229)",22.149145000000001,-100.856025,669,336,333,180,240280229,"SI","Muy bajo","Muy bajo",{"$f":"IFERROR(VLOOKUP(CONCATENATE(B4379,D4379),Padrón_Indígenas!$A$2:$G$988,7,0),\"No\")","v":"No"}]
[24,"028","San_Luis_Potosí","0300","Cañada del Lobo (0300)","R","San Luis Potosí (028)Cañada del Lobo (0300)",22.098610999999998,-100.97027799999999,0,0,0,0,240280300,null,null,null,{"$f":"IFERROR(VLOOKUP(CONCATENATE(B4382,D4382),Padrón_Indígenas!$A$2:$G$988,7,0),\"No\")","v":"No"}]
[24,"028","San_Luis_Potosí","0589","Centzontle (0589)","R","San Luis Potosí (028)Centzontle (0589)",22.551777999999999,-100.989729,8,"*","*",1,240280589,"SI",null,null,{"$f":"IFERROR(VLOOKUP(CONCATENATE(B4384,D4384),Padrón_Indígenas!$A$2:$G$988,7,0),\"No\")","v":"No"}]
[24,"028","San_Luis_Potosí","0385","Cerro de la Virgen (San Juan de Bocas) (0385)","R","San Luis Potosí (028)Cerro de la Virgen (San Juan de Bocas) (0385)",22.501681999999999,-101.02042,191,87,104,45,240280385,null,"Alto","Bajo",{"$f":"IFERROR(VLOOKUP(CONCATENATE(B4387,D4387),Padrón_Indígenas!$A$2:$G$988,7,0),\"No\")","v":"No"}]
[24,"028","San_Luis_Potosí","0458","Colonia la Estrella (0458)","R","San Luis Potosí (028)Colonia la Estrella (0458)",22.213332999999999,-101.01,66,27,39,13,240280458,"SI","Alto","Bajo",{"$f":"IFERROR(VLOOKUP(CONCATENATE(B4393,D4393),Padrón_Indígenas!$A$2:$G$988,7,0),\"No\")","v":"No"}]
[24,"028","San_Luis_Potosí","0562","Colonia la Unión (0562)","R","San Luis Potosí (028)Colonia la Unión (0562)",22.205659000000001,-101.020484,196,91,105,48,240280562,null,"Alto","Bajo",{"$f":"IFERROR(VLOOKUP(CONCATENATE(B4394,D4394),Padrón_Indígenas!$A$2:$G$988,7,0),\"No\")","v":"No"}]
[24,"028","San_Luis_Potosí","0429","Covadonga (0429)","R","San Luis Potosí (028)Covadonga (0429)",22.534624999999998,-101.000906,0,0,0,0,240280429,null,null,null,{"$f":"IFERROR(VLOOKUP(CONCATENATE(B4398,D4398),Padrón_Indígenas!$A$2:$G$988,7,0),\"No\")","v":"No"}]
[24,"028","San_Luis_Potosí","0637","Ejido San Rafael (0637)","R","San Luis Potosí (028)Ejido San Rafael (0637)",22.463833999999999,-101.023996,2,"*","*",1,240280637,null,null,null,{"$f":"IFERROR(VLOOKUP(CONCATENATE(B4402,D4402),Padrón_Indígenas!$A$2:$G$988,7,0),\"No\")","v":"No"}]
[24,"028","San_Luis_Potosí","0654","El Bosque (El Cascarón) (0654)","R","San Luis Potosí (028)El Bosque (El Cascarón) (0654)",22.472273999999999,-101.07940600000001,36,21,15,6,240280654,null,"Muy alto","Alto",{"$f":"IFERROR(VLOOKUP(CONCATENATE(B4407,D4407),Padrón_Indígenas!$A$2:$G$988,7,0),\"No\")","v":"No"}]
[24,"028","San_Luis_Potosí","0599","El Cascarón (La Mesita) (0599)","R","San Luis Potosí (028)El Cascarón (La Mesita) (0599)",22.471654999999998,-101.02819,9,"*","*",2,240280599,null,null,null,{"$f":"IFERROR(VLOOKUP(CONCATENATE(B4410,D4410),Padrón_Indígenas!$A$2:$G$988,7,0),\"No\")","v":"No"}]
[24,"028","San_Luis_Potosí","0372","El Chaparral (0372)","R","San Luis Potosí (028)El Chaparral (0372)",22.598959000000001,-100.976181,45,23,22,12,240280372,null,"Alto","Medio",{"$f":"IFERROR(VLOOKUP(CONCATENATE(B4412,D4412),Padrón_Indígenas!$A$2:$G$988,7,0),\"No\")","v":"No"}]
[24,"028","San_Luis_Potosí","0461","El Garambullal (Camino Hondo) (0461)","R","San Luis Potosí (028)El Garambullal (Camino Hondo) (0461)",22.224253000000001,-100.997438,55,25,30,14,240280461,null,"Alto","Muy bajo",{"$f":"IFERROR(VLOOKUP(CONCATENATE(B4415,D4415),Padrón_Indígenas!$A$2:$G$988,7,0),\"No\")","v":"No"}]
[24,"028","San_Luis_Potosí","0349","El Guerrero (0349)","R","San Luis Potosí (028)El Guerrero (0349)",22.079605000000001,-100.82281,4,"*","*",2,240280349,null,null,null,{"$f":"IFERROR(VLOOKUP(CONCATENATE(B4418,D4418),Padrón_Indígenas!$A$2:$G$988,7,0),\"No\")","v":"No"}]
[24,"028","San_Luis_Potosí","0511","El Jacal (0511)","R","San Luis Potosí (028)El Jacal (0511)",22.453779999999998,-100.946558,0,0,0,0,240280511,null,null,null,{"$f":"IFERROR(VLOOKUP(CONCATENATE(B4421,D4421),Padrón_Indígenas!$A$2:$G$988,7,0),\"No\")","v":"No"}]
[24,"028","San_Luis_Potosí","0625","El Maguey Blanco (0625)","R","San Luis Potosí (028)El Maguey Blanco (0625)",22.096440000000001,-100.989701,1,"*","*",1,240280625,null,null,null,{"$f":"IFERROR(VLOOKUP(CONCATENATE(B4426,D4426),Padrón_Indígenas!$A$2:$G$988,7,0),\"No\")","v":"No"}]
[24,"028","San_Luis_Potosí","0643","El Mulato (0643)","R","San Luis Potosí (028)El Mulato (0643)",22.616944,-101.020278,6,"*","*",1,240280643,null,null,null,{"$f":"IFERROR(VLOOKUP(CONCATENATE(B4430,D4430),Padrón_Indígenas!$A$2:$G$988,7,0),\"No\")","v":"No"}]
[24,"028","San_Luis_Potosí","0515","El Potrero la Lobera (0515)","R","San Luis Potosí (028)El Potrero la Lobera (0515)",22.554628000000001,-101.056264,2,"*","*",1,240280515,null,null,null,{"$f":"IFERROR(VLOOKUP(CONCATENATE(B4434,D4434),Padrón_Indígenas!$A$2:$G$988,7,0),\"No\")","v":"No"}]
[24,"028","San_Luis_Potosí","0523","El Pozo de Santa Rita (El Zacatón) (0523)","R","San Luis Potosí (028)El Pozo de Santa Rita (El Zacatón) (0523)",22.136140999999999,-100.848651,5,"*","*",1,240280523,null,null,null,{"$f":"IFERROR(VLOOKUP(CONCATENATE(B4435,D4435),Padrón_Indígenas!$A$2:$G$988,7,0),\"No\")","v":"No"}]
[24,"028","San_Luis_Potosí","0531","El Rebaje (0531)","R","San Luis Potosí (028)El Rebaje (0531)",22.423608000000002,-101.010171,3,"*","*",1,240280531,null,null,null,{"$f":"IFERROR(VLOOKUP(CONCATENATE(B4441,D4441),Padrón_Indígenas!$A$2:$G$988,7,0),\"No\")","v":"No"}]
[24,"028","San_Luis_Potosí","0485","El Retiro (0485)","R","San Luis Potosí (028)El Retiro (0485)",22.413487,-100.879491,4,"*","*",2,240280485,null,null,null,{"$f":"IFERROR(VLOOKUP(CONCATENATE(B4444,D4444),Padrón_Indígenas!$A$2:$G$988,7,0),\"No\")","v":"No"}]
[24,"028","San_Luis_Potosí","0447","El Santuario (0447)","R","San Luis Potosí (028)El Santuario (0447)",22.52131,-101.032335,425,195,230,94,240280447,null,"Alto","Bajo",{"$f":"IFERROR(VLOOKUP(CONCATENATE(B4446,D4446),Padrón_Indígenas!$A$2:$G$988,7,0),\"No\")","v":"No"}]
[24,"028","San_Luis_Potosí","0376","El Varal (0376)","R","San Luis Potosí (028)El Varal (0376)",22.507058000000001,-101.038713,21,11,10,5,240280376,"SI","Alto","Bajo",{"$f":"IFERROR(VLOOKUP(CONCATENATE(B4449,D4449),Padrón_Indígenas!$A$2:$G$988,7,0),\"No\")","v":"No"}]
[24,"028","San_Luis_Potosí","0571","Eulalio Cortinas (0571)","R","San Luis Potosí (028)Eulalio Cortinas (0571)",22.283374999999999,-100.955439,0,0,0,0,240280571,null,null,null,{"$f":"IFERROR(VLOOKUP(CONCATENATE(B4454,D4454),Padrón_Indígenas!$A$2:$G$988,7,0),\"No\")","v":"No"}]
[24,"028","San_Luis_Potosí","0509","Fracción los Graneros (0509)","R","San Luis Potosí (028)Fracción los Graneros (0509)",22.217798999999999,-100.984908,49,27,22,11,240280509,null,"Medio","Muy bajo",{"$f":"IFERROR(VLOOKUP(CONCATENATE(B4458,D4458),Padrón_Indígenas!$A$2:$G$988,7,0),\"No\")","v":"No"}]
[24,"028","San_Luis_Potosí","0619","García (0619)","R","San Luis Potosí (028)García (0619)",22.05217,-100.858873,0,0,0,0,240280619,null,null,null,{"$f":"IFERROR(VLOOKUP(CONCATENATE(B4462,D4462),Padrón_Indígenas!$A$2:$G$988,7,0),\"No\")","v":"No"}]
[24,"028","San_Luis_Potosí","0574","Gerardo Coronado (Ejido Maravillas) (0574)","R","San Luis Potosí (028)Gerardo Coronado (Ejido Maravillas) (0574)",22.282147999999999,-100.966756,0,0,0,0,240280574,null,null,null,{"$f":"IFERROR(VLOOKUP(CONCATENATE(B4463,D4463),Padrón_Indígenas!$A$2:$G$988,7,0),\"No\")","v":"No"}]
[24,"028","San_Luis_Potosí","0639","Ismael García (0639)","R","San Luis Potosí (028)Ismael García (0639)",22.282378000000001,-100.96611900000001,0,0,0,0,240280639,null,null,null,{"$f":"IFERROR(VLOOKUP(CONCATENATE(B4469,D4469),Padrón_Indígenas!$A$2:$G$988,7,0),\"No\")","v":"No"}]
[24,"028","San_Luis_Potosí","0493","Jarillas de Gómez (0493)","R","San Luis Potosí (028)Jarillas de Gómez (0493)",22.017944,-100.899036,10,"*","*",1,240280493,null,null,null,{"$f":"IFERROR(VLOOKUP(CONCATENATE(B4470,D4470),Padrón_Indígenas!$A$2:$G$988,7,0),\"No\")","v":"No"}]
[24,"028","San_Luis_Potosí","0514","Josefina Arias (Ejido Milpillas) (0514)","R","San Luis Potosí (028)Josefina Arias (Ejido Milpillas) (0514)",22.213056000000002,-100.943611,27,12,15,7,240280514,null,"Medio","Muy bajo",{"$f":"IFERROR(VLOOKUP(CONCATENATE(B4476,D4476),Padrón_Indígenas!$A$2:$G$988,7,0),\"No\")","v":"No"}]
[24,"028","San_Luis_Potosí","0671","Juan Monreal Bravo (0671)","R","San Luis Potosí (028)Juan Monreal Bravo (0671)",22.112708999999999,-100.989785,"-","-","-","-",240280671,null,null,null,{"$f":"IFERROR(VLOOKUP(CONCATENATE(B4478,D4478),Padrón_Indígenas!$A$2:$G$988,7,0),\"No\")","v":"No"}]
[24,"028","San_Luis_Potosí","0213","La Amapola (0213)","R","San Luis Potosí (028)La Amapola (0213)",22.020284,-101.10928800000001,51,25,26,14,240280213,"SI","Alto","Medio",{"$f":"IFERROR(VLOOKUP(CONCATENATE(B4481,D4481),Padrón_Indígenas!$A$2:$G$988,7,0),\"No\")","v":"No"}]
[24,"028","San_Luis_Potosí","0337","La Cantera (0337)","R","San Luis Potosí (028)La Cantera (0337)",22.068904,-100.910596,111,53,58,25,240280337,null,"Alto","Medio",{"$f":"IFERROR(VLOOKUP(CONCATENATE(B4485,D4485),Padrón_Indígenas!$A$2:$G$988,7,0),\"No\")","v":"No"}]
[24,"028","San_Luis_Potosí","0234","La Huaracha (0234)","R","San Luis Potosí (028)La Huaracha (0234)",22.522583999999998,-101.086111,40,21,19,10,240280234,null,"Bajo","Muy bajo",{"$f":"IFERROR(VLOOKUP(CONCATENATE(B4490,D4490),Padrón_Indígenas!$A$2:$G$988,7,0),\"No\")","v":"No"}]
[24,"028","San_Luis_Potosí","0370","La Manta (0370)","R","San Luis Potosí (028)La Manta (0370)",22.624860999999999,-101.010948,537,264,273,123,240280370,null,"Alto","Medio",{"$f":"IFERROR(VLOOKUP(CONCATENATE(B4493,D4493),Padrón_Indígenas!$A$2:$G$988,7,0),\"No\")","v":"No"}]
[24,"028","San_Luis_Potosí","0482","La Marcela (0482)","R","San Luis Potosí (028)La Marcela (0482)",22.102875000000001,-100.868532,0,0,0,0,240280482,null,null,null,{"$f":"IFERROR(VLOOKUP(CONCATENATE(B4495,D4495),Padrón_Indígenas!$A$2:$G$988,7,0),\"No\")","v":"No"}]
[24,"028","San_Luis_Potosí","0610","La Mesita Verde (0610)","R","San Luis Potosí (028)La Mesita Verde (0610)",22.499948,-101.072681,0,0,0,0,240280610,null,null,null,{"$f":"IFERROR(VLOOKUP(CONCATENATE(B4498,D4498),Padrón_Indígenas!$A$2:$G$988,7,0),\"No\")","v":"No"}]
[24,"028","San_Luis_Potosí","0555","La Pila (Ángel Ligas) (0555)","R","San Luis Potosí (028)La Pila (Ángel Ligas) (0555)",22.035049000000001,-100.876053,0,0,0,0,240280555,null,null,null,{"$f":"IFERROR(VLOOKUP(CONCATENATE(B4504,D4504),Padrón_Indígenas!$A$2:$G$988,7,0),\"No\")","v":"No"}]
[24,"028","San_Luis_Potosí","0345","La Presilla (0345)","R","San Luis Potosí (028)La Presilla (0345)",22.109166999999999,-100.77500000000001,15,"*","*",2,240280345,null,null,null,{"$f":"IFERROR(VLOOKUP(CONCATENATE(B4506,D4506),Padrón_Indígenas!$A$2:$G$988,7,0),\"No\")","v":"No"}]
[24,"028","San_Luis_Potosí","0403","La Villita (0403)","R","San Luis Potosí (028)La Villita (0403)",22.433646,-100.984301,41,20,21,11,240280403,null,"Alto","Bajo",{"$f":"IFERROR(VLOOKUP(CONCATENATE(B4509,D4509),Padrón_Indígenas!$A$2:$G$988,7,0),\"No\")","v":"No"}]
[24,"028","San_Luis_Potosí","0405","Lamparito (0405)","R","San Luis Potosí (028)Lamparito (0405)",22.420586,-100.96433399999999,16,6,10,3,240280405,null,"Alto","Medio",{"$f":"IFERROR(VLOOKUP(CONCATENATE(B4513,D4513),Padrón_Indígenas!$A$2:$G$988,7,0),\"No\")","v":"No"}]
[24,"028","San_Luis_Potosí","0236","Las Jarrillas (0236)","R","San Luis Potosí (028)Las Jarrillas (0236)",22.564920999999998,-101.008146,319,143,176,69,240280236,null,"Alto","Medio",{"$f":"IFERROR(VLOOKUP(CONCATENATE(B4517,D4517),Padrón_Indígenas!$A$2:$G$988,7,0),\"No\")","v":"No"}]
[24,"028","San_Luis_Potosí","0430","Las Lomitas (0430)","R","San Luis Potosí (028)Las Lomitas (0430)",22.549288000000001,-101.051458,71,34,37,18,240280430,null,"Alto","Bajo",{"$f":"IFERROR(VLOOKUP(CONCATENATE(B4518,D4518),Padrón_Indígenas!$A$2:$G$988,7,0),\"No\")","v":"No"}]
[24,"028","San_Luis_Potosí","0640","Leopoldo Llanas Ortiz (0640)","R","San Luis Potosí (028)Leopoldo Llanas Ortiz (0640)",22.280836000000001,-100.96644499999999,0,0,0,0,240280640,null,null,null,{"$f":"IFERROR(VLOOKUP(CONCATENATE(B4522,D4522),Padrón_Indígenas!$A$2:$G$988,7,0),\"No\")","v":"No"}]
[24,"028","San_Luis_Potosí","0636","Los Cajones (0636)","R","San Luis Potosí (028)Los Cajones (0636)",22.389167,-100.951111,5,"*","*",1,240280636,null,null,null,{"$f":"IFERROR(VLOOKUP(CONCATENATE(B4527,D4527),Padrón_Indígenas!$A$2:$G$988,7,0),\"No\")","v":"No"}]
[24,"028","San_Luis_Potosí","0601","Los Coyotes (0601)","R","San Luis Potosí (028)Los Coyotes (0601)",22.550744000000002,-101.04788000000001,0,0,0,0,240280601,null,null,null,{"$f":"IFERROR(VLOOKUP(CONCATENATE(B4529,D4529),Padrón_Indígenas!$A$2:$G$988,7,0),\"No\")","v":"No"}]
[24,"028","San_Luis_Potosí","0425","Los Gómez (0425)","R","San Luis Potosí (028)Los Gómez (0425)",22.466401000000001,-101.015332,6,"*","*",2,240280425,null,null,null,{"$f":"IFERROR(VLOOKUP(CONCATENATE(B4532,D4532),Padrón_Indígenas!$A$2:$G$988,7,0),\"No\")","v":"No"}]
[24,"028","San_Luis_Potosí","0596","Los Rebajes (0596)","R","San Luis Potosí (028)Los Rebajes (0596)",22.501151,-101.023376,7,"*","*",1,240280596,null,null,null,{"$f":"IFERROR(VLOOKUP(CONCATENATE(B4537,D4537),Padrón_Indígenas!$A$2:$G$988,7,0),\"No\")","v":"No"}]
[24,"028","San_Luis_Potosí","0653","Los Verdes (0653)","R","San Luis Potosí (028)Los Verdes (0653)",22.607662000000001,-100.97506199999999,8,"*","*",2,240280653,null,null,null,{"$f":"IFERROR(VLOOKUP(CONCATENATE(B4541,D4541),Padrón_Indígenas!$A$2:$G$988,7,0),\"No\")","v":"No"}]
[24,"028","San_Luis_Potosí","0480","Mano Blanca (0480)","R","San Luis Potosí (028)Mano Blanca (0480)",22.452535000000001,-100.784029,3,"*","*",1,240280480,null,null,null,{"$f":"IFERROR(VLOOKUP(CONCATENATE(B4545,D4545),Padrón_Indígenas!$A$2:$G$988,7,0),\"No\")","v":"No"}]
[24,"028","San_Luis_Potosí","0248","Maravillas (0248)","R","San Luis Potosí (028)Maravillas (0248)",22.527249000000001,-101.02825799999999,268,135,133,61,240280248,null,"Alto","Bajo",{"$f":"IFERROR(VLOOKUP(CONCATENATE(B4546,D4546),Padrón_Indígenas!$A$2:$G$988,7,0),\"No\")","v":"No"}]
[24,"028","San_Luis_Potosí","0253","Mezquital (0253)","R","San Luis Potosí (028)Mezquital (0253)",22.546731000000001,-101.040978,295,141,154,65,240280253,null,"Alto","Bajo",{"$f":"IFERROR(VLOOKUP(CONCATENATE(B4550,D4550),Padrón_Indígenas!$A$2:$G$988,7,0),\"No\")","v":"No"}]
[24,"028","San_Luis_Potosí","0644","Nieves García Santillán (0644)","R","San Luis Potosí (028)Nieves García Santillán (0644)",22.284305,-100.963531,0,0,0,0,240280644,null,null,null,{"$f":"IFERROR(VLOOKUP(CONCATENATE(B4555,D4555),Padrón_Indígenas!$A$2:$G$988,7,0),\"No\")","v":"No"}]
[24,"028","San_Luis_Potosí","0664","Ninguno (0664)","R","San Luis Potosí (028)Ninguno (0664)",22.037248999999999,-100.85386200000001,"-","-","-","-",240280664,null,null,null,{"$f":"IFERROR(VLOOKUP(CONCATENATE(B4557,D4557),Padrón_Indígenas!$A$2:$G$988,7,0),\"No\")","v":"No"}]
[24,"028","San_Luis_Potosí","0258","Noria de San José (0258)","R","San Luis Potosí (028)Noria de San José (0258)",22.062279,-100.870836,672,336,336,146,240280258,null,"Medio","Muy bajo",{"$f":"IFERROR(VLOOKUP(CONCATENATE(B4561,D4561),Padrón_Indígenas!$A$2:$G$988,7,0),\"No\")","v":"No"}]
[24,"028","San_Luis_Potosí","0673","Palma China (0673)","R","San Luis Potosí (028)Palma China (0673)",22.100019,-100.930376,"-","-","-","-",240280673,null,null,null,{"$f":"IFERROR(VLOOKUP(CONCATENATE(B4564,D4564),Padrón_Indígenas!$A$2:$G$988,7,0),\"No\")","v":"No"}]
[24,"028","San_Luis_Potosí","0259","Palomas (0259)","R","San Luis Potosí (028)Palomas (0259)",22.511666999999999,-101.05972199999999,51,19,32,10,240280259,null,"Medio","Muy bajo",{"$f":"IFERROR(VLOOKUP(CONCATENATE(B4569,D4569),Padrón_Indígenas!$A$2:$G$988,7,0),\"No\")","v":"No"}]
[24,"028","San_Luis_Potosí","0262","Peñasco (0262)","R","San Luis Potosí (028)Peñasco (0262)",22.325961,-100.94726900000001,1085,540,545,265,240280262,"SI","Alto","Bajo",{"$f":"IFERROR(VLOOKUP(CONCATENATE(B4573,D4573),Padrón_Indígenas!$A$2:$G$988,7,0),\"No\")","v":"No"}]
[24,"028","San_Luis_Potosí","0374","Pozo Cuatro Blanco de Bocas (0374)","R","San Luis Potosí (028)Pozo Cuatro Blanco de Bocas (0374)",22.619212999999998,-100.95480000000001,53,27,26,12,240280374,null,"Muy alto","Medio",{"$f":"IFERROR(VLOOKUP(CONCATENATE(B4576,D4576),Padrón_Indígenas!$A$2:$G$988,7,0),\"No\")","v":"No"}]
[24,"028","San_Luis_Potosí","0646","Pozo Dos el Huizache (0646)","R","San Luis Potosí (028)Pozo Dos el Huizache (0646)",22.563056,-100.993611,0,0,0,0,240280646,null,null,null,{"$f":"IFERROR(VLOOKUP(CONCATENATE(B4578,D4578),Padrón_Indígenas!$A$2:$G$988,7,0),\"No\")","v":"No"}]
[24,"028","San_Luis_Potosí","0647","Pozo Terrero (0647)","R","San Luis Potosí (028)Pozo Terrero (0647)",22.404722,-100.886944,0,0,0,0,240280647,null,null,null,{"$f":"IFERROR(VLOOKUP(CONCATENATE(B4581,D4581),Padrón_Indígenas!$A$2:$G$988,7,0),\"No\")","v":"No"}]
[24,"028","San_Luis_Potosí","0525","Rancho de Fermín (0525)","R","San Luis Potosí (028)Rancho de Fermín (0525)",22.317028000000001,-100.950361,9,"*","*",1,240280525,null,null,null,{"$f":"IFERROR(VLOOKUP(CONCATENATE(B4587,D4587),Padrón_Indígenas!$A$2:$G$988,7,0),\"No\")","v":"No"}]
[24,"028","San_Luis_Potosí","0527","Rancho el Gallo (San Carlos) (0527)","R","San Luis Potosí (028)Rancho el Gallo (San Carlos) (0527)",22.652743000000001,-100.932433,0,0,0,0,240280527,null,null,null,{"$f":"IFERROR(VLOOKUP(CONCATENATE(B4589,D4589),Padrón_Indígenas!$A$2:$G$988,7,0),\"No\")","v":"No"}]
[24,"028","San_Luis_Potosí","0475","Rancho el Olvido (0475)","R","San Luis Potosí (028)Rancho el Olvido (0475)",22.10501,-100.868419,0,0,0,0,240280475,null,null,null,{"$f":"IFERROR(VLOOKUP(CONCATENATE(B4592,D4592),Padrón_Indígenas!$A$2:$G$988,7,0),\"No\")","v":"No"}]
[24,"028","San_Luis_Potosí","0529","Rancho las Águilas (0529)","R","San Luis Potosí (028)Rancho las Águilas (0529)",22.142980000000001,-100.846711,0,0,0,0,240280529,null,null,null,{"$f":"IFERROR(VLOOKUP(CONCATENATE(B4597,D4597),Padrón_Indígenas!$A$2:$G$988,7,0),\"No\")","v":"No"}]
[24,"028","San_Luis_Potosí","0343","Rancho los Olivos (0343)","R","San Luis Potosí (028)Rancho los Olivos (0343)",22.222093999999998,-101.00716300000001,4,"*","*",1,240280343,null,null,null,{"$f":"IFERROR(VLOOKUP(CONCATENATE(B4601,D4601),Padrón_Indígenas!$A$2:$G$988,7,0),\"No\")","v":"No"}]
[24,"028","San_Luis_Potosí","0649","Rancho MG (0649)","R","San Luis Potosí (028)Rancho MG (0649)",22.039504000000001,-100.84364600000001,0,0,0,0,240280649,null,null,null,{"$f":"IFERROR(VLOOKUP(CONCATENATE(B4604,D4604),Padrón_Indígenas!$A$2:$G$988,7,0),\"No\")","v":"No"}]
[24,"028","San_Luis_Potosí","0442","Rancho Nuevo (Rancho Tres Hermanos) (0442)","R","San Luis Potosí (028)Rancho Nuevo (Rancho Tres Hermanos) (0442)",22.547706000000002,-101.002848,0,0,0,0,240280442,null,null,null,{"$f":"IFERROR(VLOOKUP(CONCATENATE(B4606,D4606),Padrón_Indígenas!$A$2:$G$988,7,0),\"No\")","v":"No"}]
[24,"028","San_Luis_Potosí","0344","Rancho San Antonio (El Castañón) (0344)","R","San Luis Potosí (028)Rancho San Antonio (El Castañón) (0344)",22.096744000000001,-100.86244600000001,32,16,16,9,240280344,null,"Alto","Bajo",{"$f":"IFERROR(VLOOKUP(CONCATENATE(B4609,D4609),Padrón_Indígenas!$A$2:$G$988,7,0),\"No\")","v":"No"}]
[24,"028","San_Luis_Potosí","0394","Rinconada (0394)","R","San Luis Potosí (028)Rinconada (0394)",22.254064,-100.94933899999999,1382,691,691,254,240280394,"SI","Alto","Bajo",{"$f":"IFERROR(VLOOKUP(CONCATENATE(B4613,D4613),Padrón_Indígenas!$A$2:$G$988,7,0),\"No\")","v":"No"}]
[24,"028","San_Luis_Potosí","0585","Ruperto Muñoz Hernández (0585)","R","San Luis Potosí (028)Ruperto Muñoz Hernández (0585)",22.270793000000001,-100.961167,5,"*","*",1,240280585,null,null,null,{"$f":"IFERROR(VLOOKUP(CONCATENATE(B4615,D4615),Padrón_Indígenas!$A$2:$G$988,7,0),\"No\")","v":"No"}]
[24,"028","San_Luis_Potosí","0614","San José (0614)","R","San Luis Potosí (028)San José (0614)",22.471934000000001,-100.986018,2,"*","*",1,240280614,null,null,null,{"$f":"IFERROR(VLOOKUP(CONCATENATE(B4620,D4620),Padrón_Indígenas!$A$2:$G$988,7,0),\"No\")","v":"No"}]
[24,"028","San_Luis_Potosí","0441","San Juan de la Cruz (0441)","R","San Luis Potosí (028)San Juan de la Cruz (0441)",22.555513999999999,-101.02144800000001,0,0,0,0,240280441,null,null,null,{"$f":"IFERROR(VLOOKUP(CONCATENATE(B4624,D4624),Padrón_Indígenas!$A$2:$G$988,7,0),\"No\")","v":"No"}]
[24,"028","San_Luis_Potosí","0237","San Nicolás de los Jassos (0237)","R","San Luis Potosí (028)San Nicolás de los Jassos (0237)",22.128896000000001,-100.834765,2089,1046,1043,515,240280237,"SI","Bajo","Muy bajo",{"$f":"IFERROR(VLOOKUP(CONCATENATE(B4628,D4628),Padrón_Indígenas!$A$2:$G$988,7,0),\"No\")","v":"No"}]
[24,"028","San_Luis_Potosí","0366","San Rafael Número Dos (0366)","R","San Luis Potosí (028)San Rafael Número Dos (0366)",22.589236,-100.977197,116,54,62,24,240280366,null,"Alto","Medio",{"$f":"IFERROR(VLOOKUP(CONCATENATE(B4629,D4629),Padrón_Indígenas!$A$2:$G$988,7,0),\"No\")","v":"No"}]
[24,"028","San_Luis_Potosí","0587","Santa Rosa (0587)","R","San Luis Potosí (028)Santa Rosa (0587)",22.109621000000001,-100.84766500000001,0,0,0,0,240280587,null,null,null,{"$f":"IFERROR(VLOOKUP(CONCATENATE(B4633,D4633),Padrón_Indígenas!$A$2:$G$988,7,0),\"No\")","v":"No"}]
[24,"028","San_Luis_Potosí","0505","Tanque Cieneguita (0505)","R","San Luis Potosí (028)Tanque Cieneguita (0505)",22.571943999999998,-101.068056,19,10,9,4,240280505,null,"Alto","Bajo",{"$f":"IFERROR(VLOOKUP(CONCATENATE(B4638,D4638),Padrón_Indígenas!$A$2:$G$988,7,0),\"No\")","v":"No"}]
[24,"028","San_Luis_Potosí","0539","Tanque de Palmas (0539)","R","San Luis Potosí (028)Tanque de Palmas (0539)",22.464831,-100.798996,0,0,0,0,240280539,null,null,null,{"$f":"IFERROR(VLOOKUP(CONCATENATE(B4641,D4641),Padrón_Indígenas!$A$2:$G$988,7,0),\"No\")","v":"No"}]
[24,"028","San_Luis_Potosí","0351","Tanque el Jagüey (0351)","R","San Luis Potosí (028)Tanque el Jagüey (0351)",22.11534,-100.855602,639,306,333,146,240280351,"SI","Medio","Muy bajo",{"$f":"IFERROR(VLOOKUP(CONCATENATE(B4643,D4643),Padrón_Indígenas!$A$2:$G$988,7,0),\"No\")","v":"No"}]
[24,"028","San_Luis_Potosí","0452","Tepozán (0452)","R","San Luis Potosí (028)Tepozán (0452)",22.451867,-101.022487,11,7,4,3,240280452,null,"Alto","Bajo",{"$f":"IFERROR(VLOOKUP(CONCATENATE(B4648,D4648),Padrón_Indígenas!$A$2:$G$988,7,0),\"No\")","v":"No"}]
[24,"028","San_Luis_Potosí","0651","Tierra Blanca Uno (0651)","R","San Luis Potosí (028)Tierra Blanca Uno (0651)",22.101934,-100.965249,0,0,0,0,240280651,null,null,null,{"$f":"IFERROR(VLOOKUP(CONCATENATE(B4652,D4652),Padrón_Indígenas!$A$2:$G$988,7,0),\"No\")","v":"No"}]
[24,"028","San_Luis_Potosí","0666","Vicente Ramos (Los Graneros) (0666)","R","San Luis Potosí (028)Vicente Ramos (Los Graneros) (0666)",22.222577000000001,-100.979749,"-","-","-","-",240280666,null,null,null,{"$f":"IFERROR(VLOOKUP(CONCATENATE(B4656,D4656),Padrón_Indígenas!$A$2:$G$988,7,0),\"No\")","v":"No"}]
[24,"028","San_Luis_Potosí","0296","Zamorilla (0296)","R","San Luis Potosí (028)Zamorilla (0296)",22.561826,-100.98269999999999,140,68,72,31,240280296,null,"Alto","Bajo",{"$f":"IFERROR(VLOOKUP(CONCATENATE(B4659,D4659),Padrón_Indígenas!$A$2:$G$988,7,0),\"No\")","v":"No"}]
[24,"029","San_Martín_Chalchicuautla","0003","Acatitla (0003)","R","San Martín Chalchicuautla (029)Acatitla (0003)",21.358549,-98.656366000000006,116,54,62,31,240290003,"SI","Alto","Medio",{"$f":"IFERROR(VLOOKUP(CONCATENATE(B4661,D4661),Padrón_Indígenas!$A$2:$G$988,7,0),\"No\")","v":"Sí"}]
[24,"029","San_Martín_Chalchicuautla","0005","Aguacate Segundo (Anexo al Carrizo) (0005)","R","San Martín Chalchicuautla (029)Aguacate Segundo (Anexo al Carrizo) (0005)",21.470237999999998,-98.583819000000005,79,38,41,18,240290005,null,"Alto","Medio",{"$f":"IFERROR(VLOOKUP(CONCATENATE(B4664,D4664),Padrón_Indígenas!$A$2:$G$988,7,0),\"No\")","v":"No"}]
[24,"029","San_Martín_Chalchicuautla","0009","Atempa Primero (0009)","R","San Martín Chalchicuautla (029)Atempa Primero (0009)",21.366629,-98.682230000000004,59,28,31,19,240290009,"SI","Alto","Medio",{"$f":"IFERROR(VLOOKUP(CONCATENATE(B4670,D4670),Padrón_Indígenas!$A$2:$G$988,7,0),\"No\")","v":"Sí"}]
[24,"029","San_Martín_Chalchicuautla","0011","Barranquillas (Tepetzintla) (0011)","R","San Martín Chalchicuautla (029)Barranquillas (Tepetzintla) (0011)",21.412244000000001,-98.541220999999993,387,197,190,90,240290011,"SI","Alto","Medio",{"$f":"IFERROR(VLOOKUP(CONCATENATE(B4672,D4672),Padrón_Indígenas!$A$2:$G$988,7,0),\"No\")","v":"Sí"}]
[24,"029","San_Martín_Chalchicuautla","0168","Buenavista (0168)","R","San Martín Chalchicuautla (029)Buenavista (0168)",21.383896,-98.535048000000003,0,0,0,0,240290168,null,null,null,{"$f":"IFERROR(VLOOKUP(CONCATENATE(B4675,D4675),Padrón_Indígenas!$A$2:$G$988,7,0),\"No\")","v":"No"}]
[24,"029","San_Martín_Chalchicuautla","0303","Caxuhualt (0303)","R","San Martín Chalchicuautla (029)Caxuhualt (0303)",21.331434000000002,-98.726488000000003,17,"*","*",2,240290303,"SI",null,null,{"$f":"IFERROR(VLOOKUP(CONCATENATE(B4680,D4680),Padrón_Indígenas!$A$2:$G$988,7,0),\"No\")","v":"No"}]
[24,"029","San_Martín_Chalchicuautla","0163","Chalahuite (0163)","R","San Martín Chalchicuautla (029)Chalahuite (0163)",21.378865999999999,-98.598918999999995,6,"*","*",1,240290163,null,null,null,{"$f":"IFERROR(VLOOKUP(CONCATENATE(B4684,D4684),Padrón_Indígenas!$A$2:$G$988,7,0),\"No\")","v":"No"}]
[24,"029","San_Martín_Chalchicuautla","0026","Chapopote (0026)","R","San Martín Chalchicuautla (029)Chapopote (0026)",21.411624,-98.645450999999994,0,0,0,0,240290026,null,null,null,{"$f":"IFERROR(VLOOKUP(CONCATENATE(B4685,D4685),Padrón_Indígenas!$A$2:$G$988,7,0),\"No\")","v":"No"}]
[24,"029","San_Martín_Chalchicuautla","0097","Chupadero la Puerta (0097)","R","San Martín Chalchicuautla (029)Chupadero la Puerta (0097)",21.317405999999998,-98.670923999999999,48,30,18,14,240290097,null,"Alto","Medio",{"$f":"IFERROR(VLOOKUP(CONCATENATE(B4689,D4689),Padrón_Indígenas!$A$2:$G$988,7,0),\"No\")","v":"No"}]
[24,"029","San_Martín_Chalchicuautla","0198","Cojolite (0198)","R","San Martín Chalchicuautla (029)Cojolite (0198)",21.454025000000001,-98.590701999999993,0,0,0,0,240290198,null,null,null,{"$f":"IFERROR(VLOOKUP(CONCATENATE(B4692,D4692),Padrón_Indígenas!$A$2:$G$988,7,0),\"No\")","v":"No"}]
[24,"029","San_Martín_Chalchicuautla","0029","Domingo Zapoyo (0029)","R","San Martín Chalchicuautla (029)Domingo Zapoyo (0029)",21.262917999999999,-98.639819000000003,454,240,214,106,240290029,"SI","Alto","Medio",{"$f":"IFERROR(VLOOKUP(CONCATENATE(B4698,D4698),Padrón_Indígenas!$A$2:$G$988,7,0),\"No\")","v":"Sí"}]
[24,"029","San_Martín_Chalchicuautla","0177","Dos Cerros (0177)","R","San Martín Chalchicuautla (029)Dos Cerros (0177)",21.396388999999999,-98.606667000000002,0,0,0,0,240290177,null,null,null,{"$f":"IFERROR(VLOOKUP(CONCATENATE(B4700,D4700),Padrón_Indígenas!$A$2:$G$988,7,0),\"No\")","v":"No"}]
[24,"029","San_Martín_Chalchicuautla","0068","Ejido la Puerta (0068)","R","San Martín Chalchicuautla (029)Ejido la Puerta (0068)",21.319903,-98.670572000000007,240,133,107,57,240290068,"SI","Alto","Medio",{"$f":"IFERROR(VLOOKUP(CONCATENATE(B4703,D4703),Padrón_Indígenas!$A$2:$G$988,7,0),\"No\")","v":"No"}]
[24,"029","San_Martín_Chalchicuautla","0266","El Arrozal (0266)","R","San Martín Chalchicuautla (029)El Arrozal (0266)",21.370958000000002,-98.670961000000005,2,"*","*",1,240290266,null,null,null,{"$f":"IFERROR(VLOOKUP(CONCATENATE(B4707,D4707),Padrón_Indígenas!$A$2:$G$988,7,0),\"No\")","v":"No"}]
[24,"029","San_Martín_Chalchicuautla","0220","El Caballito (0220)","R","San Martín Chalchicuautla (029)El Caballito (0220)",21.484179000000001,-98.554756999999995,0,0,0,0,240290220,null,null,null,{"$f":"IFERROR(VLOOKUP(CONCATENATE(B4711,D4711),Padrón_Indígenas!$A$2:$G$988,7,0),\"No\")","v":"No"}]
[24,"029","San_Martín_Chalchicuautla","0152","El Camarón (0152)","R","San Martín Chalchicuautla (029)El Camarón (0152)",21.439664,-98.557698000000002,38,19,19,12,240290152,"SI","Alto","Medio",{"$f":"IFERROR(VLOOKUP(CONCATENATE(B4712,D4712),Padrón_Indígenas!$A$2:$G$988,7,0),\"No\")","v":"No"}]
[24,"029","San_Martín_Chalchicuautla","0262","El Chote (0262)","R","San Martín Chalchicuautla (029)El Chote (0262)",21.369889000000001,-98.640393000000003,0,0,0,0,240290262,null,null,null,{"$f":"IFERROR(VLOOKUP(CONCATENATE(B4716,D4716),Padrón_Indígenas!$A$2:$G$988,7,0),\"No\")","v":"No"}]
[24,"029","San_Martín_Chalchicuautla","0246","El Encinal (Rancho Nuevo) (0246)","R","San Martín Chalchicuautla (029)El Encinal (Rancho Nuevo) (0246)",21.282540000000001,-98.631405000000001,48,24,24,12,240290246,"SI","Alto","Medio",{"$f":"IFERROR(VLOOKUP(CONCATENATE(B4721,D4721),Padrón_Indígenas!$A$2:$G$988,7,0),\"No\")","v":"Sí"}]
[24,"029","San_Martín_Chalchicuautla","0032","El Frijolillo (0032)","R","San Martín Chalchicuautla (029)El Frijolillo (0032)",21.244271999999999,-98.603370999999996,273,139,134,73,240290032,"SI","Alto","Medio",{"$f":"IFERROR(VLOOKUP(CONCATENATE(B4724,D4724),Padrón_Indígenas!$A$2:$G$988,7,0),\"No\")","v":"Sí"}]
[24,"029","San_Martín_Chalchicuautla","0153","El Higuito (0153)","R","San Martín Chalchicuautla (029)El Higuito (0153)",21.456762000000001,-98.568731999999997,248,127,121,58,240290153,"SI","Alto","Medio",{"$f":"IFERROR(VLOOKUP(CONCATENATE(B4726,D4726),Padrón_Indígenas!$A$2:$G$988,7,0),\"No\")","v":"No"}]
[24,"029","San_Martín_Chalchicuautla","0227","El Limón (Anexo a la Peñuela) (0227)","R","San Martín Chalchicuautla (029)El Limón (Anexo a la Peñuela) (0227)",21.442395000000001,-98.605571999999995,16,8,8,4,240290227,null,"Alto","Medio",{"$f":"IFERROR(VLOOKUP(CONCATENATE(B4731,D4731),Padrón_Indígenas!$A$2:$G$988,7,0),\"No\")","v":"No"}]
[24,"029","San_Martín_Chalchicuautla","0103","El Mulato (0103)","R","San Martín Chalchicuautla (029)El Mulato (0103)",21.278670999999999,-98.648195999999999,0,0,0,0,240290103,null,null,null,{"$f":"IFERROR(VLOOKUP(CONCATENATE(B4735,D4735),Padrón_Indígenas!$A$2:$G$988,7,0),\"No\")","v":"No"}]
[24,"029","San_Martín_Chalchicuautla","0117","El Paxtal (0117)","R","San Martín Chalchicuautla (029)El Paxtal (0117)",21.247385000000001,-98.658674000000005,0,0,0,0,240290117,null,null,null,{"$f":"IFERROR(VLOOKUP(CONCATENATE(B4739,D4739),Padrón_Indígenas!$A$2:$G$988,7,0),\"No\")","v":"No"}]
[24,"029","San_Martín_Chalchicuautla","0060","El Pemuche Viejo (0060)","R","San Martín Chalchicuautla (029)El Pemuche Viejo (0060)",21.504621,-98.668710000000004,51,24,27,13,240290060,"SI","Muy alto","Medio",{"$f":"IFERROR(VLOOKUP(CONCATENATE(B4740,D4740),Padrón_Indígenas!$A$2:$G$988,7,0),\"No\")","v":"No"}]
[24,"029","San_Martín_Chalchicuautla","0197","El Ranchito (0197)","R","San Martín Chalchicuautla (029)El Ranchito (0197)",21.432831,-98.637598999999994,68,32,36,17,240290197,"SI","Alto","Medio",{"$f":"IFERROR(VLOOKUP(CONCATENATE(B4744,D4744),Padrón_Indígenas!$A$2:$G$988,7,0),\"No\")","v":"No"}]
[24,"029","San_Martín_Chalchicuautla","0106","El Rinconcito (0106)","R","San Martín Chalchicuautla (029)El Rinconcito (0106)",21.257406,-98.668891000000002,6,"*","*",1,240290106,null,null,null,{"$f":"IFERROR(VLOOKUP(CONCATENATE(B4749,D4749),Padrón_Indígenas!$A$2:$G$988,7,0),\"No\")","v":"No"}]
[24,"029","San_Martín_Chalchicuautla","0102","El Sacrificio (0102)","R","San Martín Chalchicuautla (029)El Sacrificio (0102)",21.287174,-98.638354000000007,117,58,59,29,240290102,"SI","Alto","Medio",{"$f":"IFERROR(VLOOKUP(CONCATENATE(B4752,D4752),Padrón_Indígenas!$A$2:$G$988,7,0),\"No\")","v":"Sí"}]
[24,"029","San_Martín_Chalchicuautla","0204","El Saucito (0204)","R","San Martín Chalchicuautla (029)El Saucito (0204)",21.518917999999999,-98.651653999999994,19,7,12,3,240290204,"SI","Muy alto","Alto",{"$f":"IFERROR(VLOOKUP(CONCATENATE(B4755,D4755),Padrón_Indígenas!$A$2:$G$988,7,0),\"No\")","v":"No"}]
[24,"029","San_Martín_Chalchicuautla","0285","El Tenorio (0285)","R","San Martín Chalchicuautla (029)El Tenorio (0285)",21.415393999999999,-98.567907000000005,7,"*","*",2,240290285,null,null,null,{"$f":"IFERROR(VLOOKUP(CONCATENATE(B4758,D4758),Padrón_Indígenas!$A$2:$G$988,7,0),\"No\")","v":"No"}]
[24,"029","San_Martín_Chalchicuautla","0258","Hacienda Tabala (0258)","R","San Martín Chalchicuautla (029)Hacienda Tabala (0258)",21.187138999999998,-98.637772999999996,0,0,0,0,240290258,null,null,null,{"$f":"IFERROR(VLOOKUP(CONCATENATE(B4763,D4763),Padrón_Indígenas!$A$2:$G$988,7,0),\"No\")","v":"No"}]
[24,"029","San_Martín_Chalchicuautla","0151","Jacubal (0151)","R","San Martín Chalchicuautla (029)Jacubal (0151)",21.441001,-98.553265999999994,50,25,25,13,240290151,"SI","Muy alto","Medio",{"$f":"IFERROR(VLOOKUP(CONCATENATE(B4767,D4767),Padrón_Indígenas!$A$2:$G$988,7,0),\"No\")","v":"No"}]
[24,"029","San_Martín_Chalchicuautla","0038","Jacube (Palma Sola) (0038)","R","San Martín Chalchicuautla (029)Jacube (Palma Sola) (0038)",21.474087000000001,-98.569254000000001,1,"*","*",1,240290038,null,null,null,{"$f":"IFERROR(VLOOKUP(CONCATENATE(B4768,D4768),Padrón_Indígenas!$A$2:$G$988,7,0),\"No\")","v":"No"}]
[24,"029","San_Martín_Chalchicuautla","0018","La Ceiba (0018)","R","San Martín Chalchicuautla (029)La Ceiba (0018)",21.315964000000001,-98.680537000000001,82,43,39,19,240290018,"SI","Alto","Medio",{"$f":"IFERROR(VLOOKUP(CONCATENATE(B4772,D4772),Padrón_Indígenas!$A$2:$G$988,7,0),\"No\")","v":"No"}]
[24,"029","San_Martín_Chalchicuautla","0123","La Cruz (0123)","R","San Martín Chalchicuautla (029)La Cruz (0123)",21.487482,-98.680289000000002,301,159,142,64,240290123,"SI","Alto","Medio",{"$f":"IFERROR(VLOOKUP(CONCATENATE(B4775,D4775),Padrón_Indígenas!$A$2:$G$988,7,0),\"No\")","v":"Sí"}]
[24,"029","San_Martín_Chalchicuautla","0160","La Fortaleza (0160)","R","San Martín Chalchicuautla (029)La Fortaleza (0160)",21.360779999999998,-98.603881000000001,4,"*","*",1,240290160,null,null,null,{"$f":"IFERROR(VLOOKUP(CONCATENATE(B4781,D4781),Padrón_Indígenas!$A$2:$G$988,7,0),\"No\")","v":"No"}]
[24,"029","San_Martín_Chalchicuautla","0253","La Goleta de Adolfo Rivera (0253)","R","San Martín Chalchicuautla (029)La Goleta de Adolfo Rivera (0253)",21.51849,-98.627976000000004,0,0,0,0,240290253,null,null,null,{"$f":"IFERROR(VLOOKUP(CONCATENATE(B4783,D4783),Padrón_Indígenas!$A$2:$G$988,7,0),\"No\")","v":"No"}]
[24,"029","San_Martín_Chalchicuautla","0254","La Goleta de los Zúñiga (0254)","R","San Martín Chalchicuautla (029)La Goleta de los Zúñiga (0254)",21.514692,-98.625932000000006,3,"*","*",1,240290254,"SI",null,null,{"$f":"IFERROR(VLOOKUP(CONCATENATE(B4786,D4786),Padrón_Indígenas!$A$2:$G$988,7,0),\"No\")","v":"No"}]
[24,"029","San_Martín_Chalchicuautla","0049","La Mesa del Toro (0049)","R","San Martín Chalchicuautla (029)La Mesa del Toro (0049)",21.289134000000001,-98.659820999999994,173,80,93,46,240290049,"SI","Alto","Bajo",{"$f":"IFERROR(VLOOKUP(CONCATENATE(B4791,D4791),Padrón_Indígenas!$A$2:$G$988,7,0),\"No\")","v":"No"}]
[24,"029","San_Martín_Chalchicuautla","0062","La Peñuela (0062)","R","San Martín Chalchicuautla (029)La Peñuela (0062)",21.429179000000001,-98.603821999999994,64,33,31,13,240290062,"SI","Alto","Medio",{"$f":"IFERROR(VLOOKUP(CONCATENATE(B4795,D4795),Padrón_Indígenas!$A$2:$G$988,7,0),\"No\")","v":"No"}]
[24,"029","San_Martín_Chalchicuautla","0109","La Pimienta (0109)","R","San Martín Chalchicuautla (029)La Pimienta (0109)",21.281749000000001,-98.690050999999997,319,161,158,76,240290109,"SI","Alto","Medio",{"$f":"IFERROR(VLOOKUP(CONCATENATE(B4796,D4796),Padrón_Indígenas!$A$2:$G$988,7,0),\"No\")","v":"Sí"}]
[24,"029","San_Martín_Chalchicuautla","0002","Las Acamayas (0002)","R","San Martín Chalchicuautla (029)Las Acamayas (0002)",21.410257000000001,-98.617930000000001,151,74,77,40,240290002,"SI","Alto","Medio",{"$f":"IFERROR(VLOOKUP(CONCATENATE(B4799,D4799),Padrón_Indígenas!$A$2:$G$988,7,0),\"No\")","v":"Sí"}]
[24,"029","San_Martín_Chalchicuautla","0169","Las Espéridas (0169)","R","San Martín Chalchicuautla (029)Las Espéridas (0169)",21.368817,-98.519165000000001,3,"*","*",1,240290169,null,null,null,{"$f":"IFERROR(VLOOKUP(CONCATENATE(B4804,D4804),Padrón_Indígenas!$A$2:$G$988,7,0),\"No\")","v":"No"}]
[24,"029","San_Martín_Chalchicuautla","0122","Las Limas (0122)","R","San Martín Chalchicuautla (029)Las Limas (0122)",21.192572999999999,-98.627910999999997,14,"*","*",2,240290122,null,null,null,{"$f":"IFERROR(VLOOKUP(CONCATENATE(B4807,D4807),Padrón_Indígenas!$A$2:$G$988,7,0),\"No\")","v":"No"}]
[24,"029","San_Martín_Chalchicuautla","0104","Las Mesitas (0104)","R","San Martín Chalchicuautla (029)Las Mesitas (0104)",21.288532,-98.669234000000003,5,"*","*",1,240290104,"SI",null,null,{"$f":"IFERROR(VLOOKUP(CONCATENATE(B4809,D4809),Padrón_Indígenas!$A$2:$G$988,7,0),\"No\")","v":"No"}]
[24,"029","San_Martín_Chalchicuautla","0041","Llano Grande (0041)","R","San Martín Chalchicuautla (029)Llano Grande (0041)",21.305672999999999,-98.642869000000005,97,43,54,25,240290041,"SI","Alto","Bajo",{"$f":"IFERROR(VLOOKUP(CONCATENATE(B4815,D4815),Padrón_Indígenas!$A$2:$G$988,7,0),\"No\")","v":"No"}]
[24,"029","San_Martín_Chalchicuautla","0304","Loma la Cruz (Alejandro García Lara) (0304)","R","San Martín Chalchicuautla (029)Loma la Cruz (Alejandro García Lara) (0304)",21.376899000000002,-98.653034000000005,4,"*","*",1,240290304,null,null,null,{"$f":"IFERROR(VLOOKUP(CONCATENATE(B4818,D4818),Padrón_Indígenas!$A$2:$G$988,7,0),\"No\")","v":"No"}]
[24,"029","San_Martín_Chalchicuautla","0186","Manantial (0186)","R","San Martín Chalchicuautla (029)Manantial (0186)",21.255613,-98.613455999999999,138,69,69,35,240290186,"SI","Alto","Medio",{"$f":"IFERROR(VLOOKUP(CONCATENATE(B4822,D4822),Padrón_Indígenas!$A$2:$G$988,7,0),\"No\")","v":"Sí"}]
[24,"029","San_Martín_Chalchicuautla","0043","Manchoc (0043)","R","San Martín Chalchicuautla (029)Manchoc (0043)",21.343564000000001,-98.692301,755,358,397,163,240290043,"SI","Alto","Medio",{"$f":"IFERROR(VLOOKUP(CONCATENATE(B4823,D4823),Padrón_Indígenas!$A$2:$G$988,7,0),\"No\")","v":"Sí"}]
[24,"029","San_Martín_Chalchicuautla","0047","Mesa del Flojo (0047)","R","San Martín Chalchicuautla (029)Mesa del Flojo (0047)",21.405863,-98.589962999999997,128,60,68,30,240290047,"SI","Muy alto","Alto",{"$f":"IFERROR(VLOOKUP(CONCATENATE(B4827,D4827),Padrón_Indígenas!$A$2:$G$988,7,0),\"No\")","v":"No"}]
[24,"029","San_Martín_Chalchicuautla","0053","Ocuiltzapoyo (0053)","R","San Martín Chalchicuautla (029)Ocuiltzapoyo (0053)",21.325623,-98.727849000000006,1060,523,537,202,240290053,"SI","Alto","Medio",{"$f":"IFERROR(VLOOKUP(CONCATENATE(B4832,D4832),Padrón_Indígenas!$A$2:$G$988,7,0),\"No\")","v":"Sí"}]
[24,"029","San_Martín_Chalchicuautla","0059","Paso de los Toros (0059)","R","San Martín Chalchicuautla (029)Paso de los Toros (0059)",21.492756,-98.619051999999996,1,"*","*",1,240290059,null,null,null,{"$f":"IFERROR(VLOOKUP(CONCATENATE(B4835,D4835),Padrón_Indígenas!$A$2:$G$988,7,0),\"No\")","v":"No"}]
[24,"029","San_Martín_Chalchicuautla","0286","Paso del Aguacate (Tepetzintla) (0286)","R","San Martín Chalchicuautla (029)Paso del Aguacate (Tepetzintla) (0286)",21.380538000000001,-98.554130000000001,10,"*","*",1,240290286,null,null,null,{"$f":"IFERROR(VLOOKUP(CONCATENATE(B4837,D4837),Padrón_Indígenas!$A$2:$G$988,7,0),\"No\")","v":"No"}]
[24,"029","San_Martín_Chalchicuautla","0193","Poza Rica (0193)","R","San Martín Chalchicuautla (029)Poza Rica (0193)",21.472902999999999,-98.656226000000004,8,"*","*",2,240290193,"SI",null,null,{"$f":"IFERROR(VLOOKUP(CONCATENATE(B4843,D4843),Padrón_Indígenas!$A$2:$G$988,7,0),\"No\")","v":"No"}]
[24,"029","San_Martín_Chalchicuautla","0270","Rancho Dos Arbolitos (0270)","R","San Martín Chalchicuautla (029)Rancho Dos Arbolitos (0270)",21.498701000000001,-98.594733000000005,3,"*","*",1,240290270,"SI",null,null,{"$f":"IFERROR(VLOOKUP(CONCATENATE(B4846,D4846),Padrón_Indígenas!$A$2:$G$988,7,0),\"No\")","v":"No"}]
[24,"029","San_Martín_Chalchicuautla","0265","Rancho el Paraíso (0265)","R","San Martín Chalchicuautla (029)Rancho el Paraíso (0265)",21.218456,-98.621041000000005,7,"*","*",2,240290265,null,null,null,{"$f":"IFERROR(VLOOKUP(CONCATENATE(B4850,D4850),Padrón_Indígenas!$A$2:$G$988,7,0),\"No\")","v":"No"}]
[24,"029","San_Martín_Chalchicuautla","0228","Rancho el Volantín (0228)","R","San Martín Chalchicuautla (029)Rancho el Volantín (0228)",21.400912999999999,-98.568383999999995,12,7,5,3,240290228,null,"Muy alto","Medio",{"$f":"IFERROR(VLOOKUP(CONCATENATE(B4851,D4851),Padrón_Indígenas!$A$2:$G$988,7,0),\"No\")","v":"No"}]
[24,"029","San_Martín_Chalchicuautla","0248","Rancho la Noria (0248)","R","San Martín Chalchicuautla (029)Rancho la Noria (0248)",21.493157,-98.663424000000006,4,"*","*",1,240290248,null,null,null,{"$f":"IFERROR(VLOOKUP(CONCATENATE(B4855,D4855),Padrón_Indígenas!$A$2:$G$988,7,0),\"No\")","v":"No"}]
[24,"029","San_Martín_Chalchicuautla","0300","Rancho Santa Lourdes (0300)","R","San Martín Chalchicuautla (029)Rancho Santa Lourdes (0300)",21.416277000000001,-98.584885,5,"*","*",1,240290300,null,null,null,{"$f":"IFERROR(VLOOKUP(CONCATENATE(B4859,D4859),Padrón_Indígenas!$A$2:$G$988,7,0),\"No\")","v":"No"}]
[24,"029","San_Martín_Chalchicuautla","0301","San Antonio (0301)","R","San Martín Chalchicuautla (029)San Antonio (0301)",21.522680999999999,-98.635349000000005,5,"*","*",1,240290301,"SI",null,null,{"$f":"IFERROR(VLOOKUP(CONCATENATE(B4864,D4864),Padrón_Indígenas!$A$2:$G$988,7,0),\"No\")","v":"No"}]
[24,"029","San_Martín_Chalchicuautla","0133","San Jerónimo (0133)","R","San Martín Chalchicuautla (029)San Jerónimo (0133)",21.502977999999999,-98.672438,4,"*","*",1,240290133,"SI",null,null,{"$f":"IFERROR(VLOOKUP(CONCATENATE(B4866,D4866),Padrón_Indígenas!$A$2:$G$988,7,0),\"No\")","v":"No"}]
[24,"029","San_Martín_Chalchicuautla","0073","San Luisito (0073)","R","San Martín Chalchicuautla (029)San Luisito (0073)",21.352108000000001,-98.691537999999994,178,92,86,49,240290073,"SI","Alto","Medio",{"$f":"IFERROR(VLOOKUP(CONCATENATE(B4869,D4869),Padrón_Indígenas!$A$2:$G$988,7,0),\"No\")","v":"Sí"}]
[24,"029","San_Martín_Chalchicuautla","0206","San Pedro (0206)","R","San Martín Chalchicuautla (029)San Pedro (0206)",21.459690999999999,-98.635328999999999,2,"*","*",1,240290206,null,null,null,{"$f":"IFERROR(VLOOKUP(CONCATENATE(B4874,D4874),Padrón_Indígenas!$A$2:$G$988,7,0),\"No\")","v":"No"}]
[24,"029","San_Martín_Chalchicuautla","0149","Santa María (0149)","R","San Martín Chalchicuautla (029)Santa María (0149)",21.431508999999998,-98.569883000000004,18,11,7,5,240290149,null,"Alto","Alto",{"$f":"IFERROR(VLOOKUP(CONCATENATE(B4878,D4878),Padrón_Indígenas!$A$2:$G$988,7,0),\"No\")","v":"No"}]
[24,"029","San_Martín_Chalchicuautla","0282","Santa Mónica (0282)","R","San Martín Chalchicuautla (029)Santa Mónica (0282)",21.411389,-98.533610999999993,0,0,0,0,240290282,null,null,null,{"$f":"IFERROR(VLOOKUP(CONCATENATE(B4879,D4879),Padrón_Indígenas!$A$2:$G$988,7,0),\"No\")","v":"No"}]
[24,"029","San_Martín_Chalchicuautla","0130","Tahuache Dos (0130)","R","San Martín Chalchicuautla (029)Tahuache Dos (0130)",21.436028,-98.663383999999994,5,"*","*",2,240290130,"SI",null,null,{"$f":"IFERROR(VLOOKUP(CONCATENATE(B4883,D4883),Padrón_Indígenas!$A$2:$G$988,7,0),\"No\")","v":"No"}]
[24,"029","San_Martín_Chalchicuautla","0077","Taxicho (0077)","R","San Martín Chalchicuautla (029)Taxicho (0077)",21.231449000000001,-98.603769999999997,307,161,146,58,240290077,"SI","Alto","Medio",{"$f":"IFERROR(VLOOKUP(CONCATENATE(B4887,D4887),Padrón_Indígenas!$A$2:$G$988,7,0),\"No\")","v":"Sí"}]
[24,"029","San_Martín_Chalchicuautla","0082","Tepemiche (0082)","R","San Martín Chalchicuautla (029)Tepemiche (0082)",21.483657999999998,-98.651951999999994,337,162,175,95,240290082,"SI","Alto","Bajo",{"$f":"IFERROR(VLOOKUP(CONCATENATE(B4892,D4892),Padrón_Indígenas!$A$2:$G$988,7,0),\"No\")","v":"Sí"}]
[24,"029","San_Martín_Chalchicuautla","0084","Tepetlayo (0084)","R","San Martín Chalchicuautla (029)Tepetlayo (0084)",21.378643,-98.667912000000001,141,70,71,31,240290084,"SI","Alto","Medio",{"$f":"IFERROR(VLOOKUP(CONCATENATE(B4894,D4894),Padrón_Indígenas!$A$2:$G$988,7,0),\"No\")","v":"Sí"}]
[24,"029","San_Martín_Chalchicuautla","0119","Texquico (0119)","R","San Martín Chalchicuautla (029)Texquico (0119)",21.229634000000001,-98.634759000000003,3,"*","*",1,240290119,null,null,null,{"$f":"IFERROR(VLOOKUP(CONCATENATE(B4898,D4898),Padrón_Indígenas!$A$2:$G$988,7,0),\"No\")","v":"No"}]
[24,"029","San_Martín_Chalchicuautla","0088","Totolteo (0088)","R","San Martín Chalchicuautla (029)Totolteo (0088)",21.348922000000002,-98.708304999999996,338,168,170,80,240290088,"SI","Alto","Medio",{"$f":"IFERROR(VLOOKUP(CONCATENATE(B4901,D4901),Padrón_Indígenas!$A$2:$G$988,7,0),\"No\")","v":"Sí"}]
[24,"029","San_Martín_Chalchicuautla","0090","Trapiche Viejo (0090)","R","San Martín Chalchicuautla (029)Trapiche Viejo (0090)",21.408158,-98.670788999999999,103,53,50,26,240290090,"SI","Alto","Medio",{"$f":"IFERROR(VLOOKUP(CONCATENATE(B4903,D4903),Padrón_Indígenas!$A$2:$G$988,7,0),\"No\")","v":"No"}]
[24,"029","San_Martín_Chalchicuautla","0091","Xalamatitla (0091)","R","San Martín Chalchicuautla (029)Xalamatitla (0091)",21.364522000000001,-98.685481999999993,116,62,54,29,240290091,"SI","Alto","Medio",{"$f":"IFERROR(VLOOKUP(CONCATENATE(B4906,D4906),Padrón_Indígenas!$A$2:$G$988,7,0),\"No\")","v":"Sí"}]
[24,"030","San_Nicolás_Tolentino","0072","Agua Fría (0072)","R","San Nicolás Tolentino (030)Agua Fría (0072)",22.115278,-100.366389,2,"*","*",1,240300072,null,null,null,{"$f":"IFERROR(VLOOKUP(CONCATENATE(B4910,D4910),Padrón_Indígenas!$A$2:$G$988,7,0),\"No\")","v":"No"}]
[24,"030","San_Nicolás_Tolentino","0007","Cañón de los Álamos (Jovita Saldaña) (0007)","R","San Nicolás Tolentino (030)Cañón de los Álamos (Jovita Saldaña) (0007)",22.150248000000001,-100.52133000000001,0,0,0,0,240300007,null,null,null,{"$f":"IFERROR(VLOOKUP(CONCATENATE(B4915,D4915),Padrón_Indígenas!$A$2:$G$988,7,0),\"No\")","v":"No"}]
[24,"030","San_Nicolás_Tolentino","0075","El Agüita (0075)","R","San Nicolás Tolentino (030)El Agüita (0075)",22.285778000000001,-100.50087600000001,1,"*","*",1,240300075,null,null,null,{"$f":"IFERROR(VLOOKUP(CONCATENATE(B4918,D4918),Padrón_Indígenas!$A$2:$G$988,7,0),\"No\")","v":"No"}]
[24,"030","San_Nicolás_Tolentino","0089","El Gallo (0089)","R","San Nicolás Tolentino (030)El Gallo (0089)",22.217177,-100.52018099999999,8,"*","*",2,240300089,null,null,null,{"$f":"IFERROR(VLOOKUP(CONCATENATE(B4920,D4920),Padrón_Indígenas!$A$2:$G$988,7,0),\"No\")","v":"No"}]
[24,"030","San_Nicolás_Tolentino","0074","El Rodadillo (0074)","R","San Nicolás Tolentino (030)El Rodadillo (0074)",22.25628,-100.551461,3,"*","*",1,240300074,null,null,null,{"$f":"IFERROR(VLOOKUP(CONCATENATE(B4926,D4926),Padrón_Indígenas!$A$2:$G$988,7,0),\"No\")","v":"No"}]
[24,"030","San_Nicolás_Tolentino","0021","Ignacio Allende (0021)","R","San Nicolás Tolentino (030)Ignacio Allende (0021)",22.152152000000001,-100.382812,253,120,133,71,240300021,null,"Alto","Bajo",{"$f":"IFERROR(VLOOKUP(CONCATENATE(B4929,D4929),Padrón_Indígenas!$A$2:$G$988,7,0),\"No\")","v":"No"}]
[24,"030","San_Nicolás_Tolentino","0066","Joya del Roble (0066)","R","San Nicolás Tolentino (030)Joya del Roble (0066)",22.176362000000001,-100.561836,2,"*","*",1,240300066,null,null,null,{"$f":"IFERROR(VLOOKUP(CONCATENATE(B4931,D4931),Padrón_Indígenas!$A$2:$G$988,7,0),\"No\")","v":"No"}]
[24,"030","San_Nicolás_Tolentino","0076","La Colonia (0076)","R","San Nicolás Tolentino (030)La Colonia (0076)",22.138328000000001,-100.507029,0,0,0,0,240300076,null,null,null,{"$f":"IFERROR(VLOOKUP(CONCATENATE(B4934,D4934),Padrón_Indígenas!$A$2:$G$988,7,0),\"No\")","v":"No"}]
[24,"030","San_Nicolás_Tolentino","0049","La Loma (0049)","R","San Nicolás Tolentino (030)La Loma (0049)",22.269317999999998,-100.493678,4,"*","*",1,240300049,null,null,null,{"$f":"IFERROR(VLOOKUP(CONCATENATE(B4938,D4938),Padrón_Indígenas!$A$2:$G$988,7,0),\"No\")","v":"No"}]
[24,"030","San_Nicolás_Tolentino","0085","La Puente (0085)","R","San Nicolás Tolentino (030)La Puente (0085)",21.982896,-100.53165300000001,19,"*","*",2,240300085,null,null,null,{"$f":"IFERROR(VLOOKUP(CONCATENATE(B4942,D4942),Padrón_Indígenas!$A$2:$G$988,7,0),\"No\")","v":"No"}]
[24,"030","San_Nicolás_Tolentino","0019","Las Golondrinas (0019)","R","San Nicolás Tolentino (030)Las Golondrinas (0019)",22.156551,-100.401894,120,63,57,41,240300019,null,"Alto","Bajo",{"$f":"IFERROR(VLOOKUP(CONCATENATE(B4947,D4947),Padrón_Indígenas!$A$2:$G$988,7,0),\"No\")","v":"No"}]
[24,"030","San_Nicolás_Tolentino","0030","Los Nogales (Nogales de Santa Cruz) (0030)","R","San Nicolás Tolentino (030)Los Nogales (Nogales de Santa Cruz) (0030)",22.156924,-100.433617,92,38,54,25,240300030,null,"Alto","Medio",{"$f":"IFERROR(VLOOKUP(CONCATENATE(B4950,D4950),Padrón_Indígenas!$A$2:$G$988,7,0),\"No\")","v":"No"}]
[24,"030","San_Nicolás_Tolentino","0031","Ojo de Agua (0031)","R","San Nicolás Tolentino (030)Ojo de Agua (0031)",22.193888999999999,-100.49805600000001,344,169,175,82,240300031,null,"Alto","Bajo",{"$f":"IFERROR(VLOOKUP(CONCATENATE(B4952,D4952),Padrón_Indígenas!$A$2:$G$988,7,0),\"No\")","v":"No"}]
[24,"030","San_Nicolás_Tolentino","0051","Puerto de la Descubridora (0051)","R","San Nicolás Tolentino (030)Puerto de la Descubridora (0051)",22.097937999999999,-100.56048,103,48,55,24,240300051,"SI","Alto","Medio",{"$f":"IFERROR(VLOOKUP(CONCATENATE(B4957,D4957),Padrón_Indígenas!$A$2:$G$988,7,0),\"No\")","v":"No"}]
[24,"030","San_Nicolás_Tolentino","0001","San Nicolás Tolentino (0001)","U","San Nicolás Tolentino (030)San Nicolás Tolentino (0001)",22.248535,-100.552076,659,315,344,184,240300001,"SI",null,null,{"$f":"IFERROR(VLOOKUP(CONCATENATE(B4961,D4961),Padrón_Indígenas!$A$2:$G$988,7,0),\"No\")","v":"No"}]
[24,"030","San_Nicolás_Tolentino","0045","Santa Catarina (0045)","R","San Nicolás Tolentino (030)Santa Catarina (0045)",22.047321,-100.458006,1433,668,765,389,240300045,null,"Alto","Muy bajo",{"$f":"IFERROR(VLOOKUP(CONCATENATE(B4962,D4962),Padrón_Indígenas!$A$2:$G$988,7,0),\"No\")","v":"No"}]
[24,"034","San_Vicente_Tancuayalab","0145","Alto Mirador (0145)","R","San Vicente Tancuayalab (034)Alto Mirador (0145)",21.770783000000002,-98.679122000000007,2,"*","*",1,240340145,"SI",null,null,{"$f":"IFERROR(VLOOKUP(CONCATENATE(B4966,D4966),Padrón_Indígenas!$A$2:$G$988,7,0),\"No\")","v":"No"}]
[24,"034","San_Vicente_Tancuayalab","0227","Buenos Aires (Los Noyola) (0227)","R","San Vicente Tancuayalab (034)Buenos Aires (Los Noyola) (0227)",21.780702999999999,-98.526173,0,0,0,0,240340227,null,null,null,{"$f":"IFERROR(VLOOKUP(CONCATENATE(B4970,D4970),Padrón_Indígenas!$A$2:$G$988,7,0),\"No\")","v":"No"}]
[24,"034","San_Vicente_Tancuayalab","0252","Colonia Nuevo Amanecer (Nuevo Jomté) (0252)","R","San Vicente Tancuayalab (034)Colonia Nuevo Amanecer (Nuevo Jomté) (0252)",21.858128000000001,-98.596535000000003,36,16,20,10,240340252,"SI","Alto","Medio",{"$f":"IFERROR(VLOOKUP(CONCATENATE(B4975,D4975),Padrón_Indígenas!$A$2:$G$988,7,0),\"No\")","v":"No"}]
[24,"034","San_Vicente_Tancuayalab","0169","Ejido la Tima (0169)","R","San Vicente Tancuayalab (034)Ejido la Tima (0169)",21.728058999999998,-98.595451999999995,16,9,7,5,240340169,"SI","Alto","Medio",{"$f":"IFERROR(VLOOKUP(CONCATENATE(B4978,D4978),Padrón_Indígenas!$A$2:$G$988,7,0),\"No\")","v":"No"}]
[24,"034","San_Vicente_Tancuayalab","0253","Ejido Miguel Hidalgo (Nuevo Jomté) (0253)","R","San Vicente Tancuayalab (034)Ejido Miguel Hidalgo (Nuevo Jomté) (0253)",21.863049,-98.603128999999996,57,30,27,14,240340253,"SI","Alto","Medio",{"$f":"IFERROR(VLOOKUP(CONCATENATE(B4980,D4980),Padrón_Indígenas!$A$2:$G$988,7,0),\"No\")","v":"Sí"}]
[24,"034","San_Vicente_Tancuayalab","0150","Ejido Tierra y Libertad (0150)","R","San Vicente Tancuayalab (034)Ejido Tierra y Libertad (0150)",21.775696,-98.572085999999999,3,"*","*",1,240340150,null,null,null,{"$f":"IFERROR(VLOOKUP(CONCATENATE(B4985,D4985),Padrón_Indígenas!$A$2:$G$988,7,0),\"No\")","v":"No"}]
[24,"034","San_Vicente_Tancuayalab","0226","El Álamo (Romualdo Reyes Saleta) (0226)","R","San Vicente Tancuayalab (034)El Álamo (Romualdo Reyes Saleta) (0226)",21.740703,-98.566478000000004,0,0,0,0,240340226,null,null,null,{"$f":"IFERROR(VLOOKUP(CONCATENATE(B4989,D4989),Padrón_Indígenas!$A$2:$G$988,7,0),\"No\")","v":"No"}]
[24,"034","San_Vicente_Tancuayalab","0091","El Alto Miguel Goldaracena (0091)","R","San Vicente Tancuayalab (034)El Alto Miguel Goldaracena (0091)",21.765260999999999,-98.702697999999998,1,"*","*",1,240340091,null,null,null,{"$f":"IFERROR(VLOOKUP(CONCATENATE(B4990,D4990),Padrón_Indígenas!$A$2:$G$988,7,0),\"No\")","v":"No"}]
[24,"034","San_Vicente_Tancuayalab","0013","El Chote (0013)","R","San Vicente Tancuayalab (034)El Chote (0013)",21.906351999999998,-98.545390999999995,264,141,123,65,240340013,"SI","Alto","Bajo",{"$f":"IFERROR(VLOOKUP(CONCATENATE(B4994,D4994),Padrón_Indígenas!$A$2:$G$988,7,0),\"No\")","v":"No"}]
[24,"034","San_Vicente_Tancuayalab","0228","El Ciruelo (Castro Torres) (0228)","R","San Vicente Tancuayalab (034)El Ciruelo (Castro Torres) (0228)",21.757401000000002,-98.494630000000001,2,"*","*",1,240340228,null,null,null,{"$f":"IFERROR(VLOOKUP(CONCATENATE(B4998,D4998),Padrón_Indígenas!$A$2:$G$988,7,0),\"No\")","v":"No"}]
[24,"034","San_Vicente_Tancuayalab","0151","El Cortijo (0151)","R","San Vicente Tancuayalab (034)El Cortijo (0151)",21.905669,-98.609675999999993,2,"*","*",1,240340151,"SI",null,null,{"$f":"IFERROR(VLOOKUP(CONCATENATE(B5001,D5001),Padrón_Indígenas!$A$2:$G$988,7,0),\"No\")","v":"No"}]
[24,"034","San_Vicente_Tancuayalab","0122","El Esfuerzo (0122)","R","San Vicente Tancuayalab (034)El Esfuerzo (0122)",21.787479000000001,-98.470001999999994,9,5,4,4,240340122,null,"Alto","Medio",{"$f":"IFERROR(VLOOKUP(CONCATENATE(B5003,D5003),Padrón_Indígenas!$A$2:$G$988,7,0),\"No\")","v":"No"}]
[24,"034","San_Vicente_Tancuayalab","0180","El Jopoy (0180)","R","San Vicente Tancuayalab (034)El Jopoy (0180)",21.836943999999999,-98.530277999999996,1,"*","*",1,240340180,null,null,null,{"$f":"IFERROR(VLOOKUP(CONCATENATE(B5009,D5009),Padrón_Indígenas!$A$2:$G$988,7,0),\"No\")","v":"No"}]
[24,"034","San_Vicente_Tancuayalab","0078","El Palmar (0078)","R","San Vicente Tancuayalab (034)El Palmar (0078)",21.668548999999999,-98.629379999999998,7,4,3,4,240340078,"SI","Muy alto","Alto",{"$f":"IFERROR(VLOOKUP(CONCATENATE(B5012,D5012),Padrón_Indígenas!$A$2:$G$988,7,0),\"No\")","v":"No"}]
[24,"034","San_Vicente_Tancuayalab","0186","El Papalote (0186)","R","San Vicente Tancuayalab (034)El Papalote (0186)",21.704722,-98.584999999999994,2,"*","*",1,240340186,"SI",null,null,{"$f":"IFERROR(VLOOKUP(CONCATENATE(B5014,D5014),Padrón_Indígenas!$A$2:$G$988,7,0),\"No\")","v":"No"}]
[24,"034","San_Vicente_Tancuayalab","0211","El Pozo (0211)","R","San Vicente Tancuayalab (034)El Pozo (0211)",21.711552999999999,-98.578678999999994,6,"*","*",1,240340211,"SI",null,null,{"$f":"IFERROR(VLOOKUP(CONCATENATE(B5017,D5017),Padrón_Indígenas!$A$2:$G$988,7,0),\"No\")","v":"No"}]
[24,"034","San_Vicente_Tancuayalab","0068","El Sacrificio (0068)","R","San Vicente Tancuayalab (034)El Sacrificio (0068)",21.763365,-98.498418000000001,4,"*","*",1,240340068,null,null,null,{"$f":"IFERROR(VLOOKUP(CONCATENATE(B5022,D5022),Padrón_Indígenas!$A$2:$G$988,7,0),\"No\")","v":"No"}]
[24,"034","San_Vicente_Tancuayalab","0085","El Torito (0085)","R","San Vicente Tancuayalab (034)El Torito (0085)",21.697973000000001,-98.617513000000002,2,"*","*",1,240340085,"SI",null,null,{"$f":"IFERROR(VLOOKUP(CONCATENATE(B5026,D5026),Padrón_Indígenas!$A$2:$G$988,7,0),\"No\")","v":"No"}]
[24,"034","San_Vicente_Tancuayalab","0210","El Vergel (0210)","R","San Vicente Tancuayalab (034)El Vergel (0210)",21.766843999999999,-98.488971000000006,0,0,0,0,240340210,null,null,null,{"$f":"IFERROR(VLOOKUP(CONCATENATE(B5029,D5029),Padrón_Indígenas!$A$2:$G$988,7,0),\"No\")","v":"No"}]
[24,"034","San_Vicente_Tancuayalab","0231","Enrique Jefris (0231)","R","San Vicente Tancuayalab (034)Enrique Jefris (0231)",21.885884000000001,-98.593476999999993,11,"*","*",2,240340231,"SI",null,null,{"$f":"IFERROR(VLOOKUP(CONCATENATE(B5031,D5031),Padrón_Indígenas!$A$2:$G$988,7,0),\"No\")","v":"No"}]
[24,"034","San_Vicente_Tancuayalab","0161","La Bolsa (0161)","R","San Vicente Tancuayalab (034)La Bolsa (0161)",21.871200999999999,-98.548657000000006,1,"*","*",1,240340161,null,null,null,{"$f":"IFERROR(VLOOKUP(CONCATENATE(B5037,D5037),Padrón_Indígenas!$A$2:$G$988,7,0),\"No\")","v":"No"}]
[24,"034","San_Vicente_Tancuayalab","0014","La Esperanza (0014)","R","San Vicente Tancuayalab (034)La Esperanza (0014)",21.772053,-98.473023999999995,11,"*","*",2,240340014,null,null,null,{"$f":"IFERROR(VLOOKUP(CONCATENATE(B5040,D5040),Padrón_Indígenas!$A$2:$G$988,7,0),\"No\")","v":"No"}]
[24,"034","San_Vicente_Tancuayalab","0220","La Parota (0220)","R","San Vicente Tancuayalab (034)La Parota (0220)",21.699541,-98.583394999999996,6,"*","*",2,240340220,"SI",null,null,{"$f":"IFERROR(VLOOKUP(CONCATENATE(B5044,D5044),Padrón_Indígenas!$A$2:$G$988,7,0),\"No\")","v":"No"}]
[24,"034","San_Vicente_Tancuayalab","0146","La Presa (0146)","R","San Vicente Tancuayalab (034)La Presa (0146)",21.781600000000001,-98.675391000000005,0,0,0,0,240340146,null,null,null,{"$f":"IFERROR(VLOOKUP(CONCATENATE(B5045,D5045),Padrón_Indígenas!$A$2:$G$988,7,0),\"No\")","v":"No"}]
[24,"034","San_Vicente_Tancuayalab","0036","La Soledad (0036)","R","San Vicente Tancuayalab (034)La Soledad (0036)",21.863056,-98.686751000000001,3,"*","*",1,240340036,null,null,null,{"$f":"IFERROR(VLOOKUP(CONCATENATE(B5049,D5049),Padrón_Indígenas!$A$2:$G$988,7,0),\"No\")","v":"No"}]
[24,"034","San_Vicente_Tancuayalab","0070","Las M's (0070)","R","San Vicente Tancuayalab (034)Las M's (0070)",21.7575,-98.612499999999997,5,"*","*",1,240340070,null,null,null,{"$f":"IFERROR(VLOOKUP(CONCATENATE(B5053,D5053),Padrón_Indígenas!$A$2:$G$988,7,0),\"No\")","v":"No"}]
[24,"034","San_Vicente_Tancuayalab","0149","Linda Vista (La Tomatera) (0149)","R","San Vicente Tancuayalab (034)Linda Vista (La Tomatera) (0149)",21.919443999999999,-98.547777999999994,0,0,0,0,240340149,null,null,null,{"$f":"IFERROR(VLOOKUP(CONCATENATE(B5058,D5058),Padrón_Indígenas!$A$2:$G$988,7,0),\"No\")","v":"No"}]
[24,"034","San_Vicente_Tancuayalab","0011","Los Cubes (0011)","R","San Vicente Tancuayalab (034)Los Cubes (0011)",21.925737999999999,-98.546592000000004,22,10,12,7,240340011,null,"Alto","Medio",{"$f":"IFERROR(VLOOKUP(CONCATENATE(B5061,D5061),Padrón_Indígenas!$A$2:$G$988,7,0),\"No\")","v":"No"}]
[24,"034","San_Vicente_Tancuayalab","0155","Los Retoños (0155)","R","San Vicente Tancuayalab (034)Los Retoños (0155)",21.871621000000001,-98.618104000000002,0,0,0,0,240340155,null,null,null,{"$f":"IFERROR(VLOOKUP(CONCATENATE(B5063,D5063),Padrón_Indígenas!$A$2:$G$988,7,0),\"No\")","v":"No"}]
[24,"034","San_Vicente_Tancuayalab","0073","Mirador Uno (0073)","R","San Vicente Tancuayalab (034)Mirador Uno (0073)",21.772133,-98.630758,4,"*","*",1,240340073,null,null,null,{"$f":"IFERROR(VLOOKUP(CONCATENATE(B5066,D5066),Padrón_Indígenas!$A$2:$G$988,7,0),\"No\")","v":"No"}]
[24,"034","San_Vicente_Tancuayalab","0183","Nuevo Centro de Población Benito Juárez (0183)","R","San Vicente Tancuayalab (034)Nuevo Centro de Población Benito Juárez (0183)",21.783263000000002,-98.624494999999996,52,26,26,14,240340183,"SI","Alto","Medio",{"$f":"IFERROR(VLOOKUP(CONCATENATE(B5072,D5072),Padrón_Indígenas!$A$2:$G$988,7,0),\"No\")","v":"Sí"}]
[24,"034","San_Vicente_Tancuayalab","0235","Nuevo Jomté (Antiguo Tamuín Dos) (0235)","R","San Vicente Tancuayalab (034)Nuevo Jomté (Antiguo Tamuín Dos) (0235)",21.861806000000001,-98.596256999999994,36,16,20,8,240340235,"SI","Alto","Medio",{"$f":"IFERROR(VLOOKUP(CONCATENATE(B5073,D5073),Padrón_Indígenas!$A$2:$G$988,7,0),\"No\")","v":"No"}]
[24,"034","San_Vicente_Tancuayalab","0062","Nuevo Jomté (El Sacrificio) (0062)","R","San Vicente Tancuayalab (034)Nuevo Jomté (El Sacrificio) (0062)",21.861528,-98.600628999999998,70,37,33,24,240340062,"SI","Medio","Bajo",{"$f":"IFERROR(VLOOKUP(CONCATENATE(B5077,D5077),Padrón_Indígenas!$A$2:$G$988,7,0),\"No\")","v":"No"}]
[24,"034","San_Vicente_Tancuayalab","0110","Nuevo Jomté (Tambolón) (0110)","R","San Vicente Tancuayalab (034)Nuevo Jomté (Tambolón) (0110)",21.858888,-98.602056000000005,104,53,51,26,240340110,"SI","Bajo","Muy bajo",{"$f":"IFERROR(VLOOKUP(CONCATENATE(B5081,D5081),Padrón_Indígenas!$A$2:$G$988,7,0),\"No\")","v":"No"}]
[24,"034","San_Vicente_Tancuayalab","0120","Palma Sola (0120)","R","San Vicente Tancuayalab (034)Palma Sola (0120)",21.754581000000002,-98.577967999999998,0,0,0,0,240340120,null,null,null,{"$f":"IFERROR(VLOOKUP(CONCATENATE(B5084,D5084),Padrón_Indígenas!$A$2:$G$988,7,0),\"No\")","v":"No"}]
[24,"034","San_Vicente_Tancuayalab","0026","Piedras Chinas (0026)","R","San Vicente Tancuayalab (034)Piedras Chinas (0026)",21.689978,-98.634347000000005,22,13,9,5,240340026,null,"Alto","Medio",{"$f":"IFERROR(VLOOKUP(CONCATENATE(B5086,D5086),Padrón_Indígenas!$A$2:$G$988,7,0),\"No\")","v":"No"}]
[24,"034","San_Vicente_Tancuayalab","0192","Rancho el Alto (0192)","R","San Vicente Tancuayalab (034)Rancho el Alto (0192)",21.809722000000001,-98.680555999999996,0,0,0,0,240340192,null,null,null,{"$f":"IFERROR(VLOOKUP(CONCATENATE(B5092,D5092),Padrón_Indígenas!$A$2:$G$988,7,0),\"No\")","v":"No"}]
[24,"034","San_Vicente_Tancuayalab","0191","Rancho el Coposo (0191)","R","San Vicente Tancuayalab (034)Rancho el Coposo (0191)",21.770558999999999,-98.490058000000005,4,"*","*",1,240340191,null,null,null,{"$f":"IFERROR(VLOOKUP(CONCATENATE(B5095,D5095),Padrón_Indígenas!$A$2:$G$988,7,0),\"No\")","v":"No"}]
[24,"034","San_Vicente_Tancuayalab","0017","Rancho el Hule (0017)","R","San Vicente Tancuayalab (034)Rancho el Hule (0017)",21.706886999999998,-98.604624000000001,15,4,11,3,240340017,null,"Medio","Muy bajo",{"$f":"IFERROR(VLOOKUP(CONCATENATE(B5097,D5097),Padrón_Indígenas!$A$2:$G$988,7,0),\"No\")","v":"No"}]
[24,"034","San_Vicente_Tancuayalab","0025","Rancho el Nopal (0025)","R","San Vicente Tancuayalab (034)Rancho el Nopal (0025)",21.744655000000002,-98.538932000000003,2,"*","*",1,240340025,null,null,null,{"$f":"IFERROR(VLOOKUP(CONCATENATE(B5100,D5100),Padrón_Indígenas!$A$2:$G$988,7,0),\"No\")","v":"No"}]
[24,"034","San_Vicente_Tancuayalab","0138","Rancho Jumaisa (0138)","R","San Vicente Tancuayalab (034)Rancho Jumaisa (0138)",21.739083000000001,-98.703327999999999,2,"*","*",1,240340138,"SI",null,null,{"$f":"IFERROR(VLOOKUP(CONCATENATE(B5105,D5105),Padrón_Indígenas!$A$2:$G$988,7,0),\"No\")","v":"No"}]
[24,"034","San_Vicente_Tancuayalab","0100","Rancho San Isidro (0100)","R","San Vicente Tancuayalab (034)Rancho San Isidro (0100)",21.840157000000001,-98.671188999999998,5,"*","*",1,240340100,null,null,null,{"$f":"IFERROR(VLOOKUP(CONCATENATE(B5109,D5109),Padrón_Indígenas!$A$2:$G$988,7,0),\"No\")","v":"No"}]
[24,"034","San_Vicente_Tancuayalab","0156","Rancho Santa Susana (0156)","R","San Vicente Tancuayalab (034)Rancho Santa Susana (0156)",21.841944000000002,-98.672499999999999,2,"*","*",1,240340156,null,null,null,{"$f":"IFERROR(VLOOKUP(CONCATENATE(B5113,D5113),Padrón_Indígenas!$A$2:$G$988,7,0),\"No\")","v":"No"}]
[24,"034","San_Vicente_Tancuayalab","0198","Rancho Tazajeras (0198)","R","San Vicente Tancuayalab (034)Rancho Tazajeras (0198)",21.788539,-98.679237000000001,0,0,0,0,240340198,null,null,null,{"$f":"IFERROR(VLOOKUP(CONCATENATE(B5114,D5114),Padrón_Indígenas!$A$2:$G$988,7,0),\"No\")","v":"No"}]
[24,"034","San_Vicente_Tancuayalab","0029","San Isidro Nuevo (0029)","R","San Vicente Tancuayalab (034)San Isidro Nuevo (0029)",21.751200999999998,-98.611097999999998,5,"*","*",1,240340029,null,null,null,{"$f":"IFERROR(VLOOKUP(CONCATENATE(B5120,D5120),Padrón_Indígenas!$A$2:$G$988,7,0),\"No\")","v":"No"}]
[24,"034","San_Vicente_Tancuayalab","0245","San Juan de las Vegas Dos Fracción Tancojol (0245)","R","San Vicente Tancuayalab (034)San Juan de las Vegas Dos Fracción Tancojol (0245)",21.787068999999999,-98.519231000000005,43,25,18,13,240340245,"SI","Alto","Medio",{"$f":"IFERROR(VLOOKUP(CONCATENATE(B5123,D5123),Padrón_Indígenas!$A$2:$G$988,7,0),\"No\")","v":"No"}]
[24,"034","San_Vicente_Tancuayalab","0001","San Vicente Tancuayalab (0001)","U","San Vicente Tancuayalab (034)San Vicente Tancuayalab (0001)",21.714943999999999,-98.585718,6444,3116,3328,1642,240340001,"SI",null,null,{"$f":"IFERROR(VLOOKUP(CONCATENATE(B5125,D5125),Padrón_Indígenas!$A$2:$G$988,7,0),\"No\")","v":"No"}]
[24,"034","San_Vicente_Tancuayalab","0027","Santa Martha (La Ranchería) (0027)","R","San Vicente Tancuayalab (034)Santa Martha (La Ranchería) (0027)",21.691769000000001,-98.591145999999995,0,0,0,0,240340027,null,null,null,{"$f":"IFERROR(VLOOKUP(CONCATENATE(B5128,D5128),Padrón_Indígenas!$A$2:$G$988,7,0),\"No\")","v":"No"}]
[24,"034","San_Vicente_Tancuayalab","0246","Sara Martha (0246)","R","San Vicente Tancuayalab (034)Sara Martha (0246)",21.875468000000001,-98.624275999999995,0,0,0,0,240340246,null,null,null,{"$f":"IFERROR(VLOOKUP(CONCATENATE(B5133,D5133),Padrón_Indígenas!$A$2:$G$988,7,0),\"No\")","v":"No"}]
[24,"034","San_Vicente_Tancuayalab","0259","Tampasito [María Elena Meraz Zúñiga] (0259)","R","San Vicente Tancuayalab (034)Tampasito [María Elena Meraz Zúñiga] (0259)",21.678556,-98.644283000000001,"-","-","-","-",240340259,null,null,null,{"$f":"IFERROR(VLOOKUP(CONCATENATE(B5136,D5136),Padrón_Indígenas!$A$2:$G$988,7,0),\"No\")","v":"No"}]
[24,"034","San_Vicente_Tancuayalab","0039","Tantojón (0039)","R","San Vicente Tancuayalab (034)Tantojón (0039)",21.785433000000001,-98.468464999999995,487,242,245,111,240340039,"SI","Alto","Bajo",{"$f":"IFERROR(VLOOKUP(CONCATENATE(B5141,D5141),Padrón_Indígenas!$A$2:$G$988,7,0),\"No\")","v":"No"}]
[24,"034","San_Vicente_Tancuayalab","0114","Tres Hermanos (0114)","R","San Vicente Tancuayalab (034)Tres Hermanos (0114)",21.844716999999999,-98.618776999999994,3,"*","*",1,240340114,null,null,null,{"$f":"IFERROR(VLOOKUP(CONCATENATE(B5144,D5144),Padrón_Indígenas!$A$2:$G$988,7,0),\"No\")","v":"No"}]
[24,"034","San_Vicente_Tancuayalab",null,"Todo el municipio ",null,"San Vicente Tancuayalab (034)Todo el municipio ",null,null,{"$f":"SUM(J4965:J5145)","v":14958}]
[24,"031","Santa_Catarina","0096","Agua Amarga (Las Jaritas) (0096)","R","Santa Catarina (031)Agua Amarga (Las Jaritas) (0096)",21.513142999999999,-99.481773000000004,18,8,10,3,240310096,"SI","Muy alto","Alto",{"$f":"IFERROR(VLOOKUP(CONCATENATE(B5149,D5149),Padrón_Indígenas!$A$2:$G$988,7,0),\"No\")","v":"Sí"}]
[24,"031","Santa_Catarina","0006","Calabazas (San Francisco del Sauce) (0006)","R","Santa Catarina (031)Calabazas (San Francisco del Sauce) (0006)",21.549759999999999,-99.454068000000007,357,158,199,101,240310006,"SI","Alto","Medio",{"$f":"IFERROR(VLOOKUP(CONCATENATE(B5155,D5155),Padrón_Indígenas!$A$2:$G$988,7,0),\"No\")","v":"No"}]
[24,"031","Santa_Catarina","0007","Carrizal Grande (0007)","R","Santa Catarina (031)Carrizal Grande (0007)",21.546638999999999,-99.483541000000002,183,88,95,46,240310007,"SI","Alto","Bajo",{"$f":"IFERROR(VLOOKUP(CONCATENATE(B5156,D5156),Padrón_Indígenas!$A$2:$G$988,7,0),\"No\")","v":"No"}]
[24,"031","Santa_Catarina","0112","Crucerito de los Limones (Santos Apolinar) (0112)","R","Santa Catarina (031)Crucerito de los Limones (Santos Apolinar) (0112)",21.624704000000001,-99.375881000000007,8,"*","*",2,240310112,"SI",null,null,{"$f":"IFERROR(VLOOKUP(CONCATENATE(B5160,D5160),Padrón_Indígenas!$A$2:$G$988,7,0),\"No\")","v":"No"}]
[24,"031","Santa_Catarina","0132","El Chamal (La Compuerta) (0132)","R","Santa Catarina (031)El Chamal (La Compuerta) (0132)",21.458600000000001,-99.419145999999998,"-","-","-","-",240310132,"SI",null,null,{"$f":"IFERROR(VLOOKUP(CONCATENATE(B5164,D5164),Padrón_Indígenas!$A$2:$G$988,7,0),\"No\")","v":"No"}]
[24,"031","Santa_Catarina","0077","El Huizache (0077)","R","Santa Catarina (031)El Huizache (0077)",21.594094999999999,-99.340987999999996,16,10,6,3,240310077,"SI","Muy alto","Medio",{"$f":"IFERROR(VLOOKUP(CONCATENATE(B5169,D5169),Padrón_Indígenas!$A$2:$G$988,7,0),\"No\")","v":"No"}]
[24,"031","Santa_Catarina","0058","El Pedregoso (0058)","R","Santa Catarina (031)El Pedregoso (0058)",21.682221999999999,-99.350832999999994,77,40,37,17,240310058,"SI","Alto","Medio",{"$f":"IFERROR(VLOOKUP(CONCATENATE(B5172,D5172),Padrón_Indígenas!$A$2:$G$988,7,0),\"No\")","v":"Sí"}]
[24,"031","Santa_Catarina","0122","El Potrero (0122)","R","Santa Catarina (031)El Potrero (0122)",21.694568,-99.489468000000002,8,4,4,3,240310122,null,"Medio","Bajo",{"$f":"IFERROR(VLOOKUP(CONCATENATE(B5174,D5174),Padrón_Indígenas!$A$2:$G$988,7,0),\"No\")","v":"No"}]
[24,"031","Santa_Catarina","0125","El Ranchito (0125)","R","Santa Catarina (031)El Ranchito (0125)",21.647649000000001,-99.486358999999993,0,0,0,0,240310125,null,null,null,{"$f":"IFERROR(VLOOKUP(CONCATENATE(B5177,D5177),Padrón_Indígenas!$A$2:$G$988,7,0),\"No\")","v":"No"}]
[24,"031","Santa_Catarina","0034","El Saucillo (0034)","R","Santa Catarina (031)El Saucillo (0034)",21.62997,-99.464815000000002,61,21,40,17,240310034,null,"Alto","Medio",{"$f":"IFERROR(VLOOKUP(CONCATENATE(B5180,D5180),Padrón_Indígenas!$A$2:$G$988,7,0),\"No\")","v":"No"}]
[24,"031","Santa_Catarina","0076","Joya de Palma Real (0076)","R","Santa Catarina (031)Joya de Palma Real (0076)",21.633323000000001,-99.324207000000001,20,10,10,3,240310076,"SI","Muy alto","Alto",{"$f":"IFERROR(VLOOKUP(CONCATENATE(B5183,D5183),Padrón_Indígenas!$A$2:$G$988,7,0),\"No\")","v":"No"}]
[24,"031","Santa_Catarina","0004","La Barranca (0004)","R","Santa Catarina (031)La Barranca (0004)",21.487221999999999,-99.418333000000004,325,162,163,49,240310004,"SI","Muy alto","Medio",{"$f":"IFERROR(VLOOKUP(CONCATENATE(B5188,D5188),Padrón_Indígenas!$A$2:$G$988,7,0),\"No\")","v":"Sí"}]
[24,"031","Santa_Catarina","0008","La Cuchilla (0008)","R","Santa Catarina (031)La Cuchilla (0008)",21.522302,-99.436110999999997,180,87,93,37,240310008,"SI","Muy alto","Alto",{"$f":"IFERROR(VLOOKUP(CONCATENATE(B5192,D5192),Padrón_Indígenas!$A$2:$G$988,7,0),\"No\")","v":"Sí"}]
[24,"031","Santa_Catarina","0106","La Palmita (0106)","R","Santa Catarina (031)La Palmita (0106)",21.461666999999998,-99.460211000000001,10,"*","*",1,240310106,"SI",null,null,{"$f":"IFERROR(VLOOKUP(CONCATENATE(B5196,D5196),Padrón_Indígenas!$A$2:$G$988,7,0),\"No\")","v":"No"}]
[24,"031","Santa_Catarina","0021","La Parada (0021)","R","Santa Catarina (031)La Parada (0021)",21.516940999999999,-99.463654000000005,576,274,302,99,240310021,"SI","Alto","Medio",{"$f":"IFERROR(VLOOKUP(CONCATENATE(B5197,D5197),Padrón_Indígenas!$A$2:$G$988,7,0),\"No\")","v":"Sí"}]
[24,"031","Santa_Catarina","0014","Las Lagunitas (0014)","R","Santa Catarina (031)Las Lagunitas (0014)",21.480056000000001,-99.515005000000002,369,183,186,59,240310014,"SI","Muy alto","Medio",{"$f":"IFERROR(VLOOKUP(CONCATENATE(B5203,D5203),Padrón_Indígenas!$A$2:$G$988,7,0),\"No\")","v":"Sí"}]
[24,"031","Santa_Catarina","0020","Las Moras (0020)","R","Santa Catarina (031)Las Moras (0020)",21.596464000000001,-99.497456999999997,85,45,40,24,240310020,"SI","Alto","Medio",{"$f":"IFERROR(VLOOKUP(CONCATENATE(B5206,D5206),Padrón_Indígenas!$A$2:$G$988,7,0),\"No\")","v":"No"}]
[24,"031","Santa_Catarina","0015","Limón de la Peña (0015)","R","Santa Catarina (031)Limón de la Peña (0015)",21.443528000000001,-99.515096,321,148,173,51,240310015,"SI","Muy alto","Alto",{"$f":"IFERROR(VLOOKUP(CONCATENATE(B5208,D5208),Padrón_Indígenas!$A$2:$G$988,7,0),\"No\")","v":"Sí"}]
[24,"031","Santa_Catarina","0087","Los Pocitos (0087)","R","Santa Catarina (031)Los Pocitos (0087)",21.724620999999999,-99.345376000000002,60,30,30,11,240310087,"SI","Muy alto","Alto",{"$f":"IFERROR(VLOOKUP(CONCATENATE(B5211,D5211),Padrón_Indígenas!$A$2:$G$988,7,0),\"No\")","v":"Sí"}]
[24,"031","Santa_Catarina","0084","Palo Rajado (0084)","R","Santa Catarina (031)Palo Rajado (0084)",21.524894,-99.543407999999999,42,23,19,6,240310084,"SI","Muy alto","Alto",{"$f":"IFERROR(VLOOKUP(CONCATENATE(B5216,D5216),Padrón_Indígenas!$A$2:$G$988,7,0),\"No\")","v":"Sí"}]
[24,"031","Santa_Catarina","0114","Plan de Santo Domingo (0114)","R","Santa Catarina (031)Plan de Santo Domingo (0114)",21.641417000000001,-99.349279999999993,24,12,12,7,240310114,"SI","Muy alto","Alto",{"$f":"IFERROR(VLOOKUP(CONCATENATE(B5220,D5220),Padrón_Indígenas!$A$2:$G$988,7,0),\"No\")","v":"Sí"}]
[24,"031","Santa_Catarina","0060","Puertecitos (0060)","R","Santa Catarina (031)Puertecitos (0060)",21.659248999999999,-99.387292000000002,8,"*","*",1,240310060,null,null,null,{"$f":"IFERROR(VLOOKUP(CONCATENATE(B5224,D5224),Padrón_Indígenas!$A$2:$G$988,7,0),\"No\")","v":"No"}]
[24,"031","Santa_Catarina","0061","Rancho Nuevo (El Encinal) (0061)","R","Santa Catarina (031)Rancho Nuevo (El Encinal) (0061)",21.579086,-99.480643000000001,11,"*","*",2,240310061,null,null,null,{"$f":"IFERROR(VLOOKUP(CONCATENATE(B5227,D5227),Padrón_Indígenas!$A$2:$G$988,7,0),\"No\")","v":"Sí"}]
[24,"031","Santa_Catarina","0045","Río la Culata (0045)","R","Santa Catarina (031)Río la Culata (0045)",21.554769,-99.363583000000006,1,"*","*",1,240310045,null,null,null,{"$f":"IFERROR(VLOOKUP(CONCATENATE(B5229,D5229),Padrón_Indígenas!$A$2:$G$988,7,0),\"No\")","v":"No"}]
[24,"031","Santa_Catarina","0030","San José (0030)","R","Santa Catarina (031)San José (0030)",21.484991999999998,-99.443924999999993,276,128,148,56,240310030,"SI","Muy alto","Alto",{"$f":"IFERROR(VLOOKUP(CONCATENATE(B5232,D5232),Padrón_Indígenas!$A$2:$G$988,7,0),\"No\")","v":"Sí"}]
[24,"031","Santa_Catarina","0067","Santa Elena (0067)","R","Santa Catarina (031)Santa Elena (0067)",21.595703,-99.396778999999995,29,13,16,9,240310067,"SI","Muy alto","Alto",{"$f":"IFERROR(VLOOKUP(CONCATENATE(B5238,D5238),Padrón_Indígenas!$A$2:$G$988,7,0),\"No\")","v":"No"}]
[24,"031","Santa_Catarina","0033","Santa Teresa (0033)","R","Santa Catarina (031)Santa Teresa (0033)",21.470171000000001,-99.517674,153,79,74,27,240310033,"SI","Muy alto","Alto",{"$f":"IFERROR(VLOOKUP(CONCATENATE(B5240,D5240),Padrón_Indígenas!$A$2:$G$988,7,0),\"No\")","v":"Sí"}]
[24,"031","Santa_Catarina","0069","Tampaso (0069)","R","Santa Catarina (031)Tampaso (0069)",21.669844000000001,-99.498113000000004,7,"*","*",1,240310069,null,null,null,{"$f":"IFERROR(VLOOKUP(CONCATENATE(B5243,D5243),Padrón_Indígenas!$A$2:$G$988,7,0),\"No\")","v":"No"}]
[24,"031","Santa_Catarina","0130","Tanzapil (0130)","R","Santa Catarina (031)Tanzapil (0130)",21.65774,-99.307477000000006,"-","-","-","-",240310130,null,null,null,{"$f":"IFERROR(VLOOKUP(CONCATENATE(B5247,D5247),Padrón_Indígenas!$A$2:$G$988,7,0),\"No\")","v":"No"}]
[24,"032","Santa_María_del_Río","0005","Agostadero de Santa Bárbara (0005)","R","Santa María del Río (032)Agostadero de Santa Bárbara (0005)",21.735758000000001,-100.752146,130,67,63,26,240320005,null,"Muy alto","Alto",{"$f":"IFERROR(VLOOKUP(CONCATENATE(B5252,D5252),Padrón_Indígenas!$A$2:$G$988,7,0),\"No\")","v":"No"}]
[24,"032","Santa_María_del_Río","0012","Angostura (0012)","R","Santa María del Río (032)Angostura (0012)",21.846053999999999,-100.534997,3,"*","*",1,240320012,null,null,null,{"$f":"IFERROR(VLOOKUP(CONCATENATE(B5255,D5255),Padrón_Indígenas!$A$2:$G$988,7,0),\"No\")","v":"No"}]
[24,"032","Santa_María_del_Río","0423","Arroyo el Arco (0423)","R","Santa María del Río (032)Arroyo el Arco (0423)",21.709444000000001,-100.208611,0,0,0,0,240320423,null,null,null,{"$f":"IFERROR(VLOOKUP(CONCATENATE(B5257,D5257),Padrón_Indígenas!$A$2:$G$988,7,0),\"No\")","v":"No"}]
[24,"032","Santa_María_del_Río","0021","Badillo (0021)","R","Santa María del Río (032)Badillo (0021)",21.816754,-100.581384,89,42,47,25,240320021,null,"Alto","Bajo",{"$f":"IFERROR(VLOOKUP(CONCATENATE(B5260,D5260),Padrón_Indígenas!$A$2:$G$988,7,0),\"No\")","v":"No"}]
[24,"032","Santa_María_del_Río","0030","Bernalejo (0030)","R","Santa María del Río (032)Bernalejo (0030)",21.867850000000001,-100.703881,275,125,150,57,240320030,"SI","Alto","Bajo",{"$f":"IFERROR(VLOOKUP(CONCATENATE(B5266,D5266),Padrón_Indígenas!$A$2:$G$988,7,0),\"No\")","v":"No"}]
[24,"032","Santa_María_del_Río","0429","Campo Experimental CBTA [Escuela] (0429)","R","Santa María del Río (032)Campo Experimental CBTA [Escuela] (0429)",21.657222000000001,-100.718333,7,"*","*",1,240320429,null,null,null,{"$f":"IFERROR(VLOOKUP(CONCATENATE(B5268,D5268),Padrón_Indígenas!$A$2:$G$988,7,0),\"No\")","v":"No"}]
[24,"032","Santa_María_del_Río","0040","Cañada del Cacao (0040)","R","Santa María del Río (032)Cañada del Cacao (0040)",21.851844,-100.419004,92,39,53,26,240320040,null,"Muy alto","Alto",{"$f":"IFERROR(VLOOKUP(CONCATENATE(B5271,D5271),Padrón_Indígenas!$A$2:$G$988,7,0),\"No\")","v":"No"}]
[24,"032","Santa_María_del_Río","0559","Cebollitas (0559)","R","Santa María del Río (032)Cebollitas (0559)",21.652812999999998,-100.739784,0,0,0,0,240320559,null,null,null,{"$f":"IFERROR(VLOOKUP(CONCATENATE(B5275,D5275),Padrón_Indígenas!$A$2:$G$988,7,0),\"No\")","v":"No"}]
[24,"032","Santa_María_del_Río","0403","Cerro de San Isidro (0403)","R","Santa María del Río (032)Cerro de San Isidro (0403)",21.785845999999999,-100.33933399999999,9,5,4,3,240320403,null,"Muy alto","Alto",{"$f":"IFERROR(VLOOKUP(CONCATENATE(B5279,D5279),Padrón_Indígenas!$A$2:$G$988,7,0),\"No\")","v":"No"}]
[24,"032","Santa_María_del_Río","0404","Cerro de San Isidro Dos (0404)","R","Santa María del Río (032)Cerro de San Isidro Dos (0404)",21.891770000000001,-100.498115,0,0,0,0,240320404,null,null,null,{"$f":"IFERROR(VLOOKUP(CONCATENATE(B5280,D5280),Padrón_Indígenas!$A$2:$G$988,7,0),\"No\")","v":"No"}]
[24,"032","Santa_María_del_Río","0525","Charco Verde (0525)","R","Santa María del Río (032)Charco Verde (0525)",21.761666999999999,-100.531111,8,"*","*",1,240320525,null,null,null,{"$f":"IFERROR(VLOOKUP(CONCATENATE(B5284,D5284),Padrón_Indígenas!$A$2:$G$988,7,0),\"No\")","v":"No"}]
[24,"032","Santa_María_del_Río","0056","Cieneguilla (0056)","R","Santa María del Río (032)Cieneguilla (0056)",21.836943999999999,-100.511944,7,3,4,3,240320056,null,"Muy alto","Muy alto",{"$f":"IFERROR(VLOOKUP(CONCATENATE(B5289,D5289),Padrón_Indígenas!$A$2:$G$988,7,0),\"No\")","v":"No"}]
[24,"032","Santa_María_del_Río","0438","Crucero de Villela (0438)","R","Santa María del Río (032)Crucero de Villela (0438)",21.666152,-100.711804,20,12,8,5,240320438,null,"Alto","Medio",{"$f":"IFERROR(VLOOKUP(CONCATENATE(B5291,D5291),Padrón_Indígenas!$A$2:$G$988,7,0),\"No\")","v":"No"}]
[24,"032","Santa_María_del_Río","0073","Derramadero (0073)","R","Santa María del Río (032)Derramadero (0073)",21.672813000000001,-100.63851,6,"*","*",1,240320073,null,null,null,{"$f":"IFERROR(VLOOKUP(CONCATENATE(B5294,D5294),Padrón_Indígenas!$A$2:$G$988,7,0),\"No\")","v":"No"}]
[24,"032","Santa_María_del_Río","0014","El Anillo (0014)","R","Santa María del Río (032)El Anillo (0014)",21.821680000000001,-100.542402,5,"*","*",1,240320014,null,null,null,{"$f":"IFERROR(VLOOKUP(CONCATENATE(B5299,D5299),Padrón_Indígenas!$A$2:$G$988,7,0),\"No\")","v":"No"}]
[24,"032","Santa_María_del_Río","0563","El Baño (0563)","R","Santa María del Río (032)El Baño (0563)",21.614691000000001,-100.77014800000001,10,"*","*",2,240320563,null,null,null,{"$f":"IFERROR(VLOOKUP(CONCATENATE(B5303,D5303),Padrón_Indígenas!$A$2:$G$988,7,0),\"No\")","v":"No"}]
[24,"032","Santa_María_del_Río","0048","El Carmen (0048)","R","Santa María del Río (032)El Carmen (0048)",21.590287,-100.66470099999999,419,201,218,116,240320048,null,"Alto","Medio",{"$f":"IFERROR(VLOOKUP(CONCATENATE(B5307,D5307),Padrón_Indígenas!$A$2:$G$988,7,0),\"No\")","v":"No"}]
[24,"032","Santa_María_del_Río","0305","El Carretón (0305)","R","Santa María del Río (032)El Carretón (0305)",21.837261999999999,-100.64530499999999,20,11,9,5,240320305,null,"Alto","Alto",{"$f":"IFERROR(VLOOKUP(CONCATENATE(B5308,D5308),Padrón_Indígenas!$A$2:$G$988,7,0),\"No\")","v":"No"}]
[24,"032","Santa_María_del_Río","0547","El Chorrito (0547)","R","Santa María del Río (032)El Chorrito (0547)",21.721063999999998,-100.66554499999999,0,0,0,0,240320547,null,null,null,{"$f":"IFERROR(VLOOKUP(CONCATENATE(B5312,D5312),Padrón_Indígenas!$A$2:$G$988,7,0),\"No\")","v":"No"}]
[24,"032","Santa_María_del_Río","0529","El Establo (0529)","R","Santa María del Río (032)El Establo (0529)",21.662514999999999,-100.71286600000001,0,0,0,0,240320529,null,null,null,{"$f":"IFERROR(VLOOKUP(CONCATENATE(B5317,D5317),Padrón_Indígenas!$A$2:$G$988,7,0),\"No\")","v":"No"}]
[24,"032","Santa_María_del_Río","0443","El Gato (0443)","R","Santa María del Río (032)El Gato (0443)",21.650504999999999,-100.755872,0,0,0,0,240320443,null,null,null,{"$f":"IFERROR(VLOOKUP(CONCATENATE(B5319,D5319),Padrón_Indígenas!$A$2:$G$988,7,0),\"No\")","v":"No"}]
[24,"032","Santa_María_del_Río","0093","El Guaricho (0093)","R","Santa María del Río (032)El Guaricho (0093)",21.864394000000001,-100.303901,59,28,31,12,240320093,null,"Muy alto","Alto",{"$f":"IFERROR(VLOOKUP(CONCATENATE(B5323,D5323),Padrón_Indígenas!$A$2:$G$988,7,0),\"No\")","v":"No"}]
[24,"032","Santa_María_del_Río","0401","El Laurel (0401)","R","Santa María del Río (032)El Laurel (0401)",21.821463000000001,-100.59016099999999,77,37,40,20,240320401,null,"Alto","Medio",{"$f":"IFERROR(VLOOKUP(CONCATENATE(B5326,D5326),Padrón_Indígenas!$A$2:$G$988,7,0),\"No\")","v":"No"}]
[24,"032","Santa_María_del_Río","0331","El Mimbre (0331)","R","Santa María del Río (032)El Mimbre (0331)",21.783431,-100.39996600000001,3,"*","*",1,240320331,null,null,null,{"$f":"IFERROR(VLOOKUP(CONCATENATE(B5331,D5331),Padrón_Indígenas!$A$2:$G$988,7,0),\"No\")","v":"No"}]
[24,"032","Santa_María_del_Río","0149","El Nogal (0149)","R","Santa María del Río (032)El Nogal (0149)",21.844199,-100.544811,0,0,0,0,240320149,null,null,null,{"$f":"IFERROR(VLOOKUP(CONCATENATE(B5335,D5335),Padrón_Indígenas!$A$2:$G$988,7,0),\"No\")","v":"No"}]
[24,"032","Santa_María_del_Río","0554","El Oasis (Fracción Sánchez) (0554)","R","Santa María del Río (032)El Oasis (Fracción Sánchez) (0554)",21.784167,-100.71449800000001,1,"*","*",1,240320554,null,null,null,{"$f":"IFERROR(VLOOKUP(CONCATENATE(B5338,D5338),Padrón_Indígenas!$A$2:$G$988,7,0),\"No\")","v":"No"}]
[24,"032","Santa_María_del_Río","0465","El Ojo de Agua (0465)","R","Santa María del Río (032)El Ojo de Agua (0465)",21.692132000000001,-100.195078,5,"*","*",1,240320465,null,null,null,{"$f":"IFERROR(VLOOKUP(CONCATENATE(B5340,D5340),Padrón_Indígenas!$A$2:$G$988,7,0),\"No\")","v":"No"}]
[24,"032","Santa_María_del_Río","0470","El Peñón (0470)","R","Santa María del Río (032)El Peñón (0470)",21.684522999999999,-100.63292800000001,8,3,5,3,240320470,null,"Muy alto","Alto",{"$f":"IFERROR(VLOOKUP(CONCATENATE(B5343,D5343),Padrón_Indígenas!$A$2:$G$988,7,0),\"No\")","v":"No"}]
[24,"032","Santa_María_del_Río","0197","El Platanito (0197)","R","Santa María del Río (032)El Platanito (0197)",21.717580000000002,-100.18701799999999,12,"*","*",2,240320197,null,null,null,{"$f":"IFERROR(VLOOKUP(CONCATENATE(B5349,D5349),Padrón_Indígenas!$A$2:$G$988,7,0),\"No\")","v":"No"}]
[24,"032","Santa_María_del_Río","0204","El Pueblito (0204)","R","Santa María del Río (032)El Pueblito (0204)",21.822023999999999,-100.76422599999999,390,189,201,85,240320204,null,"Medio","Muy bajo",{"$f":"IFERROR(VLOOKUP(CONCATENATE(B5351,D5351),Padrón_Indígenas!$A$2:$G$988,7,0),\"No\")","v":"No"}]
[24,"032","Santa_María_del_Río","0351","El Rayo (0351)","R","Santa María del Río (032)El Rayo (0351)",21.776463,-100.228866,2,"*","*",1,240320351,null,null,null,{"$f":"IFERROR(VLOOKUP(CONCATENATE(B5354,D5354),Padrón_Indígenas!$A$2:$G$988,7,0),\"No\")","v":"No"}]
[24,"032","Santa_María_del_Río","0480","El Roble (0480)","R","Santa María del Río (032)El Roble (0480)",21.874694000000002,-100.38041200000001,20,10,10,5,240320480,null,"Muy alto","Muy alto",{"$f":"IFERROR(VLOOKUP(CONCATENATE(B5359,D5359),Padrón_Indígenas!$A$2:$G$988,7,0),\"No\")","v":"No"}]
[24,"032","Santa_María_del_Río","0323","El Sauz (0323)","R","Santa María del Río (032)El Sauz (0323)",21.746607999999998,-100.791635,11,"*","*",2,240320323,null,null,null,{"$f":"IFERROR(VLOOKUP(CONCATENATE(B5363,D5363),Padrón_Indígenas!$A$2:$G$988,7,0),\"No\")","v":"No"}]
[24,"032","Santa_María_del_Río","0352","El Tabaco (0352)","R","Santa María del Río (032)El Tabaco (0352)",21.734311000000002,-100.245409,3,"*","*",2,240320352,null,null,null,{"$f":"IFERROR(VLOOKUP(CONCATENATE(B5366,D5366),Padrón_Indígenas!$A$2:$G$988,7,0),\"No\")","v":"No"}]
[24,"032","Santa_María_del_Río","0556","El Tamboctel (0556)","R","Santa María del Río (032)El Tamboctel (0556)",21.784879,-100.73929,10,5,5,3,240320556,null,"Muy alto","Alto",{"$f":"IFERROR(VLOOKUP(CONCATENATE(B5367,D5367),Padrón_Indígenas!$A$2:$G$988,7,0),\"No\")","v":"No"}]
[24,"032","Santa_María_del_Río","0291","El Tule (0291)","R","Santa María del Río (032)El Tule (0291)",21.656229,-100.655092,372,165,207,74,240320291,null,"Alto","Medio",{"$f":"IFERROR(VLOOKUP(CONCATENATE(B5372,D5372),Padrón_Indígenas!$A$2:$G$988,7,0),\"No\")","v":"No"}]
[24,"032","Santa_María_del_Río","0294","El Vallecito (0294)","R","Santa María del Río (032)El Vallecito (0294)",21.870052000000001,-100.692886,27,13,14,7,240320294,null,"Alto","Bajo",{"$f":"IFERROR(VLOOKUP(CONCATENATE(B5375,D5375),Padrón_Indígenas!$A$2:$G$988,7,0),\"No\")","v":"No"}]
[24,"032","Santa_María_del_Río","0389","El Zapote (Zapotito) (0389)","R","Santa María del Río (032)El Zapote (Zapotito) (0389)",21.811133000000002,-100.554765,28,11,17,7,240320389,null,"Alto","Medio",{"$f":"IFERROR(VLOOKUP(CONCATENATE(B5377,D5377),Padrón_Indígenas!$A$2:$G$988,7,0),\"No\")","v":"No"}]
[24,"032","Santa_María_del_Río","0020","Estancia de Atotonilco (0020)","R","Santa María del Río (032)Estancia de Atotonilco (0020)",21.626228999999999,-100.774672,739,351,388,177,240320020,null,"Alto","Bajo",{"$f":"IFERROR(VLOOKUP(CONCATENATE(B5382,D5382),Padrón_Indígenas!$A$2:$G$988,7,0),\"No\")","v":"No"}]
[24,"032","Santa_María_del_Río","0284","Fracción el Toro (0284)","R","Santa María del Río (032)Fracción el Toro (0284)",21.865988999999999,-100.763603,620,275,345,124,240320284,null,"Alto","Bajo",{"$f":"IFERROR(VLOOKUP(CONCATENATE(B5386,D5386),Padrón_Indígenas!$A$2:$G$988,7,0),\"No\")","v":"No"}]
[24,"032","Santa_María_del_Río","0442","Ganadería Carranco (0442)","R","Santa María del Río (032)Ganadería Carranco (0442)",21.607742999999999,-100.75036900000001,0,0,0,0,240320442,null,null,null,{"$f":"IFERROR(VLOOKUP(CONCATENATE(B5390,D5390),Padrón_Indígenas!$A$2:$G$988,7,0),\"No\")","v":"No"}]
[24,"032","Santa_María_del_Río","0086","Garabatos (0086)","R","Santa María del Río (032)Garabatos (0086)",21.831814999999999,-100.452474,31,17,14,5,240320086,null,"Alto","Medio",{"$f":"IFERROR(VLOOKUP(CONCATENATE(B5391,D5391),Padrón_Indígenas!$A$2:$G$988,7,0),\"No\")","v":"No"}]
[24,"032","Santa_María_del_Río","0448","Hacienda Javier Labastida (0448)","R","Santa María del Río (032)Hacienda Javier Labastida (0448)",21.603695999999999,-100.754369,0,0,0,0,240320448,null,null,null,{"$f":"IFERROR(VLOOKUP(CONCATENATE(B5395,D5395),Padrón_Indígenas!$A$2:$G$988,7,0),\"No\")","v":"No"}]
[24,"032","Santa_María_del_Río","0505","José Valentín Torres (0505)","R","Santa María del Río (032)José Valentín Torres (0505)",21.822327000000001,-100.731049,0,0,0,0,240320505,null,null,null,{"$f":"IFERROR(VLOOKUP(CONCATENATE(B5400,D5400),Padrón_Indígenas!$A$2:$G$988,7,0),\"No\")","v":"No"}]
[24,"032","Santa_María_del_Río","0332","Juan Diego (0332)","R","Santa María del Río (032)Juan Diego (0332)",21.813039,-100.446325,14,4,10,4,240320332,null,"Alto","Alto",{"$f":"IFERROR(VLOOKUP(CONCATENATE(B5403,D5403),Padrón_Indígenas!$A$2:$G$988,7,0),\"No\")","v":"No"}]
[24,"032","Santa_María_del_Río","0408","La Barranca (0408)","R","Santa María del Río (032)La Barranca (0408)",21.779153000000001,-100.60830799999999,10,4,6,4,240320408,null,"Medio","Bajo",{"$f":"IFERROR(VLOOKUP(CONCATENATE(B5405,D5405),Padrón_Indígenas!$A$2:$G$988,7,0),\"No\")","v":"No"}]
[24,"032","Santa_María_del_Río","0427","La Burrera (0427)","R","Santa María del Río (032)La Burrera (0427)",21.660823000000001,-100.699882,16,"*","*",2,240320427,null,null,null,{"$f":"IFERROR(VLOOKUP(CONCATENATE(B5410,D5410),Padrón_Indígenas!$A$2:$G$988,7,0),\"No\")","v":"No"}]
[24,"032","Santa_María_del_Río","0353","La Canahuilla (0353)","R","Santa María del Río (032)La Canahuilla (0353)",21.732669000000001,-100.259692,14,9,5,5,240320353,null,"Muy alto","Muy alto",{"$f":"IFERROR(VLOOKUP(CONCATENATE(B5414,D5414),Padrón_Indígenas!$A$2:$G$988,7,0),\"No\")","v":"No"}]
[24,"032","Santa_María_del_Río","0047","La Cardona (0047)","R","Santa María del Río (032)La Cardona (0047)",21.762025999999999,-100.741041,774,393,381,142,240320047,"SI","Alto","Medio",{"$f":"IFERROR(VLOOKUP(CONCATENATE(B5418,D5418),Padrón_Indígenas!$A$2:$G$988,7,0),\"No\")","v":"No"}]
[24,"032","Santa_María_del_Río","0502","La Casona (0502)","R","Santa María del Río (032)La Casona (0502)",21.793631000000001,-100.748379,0,0,0,0,240320502,null,null,null,{"$f":"IFERROR(VLOOKUP(CONCATENATE(B5419,D5419),Padrón_Indígenas!$A$2:$G$988,7,0),\"No\")","v":"No"}]
[24,"032","Santa_María_del_Río","0058","La Cieneguita (0058)","R","Santa María del Río (032)La Cieneguita (0058)",21.829722,-100.58805599999999,17,11,6,4,240320058,null,"Muy alto","Alto",{"$f":"IFERROR(VLOOKUP(CONCATENATE(B5423,D5423),Padrón_Indígenas!$A$2:$G$988,7,0),\"No\")","v":"No"}]
[24,"032","Santa_María_del_Río","0061","La Concepción (0061)","R","Santa María del Río (032)La Concepción (0061)",21.632487999999999,-100.624267,28,12,16,9,240320061,null,"Alto","Medio",{"$f":"IFERROR(VLOOKUP(CONCATENATE(B5426,D5426),Padrón_Indígenas!$A$2:$G$988,7,0),\"No\")","v":"No"}]
[24,"032","Santa_María_del_Río","0318","La Era (0318)","R","Santa María del Río (032)La Era (0318)",21.631696999999999,-100.63049700000001,2,"*","*",1,240320318,null,null,null,{"$f":"IFERROR(VLOOKUP(CONCATENATE(B5432,D5432),Padrón_Indígenas!$A$2:$G$988,7,0),\"No\")","v":"No"}]
[24,"032","Santa_María_del_Río","0360","La Esperanza (0360)","R","Santa María del Río (032)La Esperanza (0360)",21.838311000000001,-100.31054899999999,23,12,11,5,240320360,null,"Muy alto","Muy alto",{"$f":"IFERROR(VLOOKUP(CONCATENATE(B5434,D5434),Padrón_Indígenas!$A$2:$G$988,7,0),\"No\")","v":"No"}]
[24,"032","Santa_María_del_Río","0566","La Gloria del Carmen (0566)","R","Santa María del Río (032)La Gloria del Carmen (0566)",21.619167000000001,-100.77249999999999,0,0,0,0,240320566,null,null,null,{"$f":"IFERROR(VLOOKUP(CONCATENATE(B5437,D5437),Padrón_Indígenas!$A$2:$G$988,7,0),\"No\")","v":"No"}]
[24,"032","Santa_María_del_Río","0108","La Labor del Río (Hacienda la Labor del Río) (0108)","R","Santa María del Río (032)La Labor del Río (Hacienda la Labor del Río) (0108)",21.780497,-100.61143300000001,202,85,117,61,240320108,null,"Alto","Medio",{"$f":"IFERROR(VLOOKUP(CONCATENATE(B5442,D5442),Padrón_Indígenas!$A$2:$G$988,7,0),\"No\")","v":"No"}]
[24,"032","Santa_María_del_Río","0535","La Mesa de las Banquetas (Felipa Luna Ávila) (0535)","R","Santa María del Río (032)La Mesa de las Banquetas (Felipa Luna Ávila) (0535)",21.707494000000001,-100.25538299999999,3,"*","*",1,240320535,null,null,null,{"$f":"IFERROR(VLOOKUP(CONCATENATE(B5446,D5446),Padrón_Indígenas!$A$2:$G$988,7,0),\"No\")","v":"No"}]
[24,"032","Santa_María_del_Río","0542","La Mina (0542)","R","Santa María del Río (032)La Mina (0542)",21.676943999999999,-100.839444,0,0,0,0,240320542,null,null,null,{"$f":"IFERROR(VLOOKUP(CONCATENATE(B5447,D5447),Padrón_Indígenas!$A$2:$G$988,7,0),\"No\")","v":"No"}]
[24,"032","Santa_María_del_Río","0150","La Norita (0150)","R","Santa María del Río (032)La Norita (0150)",21.701314,-100.654706,0,0,0,0,240320150,null,null,null,{"$f":"IFERROR(VLOOKUP(CONCATENATE(B5451,D5451),Padrón_Indígenas!$A$2:$G$988,7,0),\"No\")","v":"No"}]
[24,"032","Santa_María_del_Río","0344","La Ordeñita (0344)","R","Santa María del Río (032)La Ordeñita (0344)",21.914632999999998,-100.517824,1,"*","*",1,240320344,null,null,null,{"$f":"IFERROR(VLOOKUP(CONCATENATE(B5454,D5454),Padrón_Indígenas!$A$2:$G$988,7,0),\"No\")","v":"No"}]
[24,"032","Santa_María_del_Río","0334","La Piedra del Padre (0334)","R","Santa María del Río (032)La Piedra del Padre (0334)",21.756577,-100.405477,5,"*","*",2,240320334,null,null,null,{"$f":"IFERROR(VLOOKUP(CONCATENATE(B5460,D5460),Padrón_Indígenas!$A$2:$G$988,7,0),\"No\")","v":"No"}]
[24,"032","Santa_María_del_Río","0203","La Presa de Potrerillo (0203)","R","Santa María del Río (032)La Presa de Potrerillo (0203)",21.841191999999999,-100.581928,100,43,57,19,240320203,null,"Alto","Medio",{"$f":"IFERROR(VLOOKUP(CONCATENATE(B5462,D5462),Padrón_Indígenas!$A$2:$G$988,7,0),\"No\")","v":"No"}]
[24,"032","Santa_María_del_Río","0264","La Sirena (0264)","R","Santa María del Río (032)La Sirena (0264)",21.879761999999999,-100.498919,30,13,17,11,240320264,null,"Alto","Medio",{"$f":"IFERROR(VLOOKUP(CONCATENATE(B5465,D5465),Padrón_Indígenas!$A$2:$G$988,7,0),\"No\")","v":"No"}]
[24,"032","Santa_María_del_Río","0299","La Yerbabuena (0299)","R","Santa María del Río (032)La Yerbabuena (0299)",21.683077999999998,-100.767257,1110,560,550,252,240320299,null,"Alto","Medio",{"$f":"IFERROR(VLOOKUP(CONCATENATE(B5469,D5469),Padrón_Indígenas!$A$2:$G$988,7,0),\"No\")","v":"No"}]
[24,"032","Santa_María_del_Río","0107","Labor de Bagres (0107)","R","Santa María del Río (032)Labor de Bagres (0107)",21.756466,-100.26964599999999,84,43,41,15,240320107,null,"Muy alto","Alto",{"$f":"IFERROR(VLOOKUP(CONCATENATE(B5473,D5473),Padrón_Indígenas!$A$2:$G$988,7,0),\"No\")","v":"No"}]
[24,"032","Santa_María_del_Río","0106","Laborcilla (0106)","R","Santa María del Río (032)Laborcilla (0106)",21.826014000000001,-100.375665,91,44,47,22,240320106,null,"Muy alto","Alto",{"$f":"IFERROR(VLOOKUP(CONCATENATE(B5474,D5474),Padrón_Indígenas!$A$2:$G$988,7,0),\"No\")","v":"No"}]
[24,"032","Santa_María_del_Río","0003","Las Adjuntas del Toro (0003)","R","Santa María del Río (032)Las Adjuntas del Toro (0003)",21.789722000000001,-100.319444,31,21,10,7,240320003,null,"Muy alto","Muy alto",{"$f":"IFERROR(VLOOKUP(CONCATENATE(B5478,D5478),Padrón_Indígenas!$A$2:$G$988,7,0),\"No\")","v":"No"}]
[24,"032","Santa_María_del_Río","0440","Las Crucitas (0440)","R","Santa María del Río (032)Las Crucitas (0440)",21.783332999999999,-100.537222,0,0,0,0,240320440,null,null,null,{"$f":"IFERROR(VLOOKUP(CONCATENATE(B5483,D5483),Padrón_Indígenas!$A$2:$G$988,7,0),\"No\")","v":"No"}]
[24,"032","Santa_María_del_Río","0355","Las Enramadas (0355)","R","Santa María del Río (032)Las Enramadas (0355)",21.747299000000002,-100.19035100000001,18,11,7,5,240320355,null,"Muy alto","Alto",{"$f":"IFERROR(VLOOKUP(CONCATENATE(B5486,D5486),Padrón_Indígenas!$A$2:$G$988,7,0),\"No\")","v":"No"}]
[24,"032","Santa_María_del_Río","0359","Las Huertas (0359)","R","Santa María del Río (032)Las Huertas (0359)",21.828558999999998,-100.31586299999999,71,43,28,9,240320359,null,"Muy alto","Alto",{"$f":"IFERROR(VLOOKUP(CONCATENATE(B5488,D5488),Padrón_Indígenas!$A$2:$G$988,7,0),\"No\")","v":"No"}]
[24,"032","Santa_María_del_Río","0557","Las Palmas (0557)","R","Santa María del Río (032)Las Palmas (0557)",21.727364000000001,-100.669191,2,"*","*",1,240320557,null,null,null,{"$f":"IFERROR(VLOOKUP(CONCATENATE(B5494,D5494),Padrón_Indígenas!$A$2:$G$988,7,0),\"No\")","v":"No"}]
[24,"032","Santa_María_del_Río","0290","Las Trojes (0290)","R","Santa María del Río (032)Las Trojes (0290)",21.654819,-100.63010199999999,0,0,0,0,240320290,null,null,null,{"$f":"IFERROR(VLOOKUP(CONCATENATE(B5497,D5497),Padrón_Indígenas!$A$2:$G$988,7,0),\"No\")","v":"No"}]
[24,"032","Santa_María_del_Río","0371","Lomas de San Vicente (Iglesia Vieja) (0371)","R","Santa María del Río (032)Lomas de San Vicente (Iglesia Vieja) (0371)",21.657876000000002,-100.765776,4,"*","*",1,240320371,null,null,null,{"$f":"IFERROR(VLOOKUP(CONCATENATE(B5501,D5501),Padrón_Indígenas!$A$2:$G$988,7,0),\"No\")","v":"No"}]
[24,"032","Santa_María_del_Río","0313","Los Alamitos (0313)","R","Santa María del Río (032)Los Alamitos (0313)",21.755545999999999,-100.65828500000001,9,"*","*",2,240320313,null,null,null,{"$f":"IFERROR(VLOOKUP(CONCATENATE(B5502,D5502),Padrón_Indígenas!$A$2:$G$988,7,0),\"No\")","v":"No"}]
[24,"032","Santa_María_del_Río","0376","Los Conos (0376)","R","Santa María del Río (032)Los Conos (0376)",21.670938,-100.70591899999999,100,46,54,21,240320376,null,"Alto","Bajo",{"$f":"IFERROR(VLOOKUP(CONCATENATE(B5506,D5506),Padrón_Indígenas!$A$2:$G$988,7,0),\"No\")","v":"No"}]
[24,"032","Santa_María_del_Río","0350","Los Parajes (0350)","R","Santa María del Río (032)Los Parajes (0350)",21.717020999999999,-100.229938,0,0,0,0,240320350,null,null,null,{"$f":"IFERROR(VLOOKUP(CONCATENATE(B5509,D5509),Padrón_Indígenas!$A$2:$G$988,7,0),\"No\")","v":"No"}]
[24,"032","Santa_María_del_Río","0132","Mesa del Epazote (0132)","R","Santa María del Río (032)Mesa del Epazote (0132)",21.836424000000001,-100.33658699999999,10,"*","*",2,240320132,null,null,null,{"$f":"IFERROR(VLOOKUP(CONCATENATE(B5515,D5515),Padrón_Indígenas!$A$2:$G$988,7,0),\"No\")","v":"No"}]
[24,"032","Santa_María_del_Río","0138","Milpa Grande (0138)","R","Santa María del Río (032)Milpa Grande (0138)",21.921623,-100.523461,41,20,21,11,240320138,null,"Alto","Bajo",{"$f":"IFERROR(VLOOKUP(CONCATENATE(B5517,D5517),Padrón_Indígenas!$A$2:$G$988,7,0),\"No\")","v":"No"}]
[24,"032","Santa_María_del_Río","0538","Ojito de Agua (0538)","R","Santa María del Río (032)Ojito de Agua (0538)",21.852753,-100.65203,11,"*","*",2,240320538,null,null,null,{"$f":"IFERROR(VLOOKUP(CONCATENATE(B5520,D5520),Padrón_Indígenas!$A$2:$G$988,7,0),\"No\")","v":"No"}]
[24,"032","Santa_María_del_Río","0156","Ojo Zarco (0156)","R","Santa María del Río (032)Ojo Zarco (0156)",21.588871999999999,-100.613136,22,8,14,4,240320156,null,"Muy alto","Muy alto",{"$f":"IFERROR(VLOOKUP(CONCATENATE(B5525,D5525),Padrón_Indígenas!$A$2:$G$988,7,0),\"No\")","v":"No"}]
[24,"032","Santa_María_del_Río","0169","Palo Valiente (0169)","R","Santa María del Río (032)Palo Valiente (0169)",21.915790999999999,-100.432613,7,3,4,3,240320169,null,"Muy alto","Muy alto",{"$f":"IFERROR(VLOOKUP(CONCATENATE(B5529,D5529),Padrón_Indígenas!$A$2:$G$988,7,0),\"No\")","v":"No"}]
[24,"032","Santa_María_del_Río","0170","Palo Verde (0170)","R","Santa María del Río (032)Palo Verde (0170)",21.827439999999999,-100.531553,18,5,13,4,240320170,null,"Alto","Medio",{"$f":"IFERROR(VLOOKUP(CONCATENATE(B5530,D5530),Padrón_Indígenas!$A$2:$G$988,7,0),\"No\")","v":"No"}]
[24,"032","Santa_María_del_Río","0327","Paso de Rioverde (0327)","R","Santa María del Río (032)Paso de Rioverde (0327)",21.783674999999999,-100.59692,10,6,4,4,240320327,null,"Alto","Medio",{"$f":"IFERROR(VLOOKUP(CONCATENATE(B5534,D5534),Padrón_Indígenas!$A$2:$G$988,7,0),\"No\")","v":"No"}]
[24,"032","Santa_María_del_Río","0184","Peña de Sanurbio (0184)","R","Santa María del Río (032)Peña de Sanurbio (0184)",21.869054999999999,-100.535348,7,"*","*",2,240320184,null,null,null,{"$f":"IFERROR(VLOOKUP(CONCATENATE(B5537,D5537),Padrón_Indígenas!$A$2:$G$988,7,0),\"No\")","v":"No"}]
[24,"032","Santa_María_del_Río","0357","Potrerillo de Viru (0357)","R","Santa María del Río (032)Potrerillo de Viru (0357)",21.792839000000001,-100.486011,15,6,9,4,240320357,null,"Alto","Medio",{"$f":"IFERROR(VLOOKUP(CONCATENATE(B5543,D5543),Padrón_Indígenas!$A$2:$G$988,7,0),\"No\")","v":"No"}]
[24,"032","Santa_María_del_Río","0201","Presa de Dolores (0201)","R","Santa María del Río (032)Presa de Dolores (0201)",21.631498000000001,-100.701229,1057,525,532,214,240320201,"SI","Alto","Medio",{"$f":"IFERROR(VLOOKUP(CONCATENATE(B5545,D5545),Padrón_Indígenas!$A$2:$G$988,7,0),\"No\")","v":"No"}]
[24,"032","Santa_María_del_Río","0159","Puerta de Badillo (Puerta de Ojo de Agua) (0159)","R","Santa María del Río (032)Puerta de Badillo (Puerta de Ojo de Agua) (0159)",21.824629999999999,-100.598975,3,"*","*",2,240320159,null,null,null,{"$f":"IFERROR(VLOOKUP(CONCATENATE(B5548,D5548),Padrón_Indígenas!$A$2:$G$988,7,0),\"No\")","v":"No"}]
[24,"032","Santa_María_del_Río","0219","Puerto de Victoria (0219)","R","Santa María del Río (032)Puerto de Victoria (0219)",21.878651000000001,-100.786106,122,61,61,27,240320219,null,"Alto","Medio",{"$f":"IFERROR(VLOOKUP(CONCATENATE(B5553,D5553),Padrón_Indígenas!$A$2:$G$988,7,0),\"No\")","v":"No"}]
[24,"032","Santa_María_del_Río","0212","Puerto del Itacate (0212)","R","Santa María del Río (032)Puerto del Itacate (0212)",21.847588999999999,-100.311514,0,0,0,0,240320212,null,null,null,{"$f":"IFERROR(VLOOKUP(CONCATENATE(B5557,D5557),Padrón_Indígenas!$A$2:$G$988,7,0),\"No\")","v":"No"}]
[24,"032","Santa_María_del_Río","0215","Puerto del Rodeo (0215)","R","Santa María del Río (032)Puerto del Rodeo (0215)",21.735907999999998,-100.303,0,0,0,0,240320215,null,null,null,{"$f":"IFERROR(VLOOKUP(CONCATENATE(B5558,D5558),Padrón_Indígenas!$A$2:$G$988,7,0),\"No\")","v":"No"}]
[24,"032","Santa_María_del_Río","0521","Puerto la Campana (0521)","R","Santa María del Río (032)Puerto la Campana (0521)",21.778178,-100.740343,0,0,0,0,240320521,null,null,null,{"$f":"IFERROR(VLOOKUP(CONCATENATE(B5561,D5561),Padrón_Indígenas!$A$2:$G$988,7,0),\"No\")","v":"No"}]
[24,"032","Santa_María_del_Río","0223","Rancho de En Medio (0223)","R","Santa María del Río (032)Rancho de En Medio (0223)",21.893353000000001,-100.627866,9,"*","*",2,240320223,null,null,null,{"$f":"IFERROR(VLOOKUP(CONCATENATE(B5566,D5566),Padrón_Indígenas!$A$2:$G$988,7,0),\"No\")","v":"No"}]
[24,"032","Santa_María_del_Río","0372","Rancho el Atorón (0372)","R","Santa María del Río (032)Rancho el Atorón (0372)",21.664456999999999,-100.722555,0,0,0,0,240320372,null,null,null,{"$f":"IFERROR(VLOOKUP(CONCATENATE(B5569,D5569),Padrón_Indígenas!$A$2:$G$988,7,0),\"No\")","v":"No"}]
[24,"032","Santa_María_del_Río","0476","Rancho el Paraíso (0476)","R","Santa María del Río (032)Rancho el Paraíso (0476)",21.643993999999999,-100.653775,3,"*","*",1,240320476,null,null,null,{"$f":"IFERROR(VLOOKUP(CONCATENATE(B5571,D5571),Padrón_Indígenas!$A$2:$G$988,7,0),\"No\")","v":"No"}]
[24,"032","Santa_María_del_Río","0367","Rancho San Jorge (0367)","R","Santa María del Río (032)Rancho San Jorge (0367)",21.666481000000001,-100.737292,0,0,0,0,240320367,null,null,null,{"$f":"IFERROR(VLOOKUP(CONCATENATE(B5577,D5577),Padrón_Indígenas!$A$2:$G$988,7,0),\"No\")","v":"No"}]
[24,"032","Santa_María_del_Río","0511","Rancho Santiago (0511)","R","Santa María del Río (032)Rancho Santiago (0511)",21.627172999999999,-100.739902,0,0,0,0,240320511,null,null,null,{"$f":"IFERROR(VLOOKUP(CONCATENATE(B5580,D5580),Padrón_Indígenas!$A$2:$G$988,7,0),\"No\")","v":"No"}]
[24,"032","Santa_María_del_Río","0226","Rancho Viejo (0226)","R","Santa María del Río (032)Rancho Viejo (0226)",21.800203,-100.53392700000001,5,"*","*",2,240320226,null,null,null,{"$f":"IFERROR(VLOOKUP(CONCATENATE(B5584,D5584),Padrón_Indígenas!$A$2:$G$988,7,0),\"No\")","v":"No"}]
[24,"032","Santa_María_del_Río","0227","Rancho Viejo (0227)","R","Santa María del Río (032)Rancho Viejo (0227)",21.861723999999999,-100.633128,5,"*","*",1,240320227,null,null,null,{"$f":"IFERROR(VLOOKUP(CONCATENATE(B5585,D5585),Padrón_Indígenas!$A$2:$G$988,7,0),\"No\")","v":"No"}]
[24,"032","Santa_María_del_Río","0235","Rincón de San Jerónimo (0235)","R","Santa María del Río (032)Rincón de San Jerónimo (0235)",21.884823000000001,-100.559269,0,0,0,0,240320235,null,null,null,{"$f":"IFERROR(VLOOKUP(CONCATENATE(B5589,D5589),Padrón_Indígenas!$A$2:$G$988,7,0),\"No\")","v":"No"}]
[24,"032","Santa_María_del_Río","0321","San Agustín (0321)","R","Santa María del Río (032)San Agustín (0321)",21.648491,-100.631523,20,7,13,3,240320321,null,"Medio","Bajo",{"$f":"IFERROR(VLOOKUP(CONCATENATE(B5594,D5594),Padrón_Indígenas!$A$2:$G$988,7,0),\"No\")","v":"No"}]
[24,"032","Santa_María_del_Río","0246","San Isidro de Bagres (0246)","R","Santa María del Río (032)San Isidro de Bagres (0246)",21.753837999999998,-100.194872,43,23,20,9,240320246,null,"Muy alto","Alto",{"$f":"IFERROR(VLOOKUP(CONCATENATE(B5597,D5597),Padrón_Indígenas!$A$2:$G$988,7,0),\"No\")","v":"No"}]
[24,"032","Santa_María_del_Río","0314","San Jerónimo (0314)","R","Santa María del Río (032)San Jerónimo (0314)",21.752597999999999,-100.655128,0,0,0,0,240320314,null,null,null,{"$f":"IFERROR(VLOOKUP(CONCATENATE(B5599,D5599),Padrón_Indígenas!$A$2:$G$988,7,0),\"No\")","v":"No"}]
[24,"032","Santa_María_del_Río","0307","San Juan de Guadalupe (El Remolino) (0307)","R","Santa María del Río (032)San Juan de Guadalupe (El Remolino) (0307)",21.762823000000001,-100.63932800000001,97,49,48,17,240320307,null,"Muy alto","Alto",{"$f":"IFERROR(VLOOKUP(CONCATENATE(B5605,D5605),Padrón_Indígenas!$A$2:$G$988,7,0),\"No\")","v":"No"}]
[24,"032","Santa_María_del_Río","0485","San Rafael (0485)","R","Santa María del Río (032)San Rafael (0485)",21.746100999999999,-100.650857,0,0,0,0,240320485,null,null,null,{"$f":"IFERROR(VLOOKUP(CONCATENATE(B5608,D5608),Padrón_Indígenas!$A$2:$G$988,7,0),\"No\")","v":"No"}]
[24,"032","Santa_María_del_Río","0257","Santa Fe (0257)","R","Santa María del Río (032)Santa Fe (0257)",21.835847999999999,-100.69763399999999,8,4,4,3,240320257,null,"Muy alto","Alto",{"$f":"IFERROR(VLOOKUP(CONCATENATE(B5612,D5612),Padrón_Indígenas!$A$2:$G$988,7,0),\"No\")","v":"No"}]
[24,"032","Santa_María_del_Río","0258","Santa Lucía (0258)","R","Santa María del Río (032)Santa Lucía (0258)",21.760135999999999,-100.65723699999999,42,24,18,6,240320258,null,"Alto","Bajo",{"$f":"IFERROR(VLOOKUP(CONCATENATE(B5613,D5613),Padrón_Indígenas!$A$2:$G$988,7,0),\"No\")","v":"No"}]
[24,"032","Santa_María_del_Río","0490","Tierra Blanca (0490)","R","Santa María del Río (032)Tierra Blanca (0490)",21.691666999999999,-100.17666699999999,0,0,0,0,240320490,null,null,null,{"$f":"IFERROR(VLOOKUP(CONCATENATE(B5617,D5617),Padrón_Indígenas!$A$2:$G$988,7,0),\"No\")","v":"No"}]
[24,"032","Santa_María_del_Río","0287","Tortugas de Arriba (0287)","R","Santa María del Río (032)Tortugas de Arriba (0287)",21.894929999999999,-100.463413,50,24,26,16,240320287,null,"Alto","Medio",{"$f":"IFERROR(VLOOKUP(CONCATENATE(B5621,D5621),Padrón_Indígenas!$A$2:$G$988,7,0),\"No\")","v":"No"}]
[24,"032","Santa_María_del_Río","0346","Xoconoxtle (0346)","R","Santa María del Río (032)Xoconoxtle (0346)",21.714528999999999,-100.213814,3,"*","*",1,240320346,null,null,null,{"$f":"IFERROR(VLOOKUP(CONCATENATE(B5626,D5626),Padrón_Indígenas!$A$2:$G$988,7,0),\"No\")","v":"No"}]
[24,"032","Santa_María_del_Río","0391","Zapotito (La Presa) (0391)","R","Santa María del Río (032)Zapotito (La Presa) (0391)",21.853805999999999,-100.576808,5,"*","*",1,240320391,null,null,null,{"$f":"IFERROR(VLOOKUP(CONCATENATE(B5628,D5628),Padrón_Indígenas!$A$2:$G$988,7,0),\"No\")","v":"No"}]
[24,"033","Santo_Domingo","0099","Alfonso García (0099)","R","Santo Domingo (033)Alfonso García (0099)",23.650880000000001,-101.330915,4,"*","*",1,240330099,null,null,null,{"$f":"IFERROR(VLOOKUP(CONCATENATE(B5631,D5631),Padrón_Indígenas!$A$2:$G$988,7,0),\"No\")","v":"No"}]
[24,"033","Santo_Domingo","0008","Cerritos de Bernal (0008)","R","Santo Domingo (033)Cerritos de Bernal (0008)",23.356468,-101.5008,267,135,132,65,240330008,null,"Medio","Muy bajo",{"$f":"IFERROR(VLOOKUP(CONCATENATE(B5636,D5636),Padrón_Indígenas!$A$2:$G$988,7,0),\"No\")","v":"No"}]
[24,"033","Santo_Domingo","0002","El Arenal (0002)","R","Santo Domingo (033)El Arenal (0002)",23.290696000000001,-102.228528,238,124,114,63,240330002,null,"Medio","Muy bajo",{"$f":"IFERROR(VLOOKUP(CONCATENATE(B5640,D5640),Padrón_Indígenas!$A$2:$G$988,7,0),\"No\")","v":"No"}]
[24,"033","Santo_Domingo","0004","El Bozal (0004)","R","Santo Domingo (033)El Bozal (0004)",23.613579000000001,-101.404374,100,54,46,24,240330004,null,"Alto","Bajo",{"$f":"IFERROR(VLOOKUP(CONCATENATE(B5641,D5641),Padrón_Indígenas!$A$2:$G$988,7,0),\"No\")","v":"No"}]
[24,"033","Santo_Domingo","0120","El Chaparro (0120)","R","Santo Domingo (033)El Chaparro (0120)",23.427509000000001,-102.207697,2,"*","*",1,240330120,null,null,null,{"$f":"IFERROR(VLOOKUP(CONCATENATE(B5645,D5645),Padrón_Indígenas!$A$2:$G$988,7,0),\"No\")","v":"No"}]
[24,"033","Santo_Domingo","0089","El Encino (0089)","R","Santo Domingo (033)El Encino (0089)",23.430145,-101.244119,0,0,0,0,240330089,null,null,null,{"$f":"IFERROR(VLOOKUP(CONCATENATE(B5649,D5649),Padrón_Indígenas!$A$2:$G$988,7,0),\"No\")","v":"No"}]
[24,"033","Santo_Domingo","0062","El Jardín (0062)","R","Santo Domingo (033)El Jardín (0062)",23.250385999999999,-101.644103,8,"*","*",1,240330062,null,null,null,{"$f":"IFERROR(VLOOKUP(CONCATENATE(B5652,D5652),Padrón_Indígenas!$A$2:$G$988,7,0),\"No\")","v":"No"}]
[24,"033","Santo_Domingo","0105","El Lobo Grande (0105)","R","Santo Domingo (033)El Lobo Grande (0105)",23.350525999999999,-101.787649,0,0,0,0,240330105,null,null,null,{"$f":"IFERROR(VLOOKUP(CONCATENATE(B5654,D5654),Padrón_Indígenas!$A$2:$G$988,7,0),\"No\")","v":"No"}]
[24,"033","Santo_Domingo","0117","El Rodeo (Las Negritas) (0117)","R","Santo Domingo (033)El Rodeo (Las Negritas) (0117)",23.238333000000001,-101.499167,0,0,0,0,240330117,null,null,null,{"$f":"IFERROR(VLOOKUP(CONCATENATE(B5660,D5660),Padrón_Indígenas!$A$2:$G$988,7,0),\"No\")","v":"No"}]
[24,"033","Santo_Domingo","0020","El Sabino (0020)","R","Santo Domingo (033)El Sabino (0020)",23.399149999999999,-101.712941,381,194,187,83,240330020,"SI","Alto","Bajo",{"$f":"IFERROR(VLOOKUP(CONCATENATE(B5663,D5663),Padrón_Indígenas!$A$2:$G$988,7,0),\"No\")","v":"No"}]
[24,"033","Santo_Domingo","0134","El Soyate (Loma del Soyate) (0134)","R","Santo Domingo (033)El Soyate (Loma del Soyate) (0134)",23.530055999999998,-101.251589,0,0,0,0,240330134,null,null,null,{"$f":"IFERROR(VLOOKUP(CONCATENATE(B5665,D5665),Padrón_Indígenas!$A$2:$G$988,7,0),\"No\")","v":"No"}]
[24,"033","Santo_Domingo","0013","Gámez (0013)","R","Santo Domingo (033)Gámez (0013)",23.258174,-102.052611,124,59,65,36,240330013,null,"Alto","Bajo",{"$f":"IFERROR(VLOOKUP(CONCATENATE(B5668,D5668),Padrón_Indígenas!$A$2:$G$988,7,0),\"No\")","v":"No"}]
[24,"033","Santo_Domingo","0015","Jesús María (0015)","R","Santo Domingo (033)Jesús María (0015)",23.153898000000002,-102.19243400000001,1979,1005,974,452,240330015,null,"Alto","Bajo",{"$f":"IFERROR(VLOOKUP(CONCATENATE(B5672,D5672),Padrón_Indígenas!$A$2:$G$988,7,0),\"No\")","v":"No"}]
[24,"033","Santo_Domingo","0100","La Calandria (0100)","R","Santo Domingo (033)La Calandria (0100)",23.677334999999999,-101.359844,4,"*","*",2,240330100,null,null,null,{"$f":"IFERROR(VLOOKUP(CONCATENATE(B5677,D5677),Padrón_Indígenas!$A$2:$G$988,7,0),\"No\")","v":"No"}]
[24,"033","Santo_Domingo","0146","La Esperanza (Hermanos de la Torre) (0146)","R","Santo Domingo (033)La Esperanza (Hermanos de la Torre) (0146)",23.548116,-101.425329,0,0,0,0,240330146,null,null,null,{"$f":"IFERROR(VLOOKUP(CONCATENATE(B5680,D5680),Padrón_Indígenas!$A$2:$G$988,7,0),\"No\")","v":"No"}]
[24,"033","Santo_Domingo","0147","La Independencia (Ernesto Muñoz) (0147)","R","Santo Domingo (033)La Independencia (Ernesto Muñoz) (0147)",23.449486,-101.416341,0,0,0,0,240330147,null,null,null,{"$f":"IFERROR(VLOOKUP(CONCATENATE(B5682,D5682),Padrón_Indígenas!$A$2:$G$988,7,0),\"No\")","v":"No"}]
[24,"033","Santo_Domingo","0135","La Tinaja (0135)","R","Santo Domingo (033)La Tinaja (0135)",23.291824999999999,-101.727368,0,0,0,0,240330135,null,null,null,{"$f":"IFERROR(VLOOKUP(CONCATENATE(B5688,D5688),Padrón_Indígenas!$A$2:$G$988,7,0),\"No\")","v":"No"}]
[24,"033","Santo_Domingo","0051","La Yerbabuena (0051)","R","Santo Domingo (033)La Yerbabuena (0051)",23.344555,-101.521224,62,33,29,16,240330051,null,"Bajo","Muy bajo",{"$f":"IFERROR(VLOOKUP(CONCATENATE(B5691,D5691),Padrón_Indígenas!$A$2:$G$988,7,0),\"No\")","v":"No"}]
[24,"033","Santo_Domingo","0102","Las Huertas (0102)","R","Santo Domingo (033)Las Huertas (0102)",23.665341999999999,-101.402807,0,0,0,0,240330102,null,null,null,{"$f":"IFERROR(VLOOKUP(CONCATENATE(B5693,D5693),Padrón_Indígenas!$A$2:$G$988,7,0),\"No\")","v":"No"}]
[24,"033","Santo_Domingo","0035","Las Vegas (San Agustín) (0035)","R","Santo Domingo (033)Las Vegas (San Agustín) (0035)",23.202385,-101.384398,0,0,0,0,240330035,null,null,null,{"$f":"IFERROR(VLOOKUP(CONCATENATE(B5696,D5696),Padrón_Indígenas!$A$2:$G$988,7,0),\"No\")","v":"No"}]
[24,"033","Santo_Domingo","0018","Morelos (0018)","R","Santo Domingo (033)Morelos (0018)",23.377517000000001,-101.691109,114,57,57,32,240330018,null,"Medio","Bajo",{"$f":"IFERROR(VLOOKUP(CONCATENATE(B5700,D5700),Padrón_Indígenas!$A$2:$G$988,7,0),\"No\")","v":"No"}]
[24,"033","Santo_Domingo","0133","Ninguno (0133)","R","Santo Domingo (033)Ninguno (0133)",23.241478000000001,-101.62831199999999,0,0,0,0,240330133,null,null,null,{"$f":"IFERROR(VLOOKUP(CONCATENATE(B5704,D5704),Padrón_Indígenas!$A$2:$G$988,7,0),\"No\")","v":"No"}]
[24,"033","Santo_Domingo","0019","Providencia (0019)","R","Santo Domingo (033)Providencia (0019)",23.166518,-102.010695,817,425,392,218,240330019,null,"Bajo","Muy bajo",{"$f":"IFERROR(VLOOKUP(CONCATENATE(B5709,D5709),Padrón_Indígenas!$A$2:$G$988,7,0),\"No\")","v":"No"}]
[24,"033","Santo_Domingo","0064","Rancho San José (Los Cuatillos) (0064)","R","Santo Domingo (033)Rancho San José (Los Cuatillos) (0064)",23.556141,-101.397171,0,0,0,0,240330064,null,null,null,{"$f":"IFERROR(VLOOKUP(CONCATENATE(B5712,D5712),Padrón_Indígenas!$A$2:$G$988,7,0),\"No\")","v":"No"}]
[24,"033","Santo_Domingo","0112","Rodrigo Becerra (0112)","R","Santo Domingo (033)Rodrigo Becerra (0112)",23.201506999999999,-101.382751,0,0,0,0,240330112,null,null,null,{"$f":"IFERROR(VLOOKUP(CONCATENATE(B5714,D5714),Padrón_Indígenas!$A$2:$G$988,7,0),\"No\")","v":"No"}]
[24,"033","Santo_Domingo","0023","San Francisco (0023)","R","Santo Domingo (033)San Francisco (0023)",23.303674999999998,-101.423986,252,127,125,65,240330023,null,"Alto","Medio",{"$f":"IFERROR(VLOOKUP(CONCATENATE(B5719,D5719),Padrón_Indígenas!$A$2:$G$988,7,0),\"No\")","v":"No"}]
[24,"033","Santo_Domingo","0137","San Martín (Jaime Esquivel Castro) (0137)","R","Santo Domingo (033)San Martín (Jaime Esquivel Castro) (0137)",23.086748,-101.611154,0,0,0,0,240330137,null,null,null,{"$f":"IFERROR(VLOOKUP(CONCATENATE(B5723,D5723),Padrón_Indígenas!$A$2:$G$988,7,0),\"No\")","v":"No"}]
[24,"033","Santo_Domingo","0026","San Matías (0026)","R","Santo Domingo (033)San Matías (0026)",23.284358000000001,-101.702279,44,21,23,13,240330026,null,"Alto","Muy bajo",{"$f":"IFERROR(VLOOKUP(CONCATENATE(B5724,D5724),Padrón_Indígenas!$A$2:$G$988,7,0),\"No\")","v":"No"}]
[24,"033","Santo_Domingo","0031","San Vicente Banderillas (0031)","R","Santo Domingo (033)San Vicente Banderillas (0031)",23.335556,-102.1,322,166,156,85,240330031,null,"Alto","Bajo",{"$f":"IFERROR(VLOOKUP(CONCATENATE(B5728,D5728),Padrón_Indígenas!$A$2:$G$988,7,0),\"No\")","v":"No"}]
[24,"033","Santo_Domingo","0029","Santa Efigenia (0029)","R","Santo Domingo (033)Santa Efigenia (0029)",23.354444000000001,-101.576111,99,49,50,25,240330029,null,"Alto","Bajo",{"$f":"IFERROR(VLOOKUP(CONCATENATE(B5732,D5732),Padrón_Indígenas!$A$2:$G$988,7,0),\"No\")","v":"No"}]
[24,"033","Santo_Domingo","0001","Santo Domingo (0001)","U","Santo Domingo (033)Santo Domingo (0001)",23.325254000000001,-101.73630300000001,730,335,395,198,240330001,null,null,null,{"$f":"IFERROR(VLOOKUP(CONCATENATE(B5737,D5737),Padrón_Indígenas!$A$2:$G$988,7,0),\"No\")","v":"No"}]
[24,"033","Santo_Domingo","0037","Zancarrón (0037)","R","Santo Domingo (033)Zancarrón (0037)",23.372986000000001,-102.21976600000001,649,330,319,164,240330037,null,"Bajo","Muy bajo",{"$f":"IFERROR(VLOOKUP(CONCATENATE(B5740,D5740),Padrón_Indígenas!$A$2:$G$988,7,0),\"No\")","v":"No"}]
[24,"033","Santo_Domingo",null,"Todo el municipio ",null,"Santo Domingo (033)Todo el municipio ",null,null,{"$f":"SUM(J5630:J5741)","v":12043}]
[24,"035","Soledad_de_Graciano_Sánchez","0243","Antonio Vázquez Cuevas (Rancho los Noyola) (0243)","R","Soledad de Graciano Sánchez (035)Antonio Vázquez Cuevas (Rancho los Noyola) (0243)",22.206980999999999,-100.936868,1,"*","*",1,240350243,null,null,null,{"$f":"IFERROR(VLOOKUP(CONCATENATE(B5747,D5747),Padrón_Indígenas!$A$2:$G$988,7,0),\"No\")","v":"No"}]
[24,"035","Soledad_de_Graciano_Sánchez","0102","AUMA [Granja Avícola] (0102)","R","Soledad de Graciano Sánchez (035)AUMA [Granja Avícola] (0102)",22.228332999999999,-100.9,0,0,0,0,240350102,null,null,null,{"$f":"IFERROR(VLOOKUP(CONCATENATE(B5748,D5748),Padrón_Indígenas!$A$2:$G$988,7,0),\"No\")","v":"No"}]
[24,"035","Soledad_de_Graciano_Sánchez","0133","Cayetano Loredo Tenorio (0133)","R","Soledad de Graciano Sánchez (035)Cayetano Loredo Tenorio (0133)",22.165770999999999,-100.897313,4,"*","*",1,240350133,null,null,null,{"$f":"IFERROR(VLOOKUP(CONCATENATE(B5751,D5751),Padrón_Indígenas!$A$2:$G$988,7,0),\"No\")","v":"No"}]
[24,"035","Soledad_de_Graciano_Sánchez","0143","Doctor Everardo Neumann Peña [Clínica Psiquiátrica] (0143)","R","Soledad de Graciano Sánchez (035)Doctor Everardo Neumann Peña [Clínica Psiquiátrica] (0143)",22.209645999999999,-100.90145099999999,35,"*","*",1,240350143,null,null,null,{"$f":"IFERROR(VLOOKUP(CONCATENATE(B5756,D5756),Padrón_Indígenas!$A$2:$G$988,7,0),\"No\")","v":"No"}]
[24,"035","Soledad_de_Graciano_Sánchez","0098","Ejido el Zapote (Los Olivos) (0098)","R","Soledad de Graciano Sánchez (035)Ejido el Zapote (Los Olivos) (0098)",22.200372000000002,-100.907965,13,"*","*",2,240350098,"SI",null,null,{"$f":"IFERROR(VLOOKUP(CONCATENATE(B5760,D5760),Padrón_Indígenas!$A$2:$G$988,7,0),\"No\")","v":"No"}]
[24,"035","Soledad_de_Graciano_Sánchez","0221","Ejido Soledad (Severiano Tristán Saldaña) (0221)","R","Soledad de Graciano Sánchez (035)Ejido Soledad (Severiano Tristán Saldaña) (0221)",22.224388000000001,-100.885971,3,"*","*",1,240350221,null,null,null,{"$f":"IFERROR(VLOOKUP(CONCATENATE(B5763,D5763),Padrón_Indígenas!$A$2:$G$988,7,0),\"No\")","v":"No"}]
[24,"035","Soledad_de_Graciano_Sánchez","0223","El Chino [Restaurante de Mariscos] (0223)","R","Soledad de Graciano Sánchez (035)El Chino [Restaurante de Mariscos] (0223)",22.163813999999999,-100.91478499999999,6,"*","*",1,240350223,null,null,null,{"$f":"IFERROR(VLOOKUP(CONCATENATE(B5765,D5765),Padrón_Indígenas!$A$2:$G$988,7,0),\"No\")","v":"No"}]
[24,"035","Soledad_de_Graciano_Sánchez","0057","El Mezquite [Motel] (0057)","R","Soledad de Graciano Sánchez (035)El Mezquite [Motel] (0057)",22.245645,-100.883959,10,"*","*",2,240350057,null,null,null,{"$f":"IFERROR(VLOOKUP(CONCATENATE(B5771,D5771),Padrón_Indígenas!$A$2:$G$988,7,0),\"No\")","v":"No"}]
[24,"035","Soledad_de_Graciano_Sánchez","0080","El Olvido (0080)","R","Soledad de Graciano Sánchez (035)El Olvido (0080)",22.233169,-100.874014,3,"*","*",1,240350080,null,null,null,{"$f":"IFERROR(VLOOKUP(CONCATENATE(B5774,D5774),Padrón_Indígenas!$A$2:$G$988,7,0),\"No\")","v":"No"}]
[24,"035","Soledad_de_Graciano_Sánchez","0112","El Ramillete (Parcela el Ramillete) (0112)","R","Soledad de Graciano Sánchez (035)El Ramillete (Parcela el Ramillete) (0112)",22.246476000000001,-100.87966299999999,4,"*","*",1,240350112,null,null,null,{"$f":"IFERROR(VLOOKUP(CONCATENATE(B5776,D5776),Padrón_Indígenas!$A$2:$G$988,7,0),\"No\")","v":"No"}]
[24,"035","Soledad_de_Graciano_Sánchez","0045","El Zapote (0045)","R","Soledad de Graciano Sánchez (035)El Zapote (0045)",22.210035000000001,-100.923146,920,468,452,210,240350045,null,"Bajo","Muy bajo",{"$f":"IFERROR(VLOOKUP(CONCATENATE(B5779,D5779),Padrón_Indígenas!$A$2:$G$988,7,0),\"No\")","v":"No"}]
[24,"035","Soledad_de_Graciano_Sánchez","0152","Eulogio Rincón (0152)","R","Soledad de Graciano Sánchez (035)Eulogio Rincón (0152)",22.204844000000001,-100.935704,13,5,8,3,240350152,null,"Muy alto","Alto",{"$f":"IFERROR(VLOOKUP(CONCATENATE(B5784,D5784),Padrón_Indígenas!$A$2:$G$988,7,0),\"No\")","v":"No"}]
[24,"035","Soledad_de_Graciano_Sánchez","0150","Familia Escobedo Partida (0150)","R","Soledad de Graciano Sánchez (035)Familia Escobedo Partida (0150)",22.200977000000002,-100.90131700000001,11,4,7,3,240350150,null,"Alto","Medio",{"$f":"IFERROR(VLOOKUP(CONCATENATE(B5788,D5788),Padrón_Indígenas!$A$2:$G$988,7,0),\"No\")","v":"No"}]
[24,"035","Soledad_de_Graciano_Sánchez","0137","Filiberto Tello Alvarado (0137)","R","Soledad de Graciano Sánchez (035)Filiberto Tello Alvarado (0137)",22.186944,-100.9175,0,0,0,0,240350137,null,null,null,{"$f":"IFERROR(VLOOKUP(CONCATENATE(B5791,D5791),Padrón_Indígenas!$A$2:$G$988,7,0),\"No\")","v":"No"}]
[24,"035","Soledad_de_Graciano_Sánchez","0073","Francisco de Alba (Rancho San José) (0073)","R","Soledad de Graciano Sánchez (035)Francisco de Alba (Rancho San José) (0073)",22.231389,-100.89,5,"*","*",1,240350073,null,null,null,{"$f":"IFERROR(VLOOKUP(CONCATENATE(B5795,D5795),Padrón_Indígenas!$A$2:$G$988,7,0),\"No\")","v":"No"}]
[24,"035","Soledad_de_Graciano_Sánchez","0157","Germán Rodríguez (0157)","R","Soledad de Graciano Sánchez (035)Germán Rodríguez (0157)",22.156891999999999,-100.89126400000001,7,"*","*",2,240350157,null,null,null,{"$f":"IFERROR(VLOOKUP(CONCATENATE(B5797,D5797),Padrón_Indígenas!$A$2:$G$988,7,0),\"No\")","v":"No"}]
[24,"035","Soledad_de_Graciano_Sánchez","0259","Granja José Luis Velázquez (0259)","R","Soledad de Graciano Sánchez (035)Granja José Luis Velázquez (0259)",22.21583,-100.919484,4,3,1,3,240350259,null,"Muy alto","Alto",{"$f":"IFERROR(VLOOKUP(CONCATENATE(B5800,D5800),Padrón_Indígenas!$A$2:$G$988,7,0),\"No\")","v":"No"}]
[24,"035","Soledad_de_Graciano_Sánchez","0087","Huerta la Palapa (0087)","R","Soledad de Graciano Sánchez (035)Huerta la Palapa (0087)",22.202406,-100.938658,3,"*","*",1,240350087,null,null,null,{"$f":"IFERROR(VLOOKUP(CONCATENATE(B5806,D5806),Padrón_Indígenas!$A$2:$G$988,7,0),\"No\")","v":"No"}]
[24,"035","Soledad_de_Graciano_Sánchez","0163","Huerta la Victoria (0163)","R","Soledad de Graciano Sánchez (035)Huerta la Victoria (0163)",22.211082999999999,-100.880302,3,"*","*",1,240350163,null,null,null,{"$f":"IFERROR(VLOOKUP(CONCATENATE(B5807,D5807),Padrón_Indígenas!$A$2:$G$988,7,0),\"No\")","v":"No"}]
[24,"035","Soledad_de_Graciano_Sánchez","0260","Javier Escalante (0260)","R","Soledad de Graciano Sánchez (035)Javier Escalante (0260)",22.211281,-100.86386899999999,1,"*","*",1,240350260,null,null,null,{"$f":"IFERROR(VLOOKUP(CONCATENATE(B5811,D5811),Padrón_Indígenas!$A$2:$G$988,7,0),\"No\")","v":"No"}]
[24,"035","Soledad_de_Graciano_Sánchez","0155","José Castillo (0155)","R","Soledad de Graciano Sánchez (035)José Castillo (0155)",22.202656000000001,-100.859573,0,0,0,0,240350155,null,null,null,{"$f":"IFERROR(VLOOKUP(CONCATENATE(B5815,D5815),Padrón_Indígenas!$A$2:$G$988,7,0),\"No\")","v":"No"}]
[24,"035","Soledad_de_Graciano_Sánchez","0170","Juana Cordero Armendárez (0170)","R","Soledad de Graciano Sánchez (035)Juana Cordero Armendárez (0170)",22.212350000000001,-100.902221,0,0,0,0,240350170,null,null,null,{"$f":"IFERROR(VLOOKUP(CONCATENATE(B5820,D5820),Padrón_Indígenas!$A$2:$G$988,7,0),\"No\")","v":"No"}]
[24,"035","Soledad_de_Graciano_Sánchez","0172","Julián Loredo Guerrero (El Vapor) (0172)","R","Soledad de Graciano Sánchez (035)Julián Loredo Guerrero (El Vapor) (0172)",22.195924000000002,-100.909569,0,0,0,0,240350172,null,null,null,{"$f":"IFERROR(VLOOKUP(CONCATENATE(B5823,D5823),Padrón_Indígenas!$A$2:$G$988,7,0),\"No\")","v":"No"}]
[24,"035","Soledad_de_Graciano_Sánchez","0246","La Cardona (Barbechos) (0246)","R","Soledad de Graciano Sánchez (035)La Cardona (Barbechos) (0246)",22.363792,-100.80595599999999,9,"*","*",2,240350246,null,null,null,{"$f":"IFERROR(VLOOKUP(CONCATENATE(B5825,D5825),Padrón_Indígenas!$A$2:$G$988,7,0),\"No\")","v":"No"}]
[24,"035","Soledad_de_Graciano_Sánchez","0063","La Cuenca [Sociedad Agrícola] (0063)","R","Soledad de Graciano Sánchez (035)La Cuenca [Sociedad Agrícola] (0063)",22.193398999999999,-100.86766799999999,0,0,0,0,240350063,null,null,null,{"$f":"IFERROR(VLOOKUP(CONCATENATE(B5828,D5828),Padrón_Indígenas!$A$2:$G$988,7,0),\"No\")","v":"No"}]
[24,"035","Soledad_de_Graciano_Sánchez","0040","La Tinaja (Ex-Hacienda la Tinaja) (0040)","R","Soledad de Graciano Sánchez (035)La Tinaja (Ex-Hacienda la Tinaja) (0040)",22.361899999999999,-100.84709599999999,553,273,280,146,240350040,null,"Medio","Muy bajo",{"$f":"IFERROR(VLOOKUP(CONCATENATE(B5834,D5834),Padrón_Indígenas!$A$2:$G$988,7,0),\"No\")","v":"No"}]
[24,"035","Soledad_de_Graciano_Sánchez","0205","La Victoria (0205)","R","Soledad de Graciano Sánchez (035)La Victoria (0205)",22.173611000000001,-100.881389,0,0,0,0,240350205,null,null,null,{"$f":"IFERROR(VLOOKUP(CONCATENATE(B5835,D5835),Padrón_Indígenas!$A$2:$G$988,7,0),\"No\")","v":"No"}]
[24,"035","Soledad_de_Graciano_Sánchez","0218","Leovigildo Tello (0218)","R","Soledad de Graciano Sánchez (035)Leovigildo Tello (0218)",22.215273,-100.899973,5,"*","*",1,240350218,null,null,null,{"$f":"IFERROR(VLOOKUP(CONCATENATE(B5839,D5839),Padrón_Indígenas!$A$2:$G$988,7,0),\"No\")","v":"No"}]
[24,"035","Soledad_de_Graciano_Sánchez","0100","Los Gómez (0100)","R","Soledad de Graciano Sánchez (035)Los Gómez (0100)",22.155688999999999,-100.881702,835,391,444,167,240350100,"SI","Bajo","Muy bajo",{"$f":"IFERROR(VLOOKUP(CONCATENATE(B5843,D5843),Padrón_Indígenas!$A$2:$G$988,7,0),\"No\")","v":"No"}]
[24,"035","Soledad_de_Graciano_Sánchez","0204","Los Vázquez (0204)","R","Soledad de Graciano Sánchez (035)Los Vázquez (0204)",22.165195000000001,-100.904488,0,0,0,0,240350204,null,null,null,{"$f":"IFERROR(VLOOKUP(CONCATENATE(B5846,D5846),Padrón_Indígenas!$A$2:$G$988,7,0),\"No\")","v":"No"}]
[24,"035","Soledad_de_Graciano_Sánchez","0127","Luis Gallardo (0127)","R","Soledad de Graciano Sánchez (035)Luis Gallardo (0127)",22.20767,-100.912193,11,"*","*",2,240350127,null,null,null,{"$f":"IFERROR(VLOOKUP(CONCATENATE(B5848,D5848),Padrón_Indígenas!$A$2:$G$988,7,0),\"No\")","v":"No"}]
[24,"035","Soledad_de_Graciano_Sánchez","0178","Martín Gaytán Uresti (0178)","R","Soledad de Graciano Sánchez (035)Martín Gaytán Uresti (0178)",22.19857,-100.86618300000001,0,0,0,0,240350178,null,null,null,{"$f":"IFERROR(VLOOKUP(CONCATENATE(B5854,D5854),Padrón_Indígenas!$A$2:$G$988,7,0),\"No\")","v":"No"}]
[24,"035","Soledad_de_Graciano_Sánchez","0197","Miguel Martínez Delgado (0197)","R","Soledad de Graciano Sánchez (035)Miguel Martínez Delgado (0197)",22.173054,-100.890857,5,"*","*",2,240350197,"SI",null,null,{"$f":"IFERROR(VLOOKUP(CONCATENATE(B5857,D5857),Padrón_Indígenas!$A$2:$G$988,7,0),\"No\")","v":"No"}]
[24,"035","Soledad_de_Graciano_Sánchez","0181","Morales Martínez (0181)","R","Soledad de Graciano Sánchez (035)Morales Martínez (0181)",22.198157999999999,-100.90495,7,"*","*",1,240350181,null,null,null,{"$f":"IFERROR(VLOOKUP(CONCATENATE(B5859,D5859),Padrón_Indígenas!$A$2:$G$988,7,0),\"No\")","v":"No"}]
[24,"035","Soledad_de_Graciano_Sánchez","0203","Ninguno (0203)","R","Soledad de Graciano Sánchez (035)Ninguno (0203)",22.174122000000001,-100.887011,7,"*","*",1,240350203,null,null,null,{"$f":"IFERROR(VLOOKUP(CONCATENATE(B5862,D5862),Padrón_Indígenas!$A$2:$G$988,7,0),\"No\")","v":"No"}]
[24,"035","Soledad_de_Graciano_Sánchez","0146","Pablo Álvarez García (0146)","R","Soledad de Graciano Sánchez (035)Pablo Álvarez García (0146)",22.194383999999999,-100.905976,0,0,0,0,240350146,null,null,null,{"$f":"IFERROR(VLOOKUP(CONCATENATE(B5867,D5867),Padrón_Indígenas!$A$2:$G$988,7,0),\"No\")","v":"No"}]
[24,"035","Soledad_de_Graciano_Sánchez","0227","Paula Castillo Castillo (0227)","R","Soledad de Graciano Sánchez (035)Paula Castillo Castillo (0227)",22.172067999999999,-100.91183599999999,13,5,8,3,240350227,null,"Muy alto","Alto",{"$f":"IFERROR(VLOOKUP(CONCATENATE(B5871,D5871),Padrón_Indígenas!$A$2:$G$988,7,0),\"No\")","v":"No"}]
[24,"035","Soledad_de_Graciano_Sánchez","0050","Potrero de Adentro (0050)","R","Soledad de Graciano Sánchez (035)Potrero de Adentro (0050)",22.195830999999998,-100.951864,156,85,71,33,240350050,null,"Alto","Bajo",{"$f":"IFERROR(VLOOKUP(CONCATENATE(B5875,D5875),Padrón_Indígenas!$A$2:$G$988,7,0),\"No\")","v":"No"}]
[24,"035","Soledad_de_Graciano_Sánchez","0017","Potrero la Joya (La Joya de Montecillos) (0017)","R","Soledad de Graciano Sánchez (035)Potrero la Joya (La Joya de Montecillos) (0017)",22.432907,-100.782687,0,0,0,0,240350017,null,null,null,{"$f":"IFERROR(VLOOKUP(CONCATENATE(B5876,D5876),Padrón_Indígenas!$A$2:$G$988,7,0),\"No\")","v":"No"}]
[24,"035","Soledad_de_Graciano_Sánchez","0216","Ranchito (Jesús Arias) (0216)","R","Soledad de Graciano Sánchez (035)Ranchito (Jesús Arias) (0216)",22.241721999999999,-100.91008100000001,7,"*","*",1,240350216,null,null,null,{"$f":"IFERROR(VLOOKUP(CONCATENATE(B5882,D5882),Padrón_Indígenas!$A$2:$G$988,7,0),\"No\")","v":"No"}]
[24,"035","Soledad_de_Graciano_Sánchez","0184","Rancho de Gerardo Gallego (0184)","R","Soledad de Graciano Sánchez (035)Rancho de Gerardo Gallego (0184)",22.183987999999999,-100.90165399999999,0,0,0,0,240350184,null,null,null,{"$f":"IFERROR(VLOOKUP(CONCATENATE(B5885,D5885),Padrón_Indígenas!$A$2:$G$988,7,0),\"No\")","v":"No"}]
[24,"035","Soledad_de_Graciano_Sánchez","0185","Rancho Don Carmen (0185)","R","Soledad de Graciano Sánchez (035)Rancho Don Carmen (0185)",22.209116000000002,-100.91085699999999,10,"*","*",2,240350185,null,null,null,{"$f":"IFERROR(VLOOKUP(CONCATENATE(B5887,D5887),Padrón_Indígenas!$A$2:$G$988,7,0),\"No\")","v":"No"}]
[24,"035","Soledad_de_Graciano_Sánchez","0233","Rancho Hermanos Galarza (0233)","R","Soledad de Graciano Sánchez (035)Rancho Hermanos Galarza (0233)",22.203036000000001,-100.86519199999999,0,0,0,0,240350233,null,null,null,{"$f":"IFERROR(VLOOKUP(CONCATENATE(B5890,D5890),Padrón_Indígenas!$A$2:$G$988,7,0),\"No\")","v":"No"}]
[24,"035","Soledad_de_Graciano_Sánchez","0108","Rancho la Esperanza (Filiberto Briseño) (0108)","R","Soledad de Graciano Sánchez (035)Rancho la Esperanza (Filiberto Briseño) (0108)",22.229082999999999,-100.882152,4,"*","*",2,240350108,null,null,null,{"$f":"IFERROR(VLOOKUP(CONCATENATE(B5894,D5894),Padrón_Indígenas!$A$2:$G$988,7,0),\"No\")","v":"No"}]
[24,"035","Soledad_de_Graciano_Sánchez","0264","Rancho Loredo (0264)","R","Soledad de Graciano Sánchez (035)Rancho Loredo (0264)",22.21378,-100.89740399999999,6,"*","*",1,240350264,null,null,null,{"$f":"IFERROR(VLOOKUP(CONCATENATE(B5898,D5898),Padrón_Indígenas!$A$2:$G$988,7,0),\"No\")","v":"No"}]
[24,"035","Soledad_de_Graciano_Sánchez","0230","Rancho Martínez (0230)","R","Soledad de Graciano Sánchez (035)Rancho Martínez (0230)",22.243838,-100.880397,3,"*","*",1,240350230,null,null,null,{"$f":"IFERROR(VLOOKUP(CONCATENATE(B5903,D5903),Padrón_Indígenas!$A$2:$G$988,7,0),\"No\")","v":"No"}]
[24,"035","Soledad_de_Graciano_Sánchez","0026","Rancho Nuevo (0026)","U","Soledad de Graciano Sánchez (035)Rancho Nuevo (0026)",22.218599000000001,-100.92632500000001,2807,1383,1424,600,240350026,"SI",null,null,{"$f":"IFERROR(VLOOKUP(CONCATENATE(B5906,D5906),Padrón_Indígenas!$A$2:$G$988,7,0),\"No\")","v":"No"}]
[24,"035","Soledad_de_Graciano_Sánchez","0252","Rancho Rodríguez (0252)","R","Soledad de Graciano Sánchez (035)Rancho Rodríguez (0252)",22.364422000000001,-100.854108,3,"*","*",2,240350252,null,null,null,{"$f":"IFERROR(VLOOKUP(CONCATENATE(B5908,D5908),Padrón_Indígenas!$A$2:$G$988,7,0),\"No\")","v":"No"}]
[24,"035","Soledad_de_Graciano_Sánchez","0194","Rancho Santa Ana (0194)","R","Soledad de Graciano Sánchez (035)Rancho Santa Ana (0194)",22.207222000000002,-100.891389,15,5,10,4,240350194,null,"Alto","Muy bajo",{"$f":"IFERROR(VLOOKUP(CONCATENATE(B5911,D5911),Padrón_Indígenas!$A$2:$G$988,7,0),\"No\")","v":"No"}]
[24,"035","Soledad_de_Graciano_Sánchez","0059","San José (El Tízar) (0059)","R","Soledad de Graciano Sánchez (035)San José (El Tízar) (0059)",22.203880000000002,-100.90041600000001,12,"*","*",1,240350059,null,null,null,{"$f":"IFERROR(VLOOKUP(CONCATENATE(B5917,D5917),Padrón_Indígenas!$A$2:$G$988,7,0),\"No\")","v":"No"}]
[24,"035","Soledad_de_Graciano_Sánchez","0089","San Martín (0089)","R","Soledad de Graciano Sánchez (035)San Martín (0089)",22.221430999999999,-100.871949,3,"*","*",1,240350089,"SI",null,null,{"$f":"IFERROR(VLOOKUP(CONCATENATE(B5919,D5919),Padrón_Indígenas!$A$2:$G$988,7,0),\"No\")","v":"No"}]
[24,"035","Soledad_de_Graciano_Sánchez","0268","Santa Cruz [Rancho] (0268)","R","Soledad de Graciano Sánchez (035)Santa Cruz [Rancho] (0268)",22.259087999999998,-100.87333700000001,"-","-","-","-",240350268,null,null,null,{"$f":"IFERROR(VLOOKUP(CONCATENATE(B5922,D5922),Padrón_Indígenas!$A$2:$G$988,7,0),\"No\")","v":"No"}]
[24,"035","Soledad_de_Graciano_Sánchez","0116","Sebastián Gaytán Moreno (0116)","R","Soledad de Graciano Sánchez (035)Sebastián Gaytán Moreno (0116)",22.197248999999999,-100.869845,0,0,0,0,240350116,null,null,null,{"$f":"IFERROR(VLOOKUP(CONCATENATE(B5926,D5926),Padrón_Indígenas!$A$2:$G$988,7,0),\"No\")","v":"No"}]
[24,"035","Soledad_de_Graciano_Sánchez","0159","Ximonco [Granja Porcina] (0159)","R","Soledad de Graciano Sánchez (035)Ximonco [Granja Porcina] (0159)",22.191565000000001,-100.886072,0,0,0,0,240350159,null,null,null,{"$f":"IFERROR(VLOOKUP(CONCATENATE(B5931,D5931),Padrón_Indígenas!$A$2:$G$988,7,0),\"No\")","v":"No"}]
[24,"035","Soledad_de_Graciano_Sánchez","0120","Zona de Riego Valle de San Francisco (0120)","R","Soledad de Graciano Sánchez (035)Zona de Riego Valle de San Francisco (0120)",22.241053999999998,-100.864508,17,8,9,4,240350120,null,"Alto","Bajo",{"$f":"IFERROR(VLOOKUP(CONCATENATE(B5934,D5934),Padrón_Indígenas!$A$2:$G$988,7,0),\"No\")","v":"No"}]
[24,"036","Tamasopo","0003","Agua Buena (0003)","U","Tamasopo (036)Agua Buena (0003)",21.958020000000001,-99.394514000000001,3753,1895,1858,1013,240360003,"SI",null,null,{"$f":"IFERROR(VLOOKUP(CONCATENATE(B5937,D5937),Padrón_Indígenas!$A$2:$G$988,7,0),\"No\")","v":"No"}]
[24,"036","Tamasopo","0163","Aguilares (0163)","R","Tamasopo (036)Aguilares (0163)",21.962042,-99.356713999999997,9,"*","*",2,240360163,null,null,null,{"$f":"IFERROR(VLOOKUP(CONCATENATE(B5940,D5940),Padrón_Indígenas!$A$2:$G$988,7,0),\"No\")","v":"No"}]
[24,"036","Tamasopo","0252","Agustín Pérez (0252)","R","Tamasopo (036)Agustín Pérez (0252)",21.816161000000001,-99.275499999999994,0,0,0,0,240360252,null,null,null,{"$f":"IFERROR(VLOOKUP(CONCATENATE(B5942,D5942),Padrón_Indígenas!$A$2:$G$988,7,0),\"No\")","v":"No"}]
[24,"036","Tamasopo","0007","Balcón (0007)","R","Tamasopo (036)Balcón (0007)",21.929167,-99.425556,0,0,0,0,240360007,null,null,null,{"$f":"IFERROR(VLOOKUP(CONCATENATE(B5945,D5945),Padrón_Indígenas!$A$2:$G$988,7,0),\"No\")","v":"No"}]
[24,"036","Tamasopo","0009","Cabezas (0009)","R","Tamasopo (036)Cabezas (0009)",21.858205000000002,-99.301879999999997,212,107,105,56,240360009,"SI","Alto","Bajo",{"$f":"IFERROR(VLOOKUP(CONCATENATE(B5950,D5950),Padrón_Indígenas!$A$2:$G$988,7,0),\"No\")","v":"No"}]
[24,"036","Tamasopo","0020","Campamento Alfa (Los Cuates) (0020)","R","Tamasopo (036)Campamento Alfa (Los Cuates) (0020)",21.895298,-99.273428999999993,597,297,300,150,240360020,"SI","Alto","Medio",{"$f":"IFERROR(VLOOKUP(CONCATENATE(B5954,D5954),Padrón_Indígenas!$A$2:$G$988,7,0),\"No\")","v":"No"}]
[24,"036","Tamasopo","0015","Carrizalito de Trompeteros (0015)","R","Tamasopo (036)Carrizalito de Trompeteros (0015)",22.101766999999999,-99.473248999999996,97,51,46,24,240360015,null,"Muy alto","Alto",{"$f":"IFERROR(VLOOKUP(CONCATENATE(B5958,D5958),Padrón_Indígenas!$A$2:$G$988,7,0),\"No\")","v":"No"}]
[24,"036","Tamasopo","0311","Cascaditas [Balneario] (0311)","R","Tamasopo (036)Cascaditas [Balneario] (0311)",21.945001000000001,-99.398954000000003,"-","-","-","-",240360311,null,null,null,{"$f":"IFERROR(VLOOKUP(CONCATENATE(B5959,D5959),Padrón_Indígenas!$A$2:$G$988,7,0),\"No\")","v":"No"}]
[24,"036","Tamasopo","0210","El Abra del Coyote (0210)","R","Tamasopo (036)El Abra del Coyote (0210)",21.805996,-99.3506,2,"*","*",1,240360210,null,null,null,{"$f":"IFERROR(VLOOKUP(CONCATENATE(B5965,D5965),Padrón_Indígenas!$A$2:$G$988,7,0),\"No\")","v":"No"}]
[24,"036","Tamasopo","0142","El Barajeño (0142)","R","Tamasopo (036)El Barajeño (0142)",22.018219999999999,-99.282070000000004,3,"*","*",1,240360142,null,null,null,{"$f":"IFERROR(VLOOKUP(CONCATENATE(B5968,D5968),Padrón_Indígenas!$A$2:$G$988,7,0),\"No\")","v":"No"}]
[24,"036","Tamasopo","0256","El Canal (0256)","R","Tamasopo (036)El Canal (0256)",21.971250000000001,-99.298328999999995,0,0,0,0,240360256,null,null,null,{"$f":"IFERROR(VLOOKUP(CONCATENATE(B5970,D5970),Padrón_Indígenas!$A$2:$G$988,7,0),\"No\")","v":"No"}]
[24,"036","Tamasopo","0293","El Carrizal (0293)","R","Tamasopo (036)El Carrizal (0293)",22.161632999999998,-99.383143000000004,0,0,0,0,240360293,null,null,null,{"$f":"IFERROR(VLOOKUP(CONCATENATE(B5973,D5973),Padrón_Indígenas!$A$2:$G$988,7,0),\"No\")","v":"No"}]
[24,"036","Tamasopo","0312","El Cerrito [Manuel del Castillo] (0312)","R","Tamasopo (036)El Cerrito [Manuel del Castillo] (0312)",21.945654999999999,-99.396528000000004,"-","-","-","-",240360312,null,null,null,{"$f":"IFERROR(VLOOKUP(CONCATENATE(B5978,D5978),Padrón_Indígenas!$A$2:$G$988,7,0),\"No\")","v":"No"}]
[24,"036","Tamasopo","0019","El Clarín (Entronque a Tamasopo) (0019)","R","Tamasopo (036)El Clarín (Entronque a Tamasopo) (0019)",21.878477,-99.379694999999998,108,47,61,35,240360019,"SI","Alto","Medio",{"$f":"IFERROR(VLOOKUP(CONCATENATE(B5982,D5982),Padrón_Indígenas!$A$2:$G$988,7,0),\"No\")","v":"No"}]
[24,"036","Tamasopo","0025","El Desengaño (Torrecillas) (0025)","R","Tamasopo (036)El Desengaño (Torrecillas) (0025)",21.856195,-99.373142000000001,4,"*","*",1,240360025,null,null,null,{"$f":"IFERROR(VLOOKUP(CONCATENATE(B5986,D5986),Padrón_Indígenas!$A$2:$G$988,7,0),\"No\")","v":"No"}]
[24,"036","Tamasopo","0288","El Encanto de Zumaya (0288)","R","Tamasopo (036)El Encanto de Zumaya (0288)",21.844559,-99.370870999999994,6,"*","*",1,240360288,null,null,null,{"$f":"IFERROR(VLOOKUP(CONCATENATE(B5989,D5989),Padrón_Indígenas!$A$2:$G$988,7,0),\"No\")","v":"No"}]
[24,"036","Tamasopo","0027","El Huizachal (0027)","R","Tamasopo (036)El Huizachal (0027)",21.798978999999999,-99.476485999999994,268,130,138,61,240360027,"SI","Muy alto","Medio",{"$f":"IFERROR(VLOOKUP(CONCATENATE(B5991,D5991),Padrón_Indígenas!$A$2:$G$988,7,0),\"No\")","v":"Sí"}]
[24,"036","Tamasopo","0034","El Mirador (0034)","R","Tamasopo (036)El Mirador (0034)",21.966944000000002,-99.306944000000001,29,17,12,8,240360034,null,"Alto","Medio",{"$f":"IFERROR(VLOOKUP(CONCATENATE(B5994,D5994),Padrón_Indígenas!$A$2:$G$988,7,0),\"No\")","v":"No"}]
[24,"036","Tamasopo","0037","El Ojo Caliente (0037)","R","Tamasopo (036)El Ojo Caliente (0037)",21.645364000000001,-99.228435000000005,10,"*","*",2,240360037,"SI",null,null,{"$f":"IFERROR(VLOOKUP(CONCATENATE(B6000,D6000),Padrón_Indígenas!$A$2:$G$988,7,0),\"No\")","v":"No"}]
[24,"036","Tamasopo","0198","El Palmar (Los Encinos) (0198)","R","Tamasopo (036)El Palmar (Los Encinos) (0198)",21.816110999999999,-99.258611000000002,0,0,0,0,240360198,null,null,null,{"$f":"IFERROR(VLOOKUP(CONCATENATE(B6002,D6002),Padrón_Indígenas!$A$2:$G$988,7,0),\"No\")","v":"No"}]
[24,"036","Tamasopo","0079","El Puerto Blanco (0079)","R","Tamasopo (036)El Puerto Blanco (0079)",22.178611,-99.482500000000002,1,"*","*",1,240360079,null,null,null,{"$f":"IFERROR(VLOOKUP(CONCATENATE(B6005,D6005),Padrón_Indígenas!$A$2:$G$988,7,0),\"No\")","v":"No"}]
[24,"036","Tamasopo","0278","El Quince (El Atrancón) (0278)","R","Tamasopo (036)El Quince (El Atrancón) (0278)",22.176670999999999,-99.329550999999995,3,"*","*",1,240360278,null,null,null,{"$f":"IFERROR(VLOOKUP(CONCATENATE(B6009,D6009),Padrón_Indígenas!$A$2:$G$988,7,0),\"No\")","v":"No"}]
[24,"036","Tamasopo","0063","El Saucillo (0063)","R","Tamasopo (036)El Saucillo (0063)",21.796150999999998,-99.240279999999998,411,197,214,93,240360063,"SI","Alto","Bajo",{"$f":"IFERROR(VLOOKUP(CONCATENATE(B6014,D6014),Padrón_Indígenas!$A$2:$G$988,7,0),\"No\")","v":"No"}]
[24,"036","Tamasopo","0178","El Tamul (0178)","R","Tamasopo (036)El Tamul (0178)",21.804444,-99.196944000000002,24,13,11,5,240360178,"SI","Muy alto","Alto",{"$f":"IFERROR(VLOOKUP(CONCATENATE(B6017,D6017),Padrón_Indígenas!$A$2:$G$988,7,0),\"No\")","v":"No"}]
[24,"036","Tamasopo","0314","El Texano (0314)","R","Tamasopo (036)El Texano (0314)",21.949636999999999,-99.393462,"-","-","-","-",240360314,null,null,null,{"$f":"IFERROR(VLOOKUP(CONCATENATE(B6019,D6019),Padrón_Indígenas!$A$2:$G$988,7,0),\"No\")","v":"No"}]
[24,"036","Tamasopo","0135","El Varal (0135)","R","Tamasopo (036)El Varal (0135)",21.867084999999999,-99.347575000000006,61,31,30,13,240360135,"SI","Muy alto","Alto",{"$f":"IFERROR(VLOOKUP(CONCATENATE(B6022,D6022),Padrón_Indígenas!$A$2:$G$988,7,0),\"No\")","v":"No"}]
[24,"036","Tamasopo","0316","Hacienda de Gómez (0316)","R","Tamasopo (036)Hacienda de Gómez (0316)",21.94605,-99.400901000000005,"-","-","-","-",240360316,null,null,null,{"$f":"IFERROR(VLOOKUP(CONCATENATE(B6028,D6028),Padrón_Indígenas!$A$2:$G$988,7,0),\"No\")","v":"No"}]
[24,"036","Tamasopo","0305","Israel Mar Rodríguez (0305)","R","Tamasopo (036)Israel Mar Rodríguez (0305)",21.818017999999999,-99.267495999999994,2,"*","*",1,240360305,null,null,null,{"$f":"IFERROR(VLOOKUP(CONCATENATE(B6030,D6030),Padrón_Indígenas!$A$2:$G$988,7,0),\"No\")","v":"No"}]
[24,"036","Tamasopo","0192","Joya de las Palmas (0192)","R","Tamasopo (036)Joya de las Palmas (0192)",22.027408999999999,-99.424683999999999,0,0,0,0,240360192,null,null,null,{"$f":"IFERROR(VLOOKUP(CONCATENATE(B6033,D6033),Padrón_Indígenas!$A$2:$G$988,7,0),\"No\")","v":"No"}]
[24,"036","Tamasopo","0072","La Alberca (0072)","R","Tamasopo (036)La Alberca (0072)",21.708680999999999,-99.426906000000002,2,"*","*",1,240360072,null,null,null,{"$f":"IFERROR(VLOOKUP(CONCATENATE(B6037,D6037),Padrón_Indígenas!$A$2:$G$988,7,0),\"No\")","v":"Sí"}]
[24,"036","Tamasopo","0018","La Ceiba (0018)","R","Tamasopo (036)La Ceiba (0018)",21.718781,-99.260305000000002,9,"*","*",2,240360018,null,null,null,{"$f":"IFERROR(VLOOKUP(CONCATENATE(B6041,D6041),Padrón_Indígenas!$A$2:$G$988,7,0),\"No\")","v":"No"}]
[24,"036","Tamasopo","0257","La Ceibita (0257)","R","Tamasopo (036)La Ceibita (0257)",21.768470000000001,-99.276472999999996,7,"*","*",2,240360257,null,null,null,{"$f":"IFERROR(VLOOKUP(CONCATENATE(B6042,D6042),Padrón_Indígenas!$A$2:$G$988,7,0),\"No\")","v":"No"}]
[24,"036","Tamasopo","0259","La Compuerta Colorada (0259)","R","Tamasopo (036)La Compuerta Colorada (0259)",21.965318,-99.381798000000003,12,"*","*",2,240360259,null,null,null,{"$f":"IFERROR(VLOOKUP(CONCATENATE(B6046,D6046),Padrón_Indígenas!$A$2:$G$988,7,0),\"No\")","v":"No"}]
[24,"036","Tamasopo","0306","La Esperanza 2 (0306)","R","Tamasopo (036)La Esperanza 2 (0306)",21.848009000000001,-99.418522999999993,20,11,9,4,240360306,"SI","Muy alto","Alto",{"$f":"IFERROR(VLOOKUP(CONCATENATE(B6051,D6051),Padrón_Indígenas!$A$2:$G$988,7,0),\"No\")","v":"Sí"}]
[24,"036","Tamasopo","0026","La Gavia (0026)","R","Tamasopo (036)La Gavia (0026)",21.764357,-99.369416000000001,426,224,202,120,240360026,null,"Alto","Bajo",{"$f":"IFERROR(VLOOKUP(CONCATENATE(B6053,D6053),Padrón_Indígenas!$A$2:$G$988,7,0),\"No\")","v":"No"}]
[24,"036","Tamasopo","0275","La Joya (0275)","R","Tamasopo (036)La Joya (0275)",22.195983999999999,-99.470312000000007,3,"*","*",1,240360275,null,null,null,{"$f":"IFERROR(VLOOKUP(CONCATENATE(B6056,D6056),Padrón_Indígenas!$A$2:$G$988,7,0),\"No\")","v":"No"}]
[24,"036","Tamasopo","0302","La Mezcla (0302)","R","Tamasopo (036)La Mezcla (0302)",21.741088999999999,-99.387598999999994,0,0,0,0,240360302,null,null,null,{"$f":"IFERROR(VLOOKUP(CONCATENATE(B6061,D6061),Padrón_Indígenas!$A$2:$G$988,7,0),\"No\")","v":"No"}]
[24,"036","Tamasopo","0042","La Palmita (0042)","R","Tamasopo (036)La Palmita (0042)",21.884247999999999,-99.395114000000007,86,44,42,23,240360042,"SI","Alto","Medio",{"$f":"IFERROR(VLOOKUP(CONCATENATE(B6065,D6065),Padrón_Indígenas!$A$2:$G$988,7,0),\"No\")","v":"No"}]
[24,"036","Tamasopo","0227","La Reforma (0227)","R","Tamasopo (036)La Reforma (0227)",21.852755999999999,-99.384202999999999,24,17,7,6,240360227,"SI","Muy alto","Alto",{"$f":"IFERROR(VLOOKUP(CONCATENATE(B6069,D6069),Padrón_Indígenas!$A$2:$G$988,7,0),\"No\")","v":"No"}]
[24,"036","Tamasopo","0280","La Tantola (0280)","R","Tamasopo (036)La Tantola (0280)",21.807043,-99.357979,18,10,8,5,240360280,null,"Alto","Medio",{"$f":"IFERROR(VLOOKUP(CONCATENATE(B6070,D6070),Padrón_Indígenas!$A$2:$G$988,7,0),\"No\")","v":"No"}]
[24,"036","Tamasopo","0247","Laguna de San Miguel (0247)","R","Tamasopo (036)Laguna de San Miguel (0247)",21.719469,-99.381749999999997,5,"*","*",2,240360247,null,null,null,{"$f":"IFERROR(VLOOKUP(CONCATENATE(B6074,D6074),Padrón_Indígenas!$A$2:$G$988,7,0),\"No\")","v":"No"}]
[24,"036","Tamasopo","0307","Las Garzas (0307)","R","Tamasopo (036)Las Garzas (0307)",21.750159,-99.256827999999999,16,8,8,5,240360307,null,"Muy alto","Alto",{"$f":"IFERROR(VLOOKUP(CONCATENATE(B6079,D6079),Padrón_Indígenas!$A$2:$G$988,7,0),\"No\")","v":"No"}]
[24,"036","Tamasopo","0110","Las Marías (0110)","R","Tamasopo (036)Las Marías (0110)",21.730689000000002,-99.420241000000004,45,22,23,10,240360110,null,"Muy alto","Alto",{"$f":"IFERROR(VLOOKUP(CONCATENATE(B6081,D6081),Padrón_Indígenas!$A$2:$G$988,7,0),\"No\")","v":"Sí"}]
[24,"036","Tamasopo","0170","Los Pinos (0170)","R","Tamasopo (036)Los Pinos (0170)",21.838611,-99.387777999999997,4,"*","*",1,240360170,"SI",null,null,{"$f":"IFERROR(VLOOKUP(CONCATENATE(B6085,D6085),Padrón_Indígenas!$A$2:$G$988,7,0),\"No\")","v":"No"}]
[24,"036","Tamasopo","0202","Los Sarros (0202)","R","Tamasopo (036)Los Sarros (0202)",21.733228,-99.283058999999994,8,2,6,3,240360202,null,"Alto","Bajo",{"$f":"IFERROR(VLOOKUP(CONCATENATE(B6088,D6088),Padrón_Indígenas!$A$2:$G$988,7,0),\"No\")","v":"No"}]
[24,"036","Tamasopo","0167","Mesa de la Chicharrilla (0167)","R","Tamasopo (036)Mesa de la Chicharrilla (0167)",22.045494000000001,-99.430942000000002,0,0,0,0,240360167,null,null,null,{"$f":"IFERROR(VLOOKUP(CONCATENATE(B6093,D6093),Padrón_Indígenas!$A$2:$G$988,7,0),\"No\")","v":"No"}]
[24,"036","Tamasopo","0036","Naranjito (0036)","R","Tamasopo (036)Naranjito (0036)",21.793101,-99.404482000000002,250,127,123,59,240360036,"SI","Alto","Bajo",{"$f":"IFERROR(VLOOKUP(CONCATENATE(B6097,D6097),Padrón_Indígenas!$A$2:$G$988,7,0),\"No\")","v":"Sí"}]
[24,"036","Tamasopo","0193","Ojo de Agua de Reyes (0193)","R","Tamasopo (036)Ojo de Agua de Reyes (0193)",22.089483999999999,-99.408831000000006,7,5,2,3,240360193,null,"Alto","Bajo",{"$f":"IFERROR(VLOOKUP(CONCATENATE(B6100,D6100),Padrón_Indígenas!$A$2:$G$988,7,0),\"No\")","v":"No"}]
[24,"036","Tamasopo","0043","Paso Real (0043)","R","Tamasopo (036)Paso Real (0043)",21.949781999999999,-99.245363999999995,4,"*","*",1,240360043,null,null,null,{"$f":"IFERROR(VLOOKUP(CONCATENATE(B6102,D6102),Padrón_Indígenas!$A$2:$G$988,7,0),\"No\")","v":"No"}]
[24,"036","Tamasopo","0044","Potrerillos (0044)","R","Tamasopo (036)Potrerillos (0044)",21.749994000000001,-99.363288999999995,49,24,25,13,240360044,"SI","Muy alto","Alto",{"$f":"IFERROR(VLOOKUP(CONCATENATE(B6105,D6105),Padrón_Indígenas!$A$2:$G$988,7,0),\"No\")","v":"No"}]
[24,"036","Tamasopo","0046","Pozo del Sauz (0046)","R","Tamasopo (036)Pozo del Sauz (0046)",21.854336,-99.408274000000006,386,202,184,95,240360046,"SI","Muy alto","Alto",{"$f":"IFERROR(VLOOKUP(CONCATENATE(B6111,D6111),Padrón_Indígenas!$A$2:$G$988,7,0),\"No\")","v":"Sí"}]
[24,"036","Tamasopo","0296","Puente Viejo (0296)","R","Tamasopo (036)Puente Viejo (0296)",21.950323000000001,-99.272970000000001,1,"*","*",1,240360296,null,null,null,{"$f":"IFERROR(VLOOKUP(CONCATENATE(B6113,D6113),Padrón_Indígenas!$A$2:$G$988,7,0),\"No\")","v":"No"}]
[24,"036","Tamasopo","0320","Quinta San Pedro (0320)","R","Tamasopo (036)Quinta San Pedro (0320)",21.951561000000002,-99.391735999999995,"-","-","-","-",240360320,null,null,null,{"$f":"IFERROR(VLOOKUP(CONCATENATE(B6116,D6116),Padrón_Indígenas!$A$2:$G$988,7,0),\"No\")","v":"No"}]
[24,"036","Tamasopo","0236","Rancho Maranatha (0236)","R","Tamasopo (036)Rancho Maranatha (0236)",21.885352000000001,-99.354490999999996,0,0,0,0,240360236,null,null,null,{"$f":"IFERROR(VLOOKUP(CONCATENATE(B6121,D6121),Padrón_Indígenas!$A$2:$G$988,7,0),\"No\")","v":"No"}]
[24,"036","Tamasopo","0222","Rancho Nuevo (0222)","R","Tamasopo (036)Rancho Nuevo (0222)",21.853085,-99.415653000000006,62,31,31,14,240360222,"SI","Muy alto","Alto",{"$f":"IFERROR(VLOOKUP(CONCATENATE(B6125,D6125),Padrón_Indígenas!$A$2:$G$988,7,0),\"No\")","v":"Sí"}]
[24,"036","Tamasopo","0321","Real Tamasopo [Hotel] (0321)","R","Tamasopo (036)Real Tamasopo [Hotel] (0321)",21.944548000000001,-99.397656999999995,"-","-","-","-",240360321,null,null,null,{"$f":"IFERROR(VLOOKUP(CONCATENATE(B6128,D6128),Padrón_Indígenas!$A$2:$G$988,7,0),\"No\")","v":"No"}]
[24,"036","Tamasopo","0151","Rejalgares (0151)","R","Tamasopo (036)Rejalgares (0151)",21.864988,-99.266447999999997,18,12,6,3,240360151,"SI","Muy alto","Alto",{"$f":"IFERROR(VLOOKUP(CONCATENATE(B6129,D6129),Padrón_Indígenas!$A$2:$G$988,7,0),\"No\")","v":"No"}]
[24,"036","Tamasopo","0190","Rincón Grande (La Palma Rosa) (0190)","R","Tamasopo (036)Rincón Grande (La Palma Rosa) (0190)",21.685110000000002,-99.219983999999997,0,0,0,0,240360190,null,null,null,{"$f":"IFERROR(VLOOKUP(CONCATENATE(B6134,D6134),Padrón_Indígenas!$A$2:$G$988,7,0),\"No\")","v":"No"}]
[24,"036","Tamasopo","0055","San Andrés de los Limones (0055)","R","Tamasopo (036)San Andrés de los Limones (0055)",21.716926999999998,-99.340154999999996,140,66,74,30,240360055,null,"Alto","Medio",{"$f":"IFERROR(VLOOKUP(CONCATENATE(B6137,D6137),Padrón_Indígenas!$A$2:$G$988,7,0),\"No\")","v":"No"}]
[24,"036","Tamasopo","0106","San Isidro (0106)","R","Tamasopo (036)San Isidro (0106)",21.815035000000002,-99.263606999999993,0,0,0,0,240360106,null,null,null,{"$f":"IFERROR(VLOOKUP(CONCATENATE(B6139,D6139),Padrón_Indígenas!$A$2:$G$988,7,0),\"No\")","v":"No"}]
[24,"036","Tamasopo","0056","San José el Viejo (Huamúchil la Tigra) (0056)","R","Tamasopo (036)San José el Viejo (Huamúchil la Tigra) (0056)",21.721111000000001,-99.239722,472,240,232,117,240360056,"SI","Alto","Bajo",{"$f":"IFERROR(VLOOKUP(CONCATENATE(B6144,D6144),Padrón_Indígenas!$A$2:$G$988,7,0),\"No\")","v":"No"}]
[24,"036","Tamasopo","0060","Santa Isabel (0060)","R","Tamasopo (036)Santa Isabel (0060)",21.784623,-99.376544999999993,87,40,47,22,240360060,null,"Alto","Medio",{"$f":"IFERROR(VLOOKUP(CONCATENATE(B6148,D6148),Padrón_Indígenas!$A$2:$G$988,7,0),\"No\")","v":"No"}]
[24,"036","Tamasopo","0001","Tamasopo (0001)","U","Tamasopo (036)Tamasopo (0001)",21.923901999999998,-99.392160000000004,4326,2115,2211,1154,240360001,"SI",null,null,{"$f":"IFERROR(VLOOKUP(CONCATENATE(B6152,D6152),Padrón_Indígenas!$A$2:$G$988,7,0),\"No\")","v":"No"}]
[24,"036","Tamasopo","0323","Tamasopo-Inn [Cabañas] (0323)","R","Tamasopo (036)Tamasopo-Inn [Cabañas] (0323)",21.946017000000001,-99.395225999999994,"-","-","-","-",240360323,null,null,null,{"$f":"IFERROR(VLOOKUP(CONCATENATE(B6153,D6153),Padrón_Indígenas!$A$2:$G$988,7,0),\"No\")","v":"No"}]
[24,"036","Tamasopo","0179","Tanchuche (0179)","R","Tamasopo (036)Tanchuche (0179)",21.690277999999999,-99.237778000000006,4,"*","*",2,240360179,null,null,null,{"$f":"IFERROR(VLOOKUP(CONCATENATE(B6157,D6157),Padrón_Indígenas!$A$2:$G$988,7,0),\"No\")","v":"No"}]
[24,"036","Tamasopo","0068","Veinte de Noviembre (0068)","R","Tamasopo (036)Veinte de Noviembre (0068)",21.754664999999999,-99.279565000000005,273,139,134,76,240360068,"SI","Alto","Bajo",{"$f":"IFERROR(VLOOKUP(CONCATENATE(B6162,D6162),Padrón_Indígenas!$A$2:$G$988,7,0),\"No\")","v":"No"}]
[24,"036","Tamasopo",null,"Todo el municipio ",null,{"$f":"_xlfn.CONCAT(C6165,\" (\",B6165,\")\",E6165)","v":"Tamasopo (036)Todo el municipio "},null,null,{"$f":"SUM(J5936:J6164)","v":28848}]
[24,"037","Tamazunchale","0003","Achiquico (0003)","R","Tamazunchale (037)Achiquico (0003)",21.266214999999999,-98.743031999999999,136,63,73,27,240370003,"SI","Alto","Medio",{"$f":"IFERROR(VLOOKUP(CONCATENATE(B6167,D6167),Padrón_Indígenas!$A$2:$G$988,7,0),\"No\")","v":"No"}]
[24,"037","Tamazunchale","0225","Ahuehueyo (0225)","R","Tamazunchale (037)Ahuehueyo (0225)",21.205425000000002,-98.687359000000001,24,13,11,6,240370225,"SI","Muy alto","Alto",{"$f":"IFERROR(VLOOKUP(CONCATENATE(B6172,D6172),Padrón_Indígenas!$A$2:$G$988,7,0),\"No\")","v":"Sí"}]
[24,"037","Tamazunchale","0388","Alfonso Luna (Cañas Viejas) (0388)","R","Tamazunchale (037)Alfonso Luna (Cañas Viejas) (0388)",21.238333000000001,-98.782777999999993,1,"*","*",1,240370388,"SI",null,null,{"$f":"IFERROR(VLOOKUP(CONCATENATE(B6176,D6176),Padrón_Indígenas!$A$2:$G$988,7,0),\"No\")","v":"No"}]
[24,"037","Tamazunchale","0300","Aquichamel (0300)","R","Tamazunchale (037)Aquichamel (0300)",21.193505999999999,-98.765635000000003,56,25,31,11,240370300,"SI","Muy alto","Medio",{"$f":"IFERROR(VLOOKUP(CONCATENATE(B6180,D6180),Padrón_Indígenas!$A$2:$G$988,7,0),\"No\")","v":"No"}]
[24,"037","Tamazunchale","0390","Armando Terrones Barrera (0390)","R","Tamazunchale (037)Armando Terrones Barrera (0390)",21.257777999999998,-98.799722000000003,0,0,0,0,240370390,null,null,null,{"$f":"IFERROR(VLOOKUP(CONCATENATE(B6181,D6181),Padrón_Indígenas!$A$2:$G$988,7,0),\"No\")","v":"No"}]
[24,"037","Tamazunchale","0012","Atlajque (0012)","R","Tamazunchale (037)Atlajque (0012)",21.213778999999999,-98.803021999999999,700,367,333,136,240370012,"SI","Alto","Medio",{"$f":"IFERROR(VLOOKUP(CONCATENATE(B6185,D6185),Padrón_Indígenas!$A$2:$G$988,7,0),\"No\")","v":"Sí"}]
[24,"037","Tamazunchale","0302","Balcón de Moctezuma (0302)","R","Tamazunchale (037)Balcón de Moctezuma (0302)",21.275524000000001,-98.764886000000004,6,"*","*",2,240370302,null,null,null,{"$f":"IFERROR(VLOOKUP(CONCATENATE(B6188,D6188),Padrón_Indígenas!$A$2:$G$988,7,0),\"No\")","v":"No"}]
[24,"037","Tamazunchale","0238","Barrio las Palmas (0238)","R","Tamazunchale (037)Barrio las Palmas (0238)",21.274405999999999,-98.733481999999995,208,112,96,44,240370238,"SI","Alto","Bajo",{"$f":"IFERROR(VLOOKUP(CONCATENATE(B6194,D6194),Padrón_Indígenas!$A$2:$G$988,7,0),\"No\")","v":"No"}]
[24,"037","Tamazunchale","0404","Barrio Progreso (0404)","R","Tamazunchale (037)Barrio Progreso (0404)",21.270616,-98.873344000000003,162,86,76,36,240370404,"SI","Muy alto","Medio",{"$f":"IFERROR(VLOOKUP(CONCATENATE(B6196,D6196),Padrón_Indígenas!$A$2:$G$988,7,0),\"No\")","v":"Sí"}]
[24,"037","Tamazunchale","0369","Barrio San Rafael (El Sol) (0369)","R","Tamazunchale (037)Barrio San Rafael (El Sol) (0369)",21.273083,-98.771372999999997,22,8,14,5,240370369,"SI","Alto","Muy bajo",{"$f":"IFERROR(VLOOKUP(CONCATENATE(B6199,D6199),Padrón_Indígenas!$A$2:$G$988,7,0),\"No\")","v":"Sí"}]
[24,"037","Tamazunchale","0121","Cacalacayo (0121)","R","Tamazunchale (037)Cacalacayo (0121)",21.210018000000002,-98.705175999999994,164,79,85,37,240370121,"SI","Alto","Medio",{"$f":"IFERROR(VLOOKUP(CONCATENATE(B6204,D6204),Padrón_Indígenas!$A$2:$G$988,7,0),\"No\")","v":"Sí"}]
[24,"037","Tamazunchale","0288","Carbonera San Francisco (0288)","R","Tamazunchale (037)Carbonera San Francisco (0288)",21.300215000000001,-98.888082999999995,67,43,24,15,240370288,null,"Alto","Medio",{"$f":"IFERROR(VLOOKUP(CONCATENATE(B6208,D6208),Padrón_Indígenas!$A$2:$G$988,7,0),\"No\")","v":"No"}]
[24,"037","Tamazunchale","0387","Centro de Readaptación Social [Penitenciaría] (0387)","R","Tamazunchale (037)Centro de Readaptación Social [Penitenciaría] (0387)",21.243055999999999,-98.722778000000005,199,"*","*",2,240370387,"SI",null,null,{"$f":"IFERROR(VLOOKUP(CONCATENATE(B6209,D6209),Padrón_Indígenas!$A$2:$G$988,7,0),\"No\")","v":"No"}]
[24,"037","Tamazunchale","0033","Chapulhuacanito (0033)","U","Tamazunchale (037)Chapulhuacanito (0033)",21.208601000000002,-98.671576000000002,3445,1688,1757,880,240370033,"SI",null,null,{"$f":"IFERROR(VLOOKUP(CONCATENATE(B6213,D6213),Padrón_Indígenas!$A$2:$G$988,7,0),\"No\")","v":"Sí"}]
[24,"037","Tamazunchale","0157","Choteo (0157)","R","Tamazunchale (037)Choteo (0157)",21.258889,-98.821667000000005,69,32,37,16,240370157,"SI","Alto","Medio",{"$f":"IFERROR(VLOOKUP(CONCATENATE(B6216,D6216),Padrón_Indígenas!$A$2:$G$988,7,0),\"No\")","v":"Sí"}]
[24,"037","Tamazunchale","0352","Colonia Nezahualcóyotl (0352)","R","Tamazunchale (037)Colonia Nezahualcóyotl (0352)",21.256836,-98.798523000000003,430,203,227,105,240370352,"SI","Alto","Medio",{"$f":"IFERROR(VLOOKUP(CONCATENATE(B6222,D6222),Padrón_Indígenas!$A$2:$G$988,7,0),\"No\")","v":"No"}]
[24,"037","Tamazunchale","0362","Coxotla (0362)","R","Tamazunchale (037)Coxotla (0362)",21.205603,-98.846371000000005,215,102,113,38,240370362,"SI","Muy alto","Alto",{"$f":"IFERROR(VLOOKUP(CONCATENATE(B6224,D6224),Padrón_Indígenas!$A$2:$G$988,7,0),\"No\")","v":"Sí"}]
[24,"037","Tamazunchale","0026","Cozapa (0026)","R","Tamazunchale (037)Cozapa (0026)",21.306395999999999,-98.720583000000005,11,6,5,3,240370026,"SI","Alto","Bajo",{"$f":"IFERROR(VLOOKUP(CONCATENATE(B6227,D6227),Padrón_Indígenas!$A$2:$G$988,7,0),\"No\")","v":"No"}]
[24,"037","Tamazunchale","0166","Cuapilol (0166)","R","Tamazunchale (037)Cuapilol (0166)",21.281072999999999,-98.811278000000001,375,195,180,81,240370166,"SI","Alto","Medio",{"$f":"IFERROR(VLOOKUP(CONCATENATE(B6231,D6231),Padrón_Indígenas!$A$2:$G$988,7,0),\"No\")","v":"Sí"}]
[24,"037","Tamazunchale","0030","Cuixcuatitla (0030)","R","Tamazunchale (037)Cuixcuatitla (0030)",21.299111,-98.767230999999995,705,358,347,146,240370030,"SI","Alto","Medio",{"$f":"IFERROR(VLOOKUP(CONCATENATE(B6235,D6235),Padrón_Indígenas!$A$2:$G$988,7,0),\"No\")","v":"Sí"}]
[24,"037","Tamazunchale","0036","Ecuatitla (0036)","R","Tamazunchale (037)Ecuatitla (0036)",21.233153000000001,-98.803335000000004,175,91,84,40,240370036,"SI","Alto","Medio",{"$f":"IFERROR(VLOOKUP(CONCATENATE(B6236,D6236),Padrón_Indígenas!$A$2:$G$988,7,0),\"No\")","v":"Sí"}]
[24,"037","Tamazunchale","0148","El Carrizal (0148)","R","Tamazunchale (037)El Carrizal (0148)",21.187197000000001,-98.836327999999995,752,394,358,110,240370148,"SI","Alto","Medio",{"$f":"IFERROR(VLOOKUP(CONCATENATE(B6240,D6240),Padrón_Indígenas!$A$2:$G$988,7,0),\"No\")","v":"Sí"}]
[24,"037","Tamazunchale","0176","El Coyol San Francisco (0176)","R","Tamazunchale (037)El Coyol San Francisco (0176)",21.248055999999998,-98.914444000000003,389,193,196,80,240370176,"SI","Alto","Medio",{"$f":"IFERROR(VLOOKUP(CONCATENATE(B6245,D6245),Padrón_Indígenas!$A$2:$G$988,7,0),\"No\")","v":"No"}]
[24,"037","Tamazunchale","0309","El Guayabal (0309)","R","Tamazunchale (037)El Guayabal (0309)",21.308893000000001,-98.875144000000006,30,13,17,5,240370309,null,"Muy alto","Medio",{"$f":"IFERROR(VLOOKUP(CONCATENATE(B6248,D6248),Padrón_Indígenas!$A$2:$G$988,7,0),\"No\")","v":"No"}]
[24,"037","Tamazunchale","0286","El Jabalí (0286)","R","Tamazunchale (037)El Jabalí (0286)",21.307127000000001,-98.871378000000007,82,38,44,14,240370286,"SI","Muy alto","Medio",{"$f":"IFERROR(VLOOKUP(CONCATENATE(B6250,D6250),Padrón_Indígenas!$A$2:$G$988,7,0),\"No\")","v":"No"}]
[24,"037","Tamazunchale","0417","El Palmillar (0417)","R","Tamazunchale (037)El Palmillar (0417)",21.241975,-98.750838999999999,"-","-","-","-",240370417,null,null,null,{"$f":"IFERROR(VLOOKUP(CONCATENATE(B6256,D6256),Padrón_Indígenas!$A$2:$G$988,7,0),\"No\")","v":"No"}]
[24,"037","Tamazunchale","0139","El Piñal (0139)","R","Tamazunchale (037)El Piñal (0139)",21.250409999999999,-98.751005000000006,800,405,395,159,240370139,"SI","Alto","Bajo",{"$f":"IFERROR(VLOOKUP(CONCATENATE(B6259,D6259),Padrón_Indígenas!$A$2:$G$988,7,0),\"No\")","v":"Sí"}]
[24,"037","Tamazunchale","0293","El Sastre (0293)","R","Tamazunchale (037)El Sastre (0293)",21.232716,-98.867939000000007,11,5,6,4,240370293,"SI","Bajo","Muy bajo",{"$f":"IFERROR(VLOOKUP(CONCATENATE(B6263,D6263),Padrón_Indígenas!$A$2:$G$988,7,0),\"No\")","v":"No"}]
[24,"037","Tamazunchale","0088","El Tepetate (0088)","R","Tamazunchale (037)El Tepetate (0088)",21.292964000000001,-98.747337999999999,525,263,262,143,240370088,"SI","Alto","Bajo",{"$f":"IFERROR(VLOOKUP(CONCATENATE(B6264,D6264),Padrón_Indígenas!$A$2:$G$988,7,0),\"No\")","v":"Sí"}]
[24,"037","Tamazunchale","0118","Encino Solo (0118)","R","Tamazunchale (037)Encino Solo (0118)",21.234850999999999,-98.723121000000006,408,189,219,95,240370118,"SI","Alto","Bajo",{"$f":"IFERROR(VLOOKUP(CONCATENATE(B6268,D6268),Padrón_Indígenas!$A$2:$G$988,7,0),\"No\")","v":"Sí"}]
[24,"037","Tamazunchale","0371","Félix Fernández Hernández (0371)","R","Tamazunchale (037)Félix Fernández Hernández (0371)",21.269013999999999,-98.727577999999994,3,"*","*",1,240370371,null,null,null,{"$f":"IFERROR(VLOOKUP(CONCATENATE(B6271,D6271),Padrón_Indígenas!$A$2:$G$988,7,0),\"No\")","v":"No"}]
[24,"037","Tamazunchale","0291","Huazalingo (El Primer Tirón) (0291)","R","Tamazunchale (037)Huazalingo (El Primer Tirón) (0291)",21.244313999999999,-98.850078999999994,22,13,9,3,240370291,"SI","Alto","Medio",{"$f":"IFERROR(VLOOKUP(CONCATENATE(B6277,D6277),Padrón_Indígenas!$A$2:$G$988,7,0),\"No\")","v":"Sí"}]
[24,"037","Tamazunchale","0216","Huichapa (0216)","R","Tamazunchale (037)Huichapa (0216)",21.260351,-98.848637999999994,259,136,123,58,240370216,"SI","Alto","Medio",{"$f":"IFERROR(VLOOKUP(CONCATENATE(B6279,D6279),Padrón_Indígenas!$A$2:$G$988,7,0),\"No\")","v":"Sí"}]
[24,"037","Tamazunchale","0048","Ixtlapalaco (0048)","R","Tamazunchale (037)Ixtlapalaco (0048)",21.268232999999999,-98.768459000000007,872,437,435,206,240370048,"SI","Alto","Bajo",{"$f":"IFERROR(VLOOKUP(CONCATENATE(B6282,D6282),Padrón_Indígenas!$A$2:$G$988,7,0),\"No\")","v":"Sí"}]
[24,"037","Tamazunchale","0392","José Cruz Antonio (0392)","R","Tamazunchale (037)José Cruz Antonio (0392)",21.246943999999999,-98.790833000000006,2,"*","*",1,240370392,"SI",null,null,{"$f":"IFERROR(VLOOKUP(CONCATENATE(B6287,D6287),Padrón_Indígenas!$A$2:$G$988,7,0),\"No\")","v":"No"}]
[24,"037","Tamazunchale","0413","La Escondida (0413)","R","Tamazunchale (037)La Escondida (0413)",21.249257,-98.796325999999993,"-","-","-","-",240370413,null,null,null,{"$f":"IFERROR(VLOOKUP(CONCATENATE(B6291,D6291),Padrón_Indígenas!$A$2:$G$988,7,0),\"No\")","v":"No"}]
[24,"037","Tamazunchale","0220","La Fortuna (0220)","R","Tamazunchale (037)La Fortuna (0220)",21.254321999999998,-98.811260000000004,272,138,134,73,240370220,"SI","Alto","Bajo",{"$f":"IFERROR(VLOOKUP(CONCATENATE(B6292,D6292),Padrón_Indígenas!$A$2:$G$988,7,0),\"No\")","v":"No"}]
[24,"037","Tamazunchale","0275","La Joya (0275)","R","Tamazunchale (037)La Joya (0275)",21.276629,-98.705889999999997,22,14,8,5,240370275,null,"Alto","Medio",{"$f":"IFERROR(VLOOKUP(CONCATENATE(B6296,D6296),Padrón_Indígenas!$A$2:$G$988,7,0),\"No\")","v":"No"}]
[24,"037","Tamazunchale","0381","La Peñita Santiago (0381)","R","Tamazunchale (037)La Peñita Santiago (0381)",21.207801,-98.885808999999995,83,45,38,21,240370381,"SI","Alto","Alto",{"$f":"IFERROR(VLOOKUP(CONCATENATE(B6300,D6300),Padrón_Indígenas!$A$2:$G$988,7,0),\"No\")","v":"Sí"}]
[24,"037","Tamazunchale","0396","La Reforma (0396)","R","Tamazunchale (037)La Reforma (0396)",21.253986000000001,-98.794507999999993,31,15,16,8,240370396,"SI","Muy alto","Alto",{"$f":"IFERROR(VLOOKUP(CONCATENATE(B6305,D6305),Padrón_Indígenas!$A$2:$G$988,7,0),\"No\")","v":"Sí"}]
[24,"037","Tamazunchale","0357","Lalastzintla (0357)","R","Tamazunchale (037)Lalastzintla (0357)",21.176804000000001,-98.804179000000005,100,52,48,18,240370357,"SI","Muy alto","Alto",{"$f":"IFERROR(VLOOKUP(CONCATENATE(B6307,D6307),Padrón_Indígenas!$A$2:$G$988,7,0),\"No\")","v":"No"}]
[24,"037","Tamazunchale","0141","Las Chacas (0141)","R","Tamazunchale (037)Las Chacas (0141)",21.315356000000001,-98.758667000000003,6,"*","*",1,240370141,null,null,null,{"$f":"IFERROR(VLOOKUP(CONCATENATE(B6310,D6310),Padrón_Indígenas!$A$2:$G$988,7,0),\"No\")","v":"No"}]
[24,"037","Tamazunchale","0393","Las Lomas (El Piñal) (0393)","R","Tamazunchale (037)Las Lomas (El Piñal) (0393)",21.246286000000001,-98.746297999999996,15,7,8,3,240370393,"SI","Alto","Muy bajo",{"$f":"IFERROR(VLOOKUP(CONCATENATE(B6315,D6315),Padrón_Indígenas!$A$2:$G$988,7,0),\"No\")","v":"No"}]
[24,"037","Tamazunchale","0317","Las Palmas (0317)","R","Tamazunchale (037)Las Palmas (0317)",21.245514,-98.803563999999994,2,"*","*",1,240370317,"SI",null,null,{"$f":"IFERROR(VLOOKUP(CONCATENATE(B6318,D6318),Padrón_Indígenas!$A$2:$G$988,7,0),\"No\")","v":"Sí"}]
[24,"037","Tamazunchale","0059","Las Palomas (0059)","R","Tamazunchale (037)Las Palomas (0059)",21.273530000000001,-98.700023000000002,322,150,172,74,240370059,"SI","Alto","Medio",{"$f":"IFERROR(VLOOKUP(CONCATENATE(B6319,D6319),Padrón_Indígenas!$A$2:$G$988,7,0),\"No\")","v":"Sí"}]
[24,"037","Tamazunchale","0384","Lomas de Buenavista Tamán (0384)","R","Tamazunchale (037)Lomas de Buenavista Tamán (0384)",21.222788000000001,-98.859643000000005,191,91,100,39,240370384,"SI","Alto","Medio",{"$f":"IFERROR(VLOOKUP(CONCATENATE(B6323,D6323),Padrón_Indígenas!$A$2:$G$988,7,0),\"No\")","v":"No"}]
[24,"037","Tamazunchale","0233","Los Corrales (0233)","R","Tamazunchale (037)Los Corrales (0233)",21.275292,-98.739641000000006,0,0,0,0,240370233,null,null,null,{"$f":"IFERROR(VLOOKUP(CONCATENATE(B6328,D6328),Padrón_Indígenas!$A$2:$G$988,7,0),\"No\")","v":"No"}]
[24,"037","Tamazunchale","0410","Los Naranjos Santiago (0410)","R","Tamazunchale (037)Los Naranjos Santiago (0410)",21.196943999999998,-98.874722000000006,160,83,77,36,240370410,"SI","Alto","Medio",{"$f":"IFERROR(VLOOKUP(CONCATENATE(B6331,D6331),Padrón_Indígenas!$A$2:$G$988,7,0),\"No\")","v":"No"}]
[24,"037","Tamazunchale","0316","Los Otates (0316)","R","Tamazunchale (037)Los Otates (0316)",21.261426,-98.697519,0,0,0,0,240370316,null,null,null,{"$f":"IFERROR(VLOOKUP(CONCATENATE(B6333,D6333),Padrón_Indígenas!$A$2:$G$988,7,0),\"No\")","v":"No"}]
[24,"037","Tamazunchale","0052","Mecachiquico (0052)","R","Tamazunchale (037)Mecachiquico (0052)",21.197376999999999,-98.770835000000005,487,233,254,82,240370052,"SI","Alto","Medio",{"$f":"IFERROR(VLOOKUP(CONCATENATE(B6339,D6339),Padrón_Indígenas!$A$2:$G$988,7,0),\"No\")","v":"Sí"}]
[24,"037","Tamazunchale","0191","Mi Ranchito (0191)","R","Tamazunchale (037)Mi Ranchito (0191)",21.237656000000001,-98.865122999999997,99,49,50,19,240370191,"SI","Alto","Bajo",{"$f":"IFERROR(VLOOKUP(CONCATENATE(B6342,D6342),Padrón_Indígenas!$A$2:$G$988,7,0),\"No\")","v":"No"}]
[24,"037","Tamazunchale","0394","Nuevo México (Roque Julián Santiago) (0394)","R","Tamazunchale (037)Nuevo México (Roque Julián Santiago) (0394)",21.243161000000001,-98.779819000000003,6,"*","*",1,240370394,null,null,null,{"$f":"IFERROR(VLOOKUP(CONCATENATE(B6346,D6346),Padrón_Indígenas!$A$2:$G$988,7,0),\"No\")","v":"No"}]
[24,"037","Tamazunchale","0368","Pablo Reséndiz Hernández (0368)","R","Tamazunchale (037)Pablo Reséndiz Hernández (0368)",21.264444000000001,-98.786389,5,"*","*",2,240370368,"SI",null,null,{"$f":"IFERROR(VLOOKUP(CONCATENATE(B6347,D6347),Padrón_Indígenas!$A$2:$G$988,7,0),\"No\")","v":"No"}]
[24,"037","Tamazunchale","0057","Palictla (0057)","R","Tamazunchale (037)Palictla (0057)",21.289543999999999,-98.789023,446,225,221,116,240370057,"SI","Alto","Bajo",{"$f":"IFERROR(VLOOKUP(CONCATENATE(B6351,D6351),Padrón_Indígenas!$A$2:$G$988,7,0),\"No\")","v":"Sí"}]
[24,"037","Tamazunchale","0063","Pemucho (0063)","R","Tamazunchale (037)Pemucho (0063)",21.196593,-98.832148000000004,1187,590,597,206,240370063,"SI","Alto","Medio",{"$f":"IFERROR(VLOOKUP(CONCATENATE(B6356,D6356),Padrón_Indígenas!$A$2:$G$988,7,0),\"No\")","v":"Sí"}]
[24,"037","Tamazunchale","0319","Pilchapulhuacán (0319)","R","Tamazunchale (037)Pilchapulhuacán (0319)",21.217808000000002,-98.841679999999997,77,40,37,20,240370319,"SI","Alto","Medio",{"$f":"IFERROR(VLOOKUP(CONCATENATE(B6359,D6359),Padrón_Indígenas!$A$2:$G$988,7,0),\"No\")","v":"No"}]
[24,"037","Tamazunchale","0321","Poxtla (0321)","R","Tamazunchale (037)Poxtla (0321)",21.234290999999999,-98.880492000000004,160,78,82,40,240370321,"SI","Alto","Medio",{"$f":"IFERROR(VLOOKUP(CONCATENATE(B6361,D6361),Padrón_Indígenas!$A$2:$G$988,7,0),\"No\")","v":"No"}]
[24,"037","Tamazunchale","0279","Rancho el Retoño (0279)","R","Tamazunchale (037)Rancho el Retoño (0279)",21.268063000000001,-98.707003,0,0,0,0,240370279,null,null,null,{"$f":"IFERROR(VLOOKUP(CONCATENATE(B6367,D6367),Padrón_Indígenas!$A$2:$G$988,7,0),\"No\")","v":"No"}]
[24,"037","Tamazunchale","0066","Rancho la Pitahaya (0066)","R","Tamazunchale (037)Rancho la Pitahaya (0066)",21.275252999999999,-98.741450999999998,0,0,0,0,240370066,null,null,null,{"$f":"IFERROR(VLOOKUP(CONCATENATE(B6370,D6370),Padrón_Indígenas!$A$2:$G$988,7,0),\"No\")","v":"No"}]
[24,"037","Tamazunchale","0326","Rancho Santa Rita (0326)","R","Tamazunchale (037)Rancho Santa Rita (0326)",21.298113000000001,-98.713040000000007,17,10,7,3,240370326,"SI","Alto","Bajo",{"$f":"IFERROR(VLOOKUP(CONCATENATE(B6374,D6374),Padrón_Indígenas!$A$2:$G$988,7,0),\"No\")","v":"No"}]
[24,"037","Tamazunchale","0227","Rancho Santa Rosa (0227)","R","Tamazunchale (037)Rancho Santa Rosa (0227)",21.295105,-98.720932000000005,7,"*","*",1,240370227,null,null,null,{"$f":"IFERROR(VLOOKUP(CONCATENATE(B6375,D6375),Padrón_Indígenas!$A$2:$G$988,7,0),\"No\")","v":"No"}]
[24,"037","Tamazunchale","0231","Río Claro (Mauro Martínez) (0231)","R","Tamazunchale (037)Río Claro (Mauro Martínez) (0231)",21.216671999999999,-98.748990000000006,0,0,0,0,240370231,null,null,null,{"$f":"IFERROR(VLOOKUP(CONCATENATE(B6379,D6379),Padrón_Indígenas!$A$2:$G$988,7,0),\"No\")","v":"No"}]
[24,"037","Tamazunchale","0237","San Carlos (0237)","R","Tamazunchale (037)San Carlos (0237)",21.2925,-98.723889,9,"*","*",2,240370237,null,null,null,{"$f":"IFERROR(VLOOKUP(CONCATENATE(B6383,D6383),Padrón_Indígenas!$A$2:$G$988,7,0),\"No\")","v":"No"}]
[24,"037","Tamazunchale","0329","San Martín (0329)","R","Tamazunchale (037)San Martín (0329)",21.248611,-98.691389000000001,0,0,0,0,240370329,null,null,null,{"$f":"IFERROR(VLOOKUP(CONCATENATE(B6388,D6388),Padrón_Indígenas!$A$2:$G$988,7,0),\"No\")","v":"No"}]
[24,"037","Tamazunchale","0372","San Pablo (0372)","R","Tamazunchale (037)San Pablo (0372)",21.24,-98.863889,30,14,16,7,240370372,"SI","Alto","Bajo",{"$f":"IFERROR(VLOOKUP(CONCATENATE(B6390,D6390),Padrón_Indígenas!$A$2:$G$988,7,0),\"No\")","v":"No"}]
[24,"037","Tamazunchale","0076","Santa María Picula (0076)","R","Tamazunchale (037)Santa María Picula (0076)",21.202767999999999,-98.743539999999996,978,509,469,197,240370076,"SI","Alto","Bajo",{"$f":"IFERROR(VLOOKUP(CONCATENATE(B6393,D6393),Padrón_Indígenas!$A$2:$G$988,7,0),\"No\")","v":"Sí"}]
[24,"037","Tamazunchale","0079","Tacial (0079)","R","Tamazunchale (037)Tacial (0079)",21.256160999999999,-98.810343000000003,729,366,363,183,240370079,"SI","Alto","Medio",{"$f":"IFERROR(VLOOKUP(CONCATENATE(B6398,D6398),Padrón_Indígenas!$A$2:$G$988,7,0),\"No\")","v":"Sí"}]
[24,"037","Tamazunchale","0001","Tamazunchale (0001)","U","Tamazunchale (037)Tamazunchale (0001)",21.262737999999999,-98.791517999999996,24562,11701,12861,6262,240370001,"SI",null,null,{"$f":"IFERROR(VLOOKUP(CONCATENATE(B6402,D6402),Padrón_Indígenas!$A$2:$G$988,7,0),\"No\")","v":"No"}]
[24,"037","Tamazunchale","0402","Tamazunchale (0402)","R","Tamazunchale (037)Tamazunchale (0402)",21.246081,-98.770606999999998,3,"*","*",1,240370402,"SI",null,null,{"$f":"IFERROR(VLOOKUP(CONCATENATE(B6403,D6403),Padrón_Indígenas!$A$2:$G$988,7,0),\"No\")","v":"No"}]
[24,"037","Tamazunchale","0122","Tecomate Uno (0122)","R","Tamazunchale (037)Tecomate Uno (0122)",21.196141000000001,-98.712535000000003,212,103,109,46,240370122,"SI","Alto","Medio",{"$f":"IFERROR(VLOOKUP(CONCATENATE(B6407,D6407),Padrón_Indígenas!$A$2:$G$988,7,0),\"No\")","v":"Sí"}]
[24,"037","Tamazunchale","0086","Tenexco (0086)","R","Tamazunchale (037)Tenexco (0086)",21.215278000000001,-98.738332999999997,373,190,183,89,240370086,"SI","Alto","Medio",{"$f":"IFERROR(VLOOKUP(CONCATENATE(B6411,D6411),Padrón_Indígenas!$A$2:$G$988,7,0),\"No\")","v":"Sí"}]
[24,"037","Tamazunchale","0199","Teozeloc (0199)","R","Tamazunchale (037)Teozeloc (0199)",21.223499,-98.827894999999998,231,124,107,51,240370199,"SI","Alto","Medio",{"$f":"IFERROR(VLOOKUP(CONCATENATE(B6414,D6414),Padrón_Indígenas!$A$2:$G$988,7,0),\"No\")","v":"Sí"}]
[24,"037","Tamazunchale","0258","Tepetzintla (0258)","R","Tamazunchale (037)Tepetzintla (0258)",21.229476999999999,-98.733142999999998,191,94,97,48,240370258,"SI","Medio","Bajo",{"$f":"IFERROR(VLOOKUP(CONCATENATE(B6416,D6416),Padrón_Indígenas!$A$2:$G$988,7,0),\"No\")","v":"Sí"}]
[24,"037","Tamazunchale","0093","Tetlama (0093)","R","Tamazunchale (037)Tetlama (0093)",21.238499000000001,-98.814494999999994,388,182,206,90,240370093,"SI","Alto","Medio",{"$f":"IFERROR(VLOOKUP(CONCATENATE(B6422,D6422),Padrón_Indígenas!$A$2:$G$988,7,0),\"No\")","v":"Sí"}]
[24,"037","Tamazunchale","0178","Texopis (0178)","R","Tamazunchale (037)Texopis (0178)",21.224343999999999,-98.808897000000002,234,121,113,42,240370178,"SI","Alto","Medio",{"$f":"IFERROR(VLOOKUP(CONCATENATE(B6425,D6425),Padrón_Indígenas!$A$2:$G$988,7,0),\"No\")","v":"Sí"}]
[24,"037","Tamazunchale","0098","Tezontla (0098)","R","Tamazunchale (037)Tezontla (0098)",21.239722,-98.696667000000005,642,324,318,160,240370098,"SI","Alto","Medio",{"$f":"IFERROR(VLOOKUP(CONCATENATE(B6427,D6427),Padrón_Indígenas!$A$2:$G$988,7,0),\"No\")","v":"Sí"}]
[24,"037","Tamazunchale","0333","Tierra Blanca (0333)","R","Tamazunchale (037)Tierra Blanca (0333)",21.241861,-98.862864000000002,14,6,8,4,240370333,"SI","Bajo","Bajo",{"$f":"IFERROR(VLOOKUP(CONCATENATE(B6430,D6430),Padrón_Indígenas!$A$2:$G$988,7,0),\"No\")","v":"No"}]
[24,"037","Tamazunchale","0398","Tlachiquilillacapa (0398)","R","Tamazunchale (037)Tlachiquilillacapa (0398)",21.172820999999999,-98.840399000000005,543,285,258,95,240370398,"SI","Muy alto","Medio",{"$f":"IFERROR(VLOOKUP(CONCATENATE(B6434,D6434),Padrón_Indígenas!$A$2:$G$988,7,0),\"No\")","v":"No"}]
[24,"037","Tamazunchale","0103","Tlamaya Santiago (0103)","R","Tamazunchale (037)Tlamaya Santiago (0103)",21.192530000000001,-98.876684999999995,228,116,112,55,240370103,"SI","Alto","Medio",{"$f":"IFERROR(VLOOKUP(CONCATENATE(B6439,D6439),Padrón_Indígenas!$A$2:$G$988,7,0),\"No\")","v":"Sí"}]
[24,"037","Tamazunchale","0256","Tolapa (Tolapa Tamán) (0256)","R","Tamazunchale (037)Tolapa (Tolapa Tamán) (0256)",21.223610999999998,-98.877499999999998,223,93,130,51,240370256,"SI","Alto","Medio",{"$f":"IFERROR(VLOOKUP(CONCATENATE(B6442,D6442),Padrón_Indígenas!$A$2:$G$988,7,0),\"No\")","v":"Sí"}]
[24,"037","Tamazunchale","0164","Totectitla los Ciruelos (0164)","R","Tamazunchale (037)Totectitla los Ciruelos (0164)",21.279978,-98.784865999999994,299,133,166,70,240370164,"SI","Alto","Bajo",{"$f":"IFERROR(VLOOKUP(CONCATENATE(B6444,D6444),Padrón_Indígenas!$A$2:$G$988,7,0),\"No\")","v":"Sí"}]
[24,"037","Tamazunchale","0338","Xiatipa (0338)","R","Tamazunchale (037)Xiatipa (0338)",21.216235999999999,-98.827540999999997,50,24,26,11,240370338,"SI","Alto","Medio",{"$f":"IFERROR(VLOOKUP(CONCATENATE(B6450,D6450),Padrón_Indígenas!$A$2:$G$988,7,0),\"No\")","v":"No"}]
[24,"037","Tamazunchale","0131","Xilhuazo (0131)","R","Tamazunchale (037)Xilhuazo (0131)",21.264721999999999,-98.864166999999995,246,129,117,46,240370131,"SI","Alto","Medio",{"$f":"IFERROR(VLOOKUP(CONCATENATE(B6453,D6453),Padrón_Indígenas!$A$2:$G$988,7,0),\"No\")","v":"Sí"}]
[24,"037","Tamazunchale","0210","Xinictle (0210)","R","Tamazunchale (037)Xinictle (0210)",21.296303000000002,-98.856838999999994,240,131,109,53,240370210,"SI","Alto","Medio",{"$f":"IFERROR(VLOOKUP(CONCATENATE(B6455,D6455),Padrón_Indígenas!$A$2:$G$988,7,0),\"No\")","v":"Sí"}]
[24,"037","Tamazunchale","0340","Zanapa (Armando Ortega) (0340)","R","Tamazunchale (037)Zanapa (Armando Ortega) (0340)",21.258333,-98.766943999999995,7,"*","*",1,240370340,null,null,null,{"$f":"IFERROR(VLOOKUP(CONCATENATE(B6458,D6458),Padrón_Indígenas!$A$2:$G$988,7,0),\"No\")","v":"No"}]
[24,"037","Tamazunchale","0113","Zoquitipa (0113)","R","Tamazunchale (037)Zoquitipa (0113)",21.214466999999999,-98.768574999999998,406,199,207,87,240370113,"SI","Alto","Medio",{"$f":"IFERROR(VLOOKUP(CONCATENATE(B6462,D6462),Padrón_Indígenas!$A$2:$G$988,7,0),\"No\")","v":"Sí"}]
[24,"038","Tampacán","0088","Ampliación del Maguey (0088)","R","Tampacán (038)Ampliación del Maguey (0088)",21.443923000000002,-98.764516,2,"*","*",1,240380088,"SI",null,null,{"$f":"IFERROR(VLOOKUP(CONCATENATE(B6466,D6466),Padrón_Indígenas!$A$2:$G$988,7,0),\"No\")","v":"No"}]
[24,"038","Tampacán","0091","Barrio Zapotal (0091)","R","Tampacán (038)Barrio Zapotal (0091)",21.400628000000001,-98.738083000000003,14,9,5,3,240380091,"SI","Alto","Alto",{"$f":"IFERROR(VLOOKUP(CONCATENATE(B6471,D6471),Padrón_Indígenas!$A$2:$G$988,7,0),\"No\")","v":"No"}]
[24,"038","Tampacán","0013","Chimimexco (0013)","R","Tampacán (038)Chimimexco (0013)",21.402498000000001,-98.799510999999995,199,105,94,47,240380013,"SI","Alto","Medio",{"$f":"IFERROR(VLOOKUP(CONCATENATE(B6474,D6474),Padrón_Indígenas!$A$2:$G$988,7,0),\"No\")","v":"Sí"}]
[24,"038","Tampacán","0093","Crisófono Sánchez (0093)","R","Tampacán (038)Crisófono Sánchez (0093)",21.390833000000001,-98.730833000000004,0,0,0,0,240380093,null,null,null,{"$f":"IFERROR(VLOOKUP(CONCATENATE(B6476,D6476),Padrón_Indígenas!$A$2:$G$988,7,0),\"No\")","v":"No"}]
[24,"038","Tampacán","0002","El Alto del Aguacatal (0002)","R","Tampacán (038)El Alto del Aguacatal (0002)",21.464082000000001,-98.797809999999998,8,5,3,3,240380002,null,"Alto","Medio",{"$f":"IFERROR(VLOOKUP(CONCATENATE(B6481,D6481),Padrón_Indígenas!$A$2:$G$988,7,0),\"No\")","v":"No"}]
[24,"038","Tampacán","0058","El Chotal (0058)","R","Tampacán (038)El Chotal (0058)",21.429687000000001,-98.708270999999996,0,0,0,0,240380058,null,null,null,{"$f":"IFERROR(VLOOKUP(CONCATENATE(B6485,D6485),Padrón_Indígenas!$A$2:$G$988,7,0),\"No\")","v":"No"}]
[24,"038","Tampacán","0017","El Huexco (0017)","R","Tampacán (038)El Huexco (0017)",21.341367000000002,-98.754051000000004,1008,494,514,252,240380017,"SI","Alto","Medio",{"$f":"IFERROR(VLOOKUP(CONCATENATE(B6486,D6486),Padrón_Indígenas!$A$2:$G$988,7,0),\"No\")","v":"Sí"}]
[24,"038","Tampacán","0034","El Ojital (0034)","R","Tampacán (038)El Ojital (0034)",21.317782999999999,-98.744380000000007,24,9,15,5,240380034,"SI","Alto","Bajo",{"$f":"IFERROR(VLOOKUP(CONCATENATE(B6490,D6490),Padrón_Indígenas!$A$2:$G$988,7,0),\"No\")","v":"Sí"}]
[24,"038","Tampacán","0111","El Zapote (La Bajada) (0111)","R","Tampacán (038)El Zapote (La Bajada) (0111)",21.446273000000001,-98.687329000000005,0,0,0,0,240380111,null,null,null,{"$f":"IFERROR(VLOOKUP(CONCATENATE(B6494,D6494),Padrón_Indígenas!$A$2:$G$988,7,0),\"No\")","v":"No"}]
[24,"038","Tampacán","0074","Hacienda del Refugio (0074)","R","Tampacán (038)Hacienda del Refugio (0074)",21.333152999999999,-98.758739000000006,4,"*","*",1,240380074,null,null,null,{"$f":"IFERROR(VLOOKUP(CONCATENATE(B6499,D6499),Padrón_Indígenas!$A$2:$G$988,7,0),\"No\")","v":"No"}]
[24,"038","Tampacán","0077","La Esperanza (0077)","R","Tampacán (038)La Esperanza (0077)",21.417763000000001,-98.726873999999995,17,7,10,3,240380077,"SI","Muy alto","Alto",{"$f":"IFERROR(VLOOKUP(CONCATENATE(B6502,D6502),Padrón_Indígenas!$A$2:$G$988,7,0),\"No\")","v":"No"}]
[24,"038","Tampacán","0028","La Finca Miraflores (0028)","R","Tampacán (038)La Finca Miraflores (0028)",21.489277000000001,-98.779244000000006,540,295,245,128,240380028,"SI","Alto","Bajo",{"$f":"IFERROR(VLOOKUP(CONCATENATE(B6504,D6504),Padrón_Indígenas!$A$2:$G$988,7,0),\"No\")","v":"No"}]
[24,"038","Tampacán","0026","La Mata (0026)","R","Tampacán (038)La Mata (0026)",21.439461000000001,-98.667158999999998,136,70,66,26,240380026,"SI","Alto","Medio",{"$f":"IFERROR(VLOOKUP(CONCATENATE(B6509,D6509),Padrón_Indígenas!$A$2:$G$988,7,0),\"No\")","v":"Sí"}]
[24,"038","Tampacán","0101","La Peña (0101)","R","Tampacán (038)La Peña (0101)",21.446446000000002,-98.681040999999993,0,0,0,0,240380101,null,null,null,{"$f":"IFERROR(VLOOKUP(CONCATENATE(B6510,D6510),Padrón_Indígenas!$A$2:$G$988,7,0),\"No\")","v":"No"}]
[24,"038","Tampacán","0020","Lagunillas (0020)","R","Tampacán (038)Lagunillas (0020)",21.447334999999999,-98.721936999999997,341,176,165,81,240380020,"SI","Alto","Bajo",{"$f":"IFERROR(VLOOKUP(CONCATENATE(B6513,D6513),Padrón_Indígenas!$A$2:$G$988,7,0),\"No\")","v":"No"}]
[24,"038","Tampacán","0078","Los Coyoles (0078)","R","Tampacán (038)Los Coyoles (0078)",21.426856999999998,-98.789182999999994,4,"*","*",1,240380078,"SI",null,null,{"$f":"IFERROR(VLOOKUP(CONCATENATE(B6518,D6518),Padrón_Indígenas!$A$2:$G$988,7,0),\"No\")","v":"No"}]
[24,"038","Tampacán","0057","Los Sabinos (0057)","R","Tampacán (038)Los Sabinos (0057)",21.443003999999998,-98.701222000000001,49,25,24,7,240380057,"SI","Alto","Bajo",{"$f":"IFERROR(VLOOKUP(CONCATENATE(B6522,D6522),Padrón_Indígenas!$A$2:$G$988,7,0),\"No\")","v":"No"}]
[24,"038","Tampacán","0114","Nuevo Achichipic (0114)","R","Tampacán (038)Nuevo Achichipic (0114)",21.412568,-98.711868999999993,7,"*","*",2,240380114,"SI",null,null,{"$f":"IFERROR(VLOOKUP(CONCATENATE(B6525,D6525),Padrón_Indígenas!$A$2:$G$988,7,0),\"No\")","v":"No"}]
[24,"038","Tampacán","0033","Nuevo Jalpilla (0033)","R","Tampacán (038)Nuevo Jalpilla (0033)",21.463604,-98.734318999999999,272,131,141,57,240380033,"SI","Alto","Bajo",{"$f":"IFERROR(VLOOKUP(CONCATENATE(B6527,D6527),Padrón_Indígenas!$A$2:$G$988,7,0),\"No\")","v":"Sí"}]
[24,"038","Tampacán","0085","Plan Aguacatal (0085)","R","Tampacán (038)Plan Aguacatal (0085)",21.454360000000001,-98.78734,4,"*","*",1,240380085,null,null,null,{"$f":"IFERROR(VLOOKUP(CONCATENATE(B6533,D6533),Padrón_Indígenas!$A$2:$G$988,7,0),\"No\")","v":"No"}]
[24,"038","Tampacán","0096","Rancho el Diamante (0096)","R","Tampacán (038)Rancho el Diamante (0096)",21.410511,-98.724030999999997,0,0,0,0,240380096,null,null,null,{"$f":"IFERROR(VLOOKUP(CONCATENATE(B6536,D6536),Padrón_Indígenas!$A$2:$G$988,7,0),\"No\")","v":"No"}]
[24,"038","Tampacán","0115","Rancho las Flores (0115)","R","Tampacán (038)Rancho las Flores (0115)",21.435400999999999,-98.735457999999994,0,0,0,0,240380115,null,null,null,{"$f":"IFERROR(VLOOKUP(CONCATENATE(B6538,D6538),Padrón_Indígenas!$A$2:$G$988,7,0),\"No\")","v":"No"}]
[24,"038","Tampacán","0103","Sabinal (0103)","R","Tampacán (038)Sabinal (0103)",21.446216,-98.678641999999996,49,22,27,10,240380103,"SI","Muy alto","Alto",{"$f":"IFERROR(VLOOKUP(CONCATENATE(B6541,D6541),Padrón_Indígenas!$A$2:$G$988,7,0),\"No\")","v":"No"}]
[24,"038","Tampacán","0043","Santa María del Palmar (0043)","R","Tampacán (038)Santa María del Palmar (0043)",21.455886,-98.781717,82,40,42,20,240380043,"SI","Alto","Medio",{"$f":"IFERROR(VLOOKUP(CONCATENATE(B6546,D6546),Padrón_Indígenas!$A$2:$G$988,7,0),\"No\")","v":"No"}]
[24,"038","Tampacán","0112","Tampacán (0112)","R","Tampacán (038)Tampacán (0112)",21.393332999999998,-98.726944000000003,0,0,0,0,240380112,null,null,null,{"$f":"IFERROR(VLOOKUP(CONCATENATE(B6550,D6550),Padrón_Indígenas!$A$2:$G$988,7,0),\"No\")","v":"No"}]
[24,"038","Tampacán","0105","Tepetzintla (0105)","R","Tampacán (038)Tepetzintla (0105)",21.438693000000001,-98.673016000000004,167,79,88,34,240380105,"SI","Alto","Alto",{"$f":"IFERROR(VLOOKUP(CONCATENATE(B6553,D6553),Padrón_Indígenas!$A$2:$G$988,7,0),\"No\")","v":"Sí"}]
[24,"038","Tampacán","0073","Totomoxtla Dos (Huexco) (0073)","R","Tampacán (038)Totomoxtla Dos (Huexco) (0073)",21.361153999999999,-98.762631999999996,43,24,19,12,240380073,"SI","Alto","Bajo",{"$f":"IFERROR(VLOOKUP(CONCATENATE(B6557,D6557),Padrón_Indígenas!$A$2:$G$988,7,0),\"No\")","v":"Sí"}]
[24,"038","Tampacán","0072","Totomoxtla Uno (Huexco) (0072)","R","Tampacán (038)Totomoxtla Uno (Huexco) (0072)",21.366944,-98.761944,158,75,83,33,240380072,"SI","Alto","Medio",{"$f":"IFERROR(VLOOKUP(CONCATENATE(B6559,D6559),Padrón_Indígenas!$A$2:$G$988,7,0),\"No\")","v":"Sí"}]
[24,"038","Tampacán","0062","Zacapetlayo (0062)","R","Tampacán (038)Zacapetlayo (0062)",21.426797000000001,-98.719036000000003,4,"*","*",1,240380062,null,null,null,{"$f":"IFERROR(VLOOKUP(CONCATENATE(B6562,D6562),Padrón_Indígenas!$A$2:$G$988,7,0),\"No\")","v":"No"}]
[24,"039","Tampamolón_Corona","0004","Arroyo Grande (0004)","R","Tampamolón Corona (039)Arroyo Grande (0004)",21.546503999999999,-98.823888999999994,132,68,64,29,240390004,"SI","Alto","Medio",{"$f":"IFERROR(VLOOKUP(CONCATENATE(B6568,D6568),Padrón_Indígenas!$A$2:$G$988,7,0),\"No\")","v":"Sí"}]
[24,"039","Tampamolón_Corona","0005","Arroyo Seco (0005)","R","Tampamolón Corona (039)Arroyo Seco (0005)",21.570519999999998,-98.752401000000006,9,"*","*",1,240390005,"SI",null,null,{"$f":"IFERROR(VLOOKUP(CONCATENATE(B6569,D6569),Padrón_Indígenas!$A$2:$G$988,7,0),\"No\")","v":"No"}]
[24,"039","Tampamolón_Corona","0011","Cañas Frías (0011)","R","Tampamolón Corona (039)Cañas Frías (0011)",21.528979,-98.739745999999997,14,8,6,3,240390011,"SI","Muy alto","Alto",{"$f":"IFERROR(VLOOKUP(CONCATENATE(B6573,D6573),Padrón_Indígenas!$A$2:$G$988,7,0),\"No\")","v":"No"}]
[24,"039","Tampamolón_Corona","0017","Coaxocoyo (0017)","R","Tampamolón Corona (039)Coaxocoyo (0017)",21.56148,-98.874730999999997,248,121,127,50,240390017,"SI","Alto","Medio",{"$f":"IFERROR(VLOOKUP(CONCATENATE(B6577,D6577),Padrón_Indígenas!$A$2:$G$988,7,0),\"No\")","v":"Sí"}]
[24,"039","Tampamolón_Corona","0210","Comunidad Tierra Blanca (0210)","R","Tampamolón Corona (039)Comunidad Tierra Blanca (0210)",21.510293999999998,-98.722003000000001,286,143,143,61,240390210,"SI","Alto","Bajo",{"$f":"IFERROR(VLOOKUP(CONCATENATE(B6582,D6582),Padrón_Indígenas!$A$2:$G$988,7,0),\"No\")","v":"No"}]
[24,"039","Tampamolón_Corona","0179","Coyolar (El Naranjal) (0179)","R","Tampamolón Corona (039)Coyolar (El Naranjal) (0179)",21.524504,-98.719374000000002,2,"*","*",1,240390179,null,null,null,{"$f":"IFERROR(VLOOKUP(CONCATENATE(B6585,D6585),Padrón_Indígenas!$A$2:$G$988,7,0),\"No\")","v":"No"}]
[24,"039","Tampamolón_Corona","0031","Dos Piedras (0031)","R","Tampamolón Corona (039)Dos Piedras (0031)",21.559726999999999,-98.885444000000007,48,26,22,11,240390031,"SI","Muy alto","Alto",{"$f":"IFERROR(VLOOKUP(CONCATENATE(B6587,D6587),Padrón_Indígenas!$A$2:$G$988,7,0),\"No\")","v":"Sí"}]
[24,"039","Tampamolón_Corona","0007","El Bejuco (0007)","R","Tampamolón Corona (039)El Bejuco (0007)",21.508448000000001,-98.683047999999999,5,"*","*",1,240390007,"SI",null,null,{"$f":"IFERROR(VLOOKUP(CONCATENATE(B6590,D6590),Padrón_Indígenas!$A$2:$G$988,7,0),\"No\")","v":"No"}]
[24,"039","Tampamolón_Corona","0025","El Chijol (0025)","R","Tampamolón Corona (039)El Chijol (0025)",21.575627999999998,-98.855919999999998,145,66,79,27,240390025,"SI","Alto","Medio",{"$f":"IFERROR(VLOOKUP(CONCATENATE(B6596,D6596),Padrón_Indígenas!$A$2:$G$988,7,0),\"No\")","v":"Sí"}]
[24,"039","Tampamolón_Corona","0027","El Chote (0027)","R","Tampamolón Corona (039)El Chote (0027)",21.564440999999999,-98.891925000000001,20,13,7,6,240390027,"SI","Alto","Medio",{"$f":"IFERROR(VLOOKUP(CONCATENATE(B6597,D6597),Padrón_Indígenas!$A$2:$G$988,7,0),\"No\")","v":"Sí"}]
[24,"039","Tampamolón_Corona","0015","El Ciruelo (0015)","R","Tampamolón Corona (039)El Ciruelo (0015)",21.568297999999999,-98.850376999999995,55,28,27,9,240390015,"SI","Alto","Medio",{"$f":"IFERROR(VLOOKUP(CONCATENATE(B6601,D6601),Padrón_Indígenas!$A$2:$G$988,7,0),\"No\")","v":"Sí"}]
[24,"039","Tampamolón_Corona","0041","El Jabalí (0041)","R","Tampamolón Corona (039)El Jabalí (0041)",21.577902999999999,-98.782831999999999,19,8,11,4,240390041,"SI","Alto","Medio",{"$f":"IFERROR(VLOOKUP(CONCATENATE(B6605,D6605),Padrón_Indígenas!$A$2:$G$988,7,0),\"No\")","v":"No"}]
[24,"039","Tampamolón_Corona","0131","El Jopoy Uno (0131)","R","Tampamolón Corona (039)El Jopoy Uno (0131)",21.579086,-98.820812000000004,0,0,0,0,240390131,null,null,null,{"$f":"IFERROR(VLOOKUP(CONCATENATE(B6609,D6609),Padrón_Indígenas!$A$2:$G$988,7,0),\"No\")","v":"No"}]
[24,"039","Tampamolón_Corona","0146","El Lagarto (El Mirador Tres) (0146)","R","Tampamolón Corona (039)El Lagarto (El Mirador Tres) (0146)",21.488899,-98.728536000000005,22,13,9,6,240390146,"SI","Muy alto","Alto",{"$f":"IFERROR(VLOOKUP(CONCATENATE(B6610,D6610),Padrón_Indígenas!$A$2:$G$988,7,0),\"No\")","v":"No"}]
[24,"039","Tampamolón_Corona","0164","El Palmar Dos (0164)","R","Tampamolón Corona (039)El Palmar Dos (0164)",21.524044,-98.779364000000001,0,0,0,0,240390164,null,null,null,{"$f":"IFERROR(VLOOKUP(CONCATENATE(B6616,D6616),Padrón_Indígenas!$A$2:$G$988,7,0),\"No\")","v":"No"}]
[24,"039","Tampamolón_Corona","0064","El Potrero (0064)","R","Tampamolón Corona (039)El Potrero (0064)",21.515215999999999,-98.707155,10,"*","*",1,240390064,null,null,null,{"$f":"IFERROR(VLOOKUP(CONCATENATE(B6619,D6619),Padrón_Indígenas!$A$2:$G$988,7,0),\"No\")","v":"No"}]
[24,"039","Tampamolón_Corona","0067","El Puente Dos (La Curva Chica) (0067)","R","Tampamolón Corona (039)El Puente Dos (La Curva Chica) (0067)",21.567943,-98.888564000000002,26,15,11,7,240390067,"SI","Alto","Medio",{"$f":"IFERROR(VLOOKUP(CONCATENATE(B6621,D6621),Padrón_Indígenas!$A$2:$G$988,7,0),\"No\")","v":"Sí"}]
[24,"039","Tampamolón_Corona","0140","El Relicario (0140)","R","Tampamolón Corona (039)El Relicario (0140)",21.583888999999999,-98.809443999999999,30,16,14,7,240390140,"SI","Muy alto","Alto",{"$f":"IFERROR(VLOOKUP(CONCATENATE(B6624,D6624),Padrón_Indígenas!$A$2:$G$988,7,0),\"No\")","v":"No"}]
[24,"039","Tampamolón_Corona","0171","El Tigrillo (0171)","R","Tampamolón Corona (039)El Tigrillo (0171)",21.475985999999999,-98.716154000000003,0,0,0,0,240390171,"SI",null,null,{"$f":"IFERROR(VLOOKUP(CONCATENATE(B6629,D6629),Padrón_Indígenas!$A$2:$G$988,7,0),\"No\")","v":"No"}]
[24,"039","Tampamolón_Corona","0033","Flor de María (0033)","R","Tampamolón Corona (039)Flor de María (0033)",21.538688,-98.806877,14,8,6,3,240390033,"SI","Medio","Muy bajo",{"$f":"IFERROR(VLOOKUP(CONCATENATE(B6633,D6633),Padrón_Indígenas!$A$2:$G$988,7,0),\"No\")","v":"No"}]
[24,"039","Tampamolón_Corona","0186","Huajico (0186)","R","Tampamolón Corona (039)Huajico (0186)",21.521777,-98.762748000000002,9,"*","*",2,240390186,null,null,null,{"$f":"IFERROR(VLOOKUP(CONCATENATE(B6637,D6637),Padrón_Indígenas!$A$2:$G$988,7,0),\"No\")","v":"No"}]
[24,"039","Tampamolón_Corona","0191","Huerta la Laguna (0191)","R","Tampamolón Corona (039)Huerta la Laguna (0191)",21.549935000000001,-98.819986999999998,0,0,0,0,240390191,null,null,null,{"$f":"IFERROR(VLOOKUP(CONCATENATE(B6638,D6638),Padrón_Indígenas!$A$2:$G$988,7,0),\"No\")","v":"No"}]
[24,"039","Tampamolón_Corona","0059","La Palizada (0059)","R","Tampamolón Corona (039)La Palizada (0059)",21.570360000000001,-98.846734999999995,154,72,82,28,240390059,"SI","Alto","Medio",{"$f":"IFERROR(VLOOKUP(CONCATENATE(B6644,D6644),Padrón_Indígenas!$A$2:$G$988,7,0),\"No\")","v":"Sí"}]
[24,"039","Tampamolón_Corona","0111","La Tijerilla (0111)","R","Tampamolón Corona (039)La Tijerilla (0111)",21.555751000000001,-98.809742999999997,4,"*","*",1,240390111,null,null,null,{"$f":"IFERROR(VLOOKUP(CONCATENATE(B6647,D6647),Padrón_Indígenas!$A$2:$G$988,7,0),\"No\")","v":"No"}]
[24,"039","Tampamolón_Corona","0142","Las Ánimas (0142)","R","Tampamolón Corona (039)Las Ánimas (0142)",21.503671000000001,-98.748621999999997,2,"*","*",1,240390142,null,null,null,{"$f":"IFERROR(VLOOKUP(CONCATENATE(B6649,D6649),Padrón_Indígenas!$A$2:$G$988,7,0),\"No\")","v":"No"}]
[24,"039","Tampamolón_Corona","0047","Limón (0047)","R","Tampamolón Corona (039)Limón (0047)",21.564710999999999,-98.848477000000003,32,12,20,6,240390047,"SI","Alto","Medio",{"$f":"IFERROR(VLOOKUP(CONCATENATE(B6652,D6652),Padrón_Indígenas!$A$2:$G$988,7,0),\"No\")","v":"No"}]
[24,"039","Tampamolón_Corona","0048","Lomas de Tonatico (0048)","R","Tampamolón Corona (039)Lomas de Tonatico (0048)",21.506944000000001,-98.819775000000007,34,19,15,4,240390048,"SI","Alto","Medio",{"$f":"IFERROR(VLOOKUP(CONCATENATE(B6656,D6656),Padrón_Indígenas!$A$2:$G$988,7,0),\"No\")","v":"No"}]
[24,"039","Tampamolón_Corona","0050","Mancornadero (0050)","R","Tampamolón Corona (039)Mancornadero (0050)",21.546658999999998,-98.845115000000007,205,106,99,44,240390050,"SI","Alto","Medio",{"$f":"IFERROR(VLOOKUP(CONCATENATE(B6660,D6660),Padrón_Indígenas!$A$2:$G$988,7,0),\"No\")","v":"Sí"}]
[24,"039","Tampamolón_Corona","0130","Oxlom Tzijol (Los Tres Chijoles) (0130)","R","Tampamolón Corona (039)Oxlom Tzijol (Los Tres Chijoles) (0130)",21.591739,-98.829215000000005,32,11,21,7,240390130,"SI","Alto","Medio",{"$f":"IFERROR(VLOOKUP(CONCATENATE(B6665,D6665),Padrón_Indígenas!$A$2:$G$988,7,0),\"No\")","v":"No"}]
[24,"039","Tampamolón_Corona","0187","Paxquid (La Pimienta) (0187)","R","Tampamolón Corona (039)Paxquid (La Pimienta) (0187)",21.595545000000001,-98.819117000000006,71,34,37,20,240390187,"SI","Muy alto","Alto",{"$f":"IFERROR(VLOOKUP(CONCATENATE(B6668,D6668),Padrón_Indígenas!$A$2:$G$988,7,0),\"No\")","v":"Sí"}]
[24,"039","Tampamolón_Corona","0065","Pucté (0065)","R","Tampamolón Corona (039)Pucté (0065)",21.600480999999998,-98.805023000000006,247,118,129,60,240390065,"SI","Alto","Alto",{"$f":"IFERROR(VLOOKUP(CONCATENATE(B6670,D6670),Padrón_Indígenas!$A$2:$G$988,7,0),\"No\")","v":"Sí"}]
[24,"039","Tampamolón_Corona","0129","Rancho Agua Fría (0129)","R","Tampamolón Corona (039)Rancho Agua Fría (0129)",21.578336,-98.790462000000005,4,"*","*",1,240390129,null,null,null,{"$f":"IFERROR(VLOOKUP(CONCATENATE(B6673,D6673),Padrón_Indígenas!$A$2:$G$988,7,0),\"No\")","v":"No"}]
[24,"039","Tampamolón_Corona","0168","Rancho Flor de María (0168)","R","Tampamolón Corona (039)Rancho Flor de María (0168)",21.548611000000001,-98.816666999999995,0,0,0,0,240390168,null,null,null,{"$f":"IFERROR(VLOOKUP(CONCATENATE(B6679,D6679),Padrón_Indígenas!$A$2:$G$988,7,0),\"No\")","v":"No"}]
[24,"039","Tampamolón_Corona","0147","Rancho la Bolsa (0147)","R","Tampamolón Corona (039)Rancho la Bolsa (0147)",21.575841,-98.784957000000006,16,8,8,3,240390147,"SI","Alto","Medio",{"$f":"IFERROR(VLOOKUP(CONCATENATE(B6681,D6681),Padrón_Indígenas!$A$2:$G$988,7,0),\"No\")","v":"No"}]
[24,"039","Tampamolón_Corona","0110","Rancho la Peña (0110)","R","Tampamolón Corona (039)Rancho la Peña (0110)",21.562035999999999,-98.806738999999993,10,4,6,3,240390110,"SI","Muy alto","Medio",{"$f":"IFERROR(VLOOKUP(CONCATENATE(B6684,D6684),Padrón_Indígenas!$A$2:$G$988,7,0),\"No\")","v":"No"}]
[24,"039","Tampamolón_Corona","0128","Rancho Primer Paso (0128)","R","Tampamolón Corona (039)Rancho Primer Paso (0128)",21.565332999999999,-98.827916000000002,0,0,0,0,240390128,null,null,null,{"$f":"IFERROR(VLOOKUP(CONCATENATE(B6688,D6688),Padrón_Indígenas!$A$2:$G$988,7,0),\"No\")","v":"No"}]
[24,"039","Tampamolón_Corona","0099","Rancho Tonatico (0099)","R","Tampamolón Corona (039)Rancho Tonatico (0099)",21.494900000000001,-98.803393,22,12,10,3,240390099,"SI","Muy alto","Alto",{"$f":"IFERROR(VLOOKUP(CONCATENATE(B6693,D6693),Padrón_Indígenas!$A$2:$G$988,7,0),\"No\")","v":"No"}]
[24,"039","Tampamolón_Corona","0076","Río Florido (0076)","R","Tampamolón Corona (039)Río Florido (0076)",21.549191,-98.806853000000004,324,156,168,76,240390076,"SI","Alto","Medio",{"$f":"IFERROR(VLOOKUP(CONCATENATE(B6696,D6696),Padrón_Indígenas!$A$2:$G$988,7,0),\"No\")","v":"Sí"}]
[24,"039","Tampamolón_Corona","0079","San José (0079)","R","Tampamolón Corona (039)San José (0079)",21.521304000000001,-98.711719000000002,13,3,10,3,240390079,"SI","Muy alto","Alto",{"$f":"IFERROR(VLOOKUP(CONCATENATE(B6699,D6699),Padrón_Indígenas!$A$2:$G$988,7,0),\"No\")","v":"No"}]
[24,"039","Tampamolón_Corona","0080","San Miguel (0080)","R","Tampamolón Corona (039)San Miguel (0080)",21.580586,-98.709280000000007,0,0,0,0,240390080,null,null,null,{"$f":"IFERROR(VLOOKUP(CONCATENATE(B6702,D6702),Padrón_Indígenas!$A$2:$G$988,7,0),\"No\")","v":"No"}]
[24,"039","Tampamolón_Corona","0084","Santa Anita (0084)","R","Tampamolón Corona (039)Santa Anita (0084)",21.571726999999999,-98.801713000000007,12,5,7,3,240390084,"SI","Medio","Bajo",{"$f":"IFERROR(VLOOKUP(CONCATENATE(B6704,D6704),Padrón_Indígenas!$A$2:$G$988,7,0),\"No\")","v":"No"}]
[24,"039","Tampamolón_Corona","0085","Santa Gertrudis (0085)","R","Tampamolón Corona (039)Santa Gertrudis (0085)",21.542708999999999,-98.682884999999999,17,11,6,3,240390085,null,"Alto","Bajo",{"$f":"IFERROR(VLOOKUP(CONCATENATE(B6707,D6707),Padrón_Indígenas!$A$2:$G$988,7,0),\"No\")","v":"No"}]
[24,"039","Tampamolón_Corona","0087","Santa María del Socorro (0087)","R","Tampamolón Corona (039)Santa María del Socorro (0087)",21.572465999999999,-98.756557000000001,0,0,0,0,240390087,null,null,null,{"$f":"IFERROR(VLOOKUP(CONCATENATE(B6712,D6712),Padrón_Indígenas!$A$2:$G$988,7,0),\"No\")","v":"No"}]
[24,"039","Tampamolón_Corona","0170","Tamazuchet (El Choven) (0170)","R","Tampamolón Corona (039)Tamazuchet (El Choven) (0170)",21.516325999999999,-98.736763999999994,11,"*","*",2,240390170,"SI",null,null,{"$f":"IFERROR(VLOOKUP(CONCATENATE(B6716,D6716),Padrón_Indígenas!$A$2:$G$988,7,0),\"No\")","v":"No"}]
[24,"039","Tampamolón_Corona","0116","Tantuite (0116)","R","Tampamolón Corona (039)Tantuite (0116)",21.575925999999999,-98.723398000000003,0,0,0,0,240390116,null,null,null,{"$f":"IFERROR(VLOOKUP(CONCATENATE(B6720,D6720),Padrón_Indígenas!$A$2:$G$988,7,0),\"No\")","v":"No"}]
[24,"039","Tampamolón_Corona","0094","Tayab Tzén (0094)","R","Tampamolón Corona (039)Tayab Tzén (0094)",21.641544,-98.805513000000005,227,118,109,42,240390094,"SI","Alto","Medio",{"$f":"IFERROR(VLOOKUP(CONCATENATE(B6721,D6721),Padrón_Indígenas!$A$2:$G$988,7,0),\"No\")","v":"Sí"}]
[24,"039","Tampamolón_Corona","0098","Tonatico (0098)","R","Tampamolón Corona (039)Tonatico (0098)",21.490722000000002,-98.812646000000001,742,381,361,175,240390098,"SI","Alto","Bajo",{"$f":"IFERROR(VLOOKUP(CONCATENATE(B6725,D6725),Padrón_Indígenas!$A$2:$G$988,7,0),\"No\")","v":"Sí"}]
[24,"039","Tampamolón_Corona","0101","Tzapuw Já (Tzapuja) (0101)","R","Tampamolón Corona (039)Tzapuw Já (Tzapuja) (0101)",21.627600999999999,-98.814290999999997,320,165,155,72,240390101,"SI","Alto","Medio",{"$f":"IFERROR(VLOOKUP(CONCATENATE(B6730,D6730),Padrón_Indígenas!$A$2:$G$988,7,0),\"No\")","v":"Sí"}]
[24,"039","Tampamolón_Corona","0122","Zacazonapan (0122)","R","Tampamolón Corona (039)Zacazonapan (0122)",21.602564999999998,-98.786738999999997,6,"*","*",2,240390122,"SI",null,null,{"$f":"IFERROR(VLOOKUP(CONCATENATE(B6732,D6732),Padrón_Indígenas!$A$2:$G$988,7,0),\"No\")","v":"No"}]
[24,"040","Tamuín","0248","Aeropuerto (0248)","R","Tamuín (040)Aeropuerto (0248)",22.045591000000002,-98.805678999999998,0,0,0,0,240400248,null,null,null,{"$f":"IFERROR(VLOOKUP(CONCATENATE(B6735,D6735),Padrón_Indígenas!$A$2:$G$988,7,0),\"No\")","v":"No"}]
[24,"040","Tamuín","0006","Antiguo Tamuín (0006)","R","Tamuín (040)Antiguo Tamuín (0006)",21.990762,-98.766661999999997,912,447,465,243,240400006,"SI","Medio","Muy bajo",{"$f":"IFERROR(VLOOKUP(CONCATENATE(B6740,D6740),Padrón_Indígenas!$A$2:$G$988,7,0),\"No\")","v":"No"}]
[24,"040","Tamuín","0609","Balcones (0609)","R","Tamuín (040)Balcones (0609)",22.254065000000001,-98.784976,2,"*","*",1,240400609,null,null,null,{"$f":"IFERROR(VLOOKUP(CONCATENATE(B6743,D6743),Padrón_Indígenas!$A$2:$G$988,7,0),\"No\")","v":"No"}]
[24,"040","Tamuín","0592","Campo Amor (0592)","R","Tamuín (040)Campo Amor (0592)",22.203893999999998,-98.765167000000005,0,0,0,0,240400592,null,null,null,{"$f":"IFERROR(VLOOKUP(CONCATENATE(B6748,D6748),Padrón_Indígenas!$A$2:$G$988,7,0),\"No\")","v":"No"}]
[24,"040","Tamuín","0619","Cardenal (0619)","R","Tamuín (040)Cardenal (0619)",21.934904,-98.881544000000005,1,"*","*",1,240400619,null,null,null,{"$f":"IFERROR(VLOOKUP(CONCATENATE(B6751,D6751),Padrón_Indígenas!$A$2:$G$988,7,0),\"No\")","v":"No"}]
[24,"040","Tamuín","0015","Casas Blancas (0015)","R","Tamuín (040)Casas Blancas (0015)",22.115092000000001,-98.579120000000003,13,6,7,4,240400015,null,"Alto","Medio",{"$f":"IFERROR(VLOOKUP(CONCATENATE(B6753,D6753),Padrón_Indígenas!$A$2:$G$988,7,0),\"No\")","v":"No"}]
[24,"040","Tamuín","0096","Cirilo Carrillo (Los Pocitos) (0096)","R","Tamuín (040)Cirilo Carrillo (Los Pocitos) (0096)",22.147962,-98.825862999999998,0,0,0,0,240400096,null,null,null,{"$f":"IFERROR(VLOOKUP(CONCATENATE(B6756,D6756),Padrón_Indígenas!$A$2:$G$988,7,0),\"No\")","v":"No"}]
[24,"040","Tamuín","0030","Cruz de Caminos (0030)","R","Tamuín (040)Cruz de Caminos (0030)",22.338647999999999,-98.843186000000003,0,0,0,0,240400030,null,null,null,{"$f":"IFERROR(VLOOKUP(CONCATENATE(B6762,D6762),Padrón_Indígenas!$A$2:$G$988,7,0),\"No\")","v":"No"}]
[24,"040","Tamuín","0856","Cuatzam (0856)","R","Tamuín (040)Cuatzam (0856)",21.984635000000001,-98.604055000000002,0,0,0,0,240400856,null,null,null,{"$f":"IFERROR(VLOOKUP(CONCATENATE(B6764,D6764),Padrón_Indígenas!$A$2:$G$988,7,0),\"No\")","v":"No"}]
[24,"040","Tamuín","0774","Don Lico (0774)","R","Tamuín (040)Don Lico (0774)",22.012616000000001,-98.565467999999996,0,0,0,0,240400774,null,null,null,{"$f":"IFERROR(VLOOKUP(CONCATENATE(B6767,D6767),Padrón_Indígenas!$A$2:$G$988,7,0),\"No\")","v":"No"}]
[24,"040","Tamuín","0263","Dos Potrillos (0263)","R","Tamuín (040)Dos Potrillos (0263)",22.278241999999999,-98.729602,2,"*","*",1,240400263,"SI",null,null,{"$f":"IFERROR(VLOOKUP(CONCATENATE(B6771,D6771),Padrón_Indígenas!$A$2:$G$988,7,0),\"No\")","v":"No"}]
[24,"040","Tamuín","0816","Ejido el Cerro (0816)","R","Tamuín (040)Ejido el Cerro (0816)",22.136389000000001,-98.674999999999997,0,0,0,0,240400816,null,null,null,{"$f":"IFERROR(VLOOKUP(CONCATENATE(B6776,D6776),Padrón_Indígenas!$A$2:$G$988,7,0),\"No\")","v":"No"}]
[24,"040","Tamuín","0634","Ejido Estación Tamuín (0634)","R","Tamuín (040)Ejido Estación Tamuín (0634)",22.154233999999999,-98.826965999999999,8,"*","*",1,240400634,null,null,null,{"$f":"IFERROR(VLOOKUP(CONCATENATE(B6779,D6779),Padrón_Indígenas!$A$2:$G$988,7,0),\"No\")","v":"No"}]
[24,"040","Tamuín","0857","Ejido Fierros Dos (0857)","R","Tamuín (040)Ejido Fierros Dos (0857)",22.106235000000002,-98.733446000000001,3,"*","*",1,240400857,null,null,null,{"$f":"IFERROR(VLOOKUP(CONCATENATE(B6781,D6781),Padrón_Indígenas!$A$2:$G$988,7,0),\"No\")","v":"No"}]
[24,"040","Tamuín","0069","Ejido la Lomita (0069)","R","Tamuín (040)Ejido la Lomita (0069)",22.075845999999999,-98.654905999999997,1,"*","*",1,240400069,null,null,null,{"$f":"IFERROR(VLOOKUP(CONCATENATE(B6784,D6784),Padrón_Indígenas!$A$2:$G$988,7,0),\"No\")","v":"No"}]
[24,"040","Tamuín","0388","Ejido Patricio Jiménez Dos (0388)","R","Tamuín (040)Ejido Patricio Jiménez Dos (0388)",22.209156,-98.838168999999994,0,0,0,0,240400388,null,null,null,{"$f":"IFERROR(VLOOKUP(CONCATENATE(B6790,D6790),Padrón_Indígenas!$A$2:$G$988,7,0),\"No\")","v":"No"}]
[24,"040","Tamuín","0637","Ejido Ruiz Cortines Tres (La Pavita) (0637)","R","Tamuín (040)Ejido Ruiz Cortines Tres (La Pavita) (0637)",22.127222,-98.550556,3,"*","*",1,240400637,null,null,null,{"$f":"IFERROR(VLOOKUP(CONCATENATE(B6792,D6792),Padrón_Indígenas!$A$2:$G$988,7,0),\"No\")","v":"Sí"}]
[24,"040","Tamuín","0460","Ejido Velazco (0460)","R","Tamuín (040)Ejido Velazco (0460)",22.184331,-98.561744000000004,320,153,167,87,240400460,"SI","Alto","Bajo",{"$f":"IFERROR(VLOOKUP(CONCATENATE(B6795,D6795),Padrón_Indígenas!$A$2:$G$988,7,0),\"No\")","v":"No"}]
[24,"040","Tamuín","0603","El Alto (0603)","R","Tamuín (040)El Alto (0603)",22.159040000000001,-98.805867000000006,0,0,0,0,240400603,null,null,null,{"$f":"IFERROR(VLOOKUP(CONCATENATE(B6799,D6799),Padrón_Indígenas!$A$2:$G$988,7,0),\"No\")","v":"No"}]
[24,"040","Tamuín","0374","El Balcón (0374)","R","Tamuín (040)El Balcón (0374)",22.0533,-98.694894000000005,1,"*","*",1,240400374,null,null,null,{"$f":"IFERROR(VLOOKUP(CONCATENATE(B6803,D6803),Padrón_Indígenas!$A$2:$G$988,7,0),\"No\")","v":"No"}]
[24,"040","Tamuín","0612","El Bejuco (0612)","R","Tamuín (040)El Bejuco (0612)",22.003017,-98.660768000000004,5,"*","*",1,240400612,null,null,null,{"$f":"IFERROR(VLOOKUP(CONCATENATE(B6804,D6804),Padrón_Indígenas!$A$2:$G$988,7,0),\"No\")","v":"No"}]
[24,"040","Tamuín","0247","El Canal (0247)","R","Tamuín (040)El Canal (0247)",22.059456000000001,-98.808082999999996,6,"*","*",2,240400247,null,null,null,{"$f":"IFERROR(VLOOKUP(CONCATENATE(B6808,D6808),Padrón_Indígenas!$A$2:$G$988,7,0),\"No\")","v":"No"}]
[24,"040","Tamuín","0012","El Caracol (0012)","R","Tamuín (040)El Caracol (0012)",21.983968999999998,-98.683244999999999,126,63,63,38,240400012,null,"Alto","Bajo",{"$f":"IFERROR(VLOOKUP(CONCATENATE(B6813,D6813),Padrón_Indígenas!$A$2:$G$988,7,0),\"No\")","v":"No"}]
[24,"040","Tamuín","0014","El Carrizal (0014)","R","Tamuín (040)El Carrizal (0014)",22.218734999999999,-98.688920999999993,0,0,0,0,240400014,null,null,null,{"$f":"IFERROR(VLOOKUP(CONCATENATE(B6815,D6815),Padrón_Indígenas!$A$2:$G$988,7,0),\"No\")","v":"No"}]
[24,"040","Tamuín","0556","El Cascabel (0556)","R","Tamuín (040)El Cascabel (0556)",22.303889000000002,-98.717222000000007,0,0,0,0,240400556,null,null,null,{"$f":"IFERROR(VLOOKUP(CONCATENATE(B6818,D6818),Padrón_Indígenas!$A$2:$G$988,7,0),\"No\")","v":"No"}]
[24,"040","Tamuín","0501","El Chicalote (0501)","R","Tamuín (040)El Chicalote (0501)",22.202221999999999,-98.838888999999995,1,"*","*",1,240400501,null,null,null,{"$f":"IFERROR(VLOOKUP(CONCATENATE(B6823,D6823),Padrón_Indígenas!$A$2:$G$988,7,0),\"No\")","v":"No"}]
[24,"040","Tamuín","0308","El Cocume (0308)","R","Tamuín (040)El Cocume (0308)",21.943611000000001,-98.732500000000002,0,0,0,0,240400308,null,null,null,{"$f":"IFERROR(VLOOKUP(CONCATENATE(B6827,D6827),Padrón_Indígenas!$A$2:$G$988,7,0),\"No\")","v":"No"}]
[24,"040","Tamuín","0251","El Cube (0251)","R","Tamuín (040)El Cube (0251)",21.981428000000001,-98.786748000000003,0,0,0,0,240400251,null,null,null,{"$f":"IFERROR(VLOOKUP(CONCATENATE(B6831,D6831),Padrón_Indígenas!$A$2:$G$988,7,0),\"No\")","v":"No"}]
[24,"040","Tamuín","0630","El Cube (0630)","R","Tamuín (040)El Cube (0630)",21.928993999999999,-98.771507,0,0,0,0,240400630,null,null,null,{"$f":"IFERROR(VLOOKUP(CONCATENATE(B6832,D6832),Padrón_Indígenas!$A$2:$G$988,7,0),\"No\")","v":"No"}]
[24,"040","Tamuín","0007","El Grullo (0007)","R","Tamuín (040)El Grullo (0007)",21.838141,-98.690235000000001,5,"*","*",1,240400007,"SI",null,null,{"$f":"IFERROR(VLOOKUP(CONCATENATE(B6836,D6836),Padrón_Indígenas!$A$2:$G$988,7,0),\"No\")","v":"No"}]
[24,"040","Tamuín","0457","El Hidalguense Uno (0457)","R","Tamuín (040)El Hidalguense Uno (0457)",22.169608,-98.536664000000002,"-","-","-","-",240400457,null,null,null,{"$f":"IFERROR(VLOOKUP(CONCATENATE(B6839,D6839),Padrón_Indígenas!$A$2:$G$988,7,0),\"No\")","v":"No"}]
[24,"040","Tamuín","0652","El Jaral (0652)","R","Tamuín (040)El Jaral (0652)",22.190964000000001,-98.813637999999997,0,0,0,0,240400652,null,null,null,{"$f":"IFERROR(VLOOKUP(CONCATENATE(B6845,D6845),Padrón_Indígenas!$A$2:$G$988,7,0),\"No\")","v":"No"}]
[24,"040","Tamuín","0067","El Limón (0067)","R","Tamuín (040)El Limón (0067)",22.185696,-98.733221999999998,0,0,0,0,240400067,null,null,null,{"$f":"IFERROR(VLOOKUP(CONCATENATE(B6847,D6847),Padrón_Indígenas!$A$2:$G$988,7,0),\"No\")","v":"No"}]
[24,"040","Tamuín","0210","El Milagro (0210)","R","Tamuín (040)El Milagro (0210)",22.059792000000002,-98.686378000000005,17,7,10,5,240400210,"SI","Alto","Bajo",{"$f":"IFERROR(VLOOKUP(CONCATENATE(B6850,D6850),Padrón_Indígenas!$A$2:$G$988,7,0),\"No\")","v":"No"}]
[24,"040","Tamuín","0510","El Murciélago (0510)","R","Tamuín (040)El Murciélago (0510)",22.319444000000001,-98.711388999999997,8,"*","*",1,240400510,"SI",null,null,{"$f":"IFERROR(VLOOKUP(CONCATENATE(B6855,D6855),Padrón_Indígenas!$A$2:$G$988,7,0),\"No\")","v":"No"}]
[24,"040","Tamuín","0300","El Palmito (0300)","R","Tamuín (040)El Palmito (0300)",22.216971000000001,-98.846728999999996,1,"*","*",1,240400300,null,null,null,{"$f":"IFERROR(VLOOKUP(CONCATENATE(B6859,D6859),Padrón_Indígenas!$A$2:$G$988,7,0),\"No\")","v":"No"}]
[24,"040","Tamuín","0849","El Paraíso (Mario Martínez Morán) (0849)","R","Tamuín (040)El Paraíso (Mario Martínez Morán) (0849)",22.168303000000002,-98.821229000000002,0,0,0,0,240400849,null,null,null,{"$f":"IFERROR(VLOOKUP(CONCATENATE(B6862,D6862),Padrón_Indígenas!$A$2:$G$988,7,0),\"No\")","v":"No"}]
[24,"040","Tamuín","0090","El Peñón (0090)","R","Tamuín (040)El Peñón (0090)",22.305700000000002,-98.881663000000003,5,"*","*",2,240400090,null,null,null,{"$f":"IFERROR(VLOOKUP(CONCATENATE(B6864,D6864),Padrón_Indígenas!$A$2:$G$988,7,0),\"No\")","v":"No"}]
[24,"040","Tamuín","0321","El Potrillo (0321)","R","Tamuín (040)El Potrillo (0321)",21.939637000000001,-98.731960000000001,0,0,0,0,240400321,null,null,null,{"$f":"IFERROR(VLOOKUP(CONCATENATE(B6867,D6867),Padrón_Indígenas!$A$2:$G$988,7,0),\"No\")","v":"No"}]
[24,"040","Tamuín","0715","El Rebane (San Felipe) (0715)","R","Tamuín (040)El Rebane (San Felipe) (0715)",21.922499999999999,-98.722499999999997,4,"*","*",1,240400715,"SI",null,null,{"$f":"IFERROR(VLOOKUP(CONCATENATE(B6873,D6873),Padrón_Indígenas!$A$2:$G$988,7,0),\"No\")","v":"No"}]
[24,"040","Tamuín","0417","El Retiro (0417)","R","Tamuín (040)El Retiro (0417)",22.083888999999999,-98.809721999999994,2,"*","*",1,240400417,null,null,null,{"$f":"IFERROR(VLOOKUP(CONCATENATE(B6875,D6875),Padrón_Indígenas!$A$2:$G$988,7,0),\"No\")","v":"Sí"}]
[24,"040","Tamuín","0472","El Roble (0472)","R","Tamuín (040)El Roble (0472)",22.163837000000001,-98.600639000000001,0,0,0,0,240400472,null,null,null,{"$f":"IFERROR(VLOOKUP(CONCATENATE(B6878,D6878),Padrón_Indígenas!$A$2:$G$988,7,0),\"No\")","v":"No"}]
[24,"040","Tamuín","0359","El Sacrificio (0359)","R","Tamuín (040)El Sacrificio (0359)",22.078509,-98.583393999999998,0,0,0,0,240400359,null,null,null,{"$f":"IFERROR(VLOOKUP(CONCATENATE(B6883,D6883),Padrón_Indígenas!$A$2:$G$988,7,0),\"No\")","v":"No"}]
[24,"040","Tamuín","0338","El Sauz (0338)","R","Tamuín (040)El Sauz (0338)",22.142427999999999,-98.538791000000003,0,0,0,0,240400338,null,null,null,{"$f":"IFERROR(VLOOKUP(CONCATENATE(B6886,D6886),Padrón_Indígenas!$A$2:$G$988,7,0),\"No\")","v":"No"}]
[24,"040","Tamuín","0517","El Torito (0517)","R","Tamuín (040)El Torito (0517)",22.357073,-98.870864999999995,1,"*","*",1,240400517,null,null,null,{"$f":"IFERROR(VLOOKUP(CONCATENATE(B6887,D6887),Padrón_Indígenas!$A$2:$G$988,7,0),\"No\")","v":"No"}]
[24,"040","Tamuín","0575","El Vergel (0575)","R","Tamuín (040)El Vergel (0575)",21.96828,-98.697942999999995,1,"*","*",1,240400575,null,null,null,{"$f":"IFERROR(VLOOKUP(CONCATENATE(B6891,D6891),Padrón_Indígenas!$A$2:$G$988,7,0),\"No\")","v":"No"}]
[24,"040","Tamuín","0781","Emiliano Zapata (0781)","R","Tamuín (040)Emiliano Zapata (0781)",22.172843,-98.828995000000006,708,365,343,195,240400781,"SI","Alto","Medio",{"$f":"IFERROR(VLOOKUP(CONCATENATE(B6896,D6896),Padrón_Indígenas!$A$2:$G$988,7,0),\"No\")","v":"Sí"}]
[24,"040","Tamuín","0220","Estación Celis (0220)","R","Tamuín (040)Estación Celis (0220)",22.169685000000001,-98.655013999999994,5,"*","*",1,240400220,null,null,null,{"$f":"IFERROR(VLOOKUP(CONCATENATE(B6899,D6899),Padrón_Indígenas!$A$2:$G$988,7,0),\"No\")","v":"No"}]
[24,"040","Tamuín","0839","Estación Guerrero II (0839)","R","Tamuín (040)Estación Guerrero II (0839)",22.094166999999999,-98.715833000000003,0,0,0,0,240400839,null,null,null,{"$f":"IFERROR(VLOOKUP(CONCATENATE(B6901,D6901),Padrón_Indígenas!$A$2:$G$988,7,0),\"No\")","v":"No"}]
[24,"040","Tamuín","0219","Fibracel (0219)","R","Tamuín (040)Fibracel (0219)",22.084738999999999,-98.589432000000002,3,"*","*",1,240400219,null,null,null,{"$f":"IFERROR(VLOOKUP(CONCATENATE(B6906,D6906),Padrón_Indígenas!$A$2:$G$988,7,0),\"No\")","v":"No"}]
[24,"040","Tamuín","0757","Gonzalo Carranza (0757)","R","Tamuín (040)Gonzalo Carranza (0757)",22.097981000000001,-98.734063000000006,4,"*","*",1,240400757,"SI",null,null,{"$f":"IFERROR(VLOOKUP(CONCATENATE(B6910,D6910),Padrón_Indígenas!$A$2:$G$988,7,0),\"No\")","v":"No"}]
[24,"040","Tamuín","0758","Indalecio Segura (0758)","R","Tamuín (040)Indalecio Segura (0758)",22.084167000000001,-98.743055999999996,0,0,0,0,240400758,null,null,null,{"$f":"IFERROR(VLOOKUP(CONCATENATE(B6914,D6914),Padrón_Indígenas!$A$2:$G$988,7,0),\"No\")","v":"No"}]
[24,"040","Tamuín","0785","Inés Silva (0785)","R","Tamuín (040)Inés Silva (0785)",22.022894999999998,-98.723461,3,"*","*",1,240400785,null,null,null,{"$f":"IFERROR(VLOOKUP(CONCATENATE(B6915,D6915),Padrón_Indígenas!$A$2:$G$988,7,0),\"No\")","v":"No"}]
[24,"040","Tamuín","0653","José Chávez (0653)","R","Tamuín (040)José Chávez (0653)",22.137481000000001,-98.611292000000006,0,0,0,0,240400653,null,null,null,{"$f":"IFERROR(VLOOKUP(CONCATENATE(B6919,D6919),Padrón_Indígenas!$A$2:$G$988,7,0),\"No\")","v":"No"}]
[24,"040","Tamuín","0789","José Reyes (0789)","R","Tamuín (040)José Reyes (0789)",22.059398999999999,-98.718502999999998,0,0,0,0,240400789,null,null,null,{"$f":"IFERROR(VLOOKUP(CONCATENATE(B6924,D6924),Padrón_Indígenas!$A$2:$G$988,7,0),\"No\")","v":"No"}]
[24,"040","Tamuín","0864","Juan Carlos Romero González (0864)","R","Tamuín (040)Juan Carlos Romero González (0864)",22.053961000000001,-98.838650999999999,0,0,0,0,240400864,null,null,null,{"$f":"IFERROR(VLOOKUP(CONCATENATE(B6927,D6927),Padrón_Indígenas!$A$2:$G$988,7,0),\"No\")","v":"No"}]
[24,"040","Tamuín","0791","Juan Manuel Aguilera (0791)","R","Tamuín (040)Juan Manuel Aguilera (0791)",22.091111000000001,-98.771666999999994,0,0,0,0,240400791,null,null,null,{"$f":"IFERROR(VLOOKUP(CONCATENATE(B6929,D6929),Padrón_Indígenas!$A$2:$G$988,7,0),\"No\")","v":"No"}]
[24,"040","Tamuín","0547","La Ceiba (0547)","R","Tamuín (040)La Ceiba (0547)",21.997634000000001,-98.759398000000004,0,0,0,0,240400547,null,null,null,{"$f":"IFERROR(VLOOKUP(CONCATENATE(B6934,D6934),Padrón_Indígenas!$A$2:$G$988,7,0),\"No\")","v":"No"}]
[24,"040","Tamuín","0865","La Cuchilla (0865)","R","Tamuín (040)La Cuchilla (0865)",22.166717999999999,-98.535390000000007,4,"*","*",1,240400865,"SI",null,null,{"$f":"IFERROR(VLOOKUP(CONCATENATE(B6938,D6938),Padrón_Indígenas!$A$2:$G$988,7,0),\"No\")","v":"No"}]
[24,"040","Tamuín","0413","La Espuela (0413)","R","Tamuín (040)La Espuela (0413)",22.079476,-98.809681999999995,0,0,0,0,240400413,null,null,null,{"$f":"IFERROR(VLOOKUP(CONCATENATE(B6942,D6942),Padrón_Indígenas!$A$2:$G$988,7,0),\"No\")","v":"No"}]
[24,"040","Tamuín","0292","La Estrella (0292)","R","Tamuín (040)La Estrella (0292)",22.022545000000001,-98.722716000000005,2,"*","*",1,240400292,null,null,null,{"$f":"IFERROR(VLOOKUP(CONCATENATE(B6943,D6943),Padrón_Indígenas!$A$2:$G$988,7,0),\"No\")","v":"No"}]
[24,"040","Tamuín","0054","La Gavia (0054)","R","Tamuín (040)La Gavia (0054)",22.075268000000001,-98.659452000000002,26,12,14,7,240400054,"SI","Alto","Medio",{"$f":"IFERROR(VLOOKUP(CONCATENATE(B6947,D6947),Padrón_Indígenas!$A$2:$G$988,7,0),\"No\")","v":"No"}]
[24,"040","Tamuín","0648","La Herradura Dos (0648)","R","Tamuín (040)La Herradura Dos (0648)",21.947071000000001,-98.694193999999996,0,0,0,0,240400648,null,null,null,{"$f":"IFERROR(VLOOKUP(CONCATENATE(B6950,D6950),Padrón_Indígenas!$A$2:$G$988,7,0),\"No\")","v":"No"}]
[24,"040","Tamuín","0657","La Laguna (0657)","R","Tamuín (040)La Laguna (0657)",22.032698,-98.734978999999996,0,0,0,0,240400657,null,null,null,{"$f":"IFERROR(VLOOKUP(CONCATENATE(B6956,D6956),Padrón_Indígenas!$A$2:$G$988,7,0),\"No\")","v":"No"}]
[24,"040","Tamuín","0196","La Lagunita (El Huarache) (0196)","R","Tamuín (040)La Lagunita (El Huarache) (0196)",21.912127999999999,-98.738051999999996,0,0,0,0,240400196,null,null,null,{"$f":"IFERROR(VLOOKUP(CONCATENATE(B6958,D6958),Padrón_Indígenas!$A$2:$G$988,7,0),\"No\")","v":"No"}]
[24,"040","Tamuín","0569","La Mangana (0569)","R","Tamuín (040)La Mangana (0569)",22.162272000000002,-98.766193999999999,0,0,0,0,240400569,null,null,null,{"$f":"IFERROR(VLOOKUP(CONCATENATE(B6961,D6961),Padrón_Indígenas!$A$2:$G$988,7,0),\"No\")","v":"No"}]
[24,"040","Tamuín","0396","La Noria (0396)","R","Tamuín (040)La Noria (0396)",22.308698,-98.861227999999997,6,3,3,3,240400396,null,"Muy alto","Alto",{"$f":"IFERROR(VLOOKUP(CONCATENATE(B6966,D6966),Padrón_Indígenas!$A$2:$G$988,7,0),\"No\")","v":"No"}]
[24,"040","Tamuín","0366","La Potranca (0366)","R","Tamuín (040)La Potranca (0366)",21.874721999999998,-98.762777999999997,3,"*","*",1,240400366,null,null,null,{"$f":"IFERROR(VLOOKUP(CONCATENATE(B6970,D6970),Padrón_Indígenas!$A$2:$G$988,7,0),\"No\")","v":"No"}]
[24,"040","Tamuín","0533","La Pradera (0533)","R","Tamuín (040)La Pradera (0533)",22.0913,-98.826609000000005,6,3,3,3,240400533,null,"Muy alto","Alto",{"$f":"IFERROR(VLOOKUP(CONCATENATE(B6971,D6971),Padrón_Indígenas!$A$2:$G$988,7,0),\"No\")","v":"No"}]
[24,"040","Tamuín","0807","La Puntilla (Miguel Ángel López) (0807)","R","Tamuín (040)La Puntilla (Miguel Ángel López) (0807)",21.989179,-98.778171,14,"*","*",2,240400807,null,null,null,{"$f":"IFERROR(VLOOKUP(CONCATENATE(B6975,D6975),Padrón_Indígenas!$A$2:$G$988,7,0),\"No\")","v":"No"}]
[24,"040","Tamuín","0198","La Rosita (0198)","R","Tamuín (040)La Rosita (0198)",22.063555999999998,-98.676879,7,"*","*",2,240400198,null,null,null,{"$f":"IFERROR(VLOOKUP(CONCATENATE(B6978,D6978),Padrón_Indígenas!$A$2:$G$988,7,0),\"No\")","v":"No"}]
[24,"040","Tamuín","0334","Las Alazanas (0334)","R","Tamuín (040)Las Alazanas (0334)",22.146954999999998,-98.555070999999998,0,0,0,0,240400334,null,null,null,{"$f":"IFERROR(VLOOKUP(CONCATENATE(B6982,D6982),Padrón_Indígenas!$A$2:$G$988,7,0),\"No\")","v":"No"}]
[24,"040","Tamuín","0411","Las Bugambilias (0411)","R","Tamuín (040)Las Bugambilias (0411)",22.153894999999999,-98.729375000000005,0,0,0,0,240400411,null,null,null,{"$f":"IFERROR(VLOOKUP(CONCATENATE(B6984,D6984),Padrón_Indígenas!$A$2:$G$988,7,0),\"No\")","v":"No"}]
[24,"040","Tamuín","0416","Las Torres (0416)","R","Tamuín (040)Las Torres (0416)",22.074166999999999,-98.809443999999999,0,0,0,0,240400416,null,null,null,{"$f":"IFERROR(VLOOKUP(CONCATENATE(B6990,D6990),Padrón_Indígenas!$A$2:$G$988,7,0),\"No\")","v":"No"}]
[24,"040","Tamuín","0465","Leopoldo Acosta (El Pollo) (0465)","R","Tamuín (040)Leopoldo Acosta (El Pollo) (0465)",22.143350000000002,-98.61,0,0,0,0,240400465,null,null,null,{"$f":"IFERROR(VLOOKUP(CONCATENATE(B6993,D6993),Padrón_Indígenas!$A$2:$G$988,7,0),\"No\")","v":"No"}]
[24,"040","Tamuín","0068","Loma Alta (0068)","R","Tamuín (040)Loma Alta (0068)",22.078337999999999,-98.648306000000005,202,103,99,56,240400068,"SI","Alto","Bajo",{"$f":"IFERROR(VLOOKUP(CONCATENATE(B6997,D6997),Padrón_Indígenas!$A$2:$G$988,7,0),\"No\")","v":"No"}]
[24,"040","Tamuín","0661","Loma del Palmar (0661)","R","Tamuín (040)Loma del Palmar (0661)",22.011438999999999,-98.692589999999996,354,168,186,92,240400661,"SI","Alto","Bajo",{"$f":"IFERROR(VLOOKUP(CONCATENATE(B6998,D6998),Padrón_Indígenas!$A$2:$G$988,7,0),\"No\")","v":"No"}]
[24,"040","Tamuín","0580","Los Canelos (0580)","R","Tamuín (040)Los Canelos (0580)",22.240216,-98.821405999999996,1,"*","*",1,240400580,"SI",null,null,{"$f":"IFERROR(VLOOKUP(CONCATENATE(B7002,D7002),Padrón_Indígenas!$A$2:$G$988,7,0),\"No\")","v":"No"}]
[24,"040","Tamuín","0458","Los Perros Sentados (0458)","R","Tamuín (040)Los Perros Sentados (0458)",22.178611,-98.532222000000004,4,"*","*",1,240400458,null,null,null,{"$f":"IFERROR(VLOOKUP(CONCATENATE(B7007,D7007),Padrón_Indígenas!$A$2:$G$988,7,0),\"No\")","v":"No"}]
[24,"040","Tamuín","0380","Los Toriles (0380)","R","Tamuín (040)Los Toriles (0380)",22.346281999999999,-98.898724000000001,3,"*","*",2,240400380,null,null,null,{"$f":"IFERROR(VLOOKUP(CONCATENATE(B7010,D7010),Padrón_Indígenas!$A$2:$G$988,7,0),\"No\")","v":"No"}]
[24,"040","Tamuín","0522","Los Tulipanes (Rancho Ciento Cuatro) (0522)","R","Tamuín (040)Los Tulipanes (Rancho Ciento Cuatro) (0522)",22.274664999999999,-98.856909000000002,0,0,0,0,240400522,null,null,null,{"$f":"IFERROR(VLOOKUP(CONCATENATE(B7012,D7012),Padrón_Indígenas!$A$2:$G$988,7,0),\"No\")","v":"No"}]
[24,"040","Tamuín","0383","Marmolejo (Fuente Paxs) (0383)","R","Tamuín (040)Marmolejo (Fuente Paxs) (0383)",22.23,-98.858610999999996,5,"*","*",1,240400383,"SI",null,null,{"$f":"IFERROR(VLOOKUP(CONCATENATE(B7018,D7018),Padrón_Indígenas!$A$2:$G$988,7,0),\"No\")","v":"No"}]
[24,"040","Tamuín","0796","Miguel Villanueva Montalvo (0796)","R","Tamuín (040)Miguel Villanueva Montalvo (0796)",22.093496999999999,-98.760833000000005,2,"*","*",1,240400796,null,null,null,{"$f":"IFERROR(VLOOKUP(CONCATENATE(B7021,D7021),Padrón_Indígenas!$A$2:$G$988,7,0),\"No\")","v":"No"}]
[24,"040","Tamuín","0599","Ninguno (0599)","R","Tamuín (040)Ninguno (0599)",22.13908,-98.728683000000004,8,"*","*",1,240400599,null,null,null,{"$f":"IFERROR(VLOOKUP(CONCATENATE(B7025,D7025),Padrón_Indígenas!$A$2:$G$988,7,0),\"No\")","v":"No"}]
[24,"040","Tamuín","0842","Nueva Patria (0842)","R","Tamuín (040)Nueva Patria (0842)",22.090153999999998,-98.728019000000003,2,"*","*",1,240400842,null,null,null,{"$f":"IFERROR(VLOOKUP(CONCATENATE(B7026,D7026),Padrón_Indígenas!$A$2:$G$988,7,0),\"No\")","v":"No"}]
[24,"040","Tamuín","0677","Nuevo Aserradero (0677)","R","Tamuín (040)Nuevo Aserradero (0677)",21.941585,-98.838426999999996,141,73,68,36,240400677,"SI","Alto","Bajo",{"$f":"IFERROR(VLOOKUP(CONCATENATE(B7030,D7030),Padrón_Indígenas!$A$2:$G$988,7,0),\"No\")","v":"No"}]
[24,"040","Tamuín","0798","Nuevo la Caldera (0798)","R","Tamuín (040)Nuevo la Caldera (0798)",22.175743000000001,-98.670704000000001,0,0,0,0,240400798,null,null,null,{"$f":"IFERROR(VLOOKUP(CONCATENATE(B7033,D7033),Padrón_Indígenas!$A$2:$G$988,7,0),\"No\")","v":"No"}]
[24,"040","Tamuín","0377","Peña Blanca (0377)","R","Tamuín (040)Peña Blanca (0377)",22.283016,-98.884941999999995,0,0,0,0,240400377,null,null,null,{"$f":"IFERROR(VLOOKUP(CONCATENATE(B7039,D7039),Padrón_Indígenas!$A$2:$G$988,7,0),\"No\")","v":"No"}]
[24,"040","Tamuín","0172","Piedras Chinas (0172)","R","Tamuín (040)Piedras Chinas (0172)",21.90673,-98.815843999999998,29,18,11,6,240400172,"SI","Muy alto","Alto",{"$f":"IFERROR(VLOOKUP(CONCATENATE(B7041,D7041),Padrón_Indígenas!$A$2:$G$988,7,0),\"No\")","v":"No"}]
[24,"040","Tamuín","0685","Puente Canal Ébano (0685)","R","Tamuín (040)Puente Canal Ébano (0685)",22.103881999999999,-98.600679999999997,1,"*","*",1,240400685,null,null,null,{"$f":"IFERROR(VLOOKUP(CONCATENATE(B7044,D7044),Padrón_Indígenas!$A$2:$G$988,7,0),\"No\")","v":"No"}]
[24,"040","Tamuín","0434","Rancho Bacalar (0434)","R","Tamuín (040)Rancho Bacalar (0434)",21.849755999999999,-98.762568999999999,4,"*","*",1,240400434,null,null,null,{"$f":"IFERROR(VLOOKUP(CONCATENATE(B7049,D7049),Padrón_Indígenas!$A$2:$G$988,7,0),\"No\")","v":"No"}]
[24,"040","Tamuín","0595","Rancho Ciento Seis (0595)","R","Tamuín (040)Rancho Ciento Seis (0595)",22.258687999999999,-98.850679999999997,12,4,8,3,240400595,null,"Muy alto","Alto",{"$f":"IFERROR(VLOOKUP(CONCATENATE(B7053,D7053),Padrón_Indígenas!$A$2:$G$988,7,0),\"No\")","v":"No"}]
[24,"040","Tamuín","0468","Rancho Colorines (0468)","R","Tamuín (040)Rancho Colorines (0468)",22.147462000000001,-98.669771999999995,0,0,0,0,240400468,null,null,null,{"$f":"IFERROR(VLOOKUP(CONCATENATE(B7054,D7054),Padrón_Indígenas!$A$2:$G$988,7,0),\"No\")","v":"No"}]
[24,"040","Tamuín","0834","Rancho Dos Hermanos (0834)","R","Tamuín (040)Rancho Dos Hermanos (0834)",22.011101,-98.641825999999995,1,"*","*",1,240400834,"SI",null,null,{"$f":"IFERROR(VLOOKUP(CONCATENATE(B7058,D7058),Padrón_Indígenas!$A$2:$G$988,7,0),\"No\")","v":"No"}]
[24,"040","Tamuín","0146","Rancho el Bacatete (0146)","R","Tamuín (040)Rancho el Bacatete (0146)",21.965221,-98.759737999999999,0,0,0,0,240400146,null,null,null,{"$f":"IFERROR(VLOOKUP(CONCATENATE(B7062,D7062),Padrón_Indígenas!$A$2:$G$988,7,0),\"No\")","v":"No"}]
[24,"040","Tamuín","0515","Rancho el Carmen (0515)","R","Tamuín (040)Rancho el Carmen (0515)",22.334858000000001,-98.868460999999996,6,"*","*",1,240400515,null,null,null,{"$f":"IFERROR(VLOOKUP(CONCATENATE(B7067,D7067),Padrón_Indígenas!$A$2:$G$988,7,0),\"No\")","v":"No"}]
[24,"040","Tamuín","0287","Rancho el Charquito (0287)","R","Tamuín (040)Rancho el Charquito (0287)",21.968056000000001,-98.853888999999995,2,"*","*",1,240400287,null,null,null,{"$f":"IFERROR(VLOOKUP(CONCATENATE(B7069,D7069),Padrón_Indígenas!$A$2:$G$988,7,0),\"No\")","v":"No"}]
[24,"040","Tamuín","0473","Rancho el Colorado (0473)","R","Tamuín (040)Rancho el Colorado (0473)",22.070271000000002,-98.674020999999996,0,0,0,0,240400473,null,null,null,{"$f":"IFERROR(VLOOKUP(CONCATENATE(B7072,D7072),Padrón_Indígenas!$A$2:$G$988,7,0),\"No\")","v":"No"}]
[24,"040","Tamuín","0151","Rancho el Huasteco (0151)","R","Tamuín (040)Rancho el Huasteco (0151)",22.327527,-98.761239000000003,12,"*","*",2,240400151,null,null,null,{"$f":"IFERROR(VLOOKUP(CONCATENATE(B7077,D7077),Padrón_Indígenas!$A$2:$G$988,7,0),\"No\")","v":"No"}]
[24,"040","Tamuín","0311","Rancho el Huiche Uno (0311)","R","Tamuín (040)Rancho el Huiche Uno (0311)",22.003817000000002,-98.734632000000005,0,0,0,0,240400311,null,null,null,{"$f":"IFERROR(VLOOKUP(CONCATENATE(B7080,D7080),Padrón_Indígenas!$A$2:$G$988,7,0),\"No\")","v":"No"}]
[24,"040","Tamuín","0404","Rancho el Limón (0404)","R","Tamuín (040)Rancho el Limón (0404)",22.147953999999999,-98.714189000000005,0,0,0,0,240400404,null,null,null,{"$f":"IFERROR(VLOOKUP(CONCATENATE(B7081,D7081),Padrón_Indígenas!$A$2:$G$988,7,0),\"No\")","v":"No"}]
[24,"040","Tamuín","0871","Rancho el Mezquite (José Alfredo Chávez Rendón) (0871)","R","Tamuín (040)Rancho el Mezquite (José Alfredo Chávez Rendón) (0871)",21.945468999999999,-98.850883999999994,4,"*","*",1,240400871,null,null,null,{"$f":"IFERROR(VLOOKUP(CONCATENATE(B7085,D7085),Padrón_Indígenas!$A$2:$G$988,7,0),\"No\")","v":"No"}]
[24,"040","Tamuín","0851","Rancho el Portón (José Jonguitud) (0851)","R","Tamuín (040)Rancho el Portón (José Jonguitud) (0851)",21.987100000000002,-98.762770000000003,0,0,0,0,240400851,null,null,null,{"$f":"IFERROR(VLOOKUP(CONCATENATE(B7090,D7090),Padrón_Indígenas!$A$2:$G$988,7,0),\"No\")","v":"No"}]
[24,"040","Tamuín","0480","Rancho el Progreso (0480)","R","Tamuín (040)Rancho el Progreso (0480)",21.867778000000001,-98.763056000000006,4,"*","*",1,240400480,"SI",null,null,{"$f":"IFERROR(VLOOKUP(CONCATENATE(B7093,D7093),Padrón_Indígenas!$A$2:$G$988,7,0),\"No\")","v":"No"}]
[24,"040","Tamuín","0106","Rancho el Relajo (0106)","R","Tamuín (040)Rancho el Relajo (0106)",21.970419,-98.849119999999999,1,"*","*",1,240400106,null,null,null,{"$f":"IFERROR(VLOOKUP(CONCATENATE(B7095,D7095),Padrón_Indígenas!$A$2:$G$988,7,0),\"No\")","v":"No"}]
[24,"040","Tamuín","0810","Rancho Esther (0810)","R","Tamuín (040)Rancho Esther (0810)",22.055225,-98.700376000000006,3,"*","*",1,240400810,null,null,null,{"$f":"IFERROR(VLOOKUP(CONCATENATE(B7101,D7101),Padrón_Indígenas!$A$2:$G$988,7,0),\"No\")","v":"No"}]
[24,"040","Tamuín","0053","Rancho Gargaleote (0053)","R","Tamuín (040)Rancho Gargaleote (0053)",22.002113000000001,-98.653120000000001,0,0,0,0,240400053,null,null,null,{"$f":"IFERROR(VLOOKUP(CONCATENATE(B7104,D7104),Padrón_Indígenas!$A$2:$G$988,7,0),\"No\")","v":"No"}]
[24,"040","Tamuín","0493","Rancho la Amistad (0493)","R","Tamuín (040)Rancho la Amistad (0493)",21.893056000000001,-98.702222000000006,1,"*","*",1,240400493,null,null,null,{"$f":"IFERROR(VLOOKUP(CONCATENATE(B7106,D7106),Padrón_Indígenas!$A$2:$G$988,7,0),\"No\")","v":"No"}]
[24,"040","Tamuín","0409","Rancho la Chijoloza (0409)","R","Tamuín (040)Rancho la Chijoloza (0409)",22.176390999999999,-98.682986999999997,0,0,0,0,240400409,null,null,null,{"$f":"IFERROR(VLOOKUP(CONCATENATE(B7109,D7109),Padrón_Indígenas!$A$2:$G$988,7,0),\"No\")","v":"No"}]
[24,"040","Tamuín","0536","Rancho la Esmeralda (0536)","R","Tamuín (040)Rancho la Esmeralda (0536)",22.113154000000002,-98.535777999999993,3,"*","*",1,240400536,null,null,null,{"$f":"IFERROR(VLOOKUP(CONCATENATE(B7113,D7113),Padrón_Indígenas!$A$2:$G$988,7,0),\"No\")","v":"No"}]
[24,"040","Tamuín","0059","Rancho la Herradura (0059)","R","Tamuín (040)Rancho la Herradura (0059)",21.967341000000001,-98.860816999999997,5,"*","*",1,240400059,null,null,null,{"$f":"IFERROR(VLOOKUP(CONCATENATE(B7118,D7118),Padrón_Indígenas!$A$2:$G$988,7,0),\"No\")","v":"No"}]
[24,"040","Tamuín","0874","Rancho la Ordeña (0874)","R","Tamuín (040)Rancho la Ordeña (0874)",22.105556,-98.573055999999994,1,"*","*",1,240400874,null,null,null,{"$f":"IFERROR(VLOOKUP(CONCATENATE(B7121,D7121),Padrón_Indígenas!$A$2:$G$988,7,0),\"No\")","v":"No"}]
[24,"040","Tamuín","0696","Rancho la Puntilla (0696)","R","Tamuín (040)Rancho la Puntilla (0696)",21.987120000000001,-98.780165999999994,5,"*","*",1,240400696,null,null,null,{"$f":"IFERROR(VLOOKUP(CONCATENATE(B7124,D7124),Padrón_Indígenas!$A$2:$G$988,7,0),\"No\")","v":"No"}]
[24,"040","Tamuín","0846","Rancho la Tinaja (0846)","R","Tamuín (040)Rancho la Tinaja (0846)",22.215116999999999,-98.856994999999998,4,"*","*",1,240400846,null,null,null,{"$f":"IFERROR(VLOOKUP(CONCATENATE(B7127,D7127),Padrón_Indígenas!$A$2:$G$988,7,0),\"No\")","v":"No"}]
[24,"040","Tamuín","0761","Rancho Loma Alta (0761)","R","Tamuín (040)Rancho Loma Alta (0761)",22.083145999999999,-98.648409999999998,1,"*","*",1,240400761,null,null,null,{"$f":"IFERROR(VLOOKUP(CONCATENATE(B7132,D7132),Padrón_Indígenas!$A$2:$G$988,7,0),\"No\")","v":"No"}]
[24,"040","Tamuín","0419","Rancho los Chijoles (0419)","R","Tamuín (040)Rancho los Chijoles (0419)",22.004925,-98.762147999999996,5,"*","*",1,240400419,null,null,null,{"$f":"IFERROR(VLOOKUP(CONCATENATE(B7136,D7136),Padrón_Indígenas!$A$2:$G$988,7,0),\"No\")","v":"No"}]
[24,"040","Tamuín","0701","Rancho los Ébanos (0701)","R","Tamuín (040)Rancho los Ébanos (0701)",21.894863000000001,-98.734346000000002,2,"*","*",1,240400701,null,null,null,{"$f":"IFERROR(VLOOKUP(CONCATENATE(B7137,D7137),Padrón_Indígenas!$A$2:$G$988,7,0),\"No\")","v":"No"}]
[24,"040","Tamuín","0518","Rancho los Luises (0518)","R","Tamuín (040)Rancho los Luises (0518)",22.128382999999999,-98.551122000000007,3,"*","*",1,240400518,"SI",null,null,{"$f":"IFERROR(VLOOKUP(CONCATENATE(B7141,D7141),Padrón_Indígenas!$A$2:$G$988,7,0),\"No\")","v":"No"}]
[24,"040","Tamuín","0073","Rancho Maracaibo (0073)","R","Tamuín (040)Rancho Maracaibo (0073)",22.133438999999999,-98.541357000000005,6,"*","*",2,240400073,null,null,null,{"$f":"IFERROR(VLOOKUP(CONCATENATE(B7145,D7145),Padrón_Indígenas!$A$2:$G$988,7,0),\"No\")","v":"No"}]
[24,"040","Tamuín","0509","Rancho Nuevo Número Dos (0509)","R","Tamuín (040)Rancho Nuevo Número Dos (0509)",22.251045999999999,-98.694654999999997,5,"*","*",1,240400509,null,null,null,{"$f":"IFERROR(VLOOKUP(CONCATENATE(B7150,D7150),Padrón_Indígenas!$A$2:$G$988,7,0),\"No\")","v":"No"}]
[24,"040","Tamuín","0812","Rancho Nuevo Progreso (0812)","R","Tamuín (040)Rancho Nuevo Progreso (0812)",22.139893000000001,-98.506421000000003,2,"*","*",1,240400812,null,null,null,{"$f":"IFERROR(VLOOKUP(CONCATENATE(B7152,D7152),Padrón_Indígenas!$A$2:$G$988,7,0),\"No\")","v":"No"}]
[24,"040","Tamuín","0098","Rancho Pravia (0098)","R","Tamuín (040)Rancho Pravia (0098)",22.003546,-98.706691000000006,5,"*","*",1,240400098,null,null,null,{"$f":"IFERROR(VLOOKUP(CONCATENATE(B7155,D7155),Padrón_Indígenas!$A$2:$G$988,7,0),\"No\")","v":"No"}]
[24,"040","Tamuín","0728","Rancho San Andrés (0728)","R","Tamuín (040)Rancho San Andrés (0728)",21.893889000000001,-98.876389000000003,0,0,0,0,240400728,null,null,null,{"$f":"IFERROR(VLOOKUP(CONCATENATE(B7160,D7160),Padrón_Indígenas!$A$2:$G$988,7,0),\"No\")","v":"No"}]
[24,"040","Tamuín","0115","Rancho San Jorge (0115)","R","Tamuín (040)Rancho San Jorge (0115)",22.095457,-98.622612000000004,4,"*","*",2,240400115,null,null,null,{"$f":"IFERROR(VLOOKUP(CONCATENATE(B7164,D7164),Padrón_Indígenas!$A$2:$G$988,7,0),\"No\")","v":"No"}]
[24,"040","Tamuín","0712","Rancho San Juan (0712)","R","Tamuín (040)Rancho San Juan (0712)",22.016815999999999,-98.727868000000001,0,0,0,0,240400712,null,null,null,{"$f":"IFERROR(VLOOKUP(CONCATENATE(B7165,D7165),Padrón_Indígenas!$A$2:$G$988,7,0),\"No\")","v":"No"}]
[24,"040","Tamuín","0123","Rancho Santa Fe (0123)","R","Tamuín (040)Rancho Santa Fe (0123)",21.955482,-98.792320000000004,4,"*","*",1,240400123,null,null,null,{"$f":"IFERROR(VLOOKUP(CONCATENATE(B7169,D7169),Padrón_Indígenas!$A$2:$G$988,7,0),\"No\")","v":"No"}]
[24,"040","Tamuín","0365","Rancho Tampatal (0365)","R","Tamuín (040)Rancho Tampatal (0365)",21.887898,-98.818984999999998,11,"*","*",2,240400365,"SI",null,null,{"$f":"IFERROR(VLOOKUP(CONCATENATE(B7173,D7173),Padrón_Indígenas!$A$2:$G$988,7,0),\"No\")","v":"No"}]
[24,"040","Tamuín","0364","Rancho Tarasco (0364)","R","Tamuín (040)Rancho Tarasco (0364)",22.076667,-98.620277999999999,0,0,0,0,240400364,null,null,null,{"$f":"IFERROR(VLOOKUP(CONCATENATE(B7176,D7176),Padrón_Indígenas!$A$2:$G$988,7,0),\"No\")","v":"No"}]
[24,"040","Tamuín","0336","Raya Honda (0336)","R","Tamuín (040)Raya Honda (0336)",22.137929,-98.577680999999998,5,"*","*",1,240400336,null,null,null,{"$f":"IFERROR(VLOOKUP(CONCATENATE(B7178,D7178),Padrón_Indígenas!$A$2:$G$988,7,0),\"No\")","v":"No"}]
[24,"040","Tamuín","0722","Ruiz Cortines Uno (0722)","R","Tamuín (040)Ruiz Cortines Uno (0722)",22.096352,-98.520146999999994,5,"*","*",2,240400722,"SI",null,null,{"$f":"IFERROR(VLOOKUP(CONCATENATE(B7184,D7184),Padrón_Indígenas!$A$2:$G$988,7,0),\"No\")","v":"No"}]
[24,"040","Tamuín","0474","San Felipe Dos (0474)","R","Tamuín (040)San Felipe Dos (0474)",22.219289,-98.676395999999997,0,0,0,0,240400474,null,null,null,{"$f":"IFERROR(VLOOKUP(CONCATENATE(B7187,D7187),Padrón_Indígenas!$A$2:$G$988,7,0),\"No\")","v":"No"}]
[24,"040","Tamuín","0496","San Francisco (El Ojital) (0496)","R","Tamuín (040)San Francisco (El Ojital) (0496)",21.980426999999999,-98.729551000000001,3,"*","*",1,240400496,null,null,null,{"$f":"IFERROR(VLOOKUP(CONCATENATE(B7189,D7189),Padrón_Indígenas!$A$2:$G$988,7,0),\"No\")","v":"Sí"}]
[24,"040","Tamuín","0680","San José [Cooperativa] (0680)","R","Tamuín (040)San José [Cooperativa] (0680)",22.170728,-98.801539000000005,0,0,0,0,240400680,null,null,null,{"$f":"IFERROR(VLOOKUP(CONCATENATE(B7192,D7192),Padrón_Indígenas!$A$2:$G$988,7,0),\"No\")","v":"No"}]
[24,"040","Tamuín","0412","San Juan (0412)","R","Tamuín (040)San Juan (0412)",22.162962,-98.748894000000007,0,0,0,0,240400412,null,null,null,{"$f":"IFERROR(VLOOKUP(CONCATENATE(B7196,D7196),Padrón_Indígenas!$A$2:$G$988,7,0),\"No\")","v":"No"}]
[24,"040","Tamuín","0546","Santa Bárbara (0546)","R","Tamuín (040)Santa Bárbara (0546)",21.965833,-98.868333000000007,3,"*","*",1,240400546,null,null,null,{"$f":"IFERROR(VLOOKUP(CONCATENATE(B7201,D7201),Padrón_Indígenas!$A$2:$G$988,7,0),\"No\")","v":"No"}]
[24,"040","Tamuín","0531","Santa Elena (0531)","R","Tamuín (040)Santa Elena (0531)",22.052365999999999,-98.700577999999993,0,0,0,0,240400531,null,null,null,{"$f":"IFERROR(VLOOKUP(CONCATENATE(B7204,D7204),Padrón_Indígenas!$A$2:$G$988,7,0),\"No\")","v":"No"}]
[24,"040","Tamuín","0352","Santa Fe (0352)","R","Tamuín (040)Santa Fe (0352)",22.118811999999998,-98.569106000000005,1,"*","*",1,240400352,null,null,null,{"$f":"IFERROR(VLOOKUP(CONCATENATE(B7206,D7206),Padrón_Indígenas!$A$2:$G$988,7,0),\"No\")","v":"No"}]
[24,"040","Tamuín","0397","Santa Lucía (0397)","R","Tamuín (040)Santa Lucía (0397)",22.234660000000002,-98.757062000000005,8,"*","*",1,240400397,null,null,null,{"$f":"IFERROR(VLOOKUP(CONCATENATE(B7212,D7212),Padrón_Indígenas!$A$2:$G$988,7,0),\"No\")","v":"No"}]
[24,"040","Tamuín","0218","Santa Martha (0218)","R","Tamuín (040)Santa Martha (0218)",21.864255,-98.764336999999998,0,0,0,0,240400218,null,null,null,{"$f":"IFERROR(VLOOKUP(CONCATENATE(B7215,D7215),Padrón_Indígenas!$A$2:$G$988,7,0),\"No\")","v":"No"}]
[24,"040","Tamuín","0731","Santa Martha (0731)","R","Tamuín (040)Santa Martha (0731)",21.938686000000001,-98.877601999999996,2,"*","*",1,240400731,null,null,null,{"$f":"IFERROR(VLOOKUP(CONCATENATE(B7217,D7217),Padrón_Indígenas!$A$2:$G$988,7,0),\"No\")","v":"Sí"}]
[24,"040","Tamuín","0162","Santo Domingo (0162)","R","Tamuín (040)Santo Domingo (0162)",21.994641999999999,-98.751722000000001,5,"*","*",1,240400162,null,null,null,{"$f":"IFERROR(VLOOKUP(CONCATENATE(B7220,D7220),Padrón_Indígenas!$A$2:$G$988,7,0),\"No\")","v":"No"}]
[24,"040","Tamuín","0087","Sierra Tanchipa (0087)","R","Tamuín (040)Sierra Tanchipa (0087)",22.207366,-98.839979,0,0,0,0,240400087,null,null,null,{"$f":"IFERROR(VLOOKUP(CONCATENATE(B7224,D7224),Padrón_Indígenas!$A$2:$G$988,7,0),\"No\")","v":"No"}]
[24,"040","Tamuín","0820","Solidaridad Campesina el Caudillo (0820)","R","Tamuín (040)Solidaridad Campesina el Caudillo (0820)",22.21734,-98.676848000000007,0,0,0,0,240400820,null,null,null,{"$f":"IFERROR(VLOOKUP(CONCATENATE(B7228,D7228),Padrón_Indígenas!$A$2:$G$988,7,0),\"No\")","v":"No"}]
[24,"040","Tamuín","0319","Tamohi (El Consuelo) [Zona Arqueológica] (0319)","R","Tamuín (040)Tamohi (El Consuelo) [Zona Arqueológica] (0319)",21.952802999999999,-98.749655000000004,0,0,0,0,240400319,null,null,null,{"$f":"IFERROR(VLOOKUP(CONCATENATE(B7233,D7233),Padrón_Indígenas!$A$2:$G$988,7,0),\"No\")","v":"No"}]
[24,"040","Tamuín","0427","Tampacoy (Garzas Blancas) (0427)","R","Tamuín (040)Tampacoy (Garzas Blancas) (0427)",21.806277999999999,-98.760097000000002,11,"*","*",2,240400427,"SI",null,null,{"$f":"IFERROR(VLOOKUP(CONCATENATE(B7236,D7236),Padrón_Indígenas!$A$2:$G$988,7,0),\"No\")","v":"No"}]
[24,"040","Tamuín","0739","Tampacuala (Abelino Pérez) (0739)","R","Tamuín (040)Tampacuala (Abelino Pérez) (0739)",22.172163000000001,-98.876288000000002,4,"*","*",2,240400739,"SI",null,null,{"$f":"IFERROR(VLOOKUP(CONCATENATE(B7238,D7238),Padrón_Indígenas!$A$2:$G$988,7,0),\"No\")","v":"No"}]
[24,"040","Tamuín","0741","Taninul [Hotel] (0741)","R","Tamuín (040)Taninul [Hotel] (0741)",21.936810000000001,-98.888941000000003,0,0,0,0,240400741,null,null,null,{"$f":"IFERROR(VLOOKUP(CONCATENATE(B7243,D7243),Padrón_Indígenas!$A$2:$G$988,7,0),\"No\")","v":"No"}]
[24,"040","Tamuín","0424","Tomasa Casas (0424)","R","Tamuín (040)Tomasa Casas (0424)",22.114713999999999,-98.738123000000002,0,0,0,0,240400424,null,null,null,{"$f":"IFERROR(VLOOKUP(CONCATENATE(B7247,D7247),Padrón_Indígenas!$A$2:$G$988,7,0),\"No\")","v":"No"}]
[24,"040","Tamuín","0776","Tres Antonios (0776)","R","Tamuín (040)Tres Antonios (0776)",21.955124000000001,-98.791212000000002,2,"*","*",1,240400776,null,null,null,{"$f":"IFERROR(VLOOKUP(CONCATENATE(B7248,D7248),Padrón_Indígenas!$A$2:$G$988,7,0),\"No\")","v":"No"}]
[24,"040","Tamuín","0431","Tres Hermanos (0431)","R","Tamuín (040)Tres Hermanos (0431)",21.807410000000001,-98.781700000000001,3,"*","*",1,240400431,null,null,null,{"$f":"IFERROR(VLOOKUP(CONCATENATE(B7252,D7252),Padrón_Indígenas!$A$2:$G$988,7,0),\"No\")","v":"No"}]
[24,"040","Tamuín","0674","Veintinueve de Octubre (0674)","R","Tamuín (040)Veintinueve de Octubre (0674)",22.184709999999999,-98.809523999999996,0,0,0,0,240400674,null,null,null,{"$f":"IFERROR(VLOOKUP(CONCATENATE(B7256,D7256),Padrón_Indígenas!$A$2:$G$988,7,0),\"No\")","v":"No"}]
[24,"040","Tamuín","0294","Vir Mary (0294)","R","Tamuín (040)Vir Mary (0294)",22.100472,-98.694568000000004,0,0,0,0,240400294,null,null,null,{"$f":"IFERROR(VLOOKUP(CONCATENATE(B7261,D7261),Padrón_Indígenas!$A$2:$G$988,7,0),\"No\")","v":"No"}]
[24,"040","Tamuín","0233","Zimapán (0233)","R","Tamuín (040)Zimapán (0233)",22.148056,-98.761667000000003,0,0,0,0,240400233,null,null,null,{"$f":"IFERROR(VLOOKUP(CONCATENATE(B7264,D7264),Padrón_Indígenas!$A$2:$G$988,7,0),\"No\")","v":"No"}]
[24,"012","Tancanhuitz","0239","Acuapichco (0239)","R","Tancanhuitz (012)Acuapichco (0239)",21.566110999999999,-98.941944000000007,50,25,25,11,240120239,"SI","Alto","Medio",{"$f":"IFERROR(VLOOKUP(CONCATENATE(B7267,D7267),Padrón_Indígenas!$A$2:$G$988,7,0),\"No\")","v":"No"}]
[24,"012","Tancanhuitz","0109","Aguacpa (0109)","R","Tancanhuitz (012)Aguacpa (0109)",21.56597,-98.927419,37,19,18,7,240120109,"SI","Alto","Medio",{"$f":"IFERROR(VLOOKUP(CONCATENATE(B7270,D7270),Padrón_Indígenas!$A$2:$G$988,7,0),\"No\")","v":"No"}]
[24,"012","Tancanhuitz","0003","Aldzulup (0003)","R","Tancanhuitz (012)Aldzulup (0003)",21.617176000000001,-98.926726000000002,345,171,174,66,240120003,"SI","Alto","Medio",{"$f":"IFERROR(VLOOKUP(CONCATENATE(B7272,D7272),Padrón_Indígenas!$A$2:$G$988,7,0),\"No\")","v":"Sí"}]
[24,"012","Tancanhuitz","0002","Alhuitot (Thimantzén) (0002)","R","Tancanhuitz (012)Alhuitot (Thimantzén) (0002)",21.623269000000001,-98.947847999999993,120,63,57,34,240120002,"SI","Alto","Medio",{"$f":"IFERROR(VLOOKUP(CONCATENATE(B7275,D7275),Padrón_Indígenas!$A$2:$G$988,7,0),\"No\")","v":"Sí"}]
[24,"012","Tancanhuitz","0115","Antonio Flores (0115)","R","Tancanhuitz (012)Antonio Flores (0115)",21.627731000000001,-98.986009999999993,0,0,0,0,240120115,null,null,null,{"$f":"IFERROR(VLOOKUP(CONCATENATE(B7280,D7280),Padrón_Indígenas!$A$2:$G$988,7,0),\"No\")","v":"No"}]
[24,"012","Tancanhuitz","0266","Atlatentle (0266)","R","Tancanhuitz (012)Atlatentle (0266)",21.563056,-98.943888999999999,7,4,3,3,240120266,"SI","Muy alto","Alto",{"$f":"IFERROR(VLOOKUP(CONCATENATE(B7284,D7284),Padrón_Indígenas!$A$2:$G$988,7,0),\"No\")","v":"No"}]
[24,"012","Tancanhuitz","0311","Barrio el Mango (0311)","R","Tancanhuitz (012)Barrio el Mango (0311)",21.591059999999999,-98.909640999999993,107,63,44,19,240120311,"SI","Muy alto","Alto",{"$f":"IFERROR(VLOOKUP(CONCATENATE(B7287,D7287),Padrón_Indígenas!$A$2:$G$988,7,0),\"No\")","v":"No"}]
[24,"012","Tancanhuitz","0313","Barrio la Laguna (0313)","R","Tancanhuitz (012)Barrio la Laguna (0313)",21.583490999999999,-98.933674999999994,52,25,27,10,240120313,"SI","Alto","Medio",{"$f":"IFERROR(VLOOKUP(CONCATENATE(B7289,D7289),Padrón_Indígenas!$A$2:$G$988,7,0),\"No\")","v":"No"}]
[24,"012","Tancanhuitz","0123","Cachiatl (0123)","R","Tancanhuitz (012)Cachiatl (0123)",21.567778000000001,-98.938889000000003,6,"*","*",1,240120123,"SI",null,null,{"$f":"IFERROR(VLOOKUP(CONCATENATE(B7295,D7295),Padrón_Indígenas!$A$2:$G$988,7,0),\"No\")","v":"No"}]
[24,"012","Tancanhuitz","0124","Cahueitetl (0124)","R","Tancanhuitz (012)Cahueitetl (0124)",21.560832999999999,-98.940556000000001,25,10,15,4,240120124,"SI","Alto","Medio",{"$f":"IFERROR(VLOOKUP(CONCATENATE(B7298,D7298),Padrón_Indígenas!$A$2:$G$988,7,0),\"No\")","v":"No"}]
[24,"012","Tancanhuitz","0127","Camanco (0127)","R","Tancanhuitz (012)Camanco (0127)",21.574635000000001,-98.927497000000002,74,34,40,15,240120127,"SI","Muy alto","Alto",{"$f":"IFERROR(VLOOKUP(CONCATENATE(B7300,D7300),Padrón_Indígenas!$A$2:$G$988,7,0),\"No\")","v":"No"}]
[24,"012","Tancanhuitz","0242","Caojtlátl (0242)","R","Tancanhuitz (012)Caojtlátl (0242)",21.562269000000001,-98.943905000000001,15,7,8,3,240120242,"SI","Alto","Alto",{"$f":"IFERROR(VLOOKUP(CONCATENATE(B7303,D7303),Padrón_Indígenas!$A$2:$G$988,7,0),\"No\")","v":"No"}]
[24,"012","Tancanhuitz","0317","Chacana (0317)","R","Tancanhuitz (012)Chacana (0317)",21.607786000000001,-98.969288000000006,3,"*","*",1,240120317,null,null,null,{"$f":"IFERROR(VLOOKUP(CONCATENATE(B7308,D7308),Padrón_Indígenas!$A$2:$G$988,7,0),\"No\")","v":"No"}]
[24,"012","Tancanhuitz","0150","Chapalamel (0150)","R","Tancanhuitz (012)Chapalamel (0150)",21.562754000000002,-98.913925000000006,132,65,67,31,240120150,"SI","Alto","Medio",{"$f":"IFERROR(VLOOKUP(CONCATENATE(B7312,D7312),Padrón_Indígenas!$A$2:$G$988,7,0),\"No\")","v":"No"}]
[24,"012","Tancanhuitz","0078","Chiltzapuyo (0078)","R","Tancanhuitz (012)Chiltzapuyo (0078)",21.583024000000002,-98.937445999999994,74,35,39,20,240120078,"SI","Alto","Medio",{"$f":"IFERROR(VLOOKUP(CONCATENATE(B7315,D7315),Padrón_Indígenas!$A$2:$G$988,7,0),\"No\")","v":"Sí"}]
[24,"012","Tancanhuitz","0156","Chuche Mom (0156)","R","Tancanhuitz (012)Chuche Mom (0156)",21.609165000000001,-98.963789000000006,18,"*","*",2,240120156,"SI",null,null,{"$f":"IFERROR(VLOOKUP(CONCATENATE(B7319,D7319),Padrón_Indígenas!$A$2:$G$988,7,0),\"No\")","v":"Sí"}]
[24,"012","Tancanhuitz","0290","Colonia Lázaro Cárdenas (0290)","R","Tancanhuitz (012)Colonia Lázaro Cárdenas (0290)",21.566389000000001,-98.943332999999996,79,41,38,15,240120290,"SI","Alto","Medio",{"$f":"IFERROR(VLOOKUP(CONCATENATE(B7321,D7321),Padrón_Indígenas!$A$2:$G$988,7,0),\"No\")","v":"No"}]
[24,"012","Tancanhuitz","0297","Copalitos (0297)","R","Tancanhuitz (012)Copalitos (0297)",21.617730999999999,-98.967393999999999,10,"*","*",2,240120297,"SI",null,null,{"$f":"IFERROR(VLOOKUP(CONCATENATE(B7324,D7324),Padrón_Indígenas!$A$2:$G$988,7,0),\"No\")","v":"No"}]
[24,"012","Tancanhuitz","0007","Cruztujub (0007)","R","Tancanhuitz (012)Cruztujub (0007)",21.635453999999999,-98.924811000000005,214,101,113,49,240120007,"SI","Alto","Medio",{"$f":"IFERROR(VLOOKUP(CONCATENATE(B7330,D7330),Padrón_Indígenas!$A$2:$G$988,7,0),\"No\")","v":"Sí"}]
[24,"012","Tancanhuitz","0143","Cuajenco Primera Sección (0143)","R","Tancanhuitz (012)Cuajenco Primera Sección (0143)",21.575828000000001,-98.954432999999995,186,85,101,45,240120143,"SI","Alto","Alto",{"$f":"IFERROR(VLOOKUP(CONCATENATE(B7331,D7331),Padrón_Indígenas!$A$2:$G$988,7,0),\"No\")","v":"Sí"}]
[24,"012","Tancanhuitz","0140","Cuashilotitla (0140)","R","Tancanhuitz (012)Cuashilotitla (0140)",21.555278000000001,-98.938333,87,41,46,16,240120140,"SI","Alto","Medio",{"$f":"IFERROR(VLOOKUP(CONCATENATE(B7335,D7335),Padrón_Indígenas!$A$2:$G$988,7,0),\"No\")","v":"No"}]
[24,"012","Tancanhuitz","0141","Cuatuchco Tuzantla (0141)","R","Tancanhuitz (012)Cuatuchco Tuzantla (0141)",21.570304,-98.911518000000001,39,22,17,11,240120141,"SI","Muy alto","Alto",{"$f":"IFERROR(VLOOKUP(CONCATENATE(B7339,D7339),Padrón_Indígenas!$A$2:$G$988,7,0),\"No\")","v":"No"}]
[24,"012","Tancanhuitz","0254","David Azuara (0254)","R","Tancanhuitz (012)David Azuara (0254)",21.649318999999998,-98.956823,13,"*","*",1,240120254,null,null,null,{"$f":"IFERROR(VLOOKUP(CONCATENATE(B7344,D7344),Padrón_Indígenas!$A$2:$G$988,7,0),\"No\")","v":"No"}]
[24,"012","Tancanhuitz","0134","Ejido la Ceiba (0134)","R","Tancanhuitz (012)Ejido la Ceiba (0134)",21.687221999999998,-98.997029999999995,127,64,63,30,240120134,"SI","Alto","Medio",{"$f":"IFERROR(VLOOKUP(CONCATENATE(B7347,D7347),Padrón_Indígenas!$A$2:$G$988,7,0),\"No\")","v":"No"}]
[24,"012","Tancanhuitz","0126","El Caliche (0126)","R","Tancanhuitz (012)El Caliche (0126)",21.596084000000001,-98.959023000000002,9,5,4,3,240120126,"SI","Alto","Medio",{"$f":"IFERROR(VLOOKUP(CONCATENATE(B7349,D7349),Padrón_Indígenas!$A$2:$G$988,7,0),\"No\")","v":"No"}]
[24,"012","Tancanhuitz","0153","El Chijol (0153)","R","Tancanhuitz (012)El Chijol (0153)",21.569368999999998,-98.888835,27,11,16,4,240120153,"SI","Muy alto","Medio",{"$f":"IFERROR(VLOOKUP(CONCATENATE(B7352,D7352),Padrón_Indígenas!$A$2:$G$988,7,0),\"No\")","v":"Sí"}]
[24,"012","Tancanhuitz","0076","El Izote (0076)","R","Tancanhuitz (012)El Izote (0076)",21.590326999999998,-98.920199999999994,27,15,12,7,240120076,"SI","Alto","Medio",{"$f":"IFERROR(VLOOKUP(CONCATENATE(B7358,D7358),Padrón_Indígenas!$A$2:$G$988,7,0),\"No\")","v":"No"}]
[24,"012","Tancanhuitz","0171","El Juk (0171)","R","Tancanhuitz (012)El Juk (0171)",21.601866000000001,-98.913819000000004,72,35,37,12,240120171,"SI","Muy alto","Alto",{"$f":"IFERROR(VLOOKUP(CONCATENATE(B7359,D7359),Padrón_Indígenas!$A$2:$G$988,7,0),\"No\")","v":"Sí"}]
[24,"012","Tancanhuitz","0035","El Paraíso (0035)","R","Tancanhuitz (012)El Paraíso (0035)",21.660423000000002,-98.976363000000006,7,"*","*",2,240120035,"SI",null,null,{"$f":"IFERROR(VLOOKUP(CONCATENATE(B7363,D7363),Padrón_Indígenas!$A$2:$G$988,7,0),\"No\")","v":"No"}]
[24,"012","Tancanhuitz","0022","El Tamarindo (Cacoyole) (0022)","R","Tancanhuitz (012)El Tamarindo (Cacoyole) (0022)",21.555955999999998,-98.937344999999993,24,12,12,7,240120022,"SI","Alto","Medio",{"$f":"IFERROR(VLOOKUP(CONCATENATE(B7367,D7367),Padrón_Indígenas!$A$2:$G$988,7,0),\"No\")","v":"Sí"}]
[24,"012","Tancanhuitz","0054","Escuayo (0054)","R","Tancanhuitz (012)Escuayo (0054)",21.579744000000002,-98.931668000000002,68,35,33,12,240120054,"SI","Alto","Alto",{"$f":"IFERROR(VLOOKUP(CONCATENATE(B7371,D7371),Padrón_Indígenas!$A$2:$G$988,7,0),\"No\")","v":"Sí"}]
[24,"012","Tancanhuitz","0079","Escuela Vieja (0079)","R","Tancanhuitz (012)Escuela Vieja (0079)",21.609164,-98.950173000000007,63,36,27,10,240120079,"SI","Alto","Medio",{"$f":"IFERROR(VLOOKUP(CONCATENATE(B7372,D7372),Padrón_Indígenas!$A$2:$G$988,7,0),\"No\")","v":"Sí"}]
[24,"012","Tancanhuitz","0088","Hac Mom (Tamaletom Segunda Sección) (0088)","R","Tancanhuitz (012)Hac Mom (Tamaletom Segunda Sección) (0088)",21.601557,-98.921672999999998,65,29,36,15,240120088,"SI","Muy alto","Alto",{"$f":"IFERROR(VLOOKUP(CONCATENATE(B7378,D7378),Padrón_Indígenas!$A$2:$G$988,7,0),\"No\")","v":"Sí"}]
[24,"012","Tancanhuitz","0241","Hueyjajco (0241)","R","Tancanhuitz (012)Hueyjajco (0241)",21.568328000000001,-98.928134,14,9,5,3,240120241,"SI","Muy alto","Alto",{"$f":"IFERROR(VLOOKUP(CONCATENATE(B7381,D7381),Padrón_Indígenas!$A$2:$G$988,7,0),\"No\")","v":"No"}]
[24,"012","Tancanhuitz","0161","Ixojátl (0161)","R","Tancanhuitz (012)Ixojátl (0161)",21.562643000000001,-98.941066000000006,44,21,23,10,240120161,"SI","Alto","Medio",{"$f":"IFERROR(VLOOKUP(CONCATENATE(B7383,D7383),Padrón_Indígenas!$A$2:$G$988,7,0),\"No\")","v":"No"}]
[24,"012","Tancanhuitz","0015","Jópoymom Primera Sección (0015)","R","Tancanhuitz (012)Jópoymom Primera Sección (0015)",21.667394999999999,-98.949915000000004,112,57,55,28,240120015,"SI","Alto","Medio",{"$f":"IFERROR(VLOOKUP(CONCATENATE(B7386,D7386),Padrón_Indígenas!$A$2:$G$988,7,0),\"No\")","v":"No"}]
[24,"012","Tancanhuitz","0147","La Chaca (0147)","R","Tancanhuitz (012)La Chaca (0147)",21.579084000000002,-98.907100999999997,20,10,10,5,240120147,"SI","Alto","Medio",{"$f":"IFERROR(VLOOKUP(CONCATENATE(B7391,D7391),Padrón_Indígenas!$A$2:$G$988,7,0),\"No\")","v":"No"}]
[24,"012","Tancanhuitz","0160","La Esperanza (0160)","R","Tancanhuitz (012)La Esperanza (0160)",21.610471,-98.985169999999997,0,0,0,0,240120160,null,null,null,{"$f":"IFERROR(VLOOKUP(CONCATENATE(B7395,D7395),Padrón_Indígenas!$A$2:$G$988,7,0),\"No\")","v":"No"}]
[24,"012","Tancanhuitz","0301","La Loma (0301)","R","Tancanhuitz (012)La Loma (0301)",21.612728000000001,-98.952737999999997,66,35,31,13,240120301,"SI","Alto","Bajo",{"$f":"IFERROR(VLOOKUP(CONCATENATE(B7399,D7399),Padrón_Indígenas!$A$2:$G$988,7,0),\"No\")","v":"No"}]
[24,"012","Tancanhuitz","0291","La Maceta (0291)","R","Tancanhuitz (012)La Maceta (0291)",21.649505999999999,-98.978560999999999,16,7,9,4,240120291,"SI","Alto","Bajo",{"$f":"IFERROR(VLOOKUP(CONCATENATE(B7400,D7400),Padrón_Indígenas!$A$2:$G$988,7,0),\"No\")","v":"No"}]
[24,"012","Tancanhuitz","0228","La Zanja (0228)","R","Tancanhuitz (012)La Zanja (0228)",21.554943000000002,-98.927378000000004,25,10,15,8,240120228,"SI","Alto","Medio",{"$f":"IFERROR(VLOOKUP(CONCATENATE(B7406,D7406),Padrón_Indígenas!$A$2:$G$988,7,0),\"No\")","v":"No"}]
[24,"012","Tancanhuitz","0245","La Zanja (Cuachenchenco) (0245)","R","Tancanhuitz (012)La Zanja (Cuachenchenco) (0245)",21.556176000000001,-98.927379999999999,10,6,4,3,240120245,"SI","Alto","Medio",{"$f":"IFERROR(VLOOKUP(CONCATENATE(B7407,D7407),Padrón_Indígenas!$A$2:$G$988,7,0),\"No\")","v":"No"}]
[24,"012","Tancanhuitz","0016","Linares (0016)","R","Tancanhuitz (012)Linares (0016)",21.660616000000001,-98.940315999999996,352,189,163,75,240120016,"SI","Alto","Medio",{"$f":"IFERROR(VLOOKUP(CONCATENATE(B7413,D7413),Padrón_Indígenas!$A$2:$G$988,7,0),\"No\")","v":"Sí"}]
[24,"012","Tancanhuitz","0303","Lomas San Joaquín (0303)","R","Tancanhuitz (012)Lomas San Joaquín (0303)",21.602903000000001,-98.965373,4,"*","*",2,240120303,null,null,null,{"$f":"IFERROR(VLOOKUP(CONCATENATE(B7415,D7415),Padrón_Indígenas!$A$2:$G$988,7,0),\"No\")","v":"No"}]
[24,"012","Tancanhuitz","0306","Los Pinolillos (Guillermo Olivo) (0306)","R","Tancanhuitz (012)Los Pinolillos (Guillermo Olivo) (0306)",21.624167,-98.978888999999995,0,0,0,0,240120306,null,null,null,{"$f":"IFERROR(VLOOKUP(CONCATENATE(B7418,D7418),Padrón_Indígenas!$A$2:$G$988,7,0),\"No\")","v":"No"}]
[24,"012","Tancanhuitz","0305","Mexcala Cuaymom (0305)","R","Tancanhuitz (012)Mexcala Cuaymom (0305)",21.581379999999999,-98.970864000000006,11,3,8,4,240120305,"SI","Muy alto","Alto",{"$f":"IFERROR(VLOOKUP(CONCATENATE(B7422,D7422),Padrón_Indígenas!$A$2:$G$988,7,0),\"No\")","v":"No"}]
[24,"012","Tancanhuitz","0279","Oxitipa (0279)","R","Tancanhuitz (012)Oxitipa (0279)",21.623650999999999,-98.990081000000004,8,"*","*",2,240120279,"SI",null,null,{"$f":"IFERROR(VLOOKUP(CONCATENATE(B7427,D7427),Padrón_Indígenas!$A$2:$G$988,7,0),\"No\")","v":"No"}]
[24,"012","Tancanhuitz","0251","Pechpechtla (0251)","R","Tancanhuitz (012)Pechpechtla (0251)",21.576042999999999,-98.909103999999999,37,21,16,6,240120251,"SI","Alto","Medio",{"$f":"IFERROR(VLOOKUP(CONCATENATE(B7430,D7430),Padrón_Indígenas!$A$2:$G$988,7,0),\"No\")","v":"No"}]
[24,"012","Tancanhuitz","0183","Pila Mom (0183)","R","Tancanhuitz (012)Pila Mom (0183)",21.608530999999999,-98.935649999999995,39,10,29,10,240120183,"SI","Alto","Medio",{"$f":"IFERROR(VLOOKUP(CONCATENATE(B7432,D7432),Padrón_Indígenas!$A$2:$G$988,7,0),\"No\")","v":"Sí"}]
[24,"012","Tancanhuitz","0188","Puyecapa (0188)","R","Tancanhuitz (012)Puyecapa (0188)",21.560278,-98.925556,23,13,10,8,240120188,"SI","Muy alto","Medio",{"$f":"IFERROR(VLOOKUP(CONCATENATE(B7435,D7435),Padrón_Indígenas!$A$2:$G$988,7,0),\"No\")","v":"No"}]
[24,"012","Tancanhuitz","0166","Rancho los Girasoles (0166)","R","Tancanhuitz (012)Rancho los Girasoles (0166)",21.603832000000001,-98.986509999999996,0,0,0,0,240120166,null,null,null,{"$f":"IFERROR(VLOOKUP(CONCATENATE(B7441,D7441),Padrón_Indígenas!$A$2:$G$988,7,0),\"No\")","v":"No"}]
[24,"012","Tancanhuitz","0280","Rancho San Isidro (0280)","R","Tancanhuitz (012)Rancho San Isidro (0280)",21.631648999999999,-98.984013000000004,5,"*","*",1,240120280,null,null,null,{"$f":"IFERROR(VLOOKUP(CONCATENATE(B7443,D7443),Padrón_Indígenas!$A$2:$G$988,7,0),\"No\")","v":"No"}]
[24,"012","Tancanhuitz","0037","San Isidro (Santo Domingo) (0037)","R","Tancanhuitz (012)San Isidro (Santo Domingo) (0037)",21.630058999999999,-98.984667000000002,22,9,13,3,240120037,"SI","Medio","Bajo",{"$f":"IFERROR(VLOOKUP(CONCATENATE(B7446,D7446),Padrón_Indígenas!$A$2:$G$988,7,0),\"No\")","v":"No"}]
[24,"012","Tancanhuitz","0197","Sholinte (0197)","R","Tancanhuitz (012)Sholinte (0197)",21.597783,-98.946485999999993,31,13,18,8,240120197,"SI","Muy alto","Medio",{"$f":"IFERROR(VLOOKUP(CONCATENATE(B7450,D7450),Padrón_Indígenas!$A$2:$G$988,7,0),\"No\")","v":"No"}]
[24,"012","Tancanhuitz","0026","Tamarindo (0026)","R","Tancanhuitz (012)Tamarindo (0026)",21.65982,-98.938488000000007,254,121,133,55,240120026,"SI","Alto","Medio",{"$f":"IFERROR(VLOOKUP(CONCATENATE(B7455,D7455),Padrón_Indígenas!$A$2:$G$988,7,0),\"No\")","v":"Sí"}]
[24,"012","Tancanhuitz","0027","Tancoltze Primera Sección (0027)","R","Tancanhuitz (012)Tancoltze Primera Sección (0027)",21.583302,-98.979095000000001,233,121,112,60,240120027,"SI","Alto","Medio",{"$f":"IFERROR(VLOOKUP(CONCATENATE(B7458,D7458),Padrón_Indígenas!$A$2:$G$988,7,0),\"No\")","v":"No"}]
[24,"012","Tancanhuitz","0244","Tecamashochio (0244)","R","Tancanhuitz (012)Tecamashochio (0244)",21.553878999999998,-98.923762999999994,9,4,5,3,240120244,"SI","Alto","Medio",{"$f":"IFERROR(VLOOKUP(CONCATENATE(B7461,D7461),Padrón_Indígenas!$A$2:$G$988,7,0),\"No\")","v":"No"}]
[24,"012","Tancanhuitz","0307","Tempexquistitla (José Eustacio Domínguez) (0307)","R","Tancanhuitz (012)Tempexquistitla (José Eustacio Domínguez) (0307)",21.58,-98.926389,26,9,17,5,240120307,"SI","Alto","Medio",{"$f":"IFERROR(VLOOKUP(CONCATENATE(B7464,D7464),Padrón_Indígenas!$A$2:$G$988,7,0),\"No\")","v":"No"}]
[24,"012","Tancanhuitz","0206","Tepetzintla (0206)","R","Tancanhuitz (012)Tepetzintla (0206)",21.568332999999999,-98.938056000000003,6,3,3,3,240120206,"SI","Muy alto","Alto",{"$f":"IFERROR(VLOOKUP(CONCATENATE(B7466,D7466),Padrón_Indígenas!$A$2:$G$988,7,0),\"No\")","v":"No"}]
[24,"012","Tancanhuitz","0209","Timel Já (0209)","R","Tancanhuitz (012)Timel Já (0209)",21.593864,-98.934545999999997,3,"*","*",1,240120209,"SI",null,null,{"$f":"IFERROR(VLOOKUP(CONCATENATE(B7469,D7469),Padrón_Indígenas!$A$2:$G$988,7,0),\"No\")","v":"No"}]
[24,"012","Tancanhuitz","0049","Tlamaya (0049)","R","Tancanhuitz (012)Tlamaya (0049)",21.555115000000001,-98.917385999999993,53,23,30,9,240120049,"SI","Alto","Medio",{"$f":"IFERROR(VLOOKUP(CONCATENATE(B7474,D7474),Padrón_Indígenas!$A$2:$G$988,7,0),\"No\")","v":"Sí"}]
[24,"012","Tancanhuitz","0286","Tlapani (Téxcatl) (0286)","R","Tancanhuitz (012)Tlapani (Téxcatl) (0286)",21.587852999999999,-98.927931000000001,25,10,15,5,240120286,"SI","Alto","Medio",{"$f":"IFERROR(VLOOKUP(CONCATENATE(B7478,D7478),Padrón_Indígenas!$A$2:$G$988,7,0),\"No\")","v":"No"}]
[24,"012","Tancanhuitz","0212","Tomás Enríquez (0212)","R","Tancanhuitz (012)Tomás Enríquez (0212)",21.623429999999999,-98.946978999999999,22,10,12,4,240120212,"SI","Alto","Bajo",{"$f":"IFERROR(VLOOKUP(CONCATENATE(B7482,D7482),Padrón_Indígenas!$A$2:$G$988,7,0),\"No\")","v":"No"}]
[24,"012","Tancanhuitz","0028","Tuzantla (0028)","R","Tancanhuitz (012)Tuzantla (0028)",21.574223,-98.913735000000003,86,44,42,19,240120028,"SI","Alto","Alto",{"$f":"IFERROR(VLOOKUP(CONCATENATE(B7483,D7483),Padrón_Indígenas!$A$2:$G$988,7,0),\"No\")","v":"Sí"}]
[24,"012","Tancanhuitz","0243","Tzajpiloco (0243)","R","Tancanhuitz (012)Tzajpiloco (0243)",21.564644000000001,-98.928364999999999,19,8,11,4,240120243,"SI","Muy alto","Medio",{"$f":"IFERROR(VLOOKUP(CONCATENATE(B7487,D7487),Padrón_Indígenas!$A$2:$G$988,7,0),\"No\")","v":"No"}]
[24,"012","Tancanhuitz","0222","Tzimpustello (0222)","R","Tancanhuitz (012)Tzimpustello (0222)",21.5825,-98.917221999999995,90,46,44,17,240120222,"SI","Muy alto","Alto",{"$f":"IFERROR(VLOOKUP(CONCATENATE(B7492,D7492),Padrón_Indígenas!$A$2:$G$988,7,0),\"No\")","v":"No"}]
[24,"012","Tancanhuitz","0223","Tzoté Mom (0223)","R","Tancanhuitz (012)Tzoté Mom (0223)",21.599551000000002,-98.936729,17,"*","*",2,240120223,"SI",null,null,{"$f":"IFERROR(VLOOKUP(CONCATENATE(B7494,D7494),Padrón_Indígenas!$A$2:$G$988,7,0),\"No\")","v":"No"}]
[24,"012","Tancanhuitz","0220","Unup Juk Tzepacab (0220)","R","Tancanhuitz (012)Unup Juk Tzepacab (0220)",21.595141999999999,-98.915824999999998,113,57,56,19,240120220,"SI","Alto","Medio",{"$f":"IFERROR(VLOOKUP(CONCATENATE(B7497,D7497),Padrón_Indígenas!$A$2:$G$988,7,0),\"No\")","v":"No"}]
[24,"012","Tancanhuitz","0287","Xoteyo (0287)","R","Tancanhuitz (012)Xoteyo (0287)",21.582765999999999,-98.929406,3,"*","*",1,240120287,"SI",null,null,{"$f":"IFERROR(VLOOKUP(CONCATENATE(B7502,D7502),Padrón_Indígenas!$A$2:$G$988,7,0),\"No\")","v":"No"}]
[24,"012","Tancanhuitz","0227","Zacapetlayo Tuzantla (0227)","R","Tancanhuitz (012)Zacapetlayo Tuzantla (0227)",21.570833,-98.925832999999997,66,34,32,11,240120227,"SI","Muy alto","Alto",{"$f":"IFERROR(VLOOKUP(CONCATENATE(B7505,D7505),Padrón_Indígenas!$A$2:$G$988,7,0),\"No\")","v":"No"}]
[24,"041","Tanlajás","0002","Aguahedionda (0002)","R","Tanlajás (041)Aguahedionda (0002)",21.728128000000002,-98.963876999999997,9,3,6,6,240410002,"SI","Alto","Medio",{"$f":"IFERROR(VLOOKUP(CONCATENATE(B7510,D7510),Padrón_Indígenas!$A$2:$G$988,7,0),\"No\")","v":"Sí"}]
[24,"041","Tanlajás","0181","Ampliación Colonia las Brisas (0181)","R","Tanlajás (041)Ampliación Colonia las Brisas (0181)",21.66949,-98.891323999999997,17,8,9,4,240410181,"SI","Muy alto","Alto",{"$f":"IFERROR(VLOOKUP(CONCATENATE(B7513,D7513),Padrón_Indígenas!$A$2:$G$988,7,0),\"No\")","v":"No"}]
[24,"041","Tanlajás","0125","Anexo Ejido Niños Héroes (0125)","R","Tanlajás (041)Anexo Ejido Niños Héroes (0125)",21.713632,-98.940968999999996,8,4,4,3,240410125,"SI","Alto","Muy bajo",{"$f":"IFERROR(VLOOKUP(CONCATENATE(B7515,D7515),Padrón_Indígenas!$A$2:$G$988,7,0),\"No\")","v":"No"}]
[24,"041","Tanlajás","0084","Arroyo Grande (0084)","R","Tanlajás (041)Arroyo Grande (0084)",21.707338,-98.869406999999995,7,"*","*",1,240410084,"SI",null,null,{"$f":"IFERROR(VLOOKUP(CONCATENATE(B7518,D7518),Padrón_Indígenas!$A$2:$G$988,7,0),\"No\")","v":"No"}]
[24,"041","Tanlajás","0176","Barrio Tocoymohom (0176)","R","Tanlajás (041)Barrio Tocoymohom (0176)",21.675267999999999,-98.898458000000005,101,48,53,21,240410176,"SI","Alto","Medio",{"$f":"IFERROR(VLOOKUP(CONCATENATE(B7524,D7524),Padrón_Indígenas!$A$2:$G$988,7,0),\"No\")","v":"Sí"}]
[24,"041","Tanlajás","0167","Concepción Nabor (0167)","R","Tanlajás (041)Concepción Nabor (0167)",21.668682,-98.826210000000003,0,0,0,0,240410167,"SI",null,null,{"$f":"IFERROR(VLOOKUP(CONCATENATE(B7526,D7526),Padrón_Indígenas!$A$2:$G$988,7,0),\"No\")","v":"No"}]
[24,"041","Tanlajás","0108","Dhokob (0108)","R","Tanlajás (041)Dhokob (0108)",21.664272,-98.910330000000002,256,122,134,62,240410108,"SI","Alto","Medio",{"$f":"IFERROR(VLOOKUP(CONCATENATE(B7529,D7529),Padrón_Indígenas!$A$2:$G$988,7,0),\"No\")","v":"Sí"}]
[24,"041","Tanlajás","0102","Ejido el Tzajib (0102)","R","Tanlajás (041)Ejido el Tzajib (0102)",21.730869999999999,-98.826941000000005,125,70,55,30,240410102,"SI","Alto","Medio",{"$f":"IFERROR(VLOOKUP(CONCATENATE(B7533,D7533),Padrón_Indígenas!$A$2:$G$988,7,0),\"No\")","v":"Sí"}]
[24,"041","Tanlajás","0030","Ejido San José Xilatzén (0030)","R","Tanlajás (041)Ejido San José Xilatzén (0030)",21.674970999999999,-98.927510999999996,1279,631,648,252,240410030,"SI","Alto","Medio",{"$f":"IFERROR(VLOOKUP(CONCATENATE(B7538,D7538),Padrón_Indígenas!$A$2:$G$988,7,0),\"No\")","v":"Sí"}]
[24,"041","Tanlajás","0074","El Canelo (0074)","R","Tanlajás (041)El Canelo (0074)",21.723406000000001,-98.805918000000005,3,"*","*",1,240410074,"SI",null,null,{"$f":"IFERROR(VLOOKUP(CONCATENATE(B7541,D7541),Padrón_Indígenas!$A$2:$G$988,7,0),\"No\")","v":"No"}]
[24,"041","Tanlajás","0082","El Chuche (0082)","R","Tanlajás (041)El Chuche (0082)",21.683391,-98.911123000000003,188,87,101,42,240410082,"SI","Alto","Medio",{"$f":"IFERROR(VLOOKUP(CONCATENATE(B7543,D7543),Padrón_Indígenas!$A$2:$G$988,7,0),\"No\")","v":"Sí"}]
[24,"041","Tanlajás","0077","El Fortín May (0077)","R","Tanlajás (041)El Fortín May (0077)",21.701041,-98.839585999999997,525,271,254,109,240410077,"SI","Alto","Medio",{"$f":"IFERROR(VLOOKUP(CONCATENATE(B7546,D7546),Padrón_Indígenas!$A$2:$G$988,7,0),\"No\")","v":"Sí"}]
[24,"041","Tanlajás","0187","El Laurel (0187)","R","Tanlajás (041)El Laurel (0187)",21.650729999999999,-98.921248000000006,"-","-","-","-",240410187,"SI",null,null,{"$f":"IFERROR(VLOOKUP(CONCATENATE(B7549,D7549),Padrón_Indígenas!$A$2:$G$988,7,0),\"No\")","v":"No"}]
[24,"041","Tanlajás","0020","El May (0020)","R","Tanlajás (041)El May (0020)",21.717420000000001,-98.833501999999996,313,183,130,78,240410020,"SI","Alto","Medio",{"$f":"IFERROR(VLOOKUP(CONCATENATE(B7552,D7552),Padrón_Indígenas!$A$2:$G$988,7,0),\"No\")","v":"Sí"}]
[24,"041","Tanlajás","0027","El Sacrificio (0027)","R","Tanlajás (041)El Sacrificio (0027)",21.683095999999999,-98.830927000000003,2,"*","*",1,240410027,null,null,null,{"$f":"IFERROR(VLOOKUP(CONCATENATE(B7557,D7557),Padrón_Indígenas!$A$2:$G$988,7,0),\"No\")","v":"No"}]
[24,"041","Tanlajás","0188","El Zapote (0188)","R","Tanlajás (041)El Zapote (0188)",21.678822,-98.906471999999994,"-","-","-","-",240410188,"SI",null,null,{"$f":"IFERROR(VLOOKUP(CONCATENATE(B7561,D7561),Padrón_Indígenas!$A$2:$G$988,7,0),\"No\")","v":"No"}]
[24,"041","Tanlajás","0113","La Azucena (0113)","R","Tanlajás (041)La Azucena (0113)",21.703918999999999,-98.939296999999996,6,"*","*",1,240410113,null,null,null,{"$f":"IFERROR(VLOOKUP(CONCATENATE(B7565,D7565),Padrón_Indígenas!$A$2:$G$988,7,0),\"No\")","v":"No"}]
[24,"041","Tanlajás","0049","La Bomba (0049)","R","Tanlajás (041)La Bomba (0049)",21.819514000000002,-98.837647000000004,3,"*","*",1,240410049,"SI",null,null,{"$f":"IFERROR(VLOOKUP(CONCATENATE(B7566,D7566),Padrón_Indígenas!$A$2:$G$988,7,0),\"No\")","v":"No"}]
[24,"041","Tanlajás","0017","La Limonaria (Tres Hermanos) (0017)","R","Tanlajás (041)La Limonaria (Tres Hermanos) (0017)",21.670755,-98.828085999999999,4,"*","*",1,240410017,"SI",null,null,{"$f":"IFERROR(VLOOKUP(CONCATENATE(B7570,D7570),Padrón_Indígenas!$A$2:$G$988,7,0),\"No\")","v":"No"}]
[24,"041","Tanlajás","0132","Las Conchas (0132)","R","Tanlajás (041)Las Conchas (0132)",21.69286,-98.814121,0,0,0,0,240410132,null,null,null,{"$f":"IFERROR(VLOOKUP(CONCATENATE(B7575,D7575),Padrón_Indígenas!$A$2:$G$988,7,0),\"No\")","v":"No"}]
[24,"041","Tanlajás","0035","Las Hadas (0035)","R","Tanlajás (041)Las Hadas (0035)",21.719514,-98.947843000000006,4,"*","*",1,240410035,null,null,null,{"$f":"IFERROR(VLOOKUP(CONCATENATE(B7577,D7577),Padrón_Indígenas!$A$2:$G$988,7,0),\"No\")","v":"No"}]
[24,"041","Tanlajás","0018","Malilija (0018)","R","Tanlajás (041)Malilija (0018)",21.737953000000001,-98.793100999999993,434,226,208,96,240410018,"SI","Alto","Medio",{"$f":"IFERROR(VLOOKUP(CONCATENATE(B7580,D7580),Padrón_Indígenas!$A$2:$G$988,7,0),\"No\")","v":"Sí"}]
[24,"041","Tanlajás","0120","Paixtzán (0120)","R","Tanlajás (041)Paixtzán (0120)",21.657389999999999,-98.923852999999994,392,193,199,87,240410120,"SI","Alto","Medio",{"$f":"IFERROR(VLOOKUP(CONCATENATE(B7585,D7585),Padrón_Indígenas!$A$2:$G$988,7,0),\"No\")","v":"Sí"}]
[24,"041","Tanlajás","0101","Pueblo Viejo (0101)","R","Tanlajás (041)Pueblo Viejo (0101)",21.725004999999999,-98.870078000000007,0,0,0,0,240410101,null,null,null,{"$f":"IFERROR(VLOOKUP(CONCATENATE(B7589,D7589),Padrón_Indígenas!$A$2:$G$988,7,0),\"No\")","v":"No"}]
[24,"041","Tanlajás","0007","Rancho Complemento Coy (0007)","R","Tanlajás (041)Rancho Complemento Coy (0007)",21.734632999999999,-98.964476000000005,0,0,0,0,240410007,null,null,null,{"$f":"IFERROR(VLOOKUP(CONCATENATE(B7593,D7593),Padrón_Indígenas!$A$2:$G$988,7,0),\"No\")","v":"No"}]
[24,"041","Tanlajás","0118","Rancho el Agualoja (0118)","R","Tanlajás (041)Rancho el Agualoja (0118)",21.680530000000001,-98.843238999999997,4,"*","*",1,240410118,null,null,null,{"$f":"IFERROR(VLOOKUP(CONCATENATE(B7594,D7594),Padrón_Indígenas!$A$2:$G$988,7,0),\"No\")","v":"No"}]
[24,"041","Tanlajás","0009","Rancho el Complemento (0009)","R","Tanlajás (041)Rancho el Complemento (0009)",21.748975999999999,-98.959553999999997,3,"*","*",1,240410009,"SI",null,null,{"$f":"IFERROR(VLOOKUP(CONCATENATE(B7598,D7598),Padrón_Indígenas!$A$2:$G$988,7,0),\"No\")","v":"No"}]
[24,"041","Tanlajás","0142","Rancho Guayajox (0142)","R","Tanlajás (041)Rancho Guayajox (0142)",21.710647000000002,-98.738445999999996,4,"*","*",1,240410142,"SI",null,null,{"$f":"IFERROR(VLOOKUP(CONCATENATE(B7601,D7601),Padrón_Indígenas!$A$2:$G$988,7,0),\"No\")","v":"No"}]
[24,"041","Tanlajás","0123","Rancho la Purísima (0123)","R","Tanlajás (041)Rancho la Purísima (0123)",21.680302999999999,-98.828196000000005,0,0,0,0,240410123,null,null,null,{"$f":"IFERROR(VLOOKUP(CONCATENATE(B7607,D7607),Padrón_Indígenas!$A$2:$G$988,7,0),\"No\")","v":"No"}]
[24,"041","Tanlajás","0184","Rancho los Cerones (0184)","R","Tanlajás (041)Rancho los Cerones (0184)",21.739702000000001,-98.883346000000003,4,"*","*",1,240410184,"SI",null,null,{"$f":"IFERROR(VLOOKUP(CONCATENATE(B7609,D7609),Padrón_Indígenas!$A$2:$G$988,7,0),\"No\")","v":"No"}]
[24,"041","Tanlajás","0179","Rancho San Carlos (0179)","R","Tanlajás (041)Rancho San Carlos (0179)",21.692122999999999,-98.919625999999994,1,"*","*",1,240410179,"SI",null,null,{"$f":"IFERROR(VLOOKUP(CONCATENATE(B7612,D7612),Padrón_Indígenas!$A$2:$G$988,7,0),\"No\")","v":"No"}]
[24,"041","Tanlajás","0150","Rancho Tzitlalli (Apiarios Arancaria) (0150)","R","Tanlajás (041)Rancho Tzitlalli (Apiarios Arancaria) (0150)",21.723357,-98.963565000000003,0,0,0,0,240410150,null,null,null,{"$f":"IFERROR(VLOOKUP(CONCATENATE(B7617,D7617),Padrón_Indígenas!$A$2:$G$988,7,0),\"No\")","v":"No"}]
[24,"041","Tanlajás","0053","San Benito (0053)","R","Tanlajás (041)San Benito (0053)",21.77852,-98.838931000000002,357,189,168,80,240410053,"SI","Alto","Medio",{"$f":"IFERROR(VLOOKUP(CONCATENATE(B7621,D7621),Padrón_Indígenas!$A$2:$G$988,7,0),\"No\")","v":"No"}]
[24,"041","Tanlajás","0057","San Fernando (0057)","R","Tanlajás (041)San Fernando (0057)",21.770443,-98.806944000000001,6,"*","*",1,240410057,null,null,null,{"$f":"IFERROR(VLOOKUP(CONCATENATE(B7624,D7624),Padrón_Indígenas!$A$2:$G$988,7,0),\"No\")","v":"No"}]
[24,"041","Tanlajás","0064","San Jorge (0064)","R","Tanlajás (041)San Jorge (0064)",21.685155999999999,-98.729673000000005,2,"*","*",1,240410064,"SI",null,null,{"$f":"IFERROR(VLOOKUP(CONCATENATE(B7626,D7626),Padrón_Indígenas!$A$2:$G$988,7,0),\"No\")","v":"No"}]
[24,"041","Tanlajás","0031","San Lorenzo (0031)","R","Tanlajás (041)San Lorenzo (0031)",21.720465999999998,-98.947051000000002,20,10,10,3,240410031,"SI","Alto","Medio",{"$f":"IFERROR(VLOOKUP(CONCATENATE(B7629,D7629),Padrón_Indígenas!$A$2:$G$988,7,0),\"No\")","v":"No"}]
[24,"041","Tanlajás","0067","San Rafael (Lote Uno) (0067)","R","Tanlajás (041)San Rafael (Lote Uno) (0067)",21.690982999999999,-98.731887,4,"*","*",1,240410067,null,null,null,{"$f":"IFERROR(VLOOKUP(CONCATENATE(B7635,D7635),Padrón_Indígenas!$A$2:$G$988,7,0),\"No\")","v":"No"}]
[24,"041","Tanlajás","0050","Santa Cliteria Uno (0050)","R","Tanlajás (041)Santa Cliteria Uno (0050)",21.809882999999999,-98.831108999999998,2,"*","*",1,240410050,null,null,null,{"$f":"IFERROR(VLOOKUP(CONCATENATE(B7637,D7637),Padrón_Indígenas!$A$2:$G$988,7,0),\"No\")","v":"No"}]
[24,"041","Tanlajás","0163","Santa Rosa (Anexo) (0163)","R","Tanlajás (041)Santa Rosa (Anexo) (0163)",21.744115000000001,-98.833421000000001,5,"*","*",1,240410163,"SI",null,null,{"$f":"IFERROR(VLOOKUP(CONCATENATE(B7640,D7640),Padrón_Indígenas!$A$2:$G$988,7,0),\"No\")","v":"No"}]
[24,"041","Tanlajás","0154","Tres Cruces (0154)","R","Tanlajás (041)Tres Cruces (0154)",21.654709,-98.890825000000007,416,211,205,79,240410154,"SI","Alto","Medio",{"$f":"IFERROR(VLOOKUP(CONCATENATE(B7645,D7645),Padrón_Indígenas!$A$2:$G$988,7,0),\"No\")","v":"Sí"}]
[24,"042","Tanquián_de_Escobedo","0058","Alto de la Cruz (0058)","R","Tanquián de Escobedo (042)Alto de la Cruz (0058)",21.62715,-98.687895999999995,38,21,17,12,240420058,"SI","Muy alto","Alto",{"$f":"IFERROR(VLOOKUP(CONCATENATE(B7648,D7648),Padrón_Indígenas!$A$2:$G$988,7,0),\"No\")","v":"No"}]
[24,"042","Tanquián_de_Escobedo","0044","Alto el Jobo (0044)","R","Tanquián de Escobedo (042)Alto el Jobo (0044)",21.573374999999999,-98.636545999999996,1,"*","*",1,240420044,"SI",null,null,{"$f":"IFERROR(VLOOKUP(CONCATENATE(B7649,D7649),Padrón_Indígenas!$A$2:$G$988,7,0),\"No\")","v":"No"}]
[24,"042","Tanquián_de_Escobedo","0004","Buenavista (0004)","R","Tanquián de Escobedo (042)Buenavista (0004)",21.652028000000001,-98.640574000000001,401,185,216,92,240420004,"SI","Medio","Bajo",{"$f":"IFERROR(VLOOKUP(CONCATENATE(B7653,D7653),Padrón_Indígenas!$A$2:$G$988,7,0),\"No\")","v":"Sí"}]
[24,"042","Tanquián_de_Escobedo","0095","Ciro Ramírez (0095)","R","Tanquián de Escobedo (042)Ciro Ramírez (0095)",21.603771999999999,-98.647146000000006,9,4,5,3,240420095,null,"Muy alto","Alto",{"$f":"IFERROR(VLOOKUP(CONCATENATE(B7658,D7658),Padrón_Indígenas!$A$2:$G$988,7,0),\"No\")","v":"No"}]
[24,"042","Tanquián_de_Escobedo","0106","Don Toño (0106)","R","Tanquián de Escobedo (042)Don Toño (0106)",21.562605999999999,-98.615855999999994,0,0,0,0,240420106,null,null,null,{"$f":"IFERROR(VLOOKUP(CONCATENATE(B7661,D7661),Padrón_Indígenas!$A$2:$G$988,7,0),\"No\")","v":"No"}]
[24,"042","Tanquián_de_Escobedo","0100","El Alto (0100)","R","Tanquián de Escobedo (042)El Alto (0100)",21.628056000000001,-98.66677,8,"*","*",1,240420100,null,null,null,{"$f":"IFERROR(VLOOKUP(CONCATENATE(B7663,D7663),Padrón_Indígenas!$A$2:$G$988,7,0),\"No\")","v":"No"}]
[24,"042","Tanquián_de_Escobedo","0126","El Brasilar [Lucio Portilla Enriquez] (0126)","R","Tanquián de Escobedo (042)El Brasilar [Lucio Portilla Enriquez] (0126)",21.605891,-98.683276000000006,"-","-","-","-",240420126,null,null,null,{"$f":"IFERROR(VLOOKUP(CONCATENATE(B7668,D7668),Padrón_Indígenas!$A$2:$G$988,7,0),\"No\")","v":"No"}]
[24,"042","Tanquián_de_Escobedo","0048","El Cheroqui (0048)","R","Tanquián de Escobedo (042)El Cheroqui (0048)",21.569241999999999,-98.628769000000005,3,"*","*",1,240420048,null,null,null,{"$f":"IFERROR(VLOOKUP(CONCATENATE(B7672,D7672),Padrón_Indígenas!$A$2:$G$988,7,0),\"No\")","v":"No"}]
[24,"042","Tanquián_de_Escobedo","0090","El Herradero [Trinidad Rangel Ahumada] (0090)","R","Tanquián de Escobedo (042)El Herradero [Trinidad Rangel Ahumada] (0090)",21.570931000000002,-98.631276,"-","-","-","-",240420090,null,null,null,{"$f":"IFERROR(VLOOKUP(CONCATENATE(B7676,D7676),Padrón_Indígenas!$A$2:$G$988,7,0),\"No\")","v":"No"}]
[24,"042","Tanquián_de_Escobedo","0127","El Jalamate [Rancho] (0127)","R","Tanquián de Escobedo (042)El Jalamate [Rancho] (0127)",21.646597,-98.658430999999993,"-","-","-","-",240420127,null,null,null,{"$f":"IFERROR(VLOOKUP(CONCATENATE(B7677,D7677),Padrón_Indígenas!$A$2:$G$988,7,0),\"No\")","v":"No"}]
[24,"042","Tanquián_de_Escobedo","0014","El Ojital (0014)","R","Tanquián de Escobedo (042)El Ojital (0014)",21.54805,-98.675213999999997,33,17,16,5,240420014,"SI","Alto","Medio",{"$f":"IFERROR(VLOOKUP(CONCATENATE(B7681,D7681),Padrón_Indígenas!$A$2:$G$988,7,0),\"No\")","v":"No"}]
[24,"042","Tanquián_de_Escobedo","0076","El Proceso (0076)","R","Tanquián de Escobedo (042)El Proceso (0076)",21.549925999999999,-98.648317000000006,0,0,0,0,240420076,null,null,null,{"$f":"IFERROR(VLOOKUP(CONCATENATE(B7686,D7686),Padrón_Indígenas!$A$2:$G$988,7,0),\"No\")","v":"No"}]
[24,"042","Tanquián_de_Escobedo","0128","El Rodeo [Rancho] (0128)","R","Tanquián de Escobedo (042)El Rodeo [Rancho] (0128)",21.596112000000002,-98.689993000000001,"-","-","-","-",240420128,"SI",null,null,{"$f":"IFERROR(VLOOKUP(CONCATENATE(B7689,D7689),Padrón_Indígenas!$A$2:$G$988,7,0),\"No\")","v":"No"}]
[24,"042","Tanquián_de_Escobedo","0024","El Tamoxín (0024)","R","Tanquián de Escobedo (042)El Tamoxín (0024)",21.571152999999999,-98.672011999999995,23,8,15,6,240420024,"SI","Alto","Medio",{"$f":"IFERROR(VLOOKUP(CONCATENATE(B7692,D7692),Padrón_Indígenas!$A$2:$G$988,7,0),\"No\")","v":"No"}]
[24,"042","Tanquián_de_Escobedo","0088","El Torito (0088)","R","Tanquián de Escobedo (042)El Torito (0088)",21.566465999999998,-98.618990999999994,7,"*","*",2,240420088,null,null,null,{"$f":"IFERROR(VLOOKUP(CONCATENATE(B7695,D7695),Padrón_Indígenas!$A$2:$G$988,7,0),\"No\")","v":"No"}]
[24,"042","Tanquián_de_Escobedo","0093","El Zocohuite Tres (0093)","R","Tanquián de Escobedo (042)El Zocohuite Tres (0093)",21.582974,-98.676826000000005,3,"*","*",1,240420093,"SI",null,null,{"$f":"IFERROR(VLOOKUP(CONCATENATE(B7700,D7700),Padrón_Indígenas!$A$2:$G$988,7,0),\"No\")","v":"No"}]
[24,"042","Tanquián_de_Escobedo","0097","Gorgonio Hernández Martínez (0097)","R","Tanquián de Escobedo (042)Gorgonio Hernández Martínez (0097)",21.611104000000001,-98.655235000000005,9,"*","*",1,240420097,null,null,null,{"$f":"IFERROR(VLOOKUP(CONCATENATE(B7704,D7704),Padrón_Indígenas!$A$2:$G$988,7,0),\"No\")","v":"No"}]
[24,"042","Tanquián_de_Escobedo","0109","Guillermo Portilla (0109)","R","Tanquián de Escobedo (042)Guillermo Portilla (0109)",21.611885000000001,-98.672663999999997,5,"*","*",1,240420109,"SI",null,null,{"$f":"IFERROR(VLOOKUP(CONCATENATE(B7705,D7705),Padrón_Indígenas!$A$2:$G$988,7,0),\"No\")","v":"No"}]
[24,"042","Tanquián_de_Escobedo","0007","La Cofradía (0007)","R","Tanquián de Escobedo (042)La Cofradía (0007)",21.567079,-98.610973000000001,17,8,9,4,240420007,"SI","Muy alto","Muy alto",{"$f":"IFERROR(VLOOKUP(CONCATENATE(B7709,D7709),Padrón_Indígenas!$A$2:$G$988,7,0),\"No\")","v":"No"}]
[24,"042","Tanquián_de_Escobedo","0029","La Finca (0029)","R","Tanquián de Escobedo (042)La Finca (0029)",21.577500000000001,-98.677499999999995,0,0,0,0,240420029,null,null,null,{"$f":"IFERROR(VLOOKUP(CONCATENATE(B7712,D7712),Padrón_Indígenas!$A$2:$G$988,7,0),\"No\")","v":"No"}]
[24,"042","Tanquián_de_Escobedo","0018","La Soledad (0018)","R","Tanquián de Escobedo (042)La Soledad (0018)",21.60013,-98.683441999999999,127,65,62,29,240420018,"SI","Alto","Bajo",{"$f":"IFERROR(VLOOKUP(CONCATENATE(B7718,D7718),Padrón_Indígenas!$A$2:$G$988,7,0),\"No\")","v":"Sí"}]
[24,"042","Tanquián_de_Escobedo","0051","Las Palomas (0051)","R","Tanquián de Escobedo (042)Las Palomas (0051)",21.586141000000001,-98.697667999999993,5,"*","*",1,240420051,null,null,null,{"$f":"IFERROR(VLOOKUP(CONCATENATE(B7720,D7720),Padrón_Indígenas!$A$2:$G$988,7,0),\"No\")","v":"No"}]
[24,"042","Tanquián_de_Escobedo","0071","Marcos Olivares (El Ranchito) (0071)","R","Tanquián de Escobedo (042)Marcos Olivares (El Ranchito) (0071)",21.534862,-98.627452000000005,9,"*","*",2,240420071,null,null,null,{"$f":"IFERROR(VLOOKUP(CONCATENATE(B7723,D7723),Padrón_Indígenas!$A$2:$G$988,7,0),\"No\")","v":"No"}]
[24,"042","Tanquián_de_Escobedo","0075","Rancho la Posada del Sediento (0075)","R","Tanquián de Escobedo (042)Rancho la Posada del Sediento (0075)",21.622357000000001,-98.648353999999998,4,"*","*",1,240420075,"SI",null,null,{"$f":"IFERROR(VLOOKUP(CONCATENATE(B7728,D7728),Padrón_Indígenas!$A$2:$G$988,7,0),\"No\")","v":"No"}]
[24,"042","Tanquián_de_Escobedo","0045","Rancho Varal (0045)","R","Tanquián de Escobedo (042)Rancho Varal (0045)",21.583666000000001,-98.703581,7,"*","*",1,240420045,null,null,null,{"$f":"IFERROR(VLOOKUP(CONCATENATE(B7732,D7732),Padrón_Indígenas!$A$2:$G$988,7,0),\"No\")","v":"No"}]
[24,"042","Tanquián_de_Escobedo","0112","Rene Meraz Gámez (0112)","R","Tanquián de Escobedo (042)Rene Meraz Gámez (0112)",21.597519999999999,-98.654568999999995,2,"*","*",1,240420112,null,null,null,{"$f":"IFERROR(VLOOKUP(CONCATENATE(B7733,D7733),Padrón_Indígenas!$A$2:$G$988,7,0),\"No\")","v":"No"}]
[24,"042","Tanquián_de_Escobedo","0120","San Gabriel (0120)","R","Tanquián de Escobedo (042)San Gabriel (0120)",21.567798,-98.626320000000007,7,"*","*",2,240420120,null,null,null,{"$f":"IFERROR(VLOOKUP(CONCATENATE(B7737,D7737),Padrón_Indígenas!$A$2:$G$988,7,0),\"No\")","v":"No"}]
[24,"042","Tanquián_de_Escobedo","0055","San Martincito (0055)","R","Tanquián de Escobedo (042)San Martincito (0055)",21.624822999999999,-98.660096999999993,44,20,24,11,240420055,"SI","Alto","Bajo",{"$f":"IFERROR(VLOOKUP(CONCATENATE(B7740,D7740),Padrón_Indígenas!$A$2:$G$988,7,0),\"No\")","v":"No"}]
[24,"042","Tanquián_de_Escobedo","0085","Santa Fe (Lupita Zúñiga) (0085)","R","Tanquián de Escobedo (042)Santa Fe (Lupita Zúñiga) (0085)",21.554867000000002,-98.665863000000002,7,"*","*",1,240420085,"SI",null,null,{"$f":"IFERROR(VLOOKUP(CONCATENATE(B7744,D7744),Padrón_Indígenas!$A$2:$G$988,7,0),\"No\")","v":"No"}]
[24,"042","Tanquián_de_Escobedo","0086","Shipanoca (0086)","R","Tanquián de Escobedo (042)Shipanoca (0086)",21.566051000000002,-98.661359000000004,0,0,0,0,240420086,null,null,null,{"$f":"IFERROR(VLOOKUP(CONCATENATE(B7746,D7746),Padrón_Indígenas!$A$2:$G$988,7,0),\"No\")","v":"No"}]
[24,"043","Tierra_Nueva","0161","Agustín López (0161)","R","Tierra Nueva (043)Agustín López (0161)",21.643027,-100.568624,0,0,0,0,240430161,null,null,null,{"$f":"IFERROR(VLOOKUP(CONCATENATE(B7752,D7752),Padrón_Indígenas!$A$2:$G$988,7,0),\"No\")","v":"No"}]
[24,"043","Tierra_Nueva","0014","Barrio la Bóveda (0014)","R","Tierra Nueva (043)Barrio la Bóveda (0014)",21.655798000000001,-100.568048,0,0,0,0,240430014,null,null,null,{"$f":"IFERROR(VLOOKUP(CONCATENATE(B7755,D7755),Padrón_Indígenas!$A$2:$G$988,7,0),\"No\")","v":"No"}]
[24,"043","Tierra_Nueva","0020","Cañada de San Juan de Abajo (0020)","R","Tierra Nueva (043)Cañada de San Juan de Abajo (0020)",21.594479,-100.49614099999999,5,"*","*",1,240430020,null,null,null,{"$f":"IFERROR(VLOOKUP(CONCATENATE(B7759,D7759),Padrón_Indígenas!$A$2:$G$988,7,0),\"No\")","v":"No"}]
[24,"043","Tierra_Nueva","0150","Cañada de San Juan de Arriba (0150)","R","Tierra Nueva (043)Cañada de San Juan de Arriba (0150)",21.587658000000001,-100.488223,15,11,4,3,240430150,null,"Muy alto","Alto",{"$f":"IFERROR(VLOOKUP(CONCATENATE(B7760,D7760),Padrón_Indígenas!$A$2:$G$988,7,0),\"No\")","v":"No"}]
[24,"043","Tierra_Nueva","0187","Cerro Blanco (0187)","R","Tierra Nueva (043)Cerro Blanco (0187)",21.636554,-100.59141099999999,0,0,0,0,240430187,null,null,null,{"$f":"IFERROR(VLOOKUP(CONCATENATE(B7764,D7764),Padrón_Indígenas!$A$2:$G$988,7,0),\"No\")","v":"No"}]
[24,"043","Tierra_Nueva","0200","Colonia Bicentenario (0200)","R","Tierra Nueva (043)Colonia Bicentenario (0200)",21.656943999999999,-100.575833,"-","-","-","-",240430200,null,null,null,{"$f":"IFERROR(VLOOKUP(CONCATENATE(B7769,D7769),Padrón_Indígenas!$A$2:$G$988,7,0),\"No\")","v":"No"}]
[24,"043","Tierra_Nueva","0011","El Ancón (0011)","R","Tierra Nueva (043)El Ancón (0011)",21.743333,-100.61583299999999,10,"*","*",2,240430011,null,null,null,{"$f":"IFERROR(VLOOKUP(CONCATENATE(B7772,D7772),Padrón_Indígenas!$A$2:$G$988,7,0),\"No\")","v":"No"}]
[24,"043","Tierra_Nueva","0195","El Corral (Juan Juárez) (0195)","R","Tierra Nueva (043)El Corral (Juan Juárez) (0195)",21.662596000000001,-100.587879,0,0,0,0,240430195,null,null,null,{"$f":"IFERROR(VLOOKUP(CONCATENATE(B7774,D7774),Padrón_Indígenas!$A$2:$G$988,7,0),\"No\")","v":"No"}]
[24,"043","Tierra_Nueva","0056","El Mezquital (0056)","R","Tierra Nueva (043)El Mezquital (0056)",21.664784000000001,-100.565495,24,12,12,4,240430056,null,"Muy alto","Alto",{"$f":"IFERROR(VLOOKUP(CONCATENATE(B7780,D7780),Padrón_Indígenas!$A$2:$G$988,7,0),\"No\")","v":"No"}]
[24,"043","Tierra_Nueva","0065","El Nogalito (0065)","R","Tierra Nueva (043)El Nogalito (0065)",21.715555999999999,-100.379722,42,20,22,9,240430065,null,"Alto","Medio",{"$f":"IFERROR(VLOOKUP(CONCATENATE(B7783,D7783),Padrón_Indígenas!$A$2:$G$988,7,0),\"No\")","v":"No"}]
[24,"043","Tierra_Nueva","0087","El Piligüe (0087)","R","Tierra Nueva (043)El Piligüe (0087)",21.569319,-100.593943,0,0,0,0,240430087,null,null,null,{"$f":"IFERROR(VLOOKUP(CONCATENATE(B7787,D7787),Padrón_Indígenas!$A$2:$G$988,7,0),\"No\")","v":"No"}]
[24,"043","Tierra_Nueva","0144","El Pino (0144)","R","Tierra Nueva (043)El Pino (0144)",21.727376,-100.39071800000001,9,"*","*",2,240430144,"SI",null,null,{"$f":"IFERROR(VLOOKUP(CONCATENATE(B7788,D7788),Padrón_Indígenas!$A$2:$G$988,7,0),\"No\")","v":"No"}]
[24,"043","Tierra_Nueva","0153","El Rincón de la Gloria (0153)","R","Tierra Nueva (043)El Rincón de la Gloria (0153)",21.550996000000001,-100.537488,6,"*","*",1,240430153,null,null,null,{"$f":"IFERROR(VLOOKUP(CONCATENATE(B7792,D7792),Padrón_Indígenas!$A$2:$G$988,7,0),\"No\")","v":"No"}]
[24,"043","Tierra_Nueva","0126","El Vallecito (0126)","R","Tierra Nueva (043)El Vallecito (0126)",21.649494000000001,-100.584749,18,11,7,5,240430126,null,"Muy alto","Alto",{"$f":"IFERROR(VLOOKUP(CONCATENATE(B7796,D7796),Padrón_Indígenas!$A$2:$G$988,7,0),\"No\")","v":"No"}]
[24,"043","Tierra_Nueva","0043","Huizachal (0043)","R","Tierra Nueva (043)Huizachal (0043)",21.684258,-100.591488,160,74,86,38,240430043,null,"Alto","Bajo",{"$f":"IFERROR(VLOOKUP(CONCATENATE(B7801,D7801),Padrón_Indígenas!$A$2:$G$988,7,0),\"No\")","v":"No"}]
[24,"043","Tierra_Nueva","0028","La Colorada (0028)","R","Tierra Nueva (043)La Colorada (0028)",21.533263000000002,-100.547707,6,"*","*",2,240430028,null,null,null,{"$f":"IFERROR(VLOOKUP(CONCATENATE(B7803,D7803),Padrón_Indígenas!$A$2:$G$988,7,0),\"No\")","v":"No"}]
[24,"043","Tierra_Nueva","0137","La Estancita (0137)","R","Tierra Nueva (043)La Estancita (0137)",21.605238,-100.538242,14,7,7,3,240430137,null,"Alto","Medio",{"$f":"IFERROR(VLOOKUP(CONCATENATE(B7806,D7806),Padrón_Indígenas!$A$2:$G$988,7,0),\"No\")","v":"No"}]
[24,"043","Tierra_Nueva","0189","La Joya (Juan Abundis Padrón) (0189)","R","Tierra Nueva (043)La Joya (Juan Abundis Padrón) (0189)",21.635107000000001,-100.471278,15,6,9,3,240430189,null,"Alto","Alto",{"$f":"IFERROR(VLOOKUP(CONCATENATE(B7811,D7811),Padrón_Indígenas!$A$2:$G$988,7,0),\"No\")","v":"No"}]
[24,"043","Tierra_Nueva","0051","La Luz (0051)","R","Tierra Nueva (043)La Luz (0051)",21.546944,-100.514444,5,"*","*",1,240430051,null,null,null,{"$f":"IFERROR(VLOOKUP(CONCATENATE(B7815,D7815),Padrón_Indígenas!$A$2:$G$988,7,0),\"No\")","v":"No"}]
[24,"043","Tierra_Nueva","0045","La Mesita del Xoconoxtle (0045)","R","Tierra Nueva (043)La Mesita del Xoconoxtle (0045)",21.704853,-100.348767,13,8,5,3,240430045,null,"Muy alto","Alto",{"$f":"IFERROR(VLOOKUP(CONCATENATE(B7816,D7816),Padrón_Indígenas!$A$2:$G$988,7,0),\"No\")","v":"No"}]
[24,"043","Tierra_Nueva","0067","La Ordeñita (0067)","R","Tierra Nueva (043)La Ordeñita (0067)",21.730619000000001,-100.398742,15,9,6,3,240430067,null,"Muy alto","Alto",{"$f":"IFERROR(VLOOKUP(CONCATENATE(B7820,D7820),Padrón_Indígenas!$A$2:$G$988,7,0),\"No\")","v":"No"}]
[24,"043","Tierra_Nueva","0168","La Providencia (La Esmeralda) (0168)","R","Tierra Nueva (043)La Providencia (La Esmeralda) (0168)",21.683713999999998,-100.598067,3,"*","*",1,240430168,null,null,null,{"$f":"IFERROR(VLOOKUP(CONCATENATE(B7824,D7824),Padrón_Indígenas!$A$2:$G$988,7,0),\"No\")","v":"No"}]
[24,"043","Tierra_Nueva","0125","La Tuna Mansa (0125)","R","Tierra Nueva (043)La Tuna Mansa (0125)",21.751142999999999,-100.521632,0,0,0,0,240430125,null,null,null,{"$f":"IFERROR(VLOOKUP(CONCATENATE(B7829,D7829),Padrón_Indígenas!$A$2:$G$988,7,0),\"No\")","v":"No"}]
[24,"043","Tierra_Nueva","0049","Labor de Osolla (0049)","R","Tierra Nueva (043)Labor de Osolla (0049)",21.576091000000002,-100.548856,1,"*","*",1,240430049,null,null,null,{"$f":"IFERROR(VLOOKUP(CONCATENATE(B7831,D7831),Padrón_Indígenas!$A$2:$G$988,7,0),\"No\")","v":"No"}]
[24,"043","Tierra_Nueva","0171","Las Higueritas (0171)","R","Tierra Nueva (043)Las Higueritas (0171)",21.690833000000001,-100.338611,1,"*","*",1,240430171,null,null,null,{"$f":"IFERROR(VLOOKUP(CONCATENATE(B7835,D7835),Padrón_Indígenas!$A$2:$G$988,7,0),\"No\")","v":"No"}]
[24,"043","Tierra_Nueva","0063","Las Negritas (0063)","R","Tierra Nueva (043)Las Negritas (0063)",21.607239,-100.57647799999999,3,"*","*",2,240430063,null,null,null,{"$f":"IFERROR(VLOOKUP(CONCATENATE(B7838,D7838),Padrón_Indígenas!$A$2:$G$988,7,0),\"No\")","v":"No"}]
[24,"043","Tierra_Nueva","0050","Los Lobos (0050)","R","Tierra Nueva (043)Los Lobos (0050)",21.704519000000001,-100.39821999999999,76,43,33,19,240430050,null,"Alto","Medio",{"$f":"IFERROR(VLOOKUP(CONCATENATE(B7842,D7842),Padrón_Indígenas!$A$2:$G$988,7,0),\"No\")","v":"No"}]
[24,"043","Tierra_Nueva","0091","Los Pirules (0091)","R","Tierra Nueva (043)Los Pirules (0091)",21.641065000000001,-100.48450099999999,19,12,7,6,240430091,null,"Muy alto","Medio",{"$f":"IFERROR(VLOOKUP(CONCATENATE(B7843,D7843),Padrón_Indígenas!$A$2:$G$988,7,0),\"No\")","v":"No"}]
[24,"043","Tierra_Nueva","0198","Ninguno (0198)","R","Tierra Nueva (043)Ninguno (0198)",21.656561,-100.586754,"-","-","-","-",240430198,null,null,null,{"$f":"IFERROR(VLOOKUP(CONCATENATE(B7847,D7847),Padrón_Indígenas!$A$2:$G$988,7,0),\"No\")","v":"No"}]
[24,"043","Tierra_Nueva","0078","Paso de la Ordeña (0078)","R","Tierra Nueva (043)Paso de la Ordeña (0078)",21.628283,-100.461122,2,"*","*",1,240430078,null,null,null,{"$f":"IFERROR(VLOOKUP(CONCATENATE(B7852,D7852),Padrón_Indígenas!$A$2:$G$988,7,0),\"No\")","v":"No"}]
[24,"043","Tierra_Nueva","0083","Paso Hondo (0083)","R","Tierra Nueva (043)Paso Hondo (0083)",21.717555000000001,-100.359376,9,4,5,3,240430083,null,"Alto","Medio",{"$f":"IFERROR(VLOOKUP(CONCATENATE(B7855,D7855),Padrón_Indígenas!$A$2:$G$988,7,0),\"No\")","v":"No"}]
[24,"043","Tierra_Nueva","0156","Piedra Gorda (0156)","R","Tierra Nueva (043)Piedra Gorda (0156)",21.648166,-100.517323,0,0,0,0,240430156,null,null,null,{"$f":"IFERROR(VLOOKUP(CONCATENATE(B7857,D7857),Padrón_Indígenas!$A$2:$G$988,7,0),\"No\")","v":"No"}]
[24,"043","Tierra_Nueva","0159","Puerto del Sauz (0159)","R","Tierra Nueva (043)Puerto del Sauz (0159)",21.610278000000001,-100.495278,2,"*","*",1,240430159,null,null,null,{"$f":"IFERROR(VLOOKUP(CONCATENATE(B7863,D7863),Padrón_Indígenas!$A$2:$G$988,7,0),\"No\")","v":"No"}]
[24,"043","Tierra_Nueva","0024","Rancho la Cebada (0024)","R","Tierra Nueva (043)Rancho la Cebada (0024)",21.640369,-100.53484,3,"*","*",1,240430024,null,null,null,{"$f":"IFERROR(VLOOKUP(CONCATENATE(B7866,D7866),Padrón_Indígenas!$A$2:$G$988,7,0),\"No\")","v":"No"}]
[24,"043","Tierra_Nueva","0191","Rancho las Amapolas (0191)","R","Tierra Nueva (043)Rancho las Amapolas (0191)",21.601944,-100.535,0,0,0,0,240430191,null,null,null,{"$f":"IFERROR(VLOOKUP(CONCATENATE(B7868,D7868),Padrón_Indígenas!$A$2:$G$988,7,0),\"No\")","v":"No"}]
[24,"043","Tierra_Nueva","0100","Rancho Viejo (0100)","R","Tierra Nueva (043)Rancho Viejo (0100)",21.618023999999998,-100.465857,5,"*","*",1,240430100,null,null,null,{"$f":"IFERROR(VLOOKUP(CONCATENATE(B7871,D7871),Padrón_Indígenas!$A$2:$G$988,7,0),\"No\")","v":"No"}]
[24,"043","Tierra_Nueva","0108","San Gabriel (San Salvador) (0108)","R","Tierra Nueva (043)San Gabriel (San Salvador) (0108)",21.677617000000001,-100.591211,239,106,133,51,240430108,null,"Alto","Bajo",{"$f":"IFERROR(VLOOKUP(CONCATENATE(B7875,D7875),Padrón_Indígenas!$A$2:$G$988,7,0),\"No\")","v":"No"}]
[24,"043","Tierra_Nueva","0188","Sandoval (0188)","R","Tierra Nueva (043)Sandoval (0188)",21.673214000000002,-100.447592,12,"*","*",1,240430188,null,null,null,{"$f":"IFERROR(VLOOKUP(CONCATENATE(B7880,D7880),Padrón_Indígenas!$A$2:$G$988,7,0),\"No\")","v":"No"}]
[24,"043","Tierra_Nueva","0115","Santa Teresa (0115)","R","Tierra Nueva (043)Santa Teresa (0115)",21.592514999999999,-100.530924,9,4,5,4,240430115,null,"Muy alto","Alto",{"$f":"IFERROR(VLOOKUP(CONCATENATE(B7883,D7883),Padrón_Indígenas!$A$2:$G$988,7,0),\"No\")","v":"No"}]
[24,"043","Tierra_Nueva","0001","Tierra Nueva (0001)","U","Tierra Nueva (043)Tierra Nueva (0001)",21.667456000000001,-100.57391800000001,5261,2379,2882,1310,240430001,"SI",null,null,{"$f":"IFERROR(VLOOKUP(CONCATENATE(B7886,D7886),Padrón_Indígenas!$A$2:$G$988,7,0),\"No\")","v":"No"}]
[24,"043","Tierra_Nueva",null,"Todo el municipio ",null,"Tierra Nueva (043)Todo el municipio ",null,null,{"$f":"SUM(J7751:J7888)","v":9024}]
[24,"044","Vanegas","0031","Cerro la Borrega (0031)","R","Vanegas (044)Cerro la Borrega (0031)",23.884195999999999,-101.147147,27,12,15,6,240440031,"SI","Alto","Medio",{"$f":"IFERROR(VLOOKUP(CONCATENATE(B7894,D7894),Padrón_Indígenas!$A$2:$G$988,7,0),\"No\")","v":"No"}]
[24,"044","Vanegas","0128","El Chaparral (0128)","R","Vanegas (044)El Chaparral (0128)",23.980119999999999,-101.021427,2,"*","*",1,240440128,null,null,null,{"$f":"IFERROR(VLOOKUP(CONCATENATE(B7898,D7898),Padrón_Indígenas!$A$2:$G$988,7,0),\"No\")","v":"No"}]
[24,"044","Vanegas","0100","El Dorado (0100)","R","Vanegas (044)El Dorado (0100)",23.916388999999999,-100.930556,4,"*","*",1,240440100,"SI",null,null,{"$f":"IFERROR(VLOOKUP(CONCATENATE(B7899,D7899),Padrón_Indígenas!$A$2:$G$988,7,0),\"No\")","v":"No"}]
[24,"044","Vanegas","0114","El Mogote Negro (0114)","R","Vanegas (044)El Mogote Negro (0114)",24.045442999999999,-101.003699,0,0,0,0,240440114,null,null,null,{"$f":"IFERROR(VLOOKUP(CONCATENATE(B7903,D7903),Padrón_Indígenas!$A$2:$G$988,7,0),\"No\")","v":"No"}]
[24,"044","Vanegas","0013","El Salado (Estación el Salado) (0013)","R","Vanegas (044)El Salado (Estación el Salado) (0013)",24.311557000000001,-100.85603500000001,235,125,110,67,240440013,null,"Alto","Medio",{"$f":"IFERROR(VLOOKUP(CONCATENATE(B7907,D7907),Padrón_Indígenas!$A$2:$G$988,7,0),\"No\")","v":"No"}]
[24,"044","Vanegas","0005","Huertecillas (0005)","R","Vanegas (044)Huertecillas (0005)",24.074076999999999,-101.1386,320,171,149,74,240440005,"SI","Alto","Medio",{"$f":"IFERROR(VLOOKUP(CONCATENATE(B7912,D7912),Padrón_Indígenas!$A$2:$G$988,7,0),\"No\")","v":"No"}]
[24,"044","Vanegas","0105","La Boquilla (0105)","R","Vanegas (044)La Boquilla (0105)",23.818345000000001,-101.093214,0,0,0,0,240440105,null,null,null,{"$f":"IFERROR(VLOOKUP(CONCATENATE(B7915,D7915),Padrón_Indígenas!$A$2:$G$988,7,0),\"No\")","v":"No"}]
[24,"044","Vanegas","0106","La Concha (0106)","R","Vanegas (044)La Concha (0106)",24.036705999999999,-100.747011,0,0,0,0,240440106,null,null,null,{"$f":"IFERROR(VLOOKUP(CONCATENATE(B7917,D7917),Padrón_Indígenas!$A$2:$G$988,7,0),\"No\")","v":"No"}]
[24,"044","Vanegas","0009","La Pinta (0009)","R","Vanegas (044)La Pinta (0009)",24.024331,-100.925859,234,112,122,55,240440009,"SI","Alto","Medio",{"$f":"IFERROR(VLOOKUP(CONCATENATE(B7922,D7922),Padrón_Indígenas!$A$2:$G$988,7,0),\"No\")","v":"No"}]
[24,"044","Vanegas","0012","La Sabanilla (0012)","R","Vanegas (044)La Sabanilla (0012)",23.838889000000002,-101.00277800000001,98,57,41,23,240440012,null,"Alto","Medio",{"$f":"IFERROR(VLOOKUP(CONCATENATE(B7926,D7926),Padrón_Indígenas!$A$2:$G$988,7,0),\"No\")","v":"No"}]
[24,"044","Vanegas","0135","La Trinidad (0135)","R","Vanegas (044)La Trinidad (0135)",23.856394000000002,-100.986507,4,"*","*",1,240440135,"SI",null,null,{"$f":"IFERROR(VLOOKUP(CONCATENATE(B7927,D7927),Padrón_Indígenas!$A$2:$G$988,7,0),\"No\")","v":"No"}]
[24,"044","Vanegas","0112","Las Margaritas (0112)","R","Vanegas (044)Las Margaritas (0112)",24.330679,-100.864386,0,0,0,0,240440112,null,null,null,{"$f":"IFERROR(VLOOKUP(CONCATENATE(B7930,D7930),Padrón_Indígenas!$A$2:$G$988,7,0),\"No\")","v":"No"}]
[24,"044","Vanegas","0027","María Peña (0027)","R","Vanegas (044)María Peña (0027)",23.889496000000001,-101.106751,0,0,0,0,240440027,null,null,null,{"$f":"IFERROR(VLOOKUP(CONCATENATE(B7935,D7935),Padrón_Indígenas!$A$2:$G$988,7,0),\"No\")","v":"No"}]
[24,"044","Vanegas","0007","Noria de los Cedros (0007)","R","Vanegas (044)Noria de los Cedros (0007)",24.295991999999998,-100.678901,101,56,45,22,240440007,null,"Alto","Muy bajo",{"$f":"IFERROR(VLOOKUP(CONCATENATE(B7938,D7938),Padrón_Indígenas!$A$2:$G$988,7,0),\"No\")","v":"No"}]
[24,"044","Vanegas","0010","Presa de Santa Ana (0010)","R","Vanegas (044)Presa de Santa Ana (0010)",24.120161,-100.752639,102,49,53,23,240440010,null,"Muy alto","Medio",{"$f":"IFERROR(VLOOKUP(CONCATENATE(B7940,D7940),Padrón_Indígenas!$A$2:$G$988,7,0),\"No\")","v":"No"}]
[24,"044","Vanegas","0126","Rancho Martínez (Los Pelones) (0126)","R","Vanegas (044)Rancho Martínez (Los Pelones) (0126)",24.080328999999999,-100.891831,0,0,0,0,240440126,null,null,null,{"$f":"IFERROR(VLOOKUP(CONCATENATE(B7946,D7946),Padrón_Indígenas!$A$2:$G$988,7,0),\"No\")","v":"No"}]
[24,"044","Vanegas","0014","Salitrillos (0014)","R","Vanegas (044)Salitrillos (0014)",24.223942999999998,-100.995693,55,26,29,13,240440014,null,"Alto","Alto",{"$f":"IFERROR(VLOOKUP(CONCATENATE(B7949,D7949),Padrón_Indígenas!$A$2:$G$988,7,0),\"No\")","v":"No"}]
[24,"044","Vanegas","0145","San Felipe I (0145)","R","Vanegas (044)San Felipe I (0145)",23.942354000000002,-100.92349299999999,6,"*","*",1,240440145,null,null,null,{"$f":"IFERROR(VLOOKUP(CONCATENATE(B7951,D7951),Padrón_Indígenas!$A$2:$G$988,7,0),\"No\")","v":"No"}]
[24,"044","Vanegas","0116","San Isidro (0116)","R","Vanegas (044)San Isidro (0116)",24.104005999999998,-101.09877,2,"*","*",1,240440116,null,null,null,{"$f":"IFERROR(VLOOKUP(CONCATENATE(B7954,D7954),Padrón_Indígenas!$A$2:$G$988,7,0),\"No\")","v":"No"}]
[24,"044","Vanegas","0021","San Vicente (0021)","R","Vanegas (044)San Vicente (0021)",24.168966999999999,-100.883354,255,125,130,61,240440021,null,"Alto","Bajo",{"$f":"IFERROR(VLOOKUP(CONCATENATE(B7958,D7958),Padrón_Indígenas!$A$2:$G$988,7,0),\"No\")","v":"No"}]
[24,"044","Vanegas","0051","Tres Marías (0051)","R","Vanegas (044)Tres Marías (0051)",23.917376000000001,-100.951283,0,0,0,0,240440051,null,null,null,{"$f":"IFERROR(VLOOKUP(CONCATENATE(B7963,D7963),Padrón_Indígenas!$A$2:$G$988,7,0),\"No\")","v":"No"}]
[24,"044","Vanegas","0119","Valle de Obregón (El Poca Luz) (0119)","R","Vanegas (044)Valle de Obregón (El Poca Luz) (0119)",23.894641,-100.967209,1,"*","*",1,240440119,null,null,null,{"$f":"IFERROR(VLOOKUP(CONCATENATE(B7966,D7966),Padrón_Indígenas!$A$2:$G$988,7,0),\"No\")","v":"No"}]
[24,"044","Vanegas","0025","Vanegas de Abajo (0025)","R","Vanegas (044)Vanegas de Abajo (0025)",23.868753000000002,-100.893242,368,178,190,104,240440025,"SI","Alto","Bajo",{"$f":"IFERROR(VLOOKUP(CONCATENATE(B7968,D7968),Padrón_Indígenas!$A$2:$G$988,7,0),\"No\")","v":"No"}]
[24,"045","Venado","0129","Andrés Rangel (0129)","R","Venado (045)Andrés Rangel (0129)",22.956284,-101.271496,18,11,7,5,240450129,null,"Muy alto","Alto",{"$f":"IFERROR(VLOOKUP(CONCATENATE(B7974,D7974),Padrón_Indígenas!$A$2:$G$988,7,0),\"No\")","v":"No"}]
[24,"045","Venado","0074","Barrio de Guadalupe Dos (Mexiquito) (0074)","R","Venado (045)Barrio de Guadalupe Dos (Mexiquito) (0074)",22.913578000000001,-101.047404,219,113,106,56,240450074,null,"Alto","Bajo",{"$f":"IFERROR(VLOOKUP(CONCATENATE(B7977,D7977),Padrón_Indígenas!$A$2:$G$988,7,0),\"No\")","v":"No"}]
[24,"045","Venado","0009","Calabacillas (0009)","R","Venado (045)Calabacillas (0009)",22.937591000000001,-101.200001,5,"*","*",2,240450009,null,null,null,{"$f":"IFERROR(VLOOKUP(CONCATENATE(B7979,D7979),Padrón_Indígenas!$A$2:$G$988,7,0),\"No\")","v":"No"}]
[24,"045","Venado","0013","Cerro Blanco (0013)","R","Venado (045)Cerro Blanco (0013)",22.945515,-101.211141,105,57,48,29,240450013,null,"Alto","Bajo",{"$f":"IFERROR(VLOOKUP(CONCATENATE(B7982,D7982),Padrón_Indígenas!$A$2:$G$988,7,0),\"No\")","v":"No"}]
[24,"045","Venado","0018","Coronado (Hacienda de Coronado) (0018)","R","Venado (045)Coronado (Hacienda de Coronado) (0018)",22.923632999999999,-100.940973,218,112,106,54,240450018,null,"Alto","Medio",{"$f":"IFERROR(VLOOKUP(CONCATENATE(B7986,D7986),Padrón_Indígenas!$A$2:$G$988,7,0),\"No\")","v":"No"}]
[24,"045","Venado","0130","El Arenal (0130)","R","Venado (045)El Arenal (0130)",22.936457999999998,-101.055046,25,14,11,6,240450130,null,"Muy bajo","Muy bajo",{"$f":"IFERROR(VLOOKUP(CONCATENATE(B7990,D7990),Padrón_Indígenas!$A$2:$G$988,7,0),\"No\")","v":"No"}]
[24,"045","Venado","0134","El Charco Verde (0134)","R","Venado (045)El Charco Verde (0134)",22.922255,-100.881434,12,"*","*",2,240450134,null,null,null,{"$f":"IFERROR(VLOOKUP(CONCATENATE(B7995,D7995),Padrón_Indígenas!$A$2:$G$988,7,0),\"No\")","v":"No"}]
[24,"045","Venado","0135","El Clérigo (Miguel Rivera Banderas) (0135)","R","Venado (045)El Clérigo (Miguel Rivera Banderas) (0135)",23.008333,-101.068333,28,14,14,5,240450135,null,"Alto","Bajo",{"$f":"IFERROR(VLOOKUP(CONCATENATE(B7998,D7998),Padrón_Indígenas!$A$2:$G$988,7,0),\"No\")","v":"No"}]
[24,"045","Venado","0117","El Conejo (0117)","R","Venado (045)El Conejo (0117)",23.028414000000001,-101.11093099999999,0,0,0,0,240450117,null,null,null,{"$f":"IFERROR(VLOOKUP(CONCATENATE(B8000,D8000),Padrón_Indígenas!$A$2:$G$988,7,0),\"No\")","v":"No"}]
[24,"045","Venado","0023","El Grullo (0023)","R","Venado (045)El Grullo (0023)",22.933599000000001,-101.35956400000001,44,24,20,13,240450023,null,"Alto","Bajo",{"$f":"IFERROR(VLOOKUP(CONCATENATE(B8005,D8005),Padrón_Indígenas!$A$2:$G$988,7,0),\"No\")","v":"No"}]
[24,"045","Venado","0162","El Llano (0162)","R","Venado (045)El Llano (0162)",22.979599,-100.998288,3,"*","*",1,240450162,null,null,null,{"$f":"IFERROR(VLOOKUP(CONCATENATE(B8009,D8009),Padrón_Indígenas!$A$2:$G$988,7,0),\"No\")","v":"No"}]
[24,"045","Venado","0031","El Machito (El Tanque del Machito) (0031)","R","Venado (045)El Machito (El Tanque del Machito) (0031)",22.891914,-101.202556,54,27,27,14,240450031,null,"Alto","Bajo",{"$f":"IFERROR(VLOOKUP(CONCATENATE(B8010,D8010),Padrón_Indígenas!$A$2:$G$988,7,0),\"No\")","v":"No"}]
[24,"045","Venado","0098","El Pocito (0098)","R","Venado (045)El Pocito (0098)",22.825832999999999,-100.904687,236,121,115,48,240450098,null,"Alto","Bajo",{"$f":"IFERROR(VLOOKUP(CONCATENATE(B8014,D8014),Padrón_Indígenas!$A$2:$G$988,7,0),\"No\")","v":"No"}]
[24,"045","Venado","0047","El Refugio (0047)","R","Venado (045)El Refugio (0047)",22.935096000000001,-100.94317700000001,40,20,20,10,240450047,null,"Muy alto","Alto",{"$f":"IFERROR(VLOOKUP(CONCATENATE(B8018,D8018),Padrón_Indígenas!$A$2:$G$988,7,0),\"No\")","v":"No"}]
[24,"045","Venado","0062","El Sotol (0062)","R","Venado (045)El Sotol (0062)",22.945087999999998,-101.149548,101,54,47,26,240450062,null,"Alto","Medio",{"$f":"IFERROR(VLOOKUP(CONCATENATE(B8023,D8023),Padrón_Indígenas!$A$2:$G$988,7,0),\"No\")","v":"No"}]
[24,"045","Venado","0064","El Tejón (0064)","R","Venado (045)El Tejón (0064)",22.947716,-101.170908,47,27,20,11,240450064,null,"Alto","Medio",{"$f":"IFERROR(VLOOKUP(CONCATENATE(B8026,D8026),Padrón_Indígenas!$A$2:$G$988,7,0),\"No\")","v":"No"}]
[24,"045","Venado","0115","El YerbanÍs (0115)","R","Venado (045)El YerbanÍs (0115)",23.034082999999999,-101.233665,3,"*","*",1,240450115,null,null,null,{"$f":"IFERROR(VLOOKUP(CONCATENATE(B8029,D8029),Padrón_Indígenas!$A$2:$G$988,7,0),\"No\")","v":"No"}]
[24,"045","Venado","0025","Guanamé (0025)","R","Venado (045)Guanamé (0025)",22.869364000000001,-101.249601,409,202,207,105,240450025,null,"Medio","Bajo",{"$f":"IFERROR(VLOOKUP(CONCATENATE(B8032,D8032),Padrón_Indígenas!$A$2:$G$988,7,0),\"No\")","v":"No"}]
[24,"045","Venado","0131","La Barrera (0131)","R","Venado (045)La Barrera (0131)",22.934998,-101.059776,6,"*","*",1,240450131,null,null,null,{"$f":"IFERROR(VLOOKUP(CONCATENATE(B8034,D8034),Padrón_Indígenas!$A$2:$G$988,7,0),\"No\")","v":"No"}]
[24,"045","Venado","0014","La Ciénaga de Guanamé (0014)","R","Venado (045)La Ciénaga de Guanamé (0014)",22.955489,-101.171634,122,60,62,28,240450014,null,"Alto","Bajo",{"$f":"IFERROR(VLOOKUP(CONCATENATE(B8037,D8037),Padrón_Indígenas!$A$2:$G$988,7,0),\"No\")","v":"No"}]
[24,"045","Venado","0029","La Lagunita del Sotol (0029)","R","Venado (045)La Lagunita del Sotol (0029)",22.952767999999999,-101.190219,48,26,22,12,240450029,null,"Alto","Bajo",{"$f":"IFERROR(VLOOKUP(CONCATENATE(B8042,D8042),Padrón_Indígenas!$A$2:$G$988,7,0),\"No\")","v":"No"}]
[24,"045","Venado","0040","La Presa Colorada (0040)","R","Venado (045)La Presa Colorada (0040)",22.839821000000001,-101.173029,27,16,11,9,240450040,null,"Muy alto","Alto",{"$f":"IFERROR(VLOOKUP(CONCATENATE(B8046,D8046),Padrón_Indígenas!$A$2:$G$988,7,0),\"No\")","v":"No"}]
[24,"045","Venado","0160","La Puerta del Salitre (0160)","R","Venado (045)La Puerta del Salitre (0160)",22.888296,-101.094921,2,"*","*",1,240450160,null,null,null,{"$f":"IFERROR(VLOOKUP(CONCATENATE(B8049,D8049),Padrón_Indígenas!$A$2:$G$988,7,0),\"No\")","v":"No"}]
[24,"045","Venado","0068","La Trinidad (0068)","R","Venado (045)La Trinidad (0068)",23.016280999999999,-100.914154,339,173,166,96,240450068,"SI","Alto","Medio",{"$f":"IFERROR(VLOOKUP(CONCATENATE(B8051,D8051),Padrón_Indígenas!$A$2:$G$988,7,0),\"No\")","v":"No"}]
[24,"045","Venado","0090","Los Muñiz (0090)","R","Venado (045)Los Muñiz (0090)",22.909528000000002,-101.182714,4,"*","*",2,240450090,null,null,null,{"$f":"IFERROR(VLOOKUP(CONCATENATE(B8057,D8057),Padrón_Indígenas!$A$2:$G$988,7,0),\"No\")","v":"No"}]
[24,"045","Venado","0127","Los Valdez (0127)","R","Venado (045)Los Valdez (0127)",22.926203000000001,-101.18565,0,0,0,0,240450127,null,null,null,{"$f":"IFERROR(VLOOKUP(CONCATENATE(B8060,D8060),Padrón_Indígenas!$A$2:$G$988,7,0),\"No\")","v":"No"}]
[24,"045","Venado","0034","Noria de la Unión (0034)","R","Venado (045)Noria de la Unión (0034)",22.988827000000001,-101.008566,20,10,10,7,240450034,null,"Muy alto","Alto",{"$f":"IFERROR(VLOOKUP(CONCATENATE(B8062,D8062),Padrón_Indígenas!$A$2:$G$988,7,0),\"No\")","v":"No"}]
[24,"045","Venado","0071","Polocote de Abajo (Polocotillo) (0071)","R","Venado (045)Polocote de Abajo (Polocotillo) (0071)",22.957532,-101.0895,71,32,39,15,240450071,null,"Alto","Bajo",{"$f":"IFERROR(VLOOKUP(CONCATENATE(B8065,D8065),Padrón_Indígenas!$A$2:$G$988,7,0),\"No\")","v":"No"}]
[24,"045","Venado","0166","Pozo Número Siete (0166)","R","Venado (045)Pozo Número Siete (0166)",22.943166999999999,-101.000884,18,6,12,4,240450166,null,"Alto","Bajo",{"$f":"IFERROR(VLOOKUP(CONCATENATE(B8070,D8070),Padrón_Indígenas!$A$2:$G$988,7,0),\"No\")","v":"No"}]
[24,"045","Venado","0182","Quinta Ojo de Agua (0182)","R","Venado (045)Quinta Ojo de Agua (0182)",22.935278,-101.107112,2,"*","*",1,240450182,null,null,null,{"$f":"IFERROR(VLOOKUP(CONCATENATE(B8073,D8073),Padrón_Indígenas!$A$2:$G$988,7,0),\"No\")","v":"No"}]
[24,"045","Venado","0178","Rancho la Loma (0178)","R","Venado (045)Rancho la Loma (0178)",22.935278,-101.113056,6,"*","*",1,240450178,null,null,null,{"$f":"IFERROR(VLOOKUP(CONCATENATE(B8078,D8078),Padrón_Indígenas!$A$2:$G$988,7,0),\"No\")","v":"No"}]
[24,"045","Venado","0179","Rancho las Contras (0179)","R","Venado (045)Rancho las Contras (0179)",22.89987,-101.050324,0,0,0,0,240450179,null,null,null,{"$f":"IFERROR(VLOOKUP(CONCATENATE(B8081,D8081),Padrón_Indígenas!$A$2:$G$988,7,0),\"No\")","v":"No"}]
[24,"045","Venado","0044","Rancho Nuevo (0044)","R","Venado (045)Rancho Nuevo (0044)",22.970265999999999,-101.02378299999999,33,17,16,11,240450044,null,"Alto","Medio",{"$f":"IFERROR(VLOOKUP(CONCATENATE(B8083,D8083),Padrón_Indígenas!$A$2:$G$988,7,0),\"No\")","v":"No"}]
[24,"045","Venado","0161","Rancho Santa Fe (0161)","R","Venado (045)Rancho Santa Fe (0161)",22.820519999999998,-100.900567,5,"*","*",1,240450161,null,null,null,{"$f":"IFERROR(VLOOKUP(CONCATENATE(B8086,D8086),Padrón_Indígenas!$A$2:$G$988,7,0),\"No\")","v":"No"}]
[24,"045","Venado","0125","San Martín (0125)","R","Venado (045)San Martín (0125)",23.007559000000001,-101.13811800000001,7,4,3,3,240450125,null,"Muy alto","Muy alto",{"$f":"IFERROR(VLOOKUP(CONCATENATE(B8092,D8092),Padrón_Indígenas!$A$2:$G$988,7,0),\"No\")","v":"No"}]
[24,"045","Venado","0055","San Mateo (0055)","R","Venado (045)San Mateo (0055)",22.935613,-101.073756,125,60,65,33,240450055,null,"Alto","Bajo",{"$f":"IFERROR(VLOOKUP(CONCATENATE(B8093,D8093),Padrón_Indígenas!$A$2:$G$988,7,0),\"No\")","v":"No"}]
[24,"045","Venado","0057","San Sabino (0057)","R","Venado (045)San Sabino (0057)",22.982495,-101.06464699999999,29,17,12,6,240450057,null,"Alto","Medio",{"$f":"IFERROR(VLOOKUP(CONCATENATE(B8097,D8097),Padrón_Indígenas!$A$2:$G$988,7,0),\"No\")","v":"No"}]
[24,"045","Venado","0152","Santa Cruz (0152)","R","Venado (045)Santa Cruz (0152)",22.903977999999999,-101.04535,0,0,0,0,240450152,null,null,null,{"$f":"IFERROR(VLOOKUP(CONCATENATE(B8101,D8101),Padrón_Indígenas!$A$2:$G$988,7,0),\"No\")","v":"No"}]
[24,"045","Venado","0154","Tanque de En Medio (0154)","R","Venado (045)Tanque de En Medio (0154)",22.994653,-101.047411,3,"*","*",1,240450154,null,null,null,{"$f":"IFERROR(VLOOKUP(CONCATENATE(B8106,D8106),Padrón_Indígenas!$A$2:$G$988,7,0),\"No\")","v":"No"}]
[24,"045","Venado","0065","Tierra Blanca (0065)","R","Venado (045)Tierra Blanca (0065)",22.966581000000001,-101.06286,303,162,141,74,240450065,null,"Alto","Bajo",{"$f":"IFERROR(VLOOKUP(CONCATENATE(B8109,D8109),Padrón_Indígenas!$A$2:$G$988,7,0),\"No\")","v":"No"}]
[24,"045","Venado","0001","Venado (0001)","U","Venado (045)Venado (0001)",22.931343999999999,-101.094629,5743,2720,3023,1462,240450001,"SI",null,null,{"$f":"IFERROR(VLOOKUP(CONCATENATE(B8111,D8111),Padrón_Indígenas!$A$2:$G$988,7,0),\"No\")","v":"No"}]
[24,"045","Venado","0076","Viborillas (0076)","R","Venado (045)Viborillas (0076)",22.981877000000001,-101.31282400000001,17,9,8,4,240450076,null,"Muy alto","Alto",{"$f":"IFERROR(VLOOKUP(CONCATENATE(B8114,D8114),Padrón_Indígenas!$A$2:$G$988,7,0),\"No\")","v":"No"}]
[24,"056","Villa_de_Arista","0128","Charco Valeria (0128)","R","Villa de Arista (056)Charco Valeria (0128)",22.651477,-100.807772,0,0,0,0,240560128,null,null,null,{"$f":"IFERROR(VLOOKUP(CONCATENATE(B8120,D8120),Padrón_Indígenas!$A$2:$G$988,7,0),\"No\")","v":"No"}]
[24,"056","Villa_de_Arista","0129","Cirilo Saldaña (0129)","R","Villa de Arista (056)Cirilo Saldaña (0129)",22.667221999999999,-100.781944,1,"*","*",1,240560129,null,null,null,{"$f":"IFERROR(VLOOKUP(CONCATENATE(B8121,D8121),Padrón_Indígenas!$A$2:$G$988,7,0),\"No\")","v":"No"}]
[24,"056","Villa_de_Arista","0130","Cuatro Caminos (0130)","R","Villa de Arista (056)Cuatro Caminos (0130)",22.662597999999999,-100.76391700000001,2,"*","*",1,240560130,null,null,null,{"$f":"IFERROR(VLOOKUP(CONCATENATE(B8125,D8125),Padrón_Indígenas!$A$2:$G$988,7,0),\"No\")","v":"No"}]
[24,"056","Villa_de_Arista","0125","El Azafrán (0125)","R","Villa de Arista (056)El Azafrán (0125)",22.644918000000001,-100.805616,1,"*","*",1,240560125,null,null,null,{"$f":"IFERROR(VLOOKUP(CONCATENATE(B8129,D8129),Padrón_Indígenas!$A$2:$G$988,7,0),\"No\")","v":"No"}]
[24,"056","Villa_de_Arista","0011","El Charquito (0011)","R","Villa de Arista (056)El Charquito (0011)",22.626242000000001,-100.693871,567,294,273,148,240560011,null,"Alto","Bajo",{"$f":"IFERROR(VLOOKUP(CONCATENATE(B8133,D8133),Padrón_Indígenas!$A$2:$G$988,7,0),\"No\")","v":"No"}]
[24,"056","Villa_de_Arista","0131","El Diamante (0131)","R","Villa de Arista (056)El Diamante (0131)",22.731112,-100.877416,2,"*","*",1,240560131,null,null,null,{"$f":"IFERROR(VLOOKUP(CONCATENATE(B8134,D8134),Padrón_Indígenas!$A$2:$G$988,7,0),\"No\")","v":"No"}]
[24,"056","Villa_de_Arista","0181","El Olivo (0181)","R","Villa de Arista (056)El Olivo (0181)",22.717766000000001,-100.912628,15,6,9,5,240560181,null,"Muy alto","Alto",{"$f":"IFERROR(VLOOKUP(CONCATENATE(B8140,D8140),Padrón_Indígenas!$A$2:$G$988,7,0),\"No\")","v":"No"}]
[24,"056","Villa_de_Arista","0093","El Pedernal (0093)","R","Villa de Arista (056)El Pedernal (0093)",22.689153999999998,-100.784892,7,4,3,4,240560093,null,"Muy alto","Muy alto",{"$f":"IFERROR(VLOOKUP(CONCATENATE(B8143,D8143),Padrón_Indígenas!$A$2:$G$988,7,0),\"No\")","v":"No"}]
[24,"056","Villa_de_Arista","0084","El Refugio (0084)","R","Villa de Arista (056)El Refugio (0084)",22.614151,-100.870216,24,11,13,6,240560084,null,"Alto","Medio",{"$f":"IFERROR(VLOOKUP(CONCATENATE(B8145,D8145),Padrón_Indígenas!$A$2:$G$988,7,0),\"No\")","v":"No"}]
[24,"056","Villa_de_Arista","0164","El Trébol (0164)","R","Villa de Arista (056)El Trébol (0164)",22.679027999999999,-100.902708,0,0,0,0,240560164,null,null,null,{"$f":"IFERROR(VLOOKUP(CONCATENATE(B8148,D8148),Padrón_Indígenas!$A$2:$G$988,7,0),\"No\")","v":"No"}]
[24,"056","Villa_de_Arista","0104","Fracción la Palma (0104)","R","Villa de Arista (056)Fracción la Palma (0104)",22.668526,-100.89924499999999,28,14,14,6,240560104,null,"Muy bajo","Muy bajo",{"$f":"IFERROR(VLOOKUP(CONCATENATE(B8153,D8153),Padrón_Indígenas!$A$2:$G$988,7,0),\"No\")","v":"No"}]
[24,"056","Villa_de_Arista","0015","Guardarraya (0015)","R","Villa de Arista (056)Guardarraya (0015)",22.711838,-100.83447,84,41,43,22,240560015,null,"Alto","Medio",{"$f":"IFERROR(VLOOKUP(CONCATENATE(B8157,D8157),Padrón_Indígenas!$A$2:$G$988,7,0),\"No\")","v":"No"}]
[24,"056","Villa_de_Arista","0185","José Leonor Sierra (0185)","R","Villa de Arista (056)José Leonor Sierra (0185)",22.631667,-100.803889,1,"*","*",1,240560185,null,null,null,{"$f":"IFERROR(VLOOKUP(CONCATENATE(B8161,D8161),Padrón_Indígenas!$A$2:$G$988,7,0),\"No\")","v":"No"}]
[24,"056","Villa_de_Arista","0067","José Luis (0067)","R","Villa de Arista (056)José Luis (0067)",22.684625,-100.851299,0,0,0,0,240560067,null,null,null,{"$f":"IFERROR(VLOOKUP(CONCATENATE(B8162,D8162),Padrón_Indígenas!$A$2:$G$988,7,0),\"No\")","v":"No"}]
[24,"056","Villa_de_Arista","0018","La Lajita (0018)","R","Villa de Arista (056)La Lajita (0018)",22.700209000000001,-100.829865,80,39,41,20,240560018,null,"Alto","Medio",{"$f":"IFERROR(VLOOKUP(CONCATENATE(B8168,D8168),Padrón_Indígenas!$A$2:$G$988,7,0),\"No\")","v":"No"}]
[24,"056","Villa_de_Arista","0030","La Pelotera (Venta del Carmen) (0030)","R","Villa de Arista (056)La Pelotera (Venta del Carmen) (0030)",22.644622999999999,-100.882639,189,101,88,41,240560030,null,"Alto","Medio",{"$f":"IFERROR(VLOOKUP(CONCATENATE(B8169,D8169),Padrón_Indígenas!$A$2:$G$988,7,0),\"No\")","v":"No"}]
[24,"056","Villa_de_Arista","0136","Los Hermanos Neri (0136)","R","Villa de Arista (056)Los Hermanos Neri (0136)",22.718288999999999,-100.88508899999999,7,"*","*",2,240560136,null,null,null,{"$f":"IFERROR(VLOOKUP(CONCATENATE(B8175,D8175),Padrón_Indígenas!$A$2:$G$988,7,0),\"No\")","v":"No"}]
[24,"056","Villa_de_Arista","0142","Los Pilares (0142)","R","Villa de Arista (056)Los Pilares (0142)",22.709761,-100.886501,0,0,0,0,240560142,null,null,null,{"$f":"IFERROR(VLOOKUP(CONCATENATE(B8177,D8177),Padrón_Indígenas!$A$2:$G$988,7,0),\"No\")","v":"No"}]
[24,"056","Villa_de_Arista","0118","Mesteñas (0118)","R","Villa de Arista (056)Mesteñas (0118)",22.624355999999999,-100.854782,0,0,0,0,240560118,null,null,null,{"$f":"IFERROR(VLOOKUP(CONCATENATE(B8180,D8180),Padrón_Indígenas!$A$2:$G$988,7,0),\"No\")","v":"No"}]
[24,"056","Villa_de_Arista","0027","Palmas Anchas (0027)","R","Villa de Arista (056)Palmas Anchas (0027)",22.611190000000001,-100.86253600000001,62,26,36,15,240560027,null,"Medio","Bajo",{"$f":"IFERROR(VLOOKUP(CONCATENATE(B8184,D8184),Padrón_Indígenas!$A$2:$G$988,7,0),\"No\")","v":"No"}]
[24,"056","Villa_de_Arista","0189","Quirino Castro (0189)","R","Villa de Arista (056)Quirino Castro (0189)",22.624663999999999,-100.788804,2,"*","*",1,240560189,null,null,null,{"$f":"IFERROR(VLOOKUP(CONCATENATE(B8189,D8189),Padrón_Indígenas!$A$2:$G$988,7,0),\"No\")","v":"No"}]
[24,"056","Villa_de_Arista","0090","Rancho Campo el Gato (0090)","R","Villa de Arista (056)Rancho Campo el Gato (0090)",22.663730000000001,-100.910911,0,0,0,0,240560090,null,null,null,{"$f":"IFERROR(VLOOKUP(CONCATENATE(B8192,D8192),Padrón_Indígenas!$A$2:$G$988,7,0),\"No\")","v":"No"}]
[24,"056","Villa_de_Arista","0106","Rancho de la Cruz (0106)","R","Villa de Arista (056)Rancho de la Cruz (0106)",22.661943999999998,-100.863333,6,"*","*",2,240560106,null,null,null,{"$f":"IFERROR(VLOOKUP(CONCATENATE(B8194,D8194),Padrón_Indígenas!$A$2:$G$988,7,0),\"No\")","v":"No"}]
[24,"056","Villa_de_Arista","0148","Rancho el Mezquite (0148)","R","Villa de Arista (056)Rancho el Mezquite (0148)",22.671766000000002,-100.910391,18,7,11,3,240560148,null,"Alto","Bajo",{"$f":"IFERROR(VLOOKUP(CONCATENATE(B8197,D8197),Padrón_Indígenas!$A$2:$G$988,7,0),\"No\")","v":"No"}]
[24,"056","Villa_de_Arista","0176","Rancho Grande (0176)","R","Villa de Arista (056)Rancho Grande (0176)",22.692205000000001,-100.89079,0,0,0,0,240560176,null,null,null,{"$f":"IFERROR(VLOOKUP(CONCATENATE(B8203,D8203),Padrón_Indígenas!$A$2:$G$988,7,0),\"No\")","v":"No"}]
[24,"056","Villa_de_Arista","0113","Rancho la Magdalena (0113)","R","Villa de Arista (056)Rancho la Magdalena (0113)",22.653186000000002,-100.866964,0,0,0,0,240560113,null,null,null,{"$f":"IFERROR(VLOOKUP(CONCATENATE(B8205,D8205),Padrón_Indígenas!$A$2:$G$988,7,0),\"No\")","v":"No"}]
[24,"056","Villa_de_Arista","0155","Rancho San José de las Flores (0155)","R","Villa de Arista (056)Rancho San José de las Flores (0155)",22.677672999999999,-100.855204,6,4,2,3,240560155,null,"Muy alto","Muy alto",{"$f":"IFERROR(VLOOKUP(CONCATENATE(B8208,D8208),Padrón_Indígenas!$A$2:$G$988,7,0),\"No\")","v":"No"}]
[24,"056","Villa_de_Arista","0156","Rancho Santa Rosa (La Luz) (0156)","R","Villa de Arista (056)Rancho Santa Rosa (La Luz) (0156)",22.723889,-100.88555599999999,5,"*","*",1,240560156,null,null,null,{"$f":"IFERROR(VLOOKUP(CONCATENATE(B8212,D8212),Padrón_Indígenas!$A$2:$G$988,7,0),\"No\")","v":"No"}]
[24,"056","Villa_de_Arista","0153","San Alejandro (0153)","R","Villa de Arista (056)San Alejandro (0153)",22.656403999999998,-100.881021,0,0,0,0,240560153,null,null,null,{"$f":"IFERROR(VLOOKUP(CONCATENATE(B8216,D8216),Padrón_Indígenas!$A$2:$G$988,7,0),\"No\")","v":"No"}]
[24,"056","Villa_de_Arista","0038","San Antonio (0038)","R","Villa de Arista (056)San Antonio (0038)",22.721153000000001,-100.856604,18,10,8,4,240560038,null,"Alto","Medio",{"$f":"IFERROR(VLOOKUP(CONCATENATE(B8217,D8217),Padrón_Indígenas!$A$2:$G$988,7,0),\"No\")","v":"No"}]
[24,"056","Villa_de_Arista","0097","San Fernando (0097)","R","Villa de Arista (056)San Fernando (0097)",22.688472000000001,-100.901346,7,"*","*",2,240560097,null,null,null,{"$f":"IFERROR(VLOOKUP(CONCATENATE(B8221,D8221),Padrón_Indígenas!$A$2:$G$988,7,0),\"No\")","v":"No"}]
[24,"056","Villa_de_Arista","0081","San José de Altamira (0081)","R","Villa de Arista (056)San José de Altamira (0081)",22.67164,-100.849479,41,24,17,7,240560081,null,"Alto","Bajo",{"$f":"IFERROR(VLOOKUP(CONCATENATE(B8226,D8226),Padrón_Indígenas!$A$2:$G$988,7,0),\"No\")","v":"No"}]
[24,"056","Villa_de_Arista","0059","San José de Buenavista (El Cochinito) (0059)","R","Villa de Arista (056)San José de Buenavista (El Cochinito) (0059)",22.740552999999998,-100.856739,8,"*","*",2,240560059,null,null,null,{"$f":"IFERROR(VLOOKUP(CONCATENATE(B8228,D8228),Padrón_Indígenas!$A$2:$G$988,7,0),\"No\")","v":"No"}]
[24,"056","Villa_de_Arista","0008","San Martín de Guadalupe (0008)","R","Villa de Arista (056)San Martín de Guadalupe (0008)",22.665050000000001,-100.891052,3,"*","*",1,240560008,null,null,null,{"$f":"IFERROR(VLOOKUP(CONCATENATE(B8231,D8231),Padrón_Indígenas!$A$2:$G$988,7,0),\"No\")","v":"No"}]
[24,"056","Villa_de_Arista","0160","Santa Leticia (0160)","R","Villa de Arista (056)Santa Leticia (0160)",22.648954,-100.87115900000001,0,0,0,0,240560160,null,null,null,{"$f":"IFERROR(VLOOKUP(CONCATENATE(B8236,D8236),Padrón_Indígenas!$A$2:$G$988,7,0),\"No\")","v":"No"}]
[24,"056","Villa_de_Arista","0033","Santo Tomás (0033)","R","Villa de Arista (056)Santo Tomás (0033)",22.608308999999998,-100.874341,12,7,5,3,240560033,null,"Medio","Bajo",{"$f":"IFERROR(VLOOKUP(CONCATENATE(B8240,D8240),Padrón_Indígenas!$A$2:$G$988,7,0),\"No\")","v":"No"}]
[24,"056","Villa_de_Arista",null,"Todo el municipio ",null,"Villa de Arista (056)Todo el municipio ",null,null,{"$f":"SUM(J8116:J8243)","v":15528}]
[24,"046","Villa_de_Arriaga","0002","Agua Gorda de los Patos (0002)","R","Villa de Arriaga (046)Agua Gorda de los Patos (0002)",21.878253999999998,-101.46647900000001,302,161,141,69,240460002,null,"Alto","Medio",{"$f":"IFERROR(VLOOKUP(CONCATENATE(B8245,D8245),Padrón_Indígenas!$A$2:$G$988,7,0),\"No\")","v":"No"}]
[24,"046","Villa_de_Arriaga","0193","Arnulfo Vázquez Camarillo (0193)","R","Villa de Arriaga (046)Arnulfo Vázquez Camarillo (0193)",21.897359000000002,-101.39192,0,0,0,0,240460193,null,null,null,{"$f":"IFERROR(VLOOKUP(CONCATENATE(B8249,D8249),Padrón_Indígenas!$A$2:$G$988,7,0),\"No\")","v":"No"}]
[24,"046","Villa_de_Arriaga","0189","Colonia los Manueles (0189)","R","Villa de Arriaga (046)Colonia los Manueles (0189)",21.876552,-101.33102100000001,205,105,100,51,240460189,null,"Muy alto","Alto",{"$f":"IFERROR(VLOOKUP(CONCATENATE(B8254,D8254),Padrón_Indígenas!$A$2:$G$988,7,0),\"No\")","v":"No"}]
[24,"046","Villa_de_Arriaga","0163","Conitos (0163)","R","Villa de Arriaga (046)Conitos (0163)",21.973696,-101.365039,0,0,0,0,240460163,null,null,null,{"$f":"IFERROR(VLOOKUP(CONCATENATE(B8256,D8256),Padrón_Indígenas!$A$2:$G$988,7,0),\"No\")","v":"No"}]
[24,"046","Villa_de_Arriaga","0113","El Carmen (0113)","R","Villa de Arriaga (046)El Carmen (0113)",21.948917000000002,-101.235214,2,"*","*",1,240460113,null,null,null,{"$f":"IFERROR(VLOOKUP(CONCATENATE(B8259,D8259),Padrón_Indígenas!$A$2:$G$988,7,0),\"No\")","v":"No"}]
[24,"046","Villa_de_Arriaga","0166","El Cuervo (0166)","R","Villa de Arriaga (046)El Cuervo (0166)",21.889358000000001,-101.42257499999999,0,0,0,0,240460166,null,null,null,{"$f":"IFERROR(VLOOKUP(CONCATENATE(B8264,D8264),Padrón_Indígenas!$A$2:$G$988,7,0),\"No\")","v":"No"}]
[24,"046","Villa_de_Arriaga","0029","El Jardín (0029)","R","Villa de Arriaga (046)El Jardín (0029)",21.954626000000001,-101.308527,55,32,23,16,240460029,null,"Alto","Muy bajo",{"$f":"IFERROR(VLOOKUP(CONCATENATE(B8267,D8267),Padrón_Indígenas!$A$2:$G$988,7,0),\"No\")","v":"No"}]
[24,"046","Villa_de_Arriaga","0180","El Pastor (0180)","R","Villa de Arriaga (046)El Pastor (0180)",21.922539,-101.273286,11,"*","*",1,240460180,null,null,null,{"$f":"IFERROR(VLOOKUP(CONCATENATE(B8272,D8272),Padrón_Indígenas!$A$2:$G$988,7,0),\"No\")","v":"No"}]
[24,"046","Villa_de_Arriaga","0046","El Pirulito (0046)","R","Villa de Arriaga (046)El Pirulito (0046)",21.852301000000001,-101.41909699999999,0,0,0,0,240460046,null,null,null,{"$f":"IFERROR(VLOOKUP(CONCATENATE(B8275,D8275),Padrón_Indígenas!$A$2:$G$988,7,0),\"No\")","v":"No"}]
[24,"046","Villa_de_Arriaga","0080","El Saucito (0080)","R","Villa de Arriaga (046)El Saucito (0080)",21.864961000000001,-101.475432,0,0,0,0,240460080,null,null,null,{"$f":"IFERROR(VLOOKUP(CONCATENATE(B8277,D8277),Padrón_Indígenas!$A$2:$G$988,7,0),\"No\")","v":"No"}]
[24,"046","Villa_de_Arriaga","0083","El Tepetate (0083)","R","Villa de Arriaga (046)El Tepetate (0083)",22.017714000000002,-101.239833,1367,693,674,336,240460083,"SI","Alto","Medio",{"$f":"IFERROR(VLOOKUP(CONCATENATE(B8280,D8280),Padrón_Indígenas!$A$2:$G$988,7,0),\"No\")","v":"No"}]
[24,"046","Villa_de_Arriaga","0035","Ex-Hacienda San José del Maguey (0035)","R","Villa de Arriaga (046)Ex-Hacienda San José del Maguey (0035)",21.871511000000002,-101.359101,4,"*","*",2,240460035,null,null,null,{"$f":"IFERROR(VLOOKUP(CONCATENATE(B8286,D8286),Padrón_Indígenas!$A$2:$G$988,7,0),\"No\")","v":"No"}]
[24,"046","Villa_de_Arriaga","0201","Fraccionamiento el Rosario (0201)","R","Villa de Arriaga (046)Fraccionamiento el Rosario (0201)",21.834907000000001,-101.44179,1,"*","*",1,240460201,null,null,null,{"$f":"IFERROR(VLOOKUP(CONCATENATE(B8288,D8288),Padrón_Indígenas!$A$2:$G$988,7,0),\"No\")","v":"No"}]
[24,"046","Villa_de_Arriaga","0026","Jaramas (0026)","R","Villa de Arriaga (046)Jaramas (0026)",21.933924000000001,-101.384306,9,"*","*",2,240460026,null,null,null,{"$f":"IFERROR(VLOOKUP(CONCATENATE(B8291,D8291),Padrón_Indígenas!$A$2:$G$988,7,0),\"No\")","v":"No"}]
[24,"046","Villa_de_Arriaga","0158","La Bastilla (0158)","R","Villa de Arriaga (046)La Bastilla (0158)",22.085459,-101.343403,3,"*","*",1,240460158,null,null,null,{"$f":"IFERROR(VLOOKUP(CONCATENATE(B8296,D8296),Padrón_Indígenas!$A$2:$G$988,7,0),\"No\")","v":"No"}]
[24,"046","Villa_de_Arriaga","0164","La Cruz (Armando Campos) (0164)","R","Villa de Arriaga (046)La Cruz (Armando Campos) (0164)",21.881841999999999,-101.397209,0,0,0,0,240460164,null,null,null,{"$f":"IFERROR(VLOOKUP(CONCATENATE(B8300,D8300),Padrón_Indígenas!$A$2:$G$988,7,0),\"No\")","v":"No"}]
[24,"046","Villa_de_Arriaga","0032","La Lugarda (0032)","R","Villa de Arriaga (046)La Lugarda (0032)",21.941844,-101.337574,18,10,8,4,240460032,null,"Muy bajo","Muy bajo",{"$f":"IFERROR(VLOOKUP(CONCATENATE(B8303,D8303),Padrón_Indígenas!$A$2:$G$988,7,0),\"No\")","v":"No"}]
[24,"046","Villa_de_Arriaga","0129","La Manga (0129)","R","Villa de Arriaga (046)La Manga (0129)",21.898945999999999,-101.42952099999999,0,0,0,0,240460129,null,null,null,{"$f":"IFERROR(VLOOKUP(CONCATENATE(B8305,D8305),Padrón_Indígenas!$A$2:$G$988,7,0),\"No\")","v":"No"}]
[24,"046","Villa_de_Arriaga","0151","La Paila (Maravillas) (0151)","R","Villa de Arriaga (046)La Paila (Maravillas) (0151)",21.895902,-101.436654,1,"*","*",1,240460151,null,null,null,{"$f":"IFERROR(VLOOKUP(CONCATENATE(B8308,D8308),Padrón_Indígenas!$A$2:$G$988,7,0),\"No\")","v":"No"}]
[24,"046","Villa_de_Arriaga","0092","La Puerta del Terrero (0092)","R","Villa de Arriaga (046)La Puerta del Terrero (0092)",21.952504000000001,-101.17102300000001,24,16,8,7,240460092,null,"Muy alto","Alto",{"$f":"IFERROR(VLOOKUP(CONCATENATE(B8311,D8311),Padrón_Indígenas!$A$2:$G$988,7,0),\"No\")","v":"No"}]
[24,"046","Villa_de_Arriaga","0192","La Soledad (Andrés Cano Rentería) (0192)","R","Villa de Arriaga (046)La Soledad (Andrés Cano Rentería) (0192)",21.974806999999998,-101.310986,8,"*","*",2,240460192,null,null,null,{"$f":"IFERROR(VLOOKUP(CONCATENATE(B8314,D8314),Padrón_Indígenas!$A$2:$G$988,7,0),\"No\")","v":"No"}]
[24,"046","Villa_de_Arriaga","0128","Las Norias Anexo el Mezquital (Las Mangas) (0128)","R","Villa de Arriaga (046)Las Norias Anexo el Mezquital (Las Mangas) (0128)",22.073222999999999,-101.29355200000001,20,10,10,5,240460128,null,"Alto","Medio",{"$f":"IFERROR(VLOOKUP(CONCATENATE(B8319,D8319),Padrón_Indígenas!$A$2:$G$988,7,0),\"No\")","v":"No"}]
[24,"046","Villa_de_Arriaga","0013","Los Conos (0013)","R","Villa de Arriaga (046)Los Conos (0013)",21.941927,-101.323127,2,"*","*",1,240460013,null,null,null,{"$f":"IFERROR(VLOOKUP(CONCATENATE(B8323,D8323),Padrón_Indígenas!$A$2:$G$988,7,0),\"No\")","v":"No"}]
[24,"046","Villa_de_Arriaga","0178","Merced López (0178)","R","Villa de Arriaga (046)Merced López (0178)",21.984166999999999,-101.33888899999999,0,0,0,0,240460178,null,null,null,{"$f":"IFERROR(VLOOKUP(CONCATENATE(B8327,D8327),Padrón_Indígenas!$A$2:$G$988,7,0),\"No\")","v":"No"}]
[24,"046","Villa_de_Arriaga","0042","Ojo de Agua de Juan Pérez (0042)","R","Villa de Arriaga (046)Ojo de Agua de Juan Pérez (0042)",22.063894999999999,-101.204678,75,38,37,15,240460042,null,"Alto","Medio",{"$f":"IFERROR(VLOOKUP(CONCATENATE(B8328,D8328),Padrón_Indígenas!$A$2:$G$988,7,0),\"No\")","v":"No"}]
[24,"046","Villa_de_Arriaga","0055","Puerto Espino (0055)","R","Villa de Arriaga (046)Puerto Espino (0055)",22.120508999999998,-101.263582,60,27,33,16,240460055,null,"Alto","Medio",{"$f":"IFERROR(VLOOKUP(CONCATENATE(B8332,D8332),Padrón_Indígenas!$A$2:$G$988,7,0),\"No\")","v":"No"}]
[24,"046","Villa_de_Arriaga","0183","Refugio de los Campos (La Soledad) (0183)","R","Villa de Arriaga (046)Refugio de los Campos (La Soledad) (0183)",21.960923000000001,-101.352413,5,"*","*",1,240460183,null,null,null,{"$f":"IFERROR(VLOOKUP(CONCATENATE(B8337,D8337),Padrón_Indígenas!$A$2:$G$988,7,0),\"No\")","v":"No"}]
[24,"046","Villa_de_Arriaga","0058","San Antonio (0058)","R","Villa de Arriaga (046)San Antonio (0058)",22.055439,-101.177879,940,471,469,222,240460058,"SI","Alto","Medio",{"$f":"IFERROR(VLOOKUP(CONCATENATE(B8339,D8339),Padrón_Indígenas!$A$2:$G$988,7,0),\"No\")","v":"No"}]
[24,"046","Villa_de_Arriaga","0122","San Antonio Puerta del Refugio (0122)","R","Villa de Arriaga (046)San Antonio Puerta del Refugio (0122)",21.847545,-101.366197,25,13,12,4,240460122,null,"Alto","Bajo",{"$f":"IFERROR(VLOOKUP(CONCATENATE(B8342,D8342),Padrón_Indígenas!$A$2:$G$988,7,0),\"No\")","v":"No"}]
[24,"046","Villa_de_Arriaga","0185","San Elías (0185)","R","Villa de Arriaga (046)San Elías (0185)",21.850034999999998,-101.36058,0,0,0,0,240460185,null,null,null,{"$f":"IFERROR(VLOOKUP(CONCATENATE(B8347,D8347),Padrón_Indígenas!$A$2:$G$988,7,0),\"No\")","v":"No"}]
[24,"046","Villa_de_Arriaga","0065","San Isidro (0065)","R","Villa de Arriaga (046)San Isidro (0065)",22.016069000000002,-101.32392299999999,24,13,11,8,240460065,null,"Alto","Medio",{"$f":"IFERROR(VLOOKUP(CONCATENATE(B8351,D8351),Padrón_Indígenas!$A$2:$G$988,7,0),\"No\")","v":"No"}]
[24,"046","Villa_de_Arriaga","0138","San Isidro de los Duarte (0138)","R","Villa de Arriaga (046)San Isidro de los Duarte (0138)",21.961946999999999,-101.32799199999999,14,6,8,3,240460138,null,"Muy alto","Alto",{"$f":"IFERROR(VLOOKUP(CONCATENATE(B8355,D8355),Padrón_Indígenas!$A$2:$G$988,7,0),\"No\")","v":"No"}]
[24,"046","Villa_de_Arriaga","0139","San José (0139)","R","Villa de Arriaga (046)San José (0139)",21.960191999999999,-101.35126700000001,13,6,7,4,240460139,null,"Alto","Medio",{"$f":"IFERROR(VLOOKUP(CONCATENATE(B8358,D8358),Padrón_Indígenas!$A$2:$G$988,7,0),\"No\")","v":"No"}]
[24,"046","Villa_de_Arriaga","0094","San José de Gracia (0094)","R","Villa de Arriaga (046)San José de Gracia (0094)",21.974575999999999,-101.326275,24,13,11,4,240460094,null,"Alto","Medio",{"$f":"IFERROR(VLOOKUP(CONCATENATE(B8360,D8360),Padrón_Indígenas!$A$2:$G$988,7,0),\"No\")","v":"No"}]
[24,"046","Villa_de_Arriaga","0148","San Juan (0148)","R","Villa de Arriaga (046)San Juan (0148)",21.865375,-101.424046,0,0,0,0,240460148,null,null,null,{"$f":"IFERROR(VLOOKUP(CONCATENATE(B8363,D8363),Padrón_Indígenas!$A$2:$G$988,7,0),\"No\")","v":"No"}]
[24,"046","Villa_de_Arriaga","0072","San Pedro (0072)","R","Villa de Arriaga (046)San Pedro (0072)",21.964763999999999,-101.311772,7,"*","*",1,240460072,null,null,null,{"$f":"IFERROR(VLOOKUP(CONCATENATE(B8369,D8369),Padrón_Indígenas!$A$2:$G$988,7,0),\"No\")","v":"No"}]
[24,"046","Villa_de_Arriaga","0142","San Rafael de la Laguna (0142)","R","Villa de Arriaga (046)San Rafael de la Laguna (0142)",21.985624000000001,-101.331191,10,"*","*",1,240460142,null,null,null,{"$f":"IFERROR(VLOOKUP(CONCATENATE(B8371,D8371),Padrón_Indígenas!$A$2:$G$988,7,0),\"No\")","v":"No"}]
[24,"046","Villa_de_Arriaga","0074","Santa Clara de los Bordos (0074)","R","Villa de Arriaga (046)Santa Clara de los Bordos (0074)",21.951215000000001,-101.388384,40,18,22,11,240460074,null,"Muy alto","Alto",{"$f":"IFERROR(VLOOKUP(CONCATENATE(B8374,D8374),Padrón_Indígenas!$A$2:$G$988,7,0),\"No\")","v":"No"}]
[24,"046","Villa_de_Arriaga","0191","Saucillo (La Joya) (0191)","R","Villa de Arriaga (046)Saucillo (La Joya) (0191)",22.051383999999999,-101.199776,0,0,0,0,240460191,null,null,null,{"$f":"IFERROR(VLOOKUP(CONCATENATE(B8379,D8379),Padrón_Indígenas!$A$2:$G$988,7,0),\"No\")","v":"No"}]
[24,"046","Villa_de_Arriaga",null,"Todo el municipio ",null,"Villa de Arriaga (046)Todo el municipio ",null,null,{"$f":"SUM(J8245:J8382)","v":16316}]
[24,"047","Villa_de_Guadalupe","0004","Arroyo Seco (0004)","R","Villa de Guadalupe (047)Arroyo Seco (0004)",23.392872000000001,-100.74417,94,47,47,26,240470004,null,"Medio","Bajo",{"$f":"IFERROR(VLOOKUP(CONCATENATE(B8386,D8386),Padrón_Indígenas!$A$2:$G$988,7,0),\"No\")","v":"No"}]
[24,"047","Villa_de_Guadalupe","0007","Bustamante (Las Trojas) (0007)","R","Villa de Guadalupe (047)Bustamante (Las Trojas) (0007)",23.018591000000001,-100.82094499999999,130,72,58,35,240470007,null,"Alto","Medio",{"$f":"IFERROR(VLOOKUP(CONCATENATE(B8388,D8388),Padrón_Indígenas!$A$2:$G$988,7,0),\"No\")","v":"No"}]
[24,"047","Villa_de_Guadalupe","0116","Crucero de San Francisco (0116)","R","Villa de Guadalupe (047)Crucero de San Francisco (0116)",23.078848000000001,-100.50117899999999,10,"*","*",2,240470116,null,null,null,{"$f":"IFERROR(VLOOKUP(CONCATENATE(B8391,D8391),Padrón_Indígenas!$A$2:$G$988,7,0),\"No\")","v":"No"}]
[24,"047","Villa_de_Guadalupe","0081","El Cuervo (0081)","R","Villa de Guadalupe (047)El Cuervo (0081)",23.215032000000001,-100.87426600000001,0,0,0,0,240470081,null,null,null,{"$f":"IFERROR(VLOOKUP(CONCATENATE(B8397,D8397),Padrón_Indígenas!$A$2:$G$988,7,0),\"No\")","v":"No"}]
[24,"047","Villa_de_Guadalupe","0137","El Gavilán (0137)","R","Villa de Guadalupe (047)El Gavilán (0137)",23.156556999999999,-100.585753,6,"*","*",1,240470137,null,null,null,{"$f":"IFERROR(VLOOKUP(CONCATENATE(B8399,D8399),Padrón_Indígenas!$A$2:$G$988,7,0),\"No\")","v":"No"}]
[24,"047","Villa_de_Guadalupe","0020","El Matorral (0020)","R","Villa de Guadalupe (047)El Matorral (0020)",23.295926000000001,-100.800466,55,24,31,12,240470020,null,"Alto","Muy bajo",{"$f":"IFERROR(VLOOKUP(CONCATENATE(B8402,D8402),Padrón_Indígenas!$A$2:$G$988,7,0),\"No\")","v":"No"}]
[24,"047","Villa_de_Guadalupe","0086","Hacienda Santa Rosa (0086)","R","Villa de Guadalupe (047)Hacienda Santa Rosa (0086)",23.197735999999999,-100.59001600000001,0,0,0,0,240470086,null,null,null,{"$f":"IFERROR(VLOOKUP(CONCATENATE(B8407,D8407),Padrón_Indígenas!$A$2:$G$988,7,0),\"No\")","v":"No"}]
[24,"047","Villa_de_Guadalupe","0005","La Biznaga (0005)","R","Villa de Guadalupe (047)La Biznaga (0005)",23.465367000000001,-100.709401,105,55,50,34,240470005,null,"Bajo","Muy bajo",{"$f":"IFERROR(VLOOKUP(CONCATENATE(B8410,D8410),Padrón_Indígenas!$A$2:$G$988,7,0),\"No\")","v":"No"}]
[24,"047","Villa_de_Guadalupe","0096","La Campana de los Álamos (0096)","R","Villa de Guadalupe (047)La Campana de los Álamos (0096)",23.193480000000001,-100.62686100000001,15,8,7,4,240470096,"SI","Muy bajo","Muy bajo",{"$f":"IFERROR(VLOOKUP(CONCATENATE(B8411,D8411),Padrón_Indígenas!$A$2:$G$988,7,0),\"No\")","v":"No"}]
[24,"047","Villa_de_Guadalupe","0015","La Joya (0015)","R","Villa de Guadalupe (047)La Joya (0015)",23.249189999999999,-100.877067,143,67,76,35,240470015,null,"Alto","Bajo",{"$f":"IFERROR(VLOOKUP(CONCATENATE(B8415,D8415),Padrón_Indígenas!$A$2:$G$988,7,0),\"No\")","v":"No"}]
[24,"047","Villa_de_Guadalupe","0029","La Presita (0029)","R","Villa de Guadalupe (047)La Presita (0029)",23.506803999999999,-100.723389,252,130,122,65,240470029,null,"Medio","Bajo",{"$f":"IFERROR(VLOOKUP(CONCATENATE(B8420,D8420),Padrón_Indígenas!$A$2:$G$988,7,0),\"No\")","v":"No"}]
[24,"047","Villa_de_Guadalupe","0030","La Puerta de la Jara Brava (0030)","R","Villa de Guadalupe (047)La Puerta de la Jara Brava (0030)",23.319078999999999,-100.79030400000001,16,7,9,4,240470030,null,"Alto","Bajo",{"$f":"IFERROR(VLOOKUP(CONCATENATE(B8423,D8423),Padrón_Indígenas!$A$2:$G$988,7,0),\"No\")","v":"No"}]
[24,"047","Villa_de_Guadalupe","0087","La Tinaja Colorada (0087)","R","Villa de Guadalupe (047)La Tinaja Colorada (0087)",23.210167999999999,-100.871696,9,"*","*",1,240470087,null,null,null,{"$f":"IFERROR(VLOOKUP(CONCATENATE(B8425,D8425),Padrón_Indígenas!$A$2:$G$988,7,0),\"No\")","v":"No"}]
[24,"047","Villa_de_Guadalupe","0017","Llano de Jesús María (0017)","R","Villa de Guadalupe (047)Llano de Jesús María (0017)",23.415189000000002,-100.74427799999999,238,119,119,58,240470017,null,"Alto","Bajo",{"$f":"IFERROR(VLOOKUP(CONCATENATE(B8430,D8430),Padrón_Indígenas!$A$2:$G$988,7,0),\"No\")","v":"No"}]
[24,"047","Villa_de_Guadalupe","0107","Los Llanos (Rancho Nuevo) (0107)","R","Villa de Guadalupe (047)Los Llanos (Rancho Nuevo) (0107)",23.244721999999999,-100.616111,4,"*","*",1,240470107,null,null,null,{"$f":"IFERROR(VLOOKUP(CONCATENATE(B8434,D8434),Padrón_Indígenas!$A$2:$G$988,7,0),\"No\")","v":"No"}]
[24,"047","Villa_de_Guadalupe","0022","Ojo de Agua de Rodríguez (0022)","R","Villa de Guadalupe (047)Ojo de Agua de Rodríguez (0022)",23.468440999999999,-100.842163,86,49,37,19,240470022,null,"Alto","Bajo",{"$f":"IFERROR(VLOOKUP(CONCATENATE(B8438,D8438),Padrón_Indígenas!$A$2:$G$988,7,0),\"No\")","v":"No"}]
[24,"047","Villa_de_Guadalupe","0025","Palo Blanco (0025)","R","Villa de Guadalupe (047)Palo Blanco (0025)",23.114984,-100.586443,314,167,147,68,240470025,"SI","Alto","Medio",{"$f":"IFERROR(VLOOKUP(CONCATENATE(B8439,D8439),Padrón_Indígenas!$A$2:$G$988,7,0),\"No\")","v":"No"}]
[24,"047","Villa_de_Guadalupe","0058","Potosinas [Granjas Productivas] (0058)","R","Villa de Guadalupe (047)Potosinas [Granjas Productivas] (0058)",23.103135000000002,-100.50781000000001,0,0,0,0,240470058,null,null,null,{"$f":"IFERROR(VLOOKUP(CONCATENATE(B8443,D8443),Padrón_Indígenas!$A$2:$G$988,7,0),\"No\")","v":"No"}]
[24,"047","Villa_de_Guadalupe","0035","Rancho Alegre (0035)","R","Villa de Guadalupe (047)Rancho Alegre (0035)",23.283391000000002,-100.84079300000001,431,232,199,110,240470035,"SI","Alto","Bajo",{"$f":"IFERROR(VLOOKUP(CONCATENATE(B8448,D8448),Padrón_Indígenas!$A$2:$G$988,7,0),\"No\")","v":"No"}]
[24,"047","Villa_de_Guadalupe","0109","Rancho la Perla (Los Desmontes) (0109)","R","Villa de Guadalupe (047)Rancho la Perla (Los Desmontes) (0109)",23.262165,-100.829269,8,"*","*",1,240470109,null,null,null,{"$f":"IFERROR(VLOOKUP(CONCATENATE(B8451,D8451),Padrón_Indígenas!$A$2:$G$988,7,0),\"No\")","v":"No"}]
[24,"047","Villa_de_Guadalupe","0142","Rancho Nayeli (0142)","R","Villa de Guadalupe (047)Rancho Nayeli (0142)",23.170532000000001,-100.602018,9,"*","*",1,240470142,null,null,null,{"$f":"IFERROR(VLOOKUP(CONCATENATE(B8454,D8454),Padrón_Indígenas!$A$2:$G$988,7,0),\"No\")","v":"No"}]
[24,"047","Villa_de_Guadalupe","0039","San Antonio de la Ordeña (0039)","R","Villa de Guadalupe (047)San Antonio de la Ordeña (0039)",23.176435999999999,-100.731183,243,131,112,59,240470039,null,"Alto","Medio",{"$f":"IFERROR(VLOOKUP(CONCATENATE(B8457,D8457),Padrón_Indígenas!$A$2:$G$988,7,0),\"No\")","v":"No"}]
[24,"047","Villa_de_Guadalupe","0042","San Francisco (0042)","R","Villa de Guadalupe (047)San Francisco (0042)",23.071715999999999,-100.562021,378,179,199,86,240470042,null,"Alto","Medio",{"$f":"IFERROR(VLOOKUP(CONCATENATE(B8462,D8462),Padrón_Indígenas!$A$2:$G$988,7,0),\"No\")","v":"No"}]
[24,"047","Villa_de_Guadalupe","0045","San José de los Orozco (0045)","R","Villa de Guadalupe (047)San José de los Orozco (0045)",23.437480000000001,-100.69122299999999,32,12,20,10,240470045,null,"Alto","Bajo",{"$f":"IFERROR(VLOOKUP(CONCATENATE(B8466,D8466),Padrón_Indígenas!$A$2:$G$988,7,0),\"No\")","v":"No"}]
[24,"047","Villa_de_Guadalupe","0044","San José del Muerto (0044)","R","Villa de Guadalupe (047)San José del Muerto (0044)",23.367678999999999,-100.808674,201,103,98,53,240470044,null,"Alto","Bajo",{"$f":"IFERROR(VLOOKUP(CONCATENATE(B8467,D8467),Padrón_Indígenas!$A$2:$G$988,7,0),\"No\")","v":"No"}]
[24,"047","Villa_de_Guadalupe","0124","San Pedro (0124)","R","Villa de Guadalupe (047)San Pedro (0124)",23.211554,-100.55047,0,0,0,0,240470124,null,null,null,{"$f":"IFERROR(VLOOKUP(CONCATENATE(B8471,D8471),Padrón_Indígenas!$A$2:$G$988,7,0),\"No\")","v":"No"}]
[24,"047","Villa_de_Guadalupe","0024","Santa Inés de la Obscura (0024)","R","Villa de Guadalupe (047)Santa Inés de la Obscura (0024)",23.315618000000001,-100.842313,70,34,36,19,240470024,null,"Alto","Medio",{"$f":"IFERROR(VLOOKUP(CONCATENATE(B8474,D8474),Padrón_Indígenas!$A$2:$G$988,7,0),\"No\")","v":"No"}]
[24,"047","Villa_de_Guadalupe","0019","Santa Rosa la Masita (0019)","R","Villa de Guadalupe (047)Santa Rosa la Masita (0019)",23.157526000000001,-100.608225,526,268,258,112,240470019,null,"Alto","Medio",{"$f":"IFERROR(VLOOKUP(CONCATENATE(B8480,D8480),Padrón_Indígenas!$A$2:$G$988,7,0),\"No\")","v":"No"}]
[24,"047","Villa_de_Guadalupe","0052","Santa Teresa (0052)","R","Villa de Guadalupe (047)Santa Teresa (0052)",23.012948000000002,-100.544219,517,251,266,100,240470052,null,"Alto","Medio",{"$f":"IFERROR(VLOOKUP(CONCATENATE(B8482,D8482),Padrón_Indígenas!$A$2:$G$988,7,0),\"No\")","v":"No"}]
[24,"047","Villa_de_Guadalupe","0126","Servicio la Central 57 (La Estancia) [Gasolinera] (0126)","R","Villa de Guadalupe (047)Servicio la Central 57 (La Estancia) [Gasolinera] (0126)",23.165921999999998,-100.52374,0,0,0,0,240470126,null,null,null,{"$f":"IFERROR(VLOOKUP(CONCATENATE(B8485,D8485),Padrón_Indígenas!$A$2:$G$988,7,0),\"No\")","v":"No"}]
[24,"047","Villa_de_Guadalupe","0112","Viñedos (0112)","R","Villa de Guadalupe (047)Viñedos (0112)",23.102979000000001,-100.50547299999999,0,0,0,0,240470112,null,null,null,{"$f":"IFERROR(VLOOKUP(CONCATENATE(B8490,D8490),Padrón_Indígenas!$A$2:$G$988,7,0),\"No\")","v":"No"}]
[24,"048","Villa_de_la_Paz","0004","El Carmen (0004)","R","Villa de la Paz (048)El Carmen (0004)",23.684103,-100.683306,69,35,34,15,240480004,null,"Alto","Muy bajo",{"$f":"IFERROR(VLOOKUP(CONCATENATE(B8494,D8494),Padrón_Indígenas!$A$2:$G$988,7,0),\"No\")","v":"No"}]
[24,"048","Villa_de_la_Paz","0006","El Jato (0006)","R","Villa de la Paz (048)El Jato (0006)",23.679690000000001,-100.752483,159,82,77,41,240480006,null,"Alto","Medio",{"$f":"IFERROR(VLOOKUP(CONCATENATE(B8495,D8495),Padrón_Indígenas!$A$2:$G$988,7,0),\"No\")","v":"No"}]
[24,"048","Villa_de_la_Paz","0003","La Boca (0003)","R","Villa de la Paz (048)La Boca (0003)",23.657841999999999,-100.731363,450,216,234,97,240480003,"SI","Bajo","Muy bajo",{"$f":"IFERROR(VLOOKUP(CONCATENATE(B8498,D8498),Padrón_Indígenas!$A$2:$G$988,7,0),\"No\")","v":"No"}]
[24,"048","Villa_de_la_Paz","0020","Rosalío Noriega (0020)","R","Villa de la Paz (048)Rosalío Noriega (0020)",23.66891,-100.714544,0,0,0,0,240480020,null,null,null,{"$f":"IFERROR(VLOOKUP(CONCATENATE(B8503,D8503),Padrón_Indígenas!$A$2:$G$988,7,0),\"No\")","v":"No"}]
[24,"048","Villa_de_la_Paz","0001","Villa de la Paz (0001)","U","Villa de la Paz (048)Villa de la Paz (0001)",23.675350999999999,-100.713171,3734,1872,1862,911,240480001,"SI",null,null,{"$f":"IFERROR(VLOOKUP(CONCATENATE(B8506,D8506),Padrón_Indígenas!$A$2:$G$988,7,0),\"No\")","v":"No"}]
[24,"049","Villa_de_Ramos","0002","Agua Nueva (0002)","R","Villa de Ramos (049)Agua Nueva (0002)",22.757318000000001,-101.88108699999999,54,28,26,11,240490002,null,"Alto","Medio",{"$f":"IFERROR(VLOOKUP(CONCATENATE(B8508,D8508),Padrón_Indígenas!$A$2:$G$988,7,0),\"No\")","v":"No"}]
[24,"049","Villa_de_Ramos","0126","Buenavista (Los Arenalitos) (0126)","R","Villa de Ramos (049)Buenavista (Los Arenalitos) (0126)",22.851666999999999,-102.040278,30,11,19,5,240490126,null,"Alto","Muy bajo",{"$f":"IFERROR(VLOOKUP(CONCATENATE(B8514,D8514),Padrón_Indígenas!$A$2:$G$988,7,0),\"No\")","v":"No"}]
[24,"049","Villa_de_Ramos","0011","Charco Blanco (0011)","R","Villa de Ramos (049)Charco Blanco (0011)",22.960253000000002,-101.761454,0,0,0,0,240490011,null,null,null,{"$f":"IFERROR(VLOOKUP(CONCATENATE(B8517,D8517),Padrón_Indígenas!$A$2:$G$988,7,0),\"No\")","v":"No"}]
[24,"049","Villa_de_Ramos","0012","Dulce Grande (0012)","U","Villa de Ramos (049)Dulce Grande (0012)",23.00282,-102.17427000000001,5967,2981,2986,1400,240490012,"SI",null,null,{"$f":"IFERROR(VLOOKUP(CONCATENATE(B8521,D8521),Padrón_Indígenas!$A$2:$G$988,7,0),\"No\")","v":"No"}]
[24,"049","Villa_de_Ramos","0071","El Ancón (0071)","R","Villa de Ramos (049)El Ancón (0071)",22.902609000000002,-102.07516,0,0,0,0,240490071,null,null,null,{"$f":"IFERROR(VLOOKUP(CONCATENATE(B8522,D8522),Padrón_Indígenas!$A$2:$G$988,7,0),\"No\")","v":"No"}]
[24,"049","Villa_de_Ramos","0106","El Cuervo (0106)","R","Villa de Ramos (049)El Cuervo (0106)",23.05,-102.200833,14,7,7,3,240490106,null,"Alto","Medio",{"$f":"IFERROR(VLOOKUP(CONCATENATE(B8526,D8526),Padrón_Indígenas!$A$2:$G$988,7,0),\"No\")","v":"No"}]
[24,"049","Villa_de_Ramos","0066","El Durazno (0066)","R","Villa de Ramos (049)El Durazno (0066)",23.066431000000001,-101.98494599999999,0,0,0,0,240490066,null,null,null,{"$f":"IFERROR(VLOOKUP(CONCATENATE(B8531,D8531),Padrón_Indígenas!$A$2:$G$988,7,0),\"No\")","v":"No"}]
[24,"049","Villa_de_Ramos","0200","El Mulato (0200)","R","Villa de Ramos (049)El Mulato (0200)",23.115796,-102.128713,0,0,0,0,240490200,null,null,null,{"$f":"IFERROR(VLOOKUP(CONCATENATE(B8534,D8534),Padrón_Indígenas!$A$2:$G$988,7,0),\"No\")","v":"No"}]
[24,"049","Villa_de_Ramos","0259","El Palmarcito (José Dueñas Arellano) (0259)","R","Villa de Ramos (049)El Palmarcito (José Dueñas Arellano) (0259)",22.816110999999999,-102.038056,0,0,0,0,240490259,null,null,null,{"$f":"IFERROR(VLOOKUP(CONCATENATE(B8536,D8536),Padrón_Indígenas!$A$2:$G$988,7,0),\"No\")","v":"No"}]
[24,"049","Villa_de_Ramos","0255","El Sacrificio (0255)","R","Villa de Ramos (049)El Sacrificio (0255)",22.997668000000001,-101.71427799999999,4,"*","*",1,240490255,null,null,null,{"$f":"IFERROR(VLOOKUP(CONCATENATE(B8542,D8542),Padrón_Indígenas!$A$2:$G$988,7,0),\"No\")","v":"No"}]
[24,"049","Villa_de_Ramos","0123","El Tigre (0123)","R","Villa de Ramos (049)El Tigre (0123)",22.950554,-101.880639,11,6,5,3,240490123,null,"Alto","Bajo",{"$f":"IFERROR(VLOOKUP(CONCATENATE(B8545,D8545),Padrón_Indígenas!$A$2:$G$988,7,0),\"No\")","v":"No"}]
[24,"049","Villa_de_Ramos","0230","El Yugo (0230)","R","Villa de Ramos (049)El Yugo (0230)",23.103417,-102.204515,0,0,0,0,240490230,null,null,null,{"$f":"IFERROR(VLOOKUP(CONCATENATE(B8549,D8549),Padrón_Indígenas!$A$2:$G$988,7,0),\"No\")","v":"No"}]
[24,"049","Villa_de_Ramos","0043","El Zacatón (0043)","U","Villa de Ramos (049)El Zacatón (0043)",22.802629,-102.038906,6240,3040,3200,1505,240490043,"SI",null,null,{"$f":"IFERROR(VLOOKUP(CONCATENATE(B8550,D8550),Padrón_Indígenas!$A$2:$G$988,7,0),\"No\")","v":"No"}]
[24,"049","Villa_de_Ramos","0015","Emiliano Zapata (0015)","R","Villa de Ramos (049)Emiliano Zapata (0015)",22.699272000000001,-101.92895300000001,354,161,193,82,240490015,null,"Alto","Bajo",{"$f":"IFERROR(VLOOKUP(CONCATENATE(B8554,D8554),Padrón_Indígenas!$A$2:$G$988,7,0),\"No\")","v":"No"}]
[24,"049","Villa_de_Ramos","0218","Guadalupe Nava Elizalde (Salitral de Carrera) (0218)","R","Villa de Ramos (049)Guadalupe Nava Elizalde (Salitral de Carrera) (0218)",22.864408000000001,-102.096057,0,0,0,0,240490218,null,null,null,{"$f":"IFERROR(VLOOKUP(CONCATENATE(B8558,D8558),Padrón_Indígenas!$A$2:$G$988,7,0),\"No\")","v":"No"}]
[24,"049","Villa_de_Ramos","0243","Juan Antonio López Torres (0243)","R","Villa de Ramos (049)Juan Antonio López Torres (0243)",23.088525000000001,-102.155652,11,"*","*",2,240490243,null,null,null,{"$f":"IFERROR(VLOOKUP(CONCATENATE(B8563,D8563),Padrón_Indígenas!$A$2:$G$988,7,0),\"No\")","v":"No"}]
[24,"049","Villa_de_Ramos","0062","La Boqueña (0062)","R","Villa de Ramos (049)La Boqueña (0062)",22.960315999999999,-101.90357400000001,6,"*","*",2,240490062,null,null,null,{"$f":"IFERROR(VLOOKUP(CONCATENATE(B8565,D8565),Padrón_Indígenas!$A$2:$G$988,7,0),\"No\")","v":"No"}]
[24,"049","Villa_de_Ramos","0010","La Concepción (0010)","R","Villa de Ramos (049)La Concepción (0010)",23.073885000000001,-102.21852699999999,418,202,216,104,240490010,null,"Alto","Bajo",{"$f":"IFERROR(VLOOKUP(CONCATENATE(B8568,D8568),Padrón_Indígenas!$A$2:$G$988,7,0),\"No\")","v":"No"}]
[24,"049","Villa_de_Ramos","0175","La Fábrica (0175)","R","Villa de Ramos (049)La Fábrica (0175)",23.042494999999999,-102.025752,0,0,0,0,240490175,null,null,null,{"$f":"IFERROR(VLOOKUP(CONCATENATE(B8573,D8573),Padrón_Indígenas!$A$2:$G$988,7,0),\"No\")","v":"No"}]
[24,"049","Villa_de_Ramos","0019","La Herradura (0019)","R","Villa de Ramos (049)La Herradura (0019)",23.029363,-101.747996,2199,1075,1124,473,240490019,null,"Alto","Bajo",{"$f":"IFERROR(VLOOKUP(CONCATENATE(B8577,D8577),Padrón_Indígenas!$A$2:$G$988,7,0),\"No\")","v":"No"}]
[24,"049","Villa_de_Ramos","0064","La Joya (0064)","R","Villa de Ramos (049)La Joya (0064)",22.924295999999998,-102.056145,3,"*","*",1,240490064,null,null,null,{"$f":"IFERROR(VLOOKUP(CONCATENATE(B8578,D8578),Padrón_Indígenas!$A$2:$G$988,7,0),\"No\")","v":"No"}]
[24,"049","Villa_de_Ramos","0202","La Paila (0202)","R","Villa de Ramos (049)La Paila (0202)",22.978884999999998,-102.201212,0,0,0,0,240490202,null,null,null,{"$f":"IFERROR(VLOOKUP(CONCATENATE(B8582,D8582),Padrón_Indígenas!$A$2:$G$988,7,0),\"No\")","v":"No"}]
[24,"049","Villa_de_Ramos","0109","La Zona (0109)","R","Villa de Ramos (049)La Zona (0109)",23.035768000000001,-102.126813,12,"*","*",2,240490109,null,null,null,{"$f":"IFERROR(VLOOKUP(CONCATENATE(B8586,D8586),Padrón_Indígenas!$A$2:$G$988,7,0),\"No\")","v":"No"}]
[24,"049","Villa_de_Ramos","0006","Las Caliches (0006)","R","Villa de Ramos (049)Las Caliches (0006)",22.846806000000001,-101.85515700000001,4,"*","*",1,240490006,null,null,null,{"$f":"IFERROR(VLOOKUP(CONCATENATE(B8591,D8591),Padrón_Indígenas!$A$2:$G$988,7,0),\"No\")","v":"No"}]
[24,"049","Villa_de_Ramos","0113","Las Escobas (0113)","R","Villa de Ramos (049)Las Escobas (0113)",22.755648000000001,-102.025863,88,45,43,23,240490113,null,"Alto","Bajo",{"$f":"IFERROR(VLOOKUP(CONCATENATE(B8593,D8593),Padrón_Indígenas!$A$2:$G$988,7,0),\"No\")","v":"No"}]
[24,"049","Villa_de_Ramos","0192","Las Maravillas (0192)","R","Villa de Ramos (049)Las Maravillas (0192)",22.835038999999998,-101.703294,0,0,0,0,240490192,null,null,null,{"$f":"IFERROR(VLOOKUP(CONCATENATE(B8597,D8597),Padrón_Indígenas!$A$2:$G$988,7,0),\"No\")","v":"No"}]
[24,"049","Villa_de_Ramos","0260","Loma del Huizachillo (0260)","R","Villa de Ramos (049)Loma del Huizachillo (0260)",23.015309999999999,-101.745338,7,"*","*",1,240490260,null,null,null,{"$f":"IFERROR(VLOOKUP(CONCATENATE(B8600,D8600),Padrón_Indígenas!$A$2:$G$988,7,0),\"No\")","v":"No"}]
[24,"049","Villa_de_Ramos","0242","Los Coronado (0242)","R","Villa de Ramos (049)Los Coronado (0242)",22.877144000000001,-102.08510200000001,0,0,0,0,240490242,null,null,null,{"$f":"IFERROR(VLOOKUP(CONCATENATE(B8602,D8602),Padrón_Indígenas!$A$2:$G$988,7,0),\"No\")","v":"No"}]
[24,"049","Villa_de_Ramos","0186","Los Laureles (Pozo Cuarenta) (0186)","R","Villa de Ramos (049)Los Laureles (Pozo Cuarenta) (0186)",23.047698,-102.17767600000001,0,0,0,0,240490186,null,null,null,{"$f":"IFERROR(VLOOKUP(CONCATENATE(B8605,D8605),Padrón_Indígenas!$A$2:$G$988,7,0),\"No\")","v":"No"}]
[24,"049","Villa_de_Ramos","0237","Machuca (0237)","R","Villa de Ramos (049)Machuca (0237)",23.033922,-101.864503,4,"*","*",2,240490237,null,null,null,{"$f":"IFERROR(VLOOKUP(CONCATENATE(B8609,D8609),Padrón_Indígenas!$A$2:$G$988,7,0),\"No\")","v":"No"}]
[24,"049","Villa_de_Ramos","0024","Noria del Gato (0024)","R","Villa de Ramos (049)Noria del Gato (0024)",22.945703999999999,-102.172089,440,236,204,109,240490024,null,"Medio","Muy bajo",{"$f":"IFERROR(VLOOKUP(CONCATENATE(B8614,D8614),Padrón_Indígenas!$A$2:$G$988,7,0),\"No\")","v":"No"}]
[24,"049","Villa_de_Ramos","0069","Nuevo San Francisco (0069)","R","Villa de Ramos (049)Nuevo San Francisco (0069)",22.828945999999998,-101.808424,263,130,133,45,240490069,null,"Alto","Medio",{"$f":"IFERROR(VLOOKUP(CONCATENATE(B8617,D8617),Padrón_Indígenas!$A$2:$G$988,7,0),\"No\")","v":"No"}]
[24,"049","Villa_de_Ramos","0111","Palma Verde (0111)","R","Villa de Ramos (049)Palma Verde (0111)",23.089635999999999,-101.91687,0,0,0,0,240490111,null,null,null,{"$f":"IFERROR(VLOOKUP(CONCATENATE(B8619,D8619),Padrón_Indígenas!$A$2:$G$988,7,0),\"No\")","v":"No"}]
[24,"049","Villa_de_Ramos","0240","Pozo de Don Elías (0240)","R","Villa de Ramos (049)Pozo de Don Elías (0240)",22.999635000000001,-102.193713,1,"*","*",1,240490240,null,null,null,{"$f":"IFERROR(VLOOKUP(CONCATENATE(B8625,D8625),Padrón_Indígenas!$A$2:$G$988,7,0),\"No\")","v":"No"}]
[24,"049","Villa_de_Ramos","0152","Pozo el Gallito [Deshidratadora de Chile] (0152)","R","Villa de Ramos (049)Pozo el Gallito [Deshidratadora de Chile] (0152)",22.815519999999999,-102.04206499999999,0,0,0,0,240490152,null,null,null,{"$f":"IFERROR(VLOOKUP(CONCATENATE(B8628,D8628),Padrón_Indígenas!$A$2:$G$988,7,0),\"No\")","v":"No"}]
[24,"049","Villa_de_Ramos","0207","Pozo los Lagartijos (0207)","R","Villa de Ramos (049)Pozo los Lagartijos (0207)",23.134416999999999,-102.115602,0,0,0,0,240490207,null,null,null,{"$f":"IFERROR(VLOOKUP(CONCATENATE(B8630,D8630),Padrón_Indígenas!$A$2:$G$988,7,0),\"No\")","v":"No"}]
[24,"049","Villa_de_Ramos","0247","Rancho Grande (0247)","R","Villa de Ramos (049)Rancho Grande (0247)",22.850054,-102.04015,2,"*","*",1,240490247,null,null,null,{"$f":"IFERROR(VLOOKUP(CONCATENATE(B8633,D8633),Padrón_Indígenas!$A$2:$G$988,7,0),\"No\")","v":"No"}]
[24,"049","Villa_de_Ramos","0125","Rancho San Martín (0125)","R","Villa de Ramos (049)Rancho San Martín (0125)",23.04111,-102.216818,6,"*","*",2,240490125,null,null,null,{"$f":"IFERROR(VLOOKUP(CONCATENATE(B8637,D8637),Padrón_Indígenas!$A$2:$G$988,7,0),\"No\")","v":"No"}]
[24,"049","Villa_de_Ramos","0085","Rancho Torres (0085)","R","Villa de Ramos (049)Rancho Torres (0085)",23.123857000000001,-101.98552100000001,7,"*","*",2,240490085,null,null,null,{"$f":"IFERROR(VLOOKUP(CONCATENATE(B8641,D8641),Padrón_Indígenas!$A$2:$G$988,7,0),\"No\")","v":"No"}]
[24,"049","Villa_de_Ramos","0046","San Dionisio (0046)","R","Villa de Ramos (049)San Dionisio (0046)",22.776723,-101.874111,39,22,17,8,240490046,null,"Muy alto","Muy alto",{"$f":"IFERROR(VLOOKUP(CONCATENATE(B8646,D8646),Padrón_Indígenas!$A$2:$G$988,7,0),\"No\")","v":"No"}]
[24,"049","Villa_de_Ramos","0032","San Francisco (0032)","R","Villa de Ramos (049)San Francisco (0032)",23.002032,-101.930134,675,337,338,165,240490032,"SI","Alto","Bajo",{"$f":"IFERROR(VLOOKUP(CONCATENATE(B8648,D8648),Padrón_Indígenas!$A$2:$G$988,7,0),\"No\")","v":"No"}]
[24,"049","Villa_de_Ramos","0222","San Juan (El Muerto) (0222)","R","Villa de Ramos (049)San Juan (El Muerto) (0222)",23.052301,-102.182114,0,0,0,0,240490222,null,null,null,{"$f":"IFERROR(VLOOKUP(CONCATENATE(B8651,D8651),Padrón_Indígenas!$A$2:$G$988,7,0),\"No\")","v":"No"}]
[24,"049","Villa_de_Ramos","0150","San Pedro (0150)","R","Villa de Ramos (049)San Pedro (0150)",22.765706999999999,-101.893214,52,25,27,11,240490150,null,"Alto","Bajo",{"$f":"IFERROR(VLOOKUP(CONCATENATE(B8656,D8656),Padrón_Indígenas!$A$2:$G$988,7,0),\"No\")","v":"No"}]
[24,"049","Villa_de_Ramos","0059","Santa Ana (0059)","R","Villa de Ramos (049)Santa Ana (0059)",23.070321,-101.90248099999999,130,70,60,29,240490059,null,"Alto","Medio",{"$f":"IFERROR(VLOOKUP(CONCATENATE(B8660,D8660),Padrón_Indígenas!$A$2:$G$988,7,0),\"No\")","v":"No"}]
[24,"049","Villa_de_Ramos","0037","Santa Gertrudis (0037)","R","Villa de Ramos (049)Santa Gertrudis (0037)",22.953281,-101.922217,60,26,34,14,240490037,null,"Medio","Muy bajo",{"$f":"IFERROR(VLOOKUP(CONCATENATE(B8661,D8661),Padrón_Indígenas!$A$2:$G$988,7,0),\"No\")","v":"No"}]
[24,"049","Villa_de_Ramos","0039","Sauz de Calera (0039)","R","Villa de Ramos (049)Sauz de Calera (0039)",22.867286,-102.186539,1166,583,583,287,240490039,null,"Alto","Medio",{"$f":"IFERROR(VLOOKUP(CONCATENATE(B8665,D8665),Padrón_Indígenas!$A$2:$G$988,7,0),\"No\")","v":"No"}]
[24,"049","Villa_de_Ramos","0042","Yoliátl (0042)","R","Villa de Ramos (049)Yoliátl (0042)",22.894313,-101.68335399999999,443,220,223,110,240490042,"SI","Alto","Bajo",{"$f":"IFERROR(VLOOKUP(CONCATENATE(B8669,D8669),Padrón_Indígenas!$A$2:$G$988,7,0),\"No\")","v":"No"}]
[24,"050","Villa_de_Reyes","0005","Arroyo Blanco (0005)","R","Villa de Reyes (050)Arroyo Blanco (0005)",21.891548,-101.14519199999999,248,116,132,52,240500005,null,"Alto","Medio",{"$f":"IFERROR(VLOOKUP(CONCATENATE(B8674,D8674),Padrón_Indígenas!$A$2:$G$988,7,0),\"No\")","v":"No"}]
[24,"050","Villa_de_Reyes","0007","Bledos (0007)","R","Villa de Reyes (050)Bledos (0007)",21.842051999999999,-101.115171,1852,903,949,427,240500007,"SI","Alto","Bajo",{"$f":"IFERROR(VLOOKUP(CONCATENATE(B8677,D8677),Padrón_Indígenas!$A$2:$G$988,7,0),\"No\")","v":"No"}]
[24,"050","Villa_de_Reyes","0010","Cabras (0010)","R","Villa de Reyes (050)Cabras (0010)",21.903628000000001,-101.163194,196,98,98,37,240500010,"SI","Alto","Medio",{"$f":"IFERROR(VLOOKUP(CONCATENATE(B8679,D8679),Padrón_Indígenas!$A$2:$G$988,7,0),\"No\")","v":"No"}]
[24,"050","Villa_de_Reyes","0204","Chilar Viejo (Don Chefo) (0204)","R","Villa de Reyes (050)Chilar Viejo (Don Chefo) (0204)",21.838611,-100.971667,3,"*","*",2,240500204,null,null,null,{"$f":"IFERROR(VLOOKUP(CONCATENATE(B8684,D8684),Padrón_Indígenas!$A$2:$G$988,7,0),\"No\")","v":"No"}]
[24,"050","Villa_de_Reyes","0138","Concepción Gómez Rosillo (0138)","R","Villa de Reyes (050)Concepción Gómez Rosillo (0138)",21.792097999999999,-100.961702,0,0,0,0,240500138,null,null,null,{"$f":"IFERROR(VLOOKUP(CONCATENATE(B8688,D8688),Padrón_Indígenas!$A$2:$G$988,7,0),\"No\")","v":"No"}]
[24,"050","Villa_de_Reyes","0139","Crispín Martínez Carrera (0139)","R","Villa de Reyes (050)Crispín Martínez Carrera (0139)",21.786034000000001,-100.96187399999999,0,0,0,0,240500139,null,null,null,{"$f":"IFERROR(VLOOKUP(CONCATENATE(B8689,D8689),Padrón_Indígenas!$A$2:$G$988,7,0),\"No\")","v":"No"}]
[24,"050","Villa_de_Reyes","0133","El Ahogadito (0133)","R","Villa de Reyes (050)El Ahogadito (0133)",21.786173000000002,-100.984554,5,"*","*",1,240500133,null,null,null,{"$f":"IFERROR(VLOOKUP(CONCATENATE(B8692,D8692),Padrón_Indígenas!$A$2:$G$988,7,0),\"No\")","v":"No"}]
[24,"050","Villa_de_Reyes","0125","El Calichal (0125)","R","Villa de Reyes (050)El Calichal (0125)",21.769974000000001,-100.956384,51,30,21,10,240500125,null,"Alto","Medio",{"$f":"IFERROR(VLOOKUP(CONCATENATE(B8697,D8697),Padrón_Indígenas!$A$2:$G$988,7,0),\"No\")","v":"No"}]
[24,"050","Villa_de_Reyes","0015","El Centenario (0015)","R","Villa de Reyes (050)El Centenario (0015)",21.774933999999998,-100.945263,539,295,244,105,240500015,"SI","Alto","Bajo",{"$f":"IFERROR(VLOOKUP(CONCATENATE(B8700,D8700),Padrón_Indígenas!$A$2:$G$988,7,0),\"No\")","v":"No"}]
[24,"050","Villa_de_Reyes","0194","El Centenario [Baños Termales] (0194)","R","Villa de Reyes (050)El Centenario [Baños Termales] (0194)",21.776886999999999,-100.94973,8,"*","*",1,240500194,null,null,null,{"$f":"IFERROR(VLOOKUP(CONCATENATE(B8702,D8702),Padrón_Indígenas!$A$2:$G$988,7,0),\"No\")","v":"No"}]
[24,"050","Villa_de_Reyes","0018","El Frijolillo (0018)","R","Villa de Reyes (050)El Frijolillo (0018)",21.851265000000001,-101.14908699999999,0,0,0,0,240500018,null,null,null,{"$f":"IFERROR(VLOOKUP(CONCATENATE(B8708,D8708),Padrón_Indígenas!$A$2:$G$988,7,0),\"No\")","v":"No"}]
[24,"050","Villa_de_Reyes","0022","El Hundido (0022)","R","Villa de Reyes (050)El Hundido (0022)",21.762592000000001,-100.98018399999999,56,26,30,13,240500022,"SI","Alto","Medio",{"$f":"IFERROR(VLOOKUP(CONCATENATE(B8711,D8711),Padrón_Indígenas!$A$2:$G$988,7,0),\"No\")","v":"No"}]
[24,"050","Villa_de_Reyes","0154","El Infiernillo (Alamitos) (0154)","R","Villa de Reyes (050)El Infiernillo (Alamitos) (0154)",21.773056,-101.00161300000001,13,8,5,3,240500154,null,"Medio","Bajo",{"$f":"IFERROR(VLOOKUP(CONCATENATE(B8713,D8713),Padrón_Indígenas!$A$2:$G$988,7,0),\"No\")","v":"No"}]
[24,"050","Villa_de_Reyes","0084","El Meco (0084)","R","Villa de Reyes (050)El Meco (0084)",21.960833000000001,-100.91027800000001,0,0,0,0,240500084,null,null,null,{"$f":"IFERROR(VLOOKUP(CONCATENATE(B8716,D8716),Padrón_Indígenas!$A$2:$G$988,7,0),\"No\")","v":"No"}]
[24,"050","Villa_de_Reyes","0192","El Refugio (Pozo Número Uno) (0192)","R","Villa de Reyes (050)El Refugio (Pozo Número Uno) (0192)",21.928445,-100.890249,0,0,0,0,240500192,null,null,null,{"$f":"IFERROR(VLOOKUP(CONCATENATE(B8721,D8721),Padrón_Indígenas!$A$2:$G$988,7,0),\"No\")","v":"No"}]
[24,"050","Villa_de_Reyes","0052","El Tejocote de San Miguel (0052)","R","Villa de Reyes (050)El Tejocote de San Miguel (0052)",21.766079999999999,-100.922563,587,296,291,98,240500052,null,"Alto","Medio",{"$f":"IFERROR(VLOOKUP(CONCATENATE(B8725,D8725),Padrón_Indígenas!$A$2:$G$988,7,0),\"No\")","v":"No"}]
[24,"050","Villa_de_Reyes","0140","Esperancita (0140)","R","Villa de Reyes (050)Esperancita (0140)",21.850524,-100.898059,4,"*","*",1,240500140,null,null,null,{"$f":"IFERROR(VLOOKUP(CONCATENATE(B8728,D8728),Padrón_Indígenas!$A$2:$G$988,7,0),\"No\")","v":"No"}]
[24,"050","Villa_de_Reyes","0113","Estación Jesús María (0113)","R","Villa de Reyes (050)Estación Jesús María (0113)",21.911631,-100.912716,94,49,45,22,240500113,null,"Alto","Medio",{"$f":"IFERROR(VLOOKUP(CONCATENATE(B8730,D8730),Padrón_Indígenas!$A$2:$G$988,7,0),\"No\")","v":"No"}]
[24,"050","Villa_de_Reyes","0197","Florina Ibáñez (0197)","R","Villa de Reyes (050)Florina Ibáñez (0197)",21.818563999999999,-100.97531600000001,4,"*","*",1,240500197,null,null,null,{"$f":"IFERROR(VLOOKUP(CONCATENATE(B8736,D8736),Padrón_Indígenas!$A$2:$G$988,7,0),\"No\")","v":"No"}]
[24,"050","Villa_de_Reyes","0151","Granja Guadalupe (0151)","R","Villa de Reyes (050)Granja Guadalupe (0151)",21.819655000000001,-101.010161,0,0,0,0,240500151,null,null,null,{"$f":"IFERROR(VLOOKUP(CONCATENATE(B8739,D8739),Padrón_Indígenas!$A$2:$G$988,7,0),\"No\")","v":"No"}]
[24,"050","Villa_de_Reyes","0148","Granja Rinconeña (0148)","R","Villa de Reyes (050)Granja Rinconeña (0148)",21.790323999999998,-101.023347,0,0,0,0,240500148,null,null,null,{"$f":"IFERROR(VLOOKUP(CONCATENATE(B8743,D8743),Padrón_Indígenas!$A$2:$G$988,7,0),\"No\")","v":"No"}]
[24,"050","Villa_de_Reyes","0168","Granja San José (Puente de Dios) (0168)","R","Villa de Reyes (050)Granja San José (Puente de Dios) (0168)",21.768101000000001,-101.02022700000001,20,11,9,5,240500168,null,"Alto","Medio",{"$f":"IFERROR(VLOOKUP(CONCATENATE(B8744,D8744),Padrón_Indígenas!$A$2:$G$988,7,0),\"No\")","v":"No"}]
[24,"050","Villa_de_Reyes","0020","Guadiana (0020)","R","Villa de Reyes (050)Guadiana (0020)",21.787738000000001,-101.005268,871,423,448,190,240500020,null,"Alto","Bajo",{"$f":"IFERROR(VLOOKUP(CONCATENATE(B8748,D8748),Padrón_Indígenas!$A$2:$G$988,7,0),\"No\")","v":"No"}]
[24,"050","Villa_de_Reyes","0201","José Luis Robledo (Potrero los Ángeles) (0201)","R","Villa de Reyes (050)José Luis Robledo (Potrero los Ángeles) (0201)",21.799484,-100.957035,0,0,0,0,240500201,null,null,null,{"$f":"IFERROR(VLOOKUP(CONCATENATE(B8752,D8752),Padrón_Indígenas!$A$2:$G$988,7,0),\"No\")","v":"No"}]
[24,"050","Villa_de_Reyes","0250","La Carreta [Taller Mecánico] (0250)","R","Villa de Reyes (050)La Carreta [Taller Mecánico] (0250)",21.875833,-100.89444399999999,7,"*","*",1,240500250,null,null,null,{"$f":"IFERROR(VLOOKUP(CONCATENATE(B8757,D8757),Padrón_Indígenas!$A$2:$G$988,7,0),\"No\")","v":"No"}]
[24,"050","Villa_de_Reyes","0145","La Garbancera (0145)","R","Villa de Reyes (050)La Garbancera (0145)",21.909167,-100.906944,0,0,0,0,240500145,null,null,null,{"$f":"IFERROR(VLOOKUP(CONCATENATE(B8760,D8760),Padrón_Indígenas!$A$2:$G$988,7,0),\"No\")","v":"No"}]
[24,"050","Villa_de_Reyes","0185","La Joyita (0185)","R","Villa de Reyes (050)La Joyita (0185)",21.893076000000001,-100.946788,65,31,34,12,240500185,null,"Medio","Muy bajo",{"$f":"IFERROR(VLOOKUP(CONCATENATE(B8762,D8762),Padrón_Indígenas!$A$2:$G$988,7,0),\"No\")","v":"No"}]
[24,"050","Villa_de_Reyes","0212","La Magdalena (0212)","R","Villa de Reyes (050)La Magdalena (0212)",21.896063999999999,-100.84669599999999,7,"*","*",2,240500212,null,null,null,{"$f":"IFERROR(VLOOKUP(CONCATENATE(B8767,D8767),Padrón_Indígenas!$A$2:$G$988,7,0),\"No\")","v":"No"}]
[24,"050","Villa_de_Reyes","0070","La Presa (La Presita) (0070)","R","Villa de Reyes (050)La Presa (La Presita) (0070)",21.925613999999999,-100.921813,758,386,372,146,240500070,null,"Alto","Medio",{"$f":"IFERROR(VLOOKUP(CONCATENATE(B8771,D8771),Padrón_Indígenas!$A$2:$G$988,7,0),\"No\")","v":"No"}]
[24,"050","Villa_de_Reyes","0190","La Presa de la Boquilla (0190)","R","Villa de Reyes (050)La Presa de la Boquilla (0190)",21.881488999999998,-100.819804,2,"*","*",1,240500190,null,null,null,{"$f":"IFERROR(VLOOKUP(CONCATENATE(B8772,D8772),Padrón_Indígenas!$A$2:$G$988,7,0),\"No\")","v":"No"}]
[24,"050","Villa_de_Reyes","0088","La Puerta del Potrerito (0088)","R","Villa de Reyes (050)La Puerta del Potrerito (0088)",21.915685,-100.862466,15,8,7,3,240500088,null,"Alto","Bajo",{"$f":"IFERROR(VLOOKUP(CONCATENATE(B8776,D8776),Padrón_Indígenas!$A$2:$G$988,7,0),\"No\")","v":"No"}]
[24,"050","Villa_de_Reyes","0222","La Soledad (0222)","R","Villa de Reyes (050)La Soledad (0222)",21.897171,-100.880585,106,52,54,23,240500222,null,"Alto","Bajo",{"$f":"IFERROR(VLOOKUP(CONCATENATE(B8780,D8780),Padrón_Indígenas!$A$2:$G$988,7,0),\"No\")","v":"No"}]
[24,"050","Villa_de_Reyes","0025","Laguna de San Vicente (0025)","U","Villa de Reyes (050)Laguna de San Vicente (0025)",21.943297999999999,-100.86039100000001,2762,1360,1402,562,240500025,"SI",null,null,{"$f":"IFERROR(VLOOKUP(CONCATENATE(B8783,D8783),Padrón_Indígenas!$A$2:$G$988,7,0),\"No\")","v":"No"}]
[24,"050","Villa_de_Reyes","0242","Las Glorias (0242)","R","Villa de Reyes (050)Las Glorias (0242)",21.897538000000001,-100.894947,0,0,0,0,240500242,null,null,null,{"$f":"IFERROR(VLOOKUP(CONCATENATE(B8785,D8785),Padrón_Indígenas!$A$2:$G$988,7,0),\"No\")","v":"No"}]
[24,"050","Villa_de_Reyes","0094","Los Ángeles (0094)","R","Villa de Reyes (050)Los Ángeles (0094)",21.780892999999999,-101.00029000000001,19,8,11,4,240500094,null,"Alto","Bajo",{"$f":"IFERROR(VLOOKUP(CONCATENATE(B8791,D8791),Padrón_Indígenas!$A$2:$G$988,7,0),\"No\")","v":"No"}]
[24,"050","Villa_de_Reyes","0164","Los Pocitos (0164)","R","Villa de Reyes (050)Los Pocitos (0164)",21.939446,-100.92339200000001,107,50,57,19,240500164,null,"Muy alto","Alto",{"$f":"IFERROR(VLOOKUP(CONCATENATE(B8794,D8794),Padrón_Indígenas!$A$2:$G$988,7,0),\"No\")","v":"No"}]
[24,"050","Villa_de_Reyes","0027","Machado (0027)","R","Villa de Reyes (050)Machado (0027)",21.874894999999999,-100.936846,653,315,338,151,240500027,null,"Alto","Bajo",{"$f":"IFERROR(VLOOKUP(CONCATENATE(B8796,D8796),Padrón_Indígenas!$A$2:$G$988,7,0),\"No\")","v":"No"}]
[24,"050","Villa_de_Reyes","0243","Ninguno (0243)","R","Villa de Reyes (050)Ninguno (0243)",21.750665999999999,-100.955996,0,0,0,0,240500243,null,null,null,{"$f":"IFERROR(VLOOKUP(CONCATENATE(B8799,D8799),Padrón_Indígenas!$A$2:$G$988,7,0),\"No\")","v":"No"}]
[24,"050","Villa_de_Reyes","0034","Palomas (0034)","R","Villa de Reyes (050)Palomas (0034)",21.833321000000002,-100.955365,655,333,322,126,240500034,null,"Alto","Bajo",{"$f":"IFERROR(VLOOKUP(CONCATENATE(B8804,D8804),Padrón_Indígenas!$A$2:$G$988,7,0),\"No\")","v":"No"}]
[24,"050","Villa_de_Reyes","0063","Plan de San Luis de Bledos (0063)","R","Villa de Reyes (050)Plan de San Luis de Bledos (0063)",21.879822999999998,-101.088123,191,100,91,35,240500063,null,"Alto","Medio",{"$f":"IFERROR(VLOOKUP(CONCATENATE(B8808,D8808),Padrón_Indígenas!$A$2:$G$988,7,0),\"No\")","v":"No"}]
[24,"050","Villa_de_Reyes","0067","Potrero de las Mulas (0067)","R","Villa de Reyes (050)Potrero de las Mulas (0067)",21.815484000000001,-100.97299700000001,0,0,0,0,240500067,null,null,null,{"$f":"IFERROR(VLOOKUP(CONCATENATE(B8811,D8811),Padrón_Indígenas!$A$2:$G$988,7,0),\"No\")","v":"No"}]
[24,"050","Villa_de_Reyes","0166","Potrero los Ángeles (0166)","R","Villa de Reyes (050)Potrero los Ángeles (0166)",21.795476000000001,-100.953959,9,"*","*",2,240500166,null,null,null,{"$f":"IFERROR(VLOOKUP(CONCATENATE(B8813,D8813),Padrón_Indígenas!$A$2:$G$988,7,0),\"No\")","v":"No"}]
[24,"050","Villa_de_Reyes","0068","Puente de Tierra (0068)","R","Villa de Reyes (050)Puente de Tierra (0068)",21.803405000000001,-100.988089,242,116,126,47,240500068,null,"Alto","Medio",{"$f":"IFERROR(VLOOKUP(CONCATENATE(B8819,D8819),Padrón_Indígenas!$A$2:$G$988,7,0),\"No\")","v":"No"}]
[24,"050","Villa_de_Reyes","0110","Rancho del Río (0110)","R","Villa de Reyes (050)Rancho del Río (0110)",21.907551999999999,-100.877813,9,"*","*",1,240500110,null,null,null,{"$f":"IFERROR(VLOOKUP(CONCATENATE(B8822,D8822),Padrón_Indígenas!$A$2:$G$988,7,0),\"No\")","v":"No"}]
[24,"050","Villa_de_Reyes","0109","Rancho el Arbolito (0109)","R","Villa de Reyes (050)Rancho el Arbolito (0109)",21.908576,-100.87971899999999,0,0,0,0,240500109,null,null,null,{"$f":"IFERROR(VLOOKUP(CONCATENATE(B8824,D8824),Padrón_Indígenas!$A$2:$G$988,7,0),\"No\")","v":"No"}]
[24,"050","Villa_de_Reyes","0105","Rancho el Huevo (0105)","R","Villa de Reyes (050)Rancho el Huevo (0105)",21.910388999999999,-100.89953300000001,4,"*","*",1,240500105,null,null,null,{"$f":"IFERROR(VLOOKUP(CONCATENATE(B8827,D8827),Padrón_Indígenas!$A$2:$G$988,7,0),\"No\")","v":"No"}]
[24,"050","Villa_de_Reyes","0170","Rancho el Perejil (0170)","R","Villa de Reyes (050)Rancho el Perejil (0170)",21.852262,-100.891025,6,"*","*",1,240500170,null,null,null,{"$f":"IFERROR(VLOOKUP(CONCATENATE(B8832,D8832),Padrón_Indígenas!$A$2:$G$988,7,0),\"No\")","v":"No"}]
[24,"050","Villa_de_Reyes","0193","Rancho el Sitio (0193)","R","Villa de Reyes (050)Rancho el Sitio (0193)",21.887893999999999,-100.913223,0,0,0,0,240500193,null,null,null,{"$f":"IFERROR(VLOOKUP(CONCATENATE(B8835,D8835),Padrón_Indígenas!$A$2:$G$988,7,0),\"No\")","v":"No"}]
[24,"050","Villa_de_Reyes","0115","Rancho la Laguna de Xilotepec (0115)","R","Villa de Reyes (050)Rancho la Laguna de Xilotepec (0115)",21.905570999999998,-100.91395900000001,6,"*","*",1,240500115,null,null,null,{"$f":"IFERROR(VLOOKUP(CONCATENATE(B8840,D8840),Padrón_Indígenas!$A$2:$G$988,7,0),\"No\")","v":"No"}]
[24,"050","Villa_de_Reyes","0171","Rancho las Emes (0171)","R","Villa de Reyes (050)Rancho las Emes (0171)",21.85135,-100.897454,14,"*","*",1,240500171,"SI",null,null,{"$f":"IFERROR(VLOOKUP(CONCATENATE(B8843,D8843),Padrón_Indígenas!$A$2:$G$988,7,0),\"No\")","v":"No"}]
[24,"050","Villa_de_Reyes","0087","Rancho los Tres Sabinos (0087)","R","Villa de Reyes (050)Rancho los Tres Sabinos (0087)",21.911715999999998,-100.875219,4,"*","*",2,240500087,null,null,null,{"$f":"IFERROR(VLOOKUP(CONCATENATE(B8845,D8845),Padrón_Indígenas!$A$2:$G$988,7,0),\"No\")","v":"No"}]
[24,"050","Villa_de_Reyes","0047","Rancho San Francisco (0047)","R","Villa de Reyes (050)Rancho San Francisco (0047)",21.913758000000001,-100.88937900000001,8,"*","*",2,240500047,null,null,null,{"$f":"IFERROR(VLOOKUP(CONCATENATE(B8848,D8848),Padrón_Indígenas!$A$2:$G$988,7,0),\"No\")","v":"No"}]
[24,"050","Villa_de_Reyes","0042","Rodrigo (0042)","R","Villa de Reyes (050)Rodrigo (0042)",21.892054000000002,-100.953755,1284,651,633,280,240500042,"SI","Alto","Bajo",{"$f":"IFERROR(VLOOKUP(CONCATENATE(B8854,D8854),Padrón_Indígenas!$A$2:$G$988,7,0),\"No\")","v":"No"}]
[24,"050","Villa_de_Reyes","0208","Rodrigo [Granjas Porcinas] (0208)","R","Villa de Reyes (050)Rodrigo [Granjas Porcinas] (0208)",21.905277999999999,-100.934167,0,0,0,0,240500208,null,null,null,{"$f":"IFERROR(VLOOKUP(CONCATENATE(B8855,D8855),Padrón_Indígenas!$A$2:$G$988,7,0),\"No\")","v":"No"}]
[24,"050","Villa_de_Reyes","0248","San Isidro (0248)","R","Villa de Reyes (050)San Isidro (0248)",21.956111,-100.8925,0,0,0,0,240500248,null,null,null,{"$f":"IFERROR(VLOOKUP(CONCATENATE(B8859,D8859),Padrón_Indígenas!$A$2:$G$988,7,0),\"No\")","v":"No"}]
[24,"050","Villa_de_Reyes","0050","San Miguel (0050)","R","Villa de Reyes (050)San Miguel (0050)",21.755838000000001,-100.948559,882,413,469,181,240500050,"SI","Medio","Muy bajo",{"$f":"IFERROR(VLOOKUP(CONCATENATE(B8863,D8863),Padrón_Indígenas!$A$2:$G$988,7,0),\"No\")","v":"No"}]
[24,"050","Villa_de_Reyes","0128","Santo Niño (0128)","R","Villa de Reyes (050)Santo Niño (0128)",21.760985999999999,-101.005898,8,"*","*",2,240500128,null,null,null,{"$f":"IFERROR(VLOOKUP(CONCATENATE(B8868,D8868),Padrón_Indígenas!$A$2:$G$988,7,0),\"No\")","v":"No"}]
[24,"050","Villa_de_Reyes","0055","Socavón (El Carmen) (0055)","R","Villa de Reyes (050)Socavón (El Carmen) (0055)",21.850677000000001,-100.871619,1588,794,794,321,240500055,"SI","Alto","Bajo",{"$f":"IFERROR(VLOOKUP(CONCATENATE(B8871,D8871),Padrón_Indígenas!$A$2:$G$988,7,0),\"No\")","v":"No"}]
[24,"050","Villa_de_Reyes","0075","Sotolillo (0075)","R","Villa de Reyes (050)Sotolillo (0075)",21.830611000000001,-101.009933,76,40,36,15,240500075,"SI","Alto","Bajo",{"$f":"IFERROR(VLOOKUP(CONCATENATE(B8873,D8873),Padrón_Indígenas!$A$2:$G$988,7,0),\"No\")","v":"No"}]
[24,"050","Villa_de_Reyes","0132","Tantuite (Noria de San José) (0132)","R","Villa de Reyes (050)Tantuite (Noria de San José) (0132)",21.760740999999999,-101.01148999999999,0,0,0,0,240500132,null,null,null,{"$f":"IFERROR(VLOOKUP(CONCATENATE(B8876,D8876),Padrón_Indígenas!$A$2:$G$988,7,0),\"No\")","v":"No"}]
[24,"050","Villa_de_Reyes","0251","Turismo Ejido Gogorrón [Centro Vacacional] (0251)","R","Villa de Reyes (050)Turismo Ejido Gogorrón [Centro Vacacional] (0251)",21.741323999999999,-100.951018,0,0,0,0,240500251,null,null,null,{"$f":"IFERROR(VLOOKUP(CONCATENATE(B8879,D8879),Padrón_Indígenas!$A$2:$G$988,7,0),\"No\")","v":"No"}]
[24,"050","Villa_de_Reyes","0225","Vecinos del Pozo de Agua (0225)","R","Villa de Reyes (050)Vecinos del Pozo de Agua (0225)",21.944137000000001,-100.838904,0,0,0,0,240500225,null,null,null,{"$f":"IFERROR(VLOOKUP(CONCATENATE(B8882,D8882),Padrón_Indígenas!$A$2:$G$988,7,0),\"No\")","v":"No"}]
[24,"050","Villa_de_Reyes",null,"Todo el municipio ",null,"Villa de Reyes (050)Todo el municipio ",null,null,{"$f":"SUM(J8671:J8886)","v":46834}]
[24,"051","Villa_Hidalgo","0006","Corazones (0006)","R","Villa Hidalgo (051)Corazones (0006)",22.476179999999999,-100.85797599999999,255,124,131,55,240510006,null,"Alto","Bajo",{"$f":"IFERROR(VLOOKUP(CONCATENATE(B8891,D8891),Padrón_Indígenas!$A$2:$G$988,7,0),\"No\")","v":"No"}]
[24,"051","Villa_Hidalgo","0133","El Cacahuate (0133)","R","Villa Hidalgo (051)El Cacahuate (0133)",22.546111,-100.655,5,"*","*",1,240510133,null,null,null,{"$f":"IFERROR(VLOOKUP(CONCATENATE(B8895,D8895),Padrón_Indígenas!$A$2:$G$988,7,0),\"No\")","v":"No"}]
[24,"051","Villa_Hidalgo","0105","El Camarillo (0105)","R","Villa Hidalgo (051)El Camarillo (0105)",22.482641000000001,-100.73333,0,0,0,0,240510105,null,null,null,{"$f":"IFERROR(VLOOKUP(CONCATENATE(B8896,D8896),Padrón_Indígenas!$A$2:$G$988,7,0),\"No\")","v":"No"}]
[24,"051","Villa_Hidalgo","0019","El Leoncito (0019)","R","Villa Hidalgo (051)El Leoncito (0019)",22.505144000000001,-100.66297,998,481,517,230,240510019,null,"Medio","Muy bajo",{"$f":"IFERROR(VLOOKUP(CONCATENATE(B8902,D8902),Padrón_Indígenas!$A$2:$G$988,7,0),\"No\")","v":"No"}]
[24,"051","Villa_Hidalgo","0107","El Potrerito de la Cruz (0107)","R","Villa Hidalgo (051)El Potrerito de la Cruz (0107)",22.409496000000001,-100.641459,1,"*","*",1,240510107,null,null,null,{"$f":"IFERROR(VLOOKUP(CONCATENATE(B8905,D8905),Padrón_Indígenas!$A$2:$G$988,7,0),\"No\")","v":"No"}]
[24,"051","Villa_Hidalgo","0130","El Rey del Camino [Restaurante] (0130)","R","Villa Hidalgo (051)El Rey del Camino [Restaurante] (0130)",22.587320999999999,-100.598429,0,0,0,0,240510130,null,null,null,{"$f":"IFERROR(VLOOKUP(CONCATENATE(B8907,D8907),Padrón_Indígenas!$A$2:$G$988,7,0),\"No\")","v":"No"}]
[24,"051","Villa_Hidalgo","0087","Estación Peotillos (0087)","R","Villa Hidalgo (051)Estación Peotillos (0087)",22.481110999999999,-100.581389,40,20,20,10,240510087,null,"Alto","Bajo",{"$f":"IFERROR(VLOOKUP(CONCATENATE(B8910,D8910),Padrón_Indígenas!$A$2:$G$988,7,0),\"No\")","v":"No"}]
[24,"051","Villa_Hidalgo","0116","La Loma (0116)","R","Villa Hidalgo (051)La Loma (0116)",22.757726000000002,-100.612628,2,"*","*",1,240510116,null,null,null,{"$f":"IFERROR(VLOOKUP(CONCATENATE(B8915,D8915),Padrón_Indígenas!$A$2:$G$988,7,0),\"No\")","v":"No"}]
[24,"051","Villa_Hidalgo","0079","Las Cebollas (0079)","R","Villa Hidalgo (051)Las Cebollas (0079)",22.508333,-100.71472199999999,3,"*","*",1,240510079,null,null,null,{"$f":"IFERROR(VLOOKUP(CONCATENATE(B8919,D8919),Padrón_Indígenas!$A$2:$G$988,7,0),\"No\")","v":"No"}]
[24,"051","Villa_Hidalgo","0021","Llano del Carmen (0021)","R","Villa Hidalgo (051)Llano del Carmen (0021)",22.859867000000001,-100.688861,210,112,98,55,240510021,null,"Alto","Medio",{"$f":"IFERROR(VLOOKUP(CONCATENATE(B8923,D8923),Padrón_Indígenas!$A$2:$G$988,7,0),\"No\")","v":"No"}]
[24,"051","Villa_Hidalgo","0126","Lolita [Restaurante] (0126)","R","Villa Hidalgo (051)Lolita [Restaurante] (0126)",22.436800999999999,-100.694373,5,"*","*",1,240510126,null,null,null,{"$f":"IFERROR(VLOOKUP(CONCATENATE(B8924,D8924),Padrón_Indígenas!$A$2:$G$988,7,0),\"No\")","v":"No"}]
[24,"051","Villa_Hidalgo","0125","Matancillas (0125)","R","Villa Hidalgo (051)Matancillas (0125)",22.473310999999999,-100.502864,1,"*","*",1,240510125,null,null,null,{"$f":"IFERROR(VLOOKUP(CONCATENATE(B8928,D8928),Padrón_Indígenas!$A$2:$G$988,7,0),\"No\")","v":"No"}]
[24,"051","Villa_Hidalgo","0103","Mi Ranchito (0103)","R","Villa Hidalgo (051)Mi Ranchito (0103)",22.458894000000001,-100.89587400000001,28,17,11,6,240510103,null,"Muy alto","Alto",{"$f":"IFERROR(VLOOKUP(CONCATENATE(B8929,D8929),Padrón_Indígenas!$A$2:$G$988,7,0),\"No\")","v":"No"}]
[24,"051","Villa_Hidalgo","0132","Noria de las Peñitas (0132)","R","Villa Hidalgo (051)Noria de las Peñitas (0132)",22.380832999999999,-100.720833,0,0,0,0,240510132,null,null,null,{"$f":"IFERROR(VLOOKUP(CONCATENATE(B8930,D8930),Padrón_Indígenas!$A$2:$G$988,7,0),\"No\")","v":"No"}]
[24,"051","Villa_Hidalgo","0120","Noria de San Antonio (Noria del Agrito) (0120)","R","Villa Hidalgo (051)Noria de San Antonio (Noria del Agrito) (0120)",22.34375,-100.69998099999999,0,0,0,0,240510120,null,null,null,{"$f":"IFERROR(VLOOKUP(CONCATENATE(B8931,D8931),Padrón_Indígenas!$A$2:$G$988,7,0),\"No\")","v":"No"}]
[24,"051","Villa_Hidalgo","0080","Noria la Purísima (0080)","R","Villa Hidalgo (051)Noria la Purísima (0080)",22.498058,-100.711692,2,"*","*",1,240510080,null,null,null,{"$f":"IFERROR(VLOOKUP(CONCATENATE(B8932,D8932),Padrón_Indígenas!$A$2:$G$988,7,0),\"No\")","v":"No"}]
[24,"051","Villa_Hidalgo","0098","Noria la Tinajuela (0098)","R","Villa Hidalgo (051)Noria la Tinajuela (0098)",22.559947000000001,-100.618818,3,"*","*",1,240510098,null,null,null,{"$f":"IFERROR(VLOOKUP(CONCATENATE(B8933,D8933),Padrón_Indígenas!$A$2:$G$988,7,0),\"No\")","v":"No"}]
[24,"051","Villa_Hidalgo","0028","Paso Blanco (0028)","R","Villa Hidalgo (051)Paso Blanco (0028)",22.444690000000001,-100.523258,36,22,14,18,240510028,null,"Alto","Medio",{"$f":"IFERROR(VLOOKUP(CONCATENATE(B8934,D8934),Padrón_Indígenas!$A$2:$G$988,7,0),\"No\")","v":"No"}]
[24,"051","Villa_Hidalgo","0029","Pedrera del Tanquito (0029)","R","Villa Hidalgo (051)Pedrera del Tanquito (0029)",22.390699000000001,-100.75588399999999,519,266,253,116,240510029,"SI","Alto","Bajo",{"$f":"IFERROR(VLOOKUP(CONCATENATE(B8935,D8935),Padrón_Indígenas!$A$2:$G$988,7,0),\"No\")","v":"No"}]
[24,"051","Villa_Hidalgo","0031","Peotillos (0031)","R","Villa Hidalgo (051)Peotillos (0031)",22.496537,-100.610484,1198,601,597,341,240510031,"SI","Medio","Bajo",{"$f":"IFERROR(VLOOKUP(CONCATENATE(B8936,D8936),Padrón_Indígenas!$A$2:$G$988,7,0),\"No\")","v":"No"}]
[24,"051","Villa_Hidalgo","0121","Pozo de Villa Hidalgo (0121)","R","Villa Hidalgo (051)Pozo de Villa Hidalgo (0121)",22.438227000000001,-100.681702,1,"*","*",1,240510121,null,null,null,{"$f":"IFERROR(VLOOKUP(CONCATENATE(B8937,D8937),Padrón_Indígenas!$A$2:$G$988,7,0),\"No\")","v":"No"}]
[24,"051","Villa_Hidalgo","0010","Presa de Chancaquero (0010)","R","Villa Hidalgo (051)Presa de Chancaquero (0010)",22.938172000000002,-100.655844,252,134,118,75,240510010,"SI","Alto","Medio",{"$f":"IFERROR(VLOOKUP(CONCATENATE(B8938,D8938),Padrón_Indígenas!$A$2:$G$988,7,0),\"No\")","v":"No"}]
[24,"051","Villa_Hidalgo","0033","Presita de la Cruz (0033)","R","Villa Hidalgo (051)Presita de la Cruz (0033)",22.371155999999999,-100.645946,204,104,100,53,240510033,null,"Alto","Bajo",{"$f":"IFERROR(VLOOKUP(CONCATENATE(B8939,D8939),Padrón_Indígenas!$A$2:$G$988,7,0),\"No\")","v":"No"}]
[24,"051","Villa_Hidalgo","0134","Rancho del Valle (0134)","R","Villa Hidalgo (051)Rancho del Valle (0134)",22.419491000000001,-100.614002,0,0,0,0,240510134,null,null,null,{"$f":"IFERROR(VLOOKUP(CONCATENATE(B8940,D8940),Padrón_Indígenas!$A$2:$G$988,7,0),\"No\")","v":"No"}]
[24,"051","Villa_Hidalgo","0036","Rincón del Refugio (0036)","R","Villa Hidalgo (051)Rincón del Refugio (0036)",22.390626000000001,-100.466801,115,63,52,32,240510036,null,"Alto","Bajo",{"$f":"IFERROR(VLOOKUP(CONCATENATE(B8941,D8941),Padrón_Indígenas!$A$2:$G$988,7,0),\"No\")","v":"No"}]
[24,"051","Villa_Hidalgo","0061","San Antonio (0061)","R","Villa Hidalgo (051)San Antonio (0061)",22.483834999999999,-100.552235,35,17,18,10,240510061,null,"Alto","Medio",{"$f":"IFERROR(VLOOKUP(CONCATENATE(B8942,D8942),Padrón_Indígenas!$A$2:$G$988,7,0),\"No\")","v":"No"}]
[24,"051","Villa_Hidalgo","0040","San Ignacio (0040)","R","Villa Hidalgo (051)San Ignacio (0040)",22.520672999999999,-100.55009800000001,160,81,79,53,240510040,null,"Alto","Bajo",{"$f":"IFERROR(VLOOKUP(CONCATENATE(B8943,D8943),Padrón_Indígenas!$A$2:$G$988,7,0),\"No\")","v":"No"}]
[24,"051","Villa_Hidalgo","0084","San Isidro (0084)","R","Villa Hidalgo (051)San Isidro (0084)",22.937878999999999,-100.689019,2,"*","*",1,240510084,null,null,null,{"$f":"IFERROR(VLOOKUP(CONCATENATE(B8944,D8944),Padrón_Indígenas!$A$2:$G$988,7,0),\"No\")","v":"No"}]
[24,"051","Villa_Hidalgo","0090","San Juan de las Higueras (El Zorrillo) (0090)","R","Villa Hidalgo (051)San Juan de las Higueras (El Zorrillo) (0090)",22.917252999999999,-100.661141,4,"*","*",1,240510090,null,null,null,{"$f":"IFERROR(VLOOKUP(CONCATENATE(B8945,D8945),Padrón_Indígenas!$A$2:$G$988,7,0),\"No\")","v":"No"}]
[24,"051","Villa_Hidalgo","0043","San Lorenzo (0043)","R","Villa Hidalgo (051)San Lorenzo (0043)",22.557221999999999,-100.64666699999999,698,349,349,179,240510043,null,"Alto","Bajo",{"$f":"IFERROR(VLOOKUP(CONCATENATE(B8946,D8946),Padrón_Indígenas!$A$2:$G$988,7,0),\"No\")","v":"No"}]
[24,"051","Villa_Hidalgo","0045","San Nicolás del Refugio (0045)","R","Villa Hidalgo (051)San Nicolás del Refugio (0045)",22.459845999999999,-100.49311,81,37,44,21,240510045,null,"Alto","Bajo",{"$f":"IFERROR(VLOOKUP(CONCATENATE(B8947,D8947),Padrón_Indígenas!$A$2:$G$988,7,0),\"No\")","v":"No"}]
[24,"051","Villa_Hidalgo","0099","Sección Ferrocarril (La Sección) (0099)","R","Villa Hidalgo (051)Sección Ferrocarril (La Sección) (0099)",22.532634000000002,-100.51792399999999,4,"*","*",2,240510099,null,null,null,{"$f":"IFERROR(VLOOKUP(CONCATENATE(B8948,D8948),Padrón_Indígenas!$A$2:$G$988,7,0),\"No\")","v":"No"}]
[24,"051","Villa_Hidalgo","0049","Sequedad (0049)","R","Villa Hidalgo (051)Sequedad (0049)",22.436702,-100.562049,56,25,31,16,240510049,null,"Bajo","Muy bajo",{"$f":"IFERROR(VLOOKUP(CONCATENATE(B8949,D8949),Padrón_Indígenas!$A$2:$G$988,7,0),\"No\")","v":"No"}]
[24,"051","Villa_Hidalgo","0050","Silos (0050)","R","Villa Hidalgo (051)Silos (0050)",22.499444,-100.50749999999999,491,237,254,130,240510050,null,"Alto","Bajo",{"$f":"IFERROR(VLOOKUP(CONCATENATE(B8950,D8950),Padrón_Indígenas!$A$2:$G$988,7,0),\"No\")","v":"No"}]
[24,"051","Villa_Hidalgo","0067","Tanque Blanco (0067)","R","Villa Hidalgo (051)Tanque Blanco (0067)",22.450852999999999,-100.66065500000001,0,0,0,0,240510067,null,null,null,{"$f":"IFERROR(VLOOKUP(CONCATENATE(B8951,D8951),Padrón_Indígenas!$A$2:$G$988,7,0),\"No\")","v":"No"}]
[24,"051","Villa_Hidalgo","0095","Tanque de la Cruz (0095)","R","Villa Hidalgo (051)Tanque de la Cruz (0095)",22.511879,-100.897109,12,"*","*",1,240510095,null,null,null,{"$f":"IFERROR(VLOOKUP(CONCATENATE(B8952,D8952),Padrón_Indígenas!$A$2:$G$988,7,0),\"No\")","v":"No"}]
[24,"051","Villa_Hidalgo","0053","Tanque de Luna (0053)","R","Villa Hidalgo (051)Tanque de Luna (0053)",22.377419,-100.668741,357,179,178,92,240510053,null,"Alto","Bajo",{"$f":"IFERROR(VLOOKUP(CONCATENATE(B8953,D8953),Padrón_Indígenas!$A$2:$G$988,7,0),\"No\")","v":"No"}]
[24,"051","Villa_Hidalgo","0054","Tanque Nuevo (0054)","R","Villa Hidalgo (051)Tanque Nuevo (0054)",22.499347,-100.879116,191,93,98,59,240510054,null,"Alto","Bajo",{"$f":"IFERROR(VLOOKUP(CONCATENATE(B8954,D8954),Padrón_Indígenas!$A$2:$G$988,7,0),\"No\")","v":"No"}]
[24,"051","Villa_Hidalgo","0078","Tanque Romerillo (0078)","R","Villa Hidalgo (051)Tanque Romerillo (0078)",22.828610999999999,-100.782222,1,"*","*",1,240510078,null,null,null,{"$f":"IFERROR(VLOOKUP(CONCATENATE(B8955,D8955),Padrón_Indígenas!$A$2:$G$988,7,0),\"No\")","v":"No"}]
[24,"051","Villa_Hidalgo","0052","Tanquito de San Francisco (0052)","R","Villa Hidalgo (051)Tanquito de San Francisco (0052)",22.411180000000002,-100.71368200000001,389,185,204,86,240510052,null,"Medio","Muy bajo",{"$f":"IFERROR(VLOOKUP(CONCATENATE(B8956,D8956),Padrón_Indígenas!$A$2:$G$988,7,0),\"No\")","v":"No"}]
[24,"051","Villa_Hidalgo","0056","Trojes (0056)","R","Villa Hidalgo (051)Trojes (0056)",22.409586000000001,-100.551756,25,10,15,6,240510056,null,"Medio","Muy bajo",{"$f":"IFERROR(VLOOKUP(CONCATENATE(B8957,D8957),Padrón_Indígenas!$A$2:$G$988,7,0),\"No\")","v":"No"}]
[24,"051","Villa_Hidalgo","0057","Valle de San Juan (0057)","R","Villa Hidalgo (051)Valle de San Juan (0057)",22.398088000000001,-100.574945,322,170,152,95,240510057,null,"Alto","Bajo",{"$f":"IFERROR(VLOOKUP(CONCATENATE(B8958,D8958),Padrón_Indígenas!$A$2:$G$988,7,0),\"No\")","v":"No"}]
[24,"051","Villa_Hidalgo","0058","Veinte de Noviembre (0058)","R","Villa Hidalgo (051)Veinte de Noviembre (0058)",22.414719000000002,-100.635203,743,347,396,183,240510058,"SI","Medio","Bajo",{"$f":"IFERROR(VLOOKUP(CONCATENATE(B8959,D8959),Padrón_Indígenas!$A$2:$G$988,7,0),\"No\")","v":"No"}]
[24,"051","Villa_Hidalgo","0059","Venaditos (0059)","R","Villa Hidalgo (051)Venaditos (0059)",22.444766999999999,-100.62436599999999,309,156,153,88,240510059,null,"Medio","Muy bajo",{"$f":"IFERROR(VLOOKUP(CONCATENATE(B8960,D8960),Padrón_Indígenas!$A$2:$G$988,7,0),\"No\")","v":"No"}]
[24,"051","Villa_Hidalgo","0001","Villa Hidalgo (0001)","U","Villa Hidalgo (051)Villa Hidalgo (0001)",22.448692999999999,-100.678864,2800,1317,1483,737,240510001,"SI",null,null,{"$f":"IFERROR(VLOOKUP(CONCATENATE(B8961,D8961),Padrón_Indígenas!$A$2:$G$988,7,0),\"No\")","v":"No"}]
[24,"051","Villa_Hidalgo","0060","Zapotillo (0060)","R","Villa Hidalgo (051)Zapotillo (0060)",22.430527999999999,-100.699642,298,150,148,82,240510060,"SI","Medio","Muy bajo",{"$f":"IFERROR(VLOOKUP(CONCATENATE(B8962,D8962),Padrón_Indígenas!$A$2:$G$988,7,0),\"No\")","v":"No"}]
[24,"051","Villa_Hidalgo",null,"Todo el municipio ",null,"Villa Hidalgo (051)Todo el municipio ",null,null,{"$f":"SUM(J8888:J8962)","v":14876}]
[24,"052","Villa_Juárez","0002","Agua del Medio (0002)","R","Villa Juárez (052)Agua del Medio (0002)",22.163226000000002,-100.23623499999999,451,232,219,152,240520002,null,"Alto","Bajo",{"$f":"IFERROR(VLOOKUP(CONCATENATE(B8964,D8964),Padrón_Indígenas!$A$2:$G$988,7,0),\"No\")","v":"No"}]
[24,"052","Villa_Juárez","0024","Agua Postrera (0024)","R","Villa Juárez (052)Agua Postrera (0024)",22.149404000000001,-100.22062699999999,0,0,0,0,240520024,null,null,null,{"$f":"IFERROR(VLOOKUP(CONCATENATE(B8965,D8965),Padrón_Indígenas!$A$2:$G$988,7,0),\"No\")","v":"No"}]
[24,"052","Villa_Juárez","0004","Buenavista (0004)","R","Villa Juárez (052)Buenavista (0004)",22.205475,-100.29232500000001,128,75,53,44,240520004,null,"Alto","Medio",{"$f":"IFERROR(VLOOKUP(CONCATENATE(B8966,D8966),Padrón_Indígenas!$A$2:$G$988,7,0),\"No\")","v":"No"}]
[24,"052","Villa_Juárez","0006","Carrizal (0006)","R","Villa Juárez (052)Carrizal (0006)",22.179355000000001,-100.2533,103,46,57,32,240520006,null,"Alto","Bajo",{"$f":"IFERROR(VLOOKUP(CONCATENATE(B8967,D8967),Padrón_Indígenas!$A$2:$G$988,7,0),\"No\")","v":"No"}]
[24,"052","Villa_Juárez","0011","Catarina (0011)","R","Villa Juárez (052)Catarina (0011)",22.254042999999999,-100.249476,0,0,0,0,240520011,null,null,null,{"$f":"IFERROR(VLOOKUP(CONCATENATE(B8968,D8968),Padrón_Indígenas!$A$2:$G$988,7,0),\"No\")","v":"No"}]
[24,"052","Villa_Juárez","0026","Charco de las Enramadas (0026)","R","Villa Juárez (052)Charco de las Enramadas (0026)",22.367559,-100.130247,0,0,0,0,240520026,null,null,null,{"$f":"IFERROR(VLOOKUP(CONCATENATE(B8969,D8969),Padrón_Indígenas!$A$2:$G$988,7,0),\"No\")","v":"No"}]
[24,"052","Villa_Juárez","0046","Claudia Osorio (0046)","R","Villa Juárez (052)Claudia Osorio (0046)",22.306180000000001,-100.27179,0,0,0,0,240520046,null,null,null,{"$f":"IFERROR(VLOOKUP(CONCATENATE(B8970,D8970),Padrón_Indígenas!$A$2:$G$988,7,0),\"No\")","v":"No"}]
[24,"052","Villa_Juárez","0039","Cleotilde Rodríguez Rodríguez (0039)","R","Villa Juárez (052)Cleotilde Rodríguez Rodríguez (0039)",22.314764,-100.254594,3,"*","*",1,240520039,null,null,null,{"$f":"IFERROR(VLOOKUP(CONCATENATE(B8971,D8971),Padrón_Indígenas!$A$2:$G$988,7,0),\"No\")","v":"No"}]
[24,"052","Villa_Juárez","0040","Crisóforo Salazar Ríos (0040)","R","Villa Juárez (052)Crisóforo Salazar Ríos (0040)",22.311855999999999,-100.250286,14,8,6,3,240520040,null,"Muy alto","Alto",{"$f":"IFERROR(VLOOKUP(CONCATENATE(B8972,D8972),Padrón_Indígenas!$A$2:$G$988,7,0),\"No\")","v":"No"}]
[24,"052","Villa_Juárez","0020","El Colorado (0020)","R","Villa Juárez (052)El Colorado (0020)",22.345288,-100.123318,57,30,27,13,240520020,null,"Alto","Bajo",{"$f":"IFERROR(VLOOKUP(CONCATENATE(B8973,D8973),Padrón_Indígenas!$A$2:$G$988,7,0),\"No\")","v":"No"}]
[24,"052","Villa_Juárez","0041","El Jacalito (0041)","R","Villa Juárez (052)El Jacalito (0041)",22.304095,-100.240628,1,"*","*",1,240520041,null,null,null,{"$f":"IFERROR(VLOOKUP(CONCATENATE(B8974,D8974),Padrón_Indígenas!$A$2:$G$988,7,0),\"No\")","v":"No"}]
[24,"052","Villa_Juárez","0045","El Polvorín (0045)","R","Villa Juárez (052)El Polvorín (0045)",22.383458000000001,-100.238356,0,0,0,0,240520045,null,null,null,{"$f":"IFERROR(VLOOKUP(CONCATENATE(B8975,D8975),Padrón_Indígenas!$A$2:$G$988,7,0),\"No\")","v":"No"}]
[24,"052","Villa_Juárez","0052","El Puente (La Curva) (0052)","R","Villa Juárez (052)El Puente (La Curva) (0052)",22.252787999999999,-100.134856,4,"*","*",2,240520052,null,null,null,{"$f":"IFERROR(VLOOKUP(CONCATENATE(B8976,D8976),Padrón_Indígenas!$A$2:$G$988,7,0),\"No\")","v":"No"}]
[24,"052","Villa_Juárez","0028","El Rodeo (Juan Moreno Martínez) (0028)","R","Villa Juárez (052)El Rodeo (Juan Moreno Martínez) (0028)",22.193365,-100.19589499999999,1,"*","*",1,240520028,null,null,null,{"$f":"IFERROR(VLOOKUP(CONCATENATE(B8977,D8977),Padrón_Indígenas!$A$2:$G$988,7,0),\"No\")","v":"No"}]
[24,"052","Villa_Juárez","0021","El Tejocote (0021)","R","Villa Juárez (052)El Tejocote (0021)",22.308389999999999,-100.10962600000001,75,35,40,17,240520021,null,"Alto","Medio",{"$f":"IFERROR(VLOOKUP(CONCATENATE(B8978,D8978),Padrón_Indígenas!$A$2:$G$988,7,0),\"No\")","v":"No"}]
[24,"052","Villa_Juárez","0053","Ernesto Castillo (0053)","R","Villa Juárez (052)Ernesto Castillo (0053)",22.312825,-100.257733,6,"*","*",1,240520053,null,null,null,{"$f":"IFERROR(VLOOKUP(CONCATENATE(B8979,D8979),Padrón_Indígenas!$A$2:$G$988,7,0),\"No\")","v":"No"}]
[24,"052","Villa_Juárez","0055","Faldas del Cerro del Tablon (0055)","R","Villa Juárez (052)Faldas del Cerro del Tablon (0055)",22.22279,-100.28121299999999,"-","-","-","-",240520055,null,null,null,{"$f":"IFERROR(VLOOKUP(CONCATENATE(B8980,D8980),Padrón_Indígenas!$A$2:$G$988,7,0),\"No\")","v":"No"}]
[24,"052","Villa_Juárez","0047","Gilberto Ríos Martínez (0047)","R","Villa Juárez (052)Gilberto Ríos Martínez (0047)",22.339008,-100.265333,0,0,0,0,240520047,null,null,null,{"$f":"IFERROR(VLOOKUP(CONCATENATE(B8981,D8981),Padrón_Indígenas!$A$2:$G$988,7,0),\"No\")","v":"No"}]
[24,"052","Villa_Juárez","0010","Granjenal (0010)","R","Villa Juárez (052)Granjenal (0010)",22.392576999999999,-100.06734899999999,1496,730,766,389,240520010,"SI","Alto","Bajo",{"$f":"IFERROR(VLOOKUP(CONCATENATE(B8982,D8982),Padrón_Indígenas!$A$2:$G$988,7,0),\"No\")","v":"No"}]
[24,"052","Villa_Juárez","0012","Guaxcamá (0012)","R","Villa Juárez (052)Guaxcamá (0012)",22.213844000000002,-100.27175099999999,135,78,57,42,240520012,null,"Alto","Medio",{"$f":"IFERROR(VLOOKUP(CONCATENATE(B8983,D8983),Padrón_Indígenas!$A$2:$G$988,7,0),\"No\")","v":"No"}]
[24,"052","Villa_Juárez","0048","Humberto Silva Quirino (0048)","R","Villa Juárez (052)Humberto Silva Quirino (0048)",22.315276999999998,-100.282039,5,"*","*",1,240520048,"SI",null,null,{"$f":"IFERROR(VLOOKUP(CONCATENATE(B8984,D8984),Padrón_Indígenas!$A$2:$G$988,7,0),\"No\")","v":"No"}]
[24,"052","Villa_Juárez","0029","Inés Niño (0029)","R","Villa Juárez (052)Inés Niño (0029)",22.313222,-100.268241,0,0,0,0,240520029,null,null,null,{"$f":"IFERROR(VLOOKUP(CONCATENATE(B8985,D8985),Padrón_Indígenas!$A$2:$G$988,7,0),\"No\")","v":"No"}]
[24,"052","Villa_Juárez","0030","José Inés Barrón (La Carbonera) (0030)","R","Villa Juárez (052)José Inés Barrón (La Carbonera) (0030)",22.332954000000001,-100.27775699999999,0,0,0,0,240520030,null,null,null,{"$f":"IFERROR(VLOOKUP(CONCATENATE(B8986,D8986),Padrón_Indígenas!$A$2:$G$988,7,0),\"No\")","v":"No"}]
[24,"052","Villa_Juárez","0013","Juan Domínguez (0013)","R","Villa Juárez (052)Juan Domínguez (0013)",22.230336000000001,-100.21777299999999,62,28,34,17,240520013,null,"Alto","Medio",{"$f":"IFERROR(VLOOKUP(CONCATENATE(B8987,D8987),Padrón_Indígenas!$A$2:$G$988,7,0),\"No\")","v":"No"}]
[24,"052","Villa_Juárez","0044","Julio Ruiz Carrizales (0044)","R","Villa Juárez (052)Julio Ruiz Carrizales (0044)",22.307569000000001,-100.24038299999999,0,0,0,0,240520044,null,null,null,{"$f":"IFERROR(VLOOKUP(CONCATENATE(B8988,D8988),Padrón_Indígenas!$A$2:$G$988,7,0),\"No\")","v":"No"}]
[24,"052","Villa_Juárez","0003","La Borreguita (0003)","R","Villa Juárez (052)La Borreguita (0003)",22.325616,-100.14671,0,0,0,0,240520003,null,null,null,{"$f":"IFERROR(VLOOKUP(CONCATENATE(B8989,D8989),Padrón_Indígenas!$A$2:$G$988,7,0),\"No\")","v":"No"}]
[24,"052","Villa_Juárez","0005","La Cardona (0005)","R","Villa Juárez (052)La Cardona (0005)",22.391458,-100.13706000000001,321,155,166,69,240520005,"SI","Alto","Bajo",{"$f":"IFERROR(VLOOKUP(CONCATENATE(B8990,D8990),Padrón_Indígenas!$A$2:$G$988,7,0),\"No\")","v":"No"}]
[24,"052","Villa_Juárez","0054","La Chimenea (0054)","R","Villa Juárez (052)La Chimenea (0054)",22.307524000000001,-100.245087,0,0,0,0,240520054,null,null,null,{"$f":"IFERROR(VLOOKUP(CONCATENATE(B8991,D8991),Padrón_Indígenas!$A$2:$G$988,7,0),\"No\")","v":"No"}]
[24,"052","Villa_Juárez","0009","La Gavia (0009)","R","Villa Juárez (052)La Gavia (0009)",22.248507,-100.17680300000001,439,209,230,127,240520009,null,"Alto","Medio",{"$f":"IFERROR(VLOOKUP(CONCATENATE(B8992,D8992),Padrón_Indígenas!$A$2:$G$988,7,0),\"No\")","v":"No"}]
[24,"052","Villa_Juárez","0042","La Mina (Santo Domingo) (0042)","R","Villa Juárez (052)La Mina (Santo Domingo) (0042)",22.316886,-100.14754499999999,0,0,0,0,240520042,null,null,null,{"$f":"IFERROR(VLOOKUP(CONCATENATE(B8993,D8993),Padrón_Indígenas!$A$2:$G$988,7,0),\"No\")","v":"No"}]
[24,"052","Villa_Juárez","0034","La Raíz (0034)","R","Villa Juárez (052)La Raíz (0034)",22.199583000000001,-100.215844,0,0,0,0,240520034,null,null,null,{"$f":"IFERROR(VLOOKUP(CONCATENATE(B8994,D8994),Padrón_Indígenas!$A$2:$G$988,7,0),\"No\")","v":"No"}]
[24,"052","Villa_Juárez","0007","Las Enramadas (0007)","R","Villa Juárez (052)Las Enramadas (0007)",22.360833,-100.12138899999999,35,20,15,9,240520007,null,"Alto","Medio",{"$f":"IFERROR(VLOOKUP(CONCATENATE(B8995,D8995),Padrón_Indígenas!$A$2:$G$988,7,0),\"No\")","v":"No"}]
[24,"052","Villa_Juárez","0008","Las Fincas (0008)","R","Villa Juárez (052)Las Fincas (0008)",22.225211000000002,-100.240303,61,25,36,17,240520008,null,"Alto","Bajo",{"$f":"IFERROR(VLOOKUP(CONCATENATE(B8996,D8996),Padrón_Indígenas!$A$2:$G$988,7,0),\"No\")","v":"No"}]
[24,"052","Villa_Juárez","0051","Las Norias (0051)","R","Villa Juárez (052)Las Norias (0051)",22.385000000000002,-100.065556,0,0,0,0,240520051,null,null,null,{"$f":"IFERROR(VLOOKUP(CONCATENATE(B8997,D8997),Padrón_Indígenas!$A$2:$G$988,7,0),\"No\")","v":"No"}]
[24,"052","Villa_Juárez","0049","Mauro Niño Martínez (0049)","R","Villa Juárez (052)Mauro Niño Martínez (0049)",22.332661000000002,-100.263592,0,0,0,0,240520049,null,null,null,{"$f":"IFERROR(VLOOKUP(CONCATENATE(B8998,D8998),Padrón_Indígenas!$A$2:$G$988,7,0),\"No\")","v":"No"}]
[24,"052","Villa_Juárez","0050","Omar Rodríguez (0050)","R","Villa Juárez (052)Omar Rodríguez (0050)",22.313611000000002,-100.254722,5,"*","*",1,240520050,null,null,null,{"$f":"IFERROR(VLOOKUP(CONCATENATE(B8999,D8999),Padrón_Indígenas!$A$2:$G$988,7,0),\"No\")","v":"No"}]
[24,"052","Villa_Juárez","0015","Palo Seco (El Gato) (0015)","R","Villa Juárez (052)Palo Seco (El Gato) (0015)",22.354313000000001,-100.19235999999999,1291,609,682,335,240520015,"SI","Alto","Medio",{"$f":"IFERROR(VLOOKUP(CONCATENATE(B9000,D9000),Padrón_Indígenas!$A$2:$G$988,7,0),\"No\")","v":"No"}]
[24,"052","Villa_Juárez","0033","Potrero de las Fincas (0033)","R","Villa Juárez (052)Potrero de las Fincas (0033)",22.205518999999999,-100.234013,0,0,0,0,240520033,null,null,null,{"$f":"IFERROR(VLOOKUP(CONCATENATE(B9001,D9001),Padrón_Indígenas!$A$2:$G$988,7,0),\"No\")","v":"No"}]
[24,"052","Villa_Juárez","0036","Potrero del Tocho (0036)","R","Villa Juárez (052)Potrero del Tocho (0036)",22.210577000000001,-100.227705,2,"*","*",1,240520036,null,null,null,{"$f":"IFERROR(VLOOKUP(CONCATENATE(B9002,D9002),Padrón_Indígenas!$A$2:$G$988,7,0),\"No\")","v":"No"}]
[24,"052","Villa_Juárez","0016","Puerta del Río (0016)","R","Villa Juárez (052)Puerta del Río (0016)",22.238976000000001,-100.26105800000001,584,287,297,156,240520016,"SI","Alto","Bajo",{"$f":"IFERROR(VLOOKUP(CONCATENATE(B9003,D9003),Padrón_Indígenas!$A$2:$G$988,7,0),\"No\")","v":"No"}]
[24,"052","Villa_Juárez","0027","Rancho Mampala (0027)","R","Villa Juárez (052)Rancho Mampala (0027)",22.371096000000001,-100.235967,1,"*","*",1,240520027,null,null,null,{"$f":"IFERROR(VLOOKUP(CONCATENATE(B9004,D9004),Padrón_Indígenas!$A$2:$G$988,7,0),\"No\")","v":"No"}]
[24,"052","Villa_Juárez","0035","San Francisco (Ángel Moreno Martínez) (0035)","R","Villa Juárez (052)San Francisco (Ángel Moreno Martínez) (0035)",22.202204999999999,-100.20894199999999,0,0,0,0,240520035,null,null,null,{"$f":"IFERROR(VLOOKUP(CONCATENATE(B9005,D9005),Padrón_Indígenas!$A$2:$G$988,7,0),\"No\")","v":"No"}]
[24,"052","Villa_Juárez","0017","San Isidro (0017)","R","Villa Juárez (052)San Isidro (0017)",22.178049000000001,-100.198123,128,68,60,41,240520017,null,"Medio","Bajo",{"$f":"IFERROR(VLOOKUP(CONCATENATE(B9006,D9006),Padrón_Indígenas!$A$2:$G$988,7,0),\"No\")","v":"No"}]
[24,"052","Villa_Juárez","0018","San José del Matorral (0018)","R","Villa Juárez (052)San José del Matorral (0018)",22.363512,-100.28183300000001,174,87,87,58,240520018,null,"Alto","Bajo",{"$f":"IFERROR(VLOOKUP(CONCATENATE(B9007,D9007),Padrón_Indígenas!$A$2:$G$988,7,0),\"No\")","v":"No"}]
[24,"052","Villa_Juárez","0022","San Vicente de la Cruz (0022)","R","Villa Juárez (052)San Vicente de la Cruz (0022)",22.165346,-100.326853,71,37,34,22,240520022,"SI","Alto","Medio",{"$f":"IFERROR(VLOOKUP(CONCATENATE(B9008,D9008),Padrón_Indígenas!$A$2:$G$988,7,0),\"No\")","v":"No"}]
[24,"052","Villa_Juárez","0019","Santo Domingo (0019)","R","Villa Juárez (052)Santo Domingo (0019)",22.283484000000001,-100.170283,1047,501,546,271,240520019,"SI","Alto","Bajo",{"$f":"IFERROR(VLOOKUP(CONCATENATE(B9009,D9009),Padrón_Indígenas!$A$2:$G$988,7,0),\"No\")","v":"No"}]
[24,"052","Villa_Juárez","0032","Víctor González (0032)","R","Villa Juárez (052)Víctor González (0032)",22.315335999999999,-100.26324,0,0,0,0,240520032,null,null,null,{"$f":"IFERROR(VLOOKUP(CONCATENATE(B9010,D9010),Padrón_Indígenas!$A$2:$G$988,7,0),\"No\")","v":"No"}]
[24,"052","Villa_Juárez","0001","Villa Juárez (0001)","U","Villa Juárez (052)Villa Juárez (0001)",22.323208999999999,-100.266649,3474,1712,1762,1059,240520001,"SI",null,null,{"$f":"IFERROR(VLOOKUP(CONCATENATE(B9011,D9011),Padrón_Indígenas!$A$2:$G$988,7,0),\"No\")","v":"No"}]
[24,"052","Villa_Juárez",null,"Todo el municipio ",null,"Villa Juárez (052)Todo el municipio ",null,null,{"$f":"SUM(J8964:J9011)","v":10174}]
[24,"054","Xilitla","0243","Agua Buenita (0243)","R","Xilitla (054)Agua Buenita (0243)",21.323366,-98.962986000000001,0,0,0,0,240540243,null,null,null,{"$f":"IFERROR(VLOOKUP(CONCATENATE(B9013,D9013),Padrón_Indígenas!$A$2:$G$988,7,0),\"No\")","v":"No"}]
[24,"054","Xilitla","0175","Agua de Cuayo (0175)","R","Xilitla (054)Agua de Cuayo (0175)",21.449998000000001,-99.018691000000004,103,57,46,25,240540175,"SI","Alto","Medio",{"$f":"IFERROR(VLOOKUP(CONCATENATE(B9014,D9014),Padrón_Indígenas!$A$2:$G$988,7,0),\"No\")","v":"Sí"}]
[24,"054","Xilitla","0126","Agua de la Peña (0126)","R","Xilitla (054)Agua de la Peña (0126)",21.327072000000001,-99.106812000000005,130,68,62,25,240540126,null,"Muy alto","Medio",{"$f":"IFERROR(VLOOKUP(CONCATENATE(B9015,D9015),Padrón_Indígenas!$A$2:$G$988,7,0),\"No\")","v":"No"}]
[24,"054","Xilitla","0125","Agua Fierro (0125)","R","Xilitla (054)Agua Fierro (0125)",21.466398000000002,-99.014610000000005,159,76,83,30,240540125,"SI","Muy alto","Alto",{"$f":"IFERROR(VLOOKUP(CONCATENATE(B9016,D9016),Padrón_Indígenas!$A$2:$G$988,7,0),\"No\")","v":"Sí"}]
[24,"054","Xilitla","0127","Agua Fría (0127)","R","Xilitla (054)Agua Fría (0127)",21.330026,-99.002422999999993,76,39,37,19,240540127,"SI","Alto","Medio",{"$f":"IFERROR(VLOOKUP(CONCATENATE(B9017,D9017),Padrón_Indígenas!$A$2:$G$988,7,0),\"No\")","v":"No"}]
[24,"054","Xilitla","0098","Agua Puerca (0098)","R","Xilitla (054)Agua Puerca (0098)",21.404059,-98.934346000000005,144,74,70,29,240540098,"SI","Alto","Medio",{"$f":"IFERROR(VLOOKUP(CONCATENATE(B9018,D9018),Padrón_Indígenas!$A$2:$G$988,7,0),\"No\")","v":"Sí"}]
[24,"054","Xilitla","0003","Ahuacatlán de Jesús (0003)","R","Xilitla (054)Ahuacatlán de Jesús (0003)",21.321148000000001,-99.051736000000005,1125,547,578,309,240540003,"SI","Alto","Bajo",{"$f":"IFERROR(VLOOKUP(CONCATENATE(B9019,D9019),Padrón_Indígenas!$A$2:$G$988,7,0),\"No\")","v":"No"}]
[24,"054","Xilitla","0002","Ahuayo (0002)","R","Xilitla (054)Ahuayo (0002)",21.412329,-99.010829999999999,321,153,168,75,240540002,"SI","Alto","Medio",{"$f":"IFERROR(VLOOKUP(CONCATENATE(B9020,D9020),Padrón_Indígenas!$A$2:$G$988,7,0),\"No\")","v":"No"}]
[24,"054","Xilitla","0004","Ahuehueyo (0004)","R","Xilitla (054)Ahuehueyo (0004)",21.364044,-98.920141999999998,1169,582,587,230,240540004,"SI","Alto","Medio",{"$f":"IFERROR(VLOOKUP(CONCATENATE(B9021,D9021),Padrón_Indígenas!$A$2:$G$988,7,0),\"No\")","v":"Sí"}]
[24,"054","Xilitla","0006","Amayo de Zaragoza (Puerto de Amayo) (0006)","R","Xilitla (054)Amayo de Zaragoza (Puerto de Amayo) (0006)",21.327776,-98.997163999999998,169,83,86,42,240540006,"SI","Alto","Medio",{"$f":"IFERROR(VLOOKUP(CONCATENATE(B9022,D9022),Padrón_Indígenas!$A$2:$G$988,7,0),\"No\")","v":"No"}]
[24,"054","Xilitla","0008","Apetzco (0008)","R","Xilitla (054)Apetzco (0008)",21.393611,-99.010833000000005,615,309,306,125,240540008,"SI","Alto","Bajo",{"$f":"IFERROR(VLOOKUP(CONCATENATE(B9023,D9023),Padrón_Indígenas!$A$2:$G$988,7,0),\"No\")","v":"Sí"}]
[24,"054","Xilitla","0009","Arroyo Seco (0009)","R","Xilitla (054)Arroyo Seco (0009)",21.397243,-98.955568,249,124,125,60,240540009,"SI","Alto","Medio",{"$f":"IFERROR(VLOOKUP(CONCATENATE(B9024,D9024),Padrón_Indígenas!$A$2:$G$988,7,0),\"No\")","v":"Sí"}]
[24,"054","Xilitla","0184","Barrio de Cristo Rey (Apetzco) (0184)","R","Xilitla (054)Barrio de Cristo Rey (Apetzco) (0184)",21.399872999999999,-99.011831000000001,467,241,226,99,240540184,"SI","Alto","Medio",{"$f":"IFERROR(VLOOKUP(CONCATENATE(B9025,D9025),Padrón_Indígenas!$A$2:$G$988,7,0),\"No\")","v":"Sí"}]
[24,"054","Xilitla","0245","Barrio del Ajuate (0245)","R","Xilitla (054)Barrio del Ajuate (0245)",21.333704999999998,-98.987988000000001,152,86,66,34,240540245,"SI","Alto","Medio",{"$f":"IFERROR(VLOOKUP(CONCATENATE(B9026,D9026),Padrón_Indígenas!$A$2:$G$988,7,0),\"No\")","v":"Sí"}]
[24,"054","Xilitla","0246","Barrio la Escuela (0246)","R","Xilitla (054)Barrio la Escuela (0246)",21.326203,-99.000106000000002,72,39,33,16,240540246,null,"Alto","Medio",{"$f":"IFERROR(VLOOKUP(CONCATENATE(B9027,D9027),Padrón_Indígenas!$A$2:$G$988,7,0),\"No\")","v":"No"}]
[24,"054","Xilitla","0147","Barrio San Isidro (0147)","R","Xilitla (054)Barrio San Isidro (0147)",21.390355,-99.010046000000003,187,90,97,38,240540147,"SI","Alto","Medio",{"$f":"IFERROR(VLOOKUP(CONCATENATE(B9028,D9028),Padrón_Indígenas!$A$2:$G$988,7,0),\"No\")","v":"Sí"}]
[24,"054","Xilitla","0247","Barrio San Pedro (0247)","R","Xilitla (054)Barrio San Pedro (0247)",21.460068,-99.009623000000005,499,257,242,92,240540247,"SI","Alto","Medio",{"$f":"IFERROR(VLOOKUP(CONCATENATE(B9029,D9029),Padrón_Indígenas!$A$2:$G$988,7,0),\"No\")","v":"No"}]
[24,"054","Xilitla","0106","Buenavista (0106)","R","Xilitla (054)Buenavista (0106)",21.337755999999999,-99.102525,249,123,126,49,240540106,"SI","Alto","Medio",{"$f":"IFERROR(VLOOKUP(CONCATENATE(B9030,D9030),Padrón_Indígenas!$A$2:$G$988,7,0),\"No\")","v":"Sí"}]
[24,"054","Xilitla","0133","Buenavista (0133)","R","Xilitla (054)Buenavista (0133)",21.476779000000001,-99.005876000000001,304,159,145,60,240540133,"SI","Alto","Medio",{"$f":"IFERROR(VLOOKUP(CONCATENATE(B9031,D9031),Padrón_Indígenas!$A$2:$G$988,7,0),\"No\")","v":"Sí"}]
[24,"054","Xilitla","0176","Buenavista (0176)","R","Xilitla (054)Buenavista (0176)",21.399291999999999,-98.936115999999998,75,40,35,18,240540176,"SI","Alto","Medio",{"$f":"IFERROR(VLOOKUP(CONCATENATE(B9032,D9032),Padrón_Indígenas!$A$2:$G$988,7,0),\"No\")","v":"Sí"}]
[24,"054","Xilitla","0248","Buenavista (0248)","R","Xilitla (054)Buenavista (0248)",21.380326,-98.961804000000001,49,27,22,12,240540248,"SI","Muy alto","Alto",{"$f":"IFERROR(VLOOKUP(CONCATENATE(B9033,D9033),Padrón_Indígenas!$A$2:$G$988,7,0),\"No\")","v":"Sí"}]
[24,"054","Xilitla","0178","Cafetales (0178)","R","Xilitla (054)Cafetales (0178)",21.334761,-98.948671000000004,360,181,179,71,240540178,"SI","Alto","Medio",{"$f":"IFERROR(VLOOKUP(CONCATENATE(B9034,D9034),Padrón_Indígenas!$A$2:$G$988,7,0),\"No\")","v":"Sí"}]
[24,"054","Xilitla","0181","Cerro Quebrado (0181)","R","Xilitla (054)Cerro Quebrado (0181)",21.406426,-99.038094000000001,156,85,71,31,240540181,"SI","Alto","Bajo",{"$f":"IFERROR(VLOOKUP(CONCATENATE(B9035,D9035),Padrón_Indígenas!$A$2:$G$988,7,0),\"No\")","v":"Sí"}]
[24,"054","Xilitla","0014","Cerro Quemado (0014)","R","Xilitla (054)Cerro Quemado (0014)",21.445484,-99.023850999999993,32,18,14,8,240540014,"SI","Muy alto","Alto",{"$f":"IFERROR(VLOOKUP(CONCATENATE(B9036,D9036),Padrón_Indígenas!$A$2:$G$988,7,0),\"No\")","v":"Sí"}]
[24,"054","Xilitla","0021","Chichimixtitla (0021)","R","Xilitla (054)Chichimixtitla (0021)",21.397314000000001,-98.974892999999994,406,207,199,82,240540021,"SI","Alto","Bajo",{"$f":"IFERROR(VLOOKUP(CONCATENATE(B9037,D9037),Padrón_Indígenas!$A$2:$G$988,7,0),\"No\")","v":"Sí"}]
[24,"054","Xilitla","0276","Chupanátl (0276)","R","Xilitla (054)Chupanátl (0276)",21.401638999999999,-98.957700000000003,28,15,13,7,240540276,"SI","Muy alto","Alto",{"$f":"IFERROR(VLOOKUP(CONCATENATE(B9038,D9038),Padrón_Indígenas!$A$2:$G$988,7,0),\"No\")","v":"Sí"}]
[24,"054","Xilitla","0018","Cruztitla (0018)","R","Xilitla (054)Cruztitla (0018)",21.369941000000001,-98.965394000000003,141,67,74,38,240540018,"SI","Alto","Bajo",{"$f":"IFERROR(VLOOKUP(CONCATENATE(B9039,D9039),Padrón_Indígenas!$A$2:$G$988,7,0),\"No\")","v":"No"}]
[24,"054","Xilitla","0235","Cuáhuatl (0235)","R","Xilitla (054)Cuáhuatl (0235)",21.387156000000001,-98.957384000000005,169,81,88,32,240540235,"SI","Alto","Medio",{"$f":"IFERROR(VLOOKUP(CONCATENATE(B9040,D9040),Padrón_Indígenas!$A$2:$G$988,7,0),\"No\")","v":"Sí"}]
[24,"054","Xilitla","0038","Cuartillo Nuevo (0038)","R","Xilitla (054)Cuartillo Nuevo (0038)",21.354347000000001,-98.942034000000007,511,266,245,95,240540038,"SI","Alto","Medio",{"$f":"IFERROR(VLOOKUP(CONCATENATE(B9041,D9041),Padrón_Indígenas!$A$2:$G$988,7,0),\"No\")","v":"Sí"}]
[24,"054","Xilitla","0122","Cuartillo Viejo (0122)","R","Xilitla (054)Cuartillo Viejo (0122)",21.357139,-98.958738999999994,213,111,102,55,240540122,"SI","Alto","Medio",{"$f":"IFERROR(VLOOKUP(CONCATENATE(B9042,D9042),Padrón_Indígenas!$A$2:$G$988,7,0),\"No\")","v":"Sí"}]
[24,"054","Xilitla","0277","Cucharájatl (0277)","R","Xilitla (054)Cucharájatl (0277)",21.416564000000001,-98.953023999999999,51,26,25,10,240540277,"SI","Muy alto","Alto",{"$f":"IFERROR(VLOOKUP(CONCATENATE(B9043,D9043),Padrón_Indígenas!$A$2:$G$988,7,0),\"No\")","v":"Sí"}]
[24,"054","Xilitla","0032","Ejido Peña Blanca Limontitla (0032)","R","Xilitla (054)Ejido Peña Blanca Limontitla (0032)",21.454004999999999,-98.963846000000004,556,285,271,125,240540032,"SI","Alto","Medio",{"$f":"IFERROR(VLOOKUP(CONCATENATE(B9044,D9044),Padrón_Indígenas!$A$2:$G$988,7,0),\"No\")","v":"Sí"}]
[24,"054","Xilitla","0086","Ejido Xilitlilla (0086)","R","Xilitla (054)Ejido Xilitlilla (0086)",21.364456000000001,-99.044973999999996,214,116,98,48,240540086,"SI","Alto","Medio",{"$f":"IFERROR(VLOOKUP(CONCATENATE(B9045,D9045),Padrón_Indígenas!$A$2:$G$988,7,0),\"No\")","v":"No"}]
[24,"054","Xilitla","0130","El Arrozal (0130)","R","Xilitla (054)El Arrozal (0130)",21.431491000000001,-99.024182999999994,34,16,18,10,240540130,"SI","Alto","Medio",{"$f":"IFERROR(VLOOKUP(CONCATENATE(B9046,D9046),Padrón_Indígenas!$A$2:$G$988,7,0),\"No\")","v":"Sí"}]
[24,"054","Xilitla","0010","El Balcón (0010)","R","Xilitla (054)El Balcón (0010)",21.340188000000001,-99.046887999999996,124,57,67,34,240540010,null,"Alto","Medio",{"$f":"IFERROR(VLOOKUP(CONCATENATE(B9047,D9047),Padrón_Indígenas!$A$2:$G$988,7,0),\"No\")","v":"No"}]
[24,"054","Xilitla","0132","El Barrio (0132)","R","Xilitla (054)El Barrio (0132)",21.360866000000001,-99.050370000000001,107,56,51,22,240540132,"SI","Alto","Bajo",{"$f":"IFERROR(VLOOKUP(CONCATENATE(B9048,D9048),Padrón_Indígenas!$A$2:$G$988,7,0),\"No\")","v":"No"}]
[24,"054","Xilitla","0275","El Bordo (0275)","R","Xilitla (054)El Bordo (0275)",21.458333,-99.003056000000001,0,0,0,0,240540275,null,null,null,{"$f":"IFERROR(VLOOKUP(CONCATENATE(B9049,D9049),Padrón_Indígenas!$A$2:$G$988,7,0),\"No\")","v":"No"}]
[24,"054","Xilitla","0013","El Cañón (0013)","R","Xilitla (054)El Cañón (0013)",21.437336999999999,-99.003889000000001,584,283,301,133,240540013,"SI","Alto","Bajo",{"$f":"IFERROR(VLOOKUP(CONCATENATE(B9050,D9050),Padrón_Indígenas!$A$2:$G$988,7,0),\"No\")","v":"Sí"}]
[24,"054","Xilitla","0179","El Carrizal (0179)","R","Xilitla (054)El Carrizal (0179)",21.350876,-98.938187999999997,140,65,75,27,240540179,"SI","Alto","Medio",{"$f":"IFERROR(VLOOKUP(CONCATENATE(B9051,D9051),Padrón_Indígenas!$A$2:$G$988,7,0),\"No\")","v":"Sí"}]
[24,"054","Xilitla","0182","El Cedral (0182)","R","Xilitla (054)El Cedral (0182)",21.363748000000001,-99.066657000000006,69,32,37,16,240540182,null,"Muy alto","Medio",{"$f":"IFERROR(VLOOKUP(CONCATENATE(B9052,D9052),Padrón_Indígenas!$A$2:$G$988,7,0),\"No\")","v":"No"}]
[24,"054","Xilitla","0020","El Chalahuite (0020)","R","Xilitla (054)El Chalahuite (0020)",21.482358000000001,-99.069727999999998,15,5,10,4,240540020,"SI","Muy alto","Alto",{"$f":"IFERROR(VLOOKUP(CONCATENATE(B9053,D9053),Padrón_Indígenas!$A$2:$G$988,7,0),\"No\")","v":"No"}]
[24,"054","Xilitla","0134","El Corazón de María (El Campamento) (0134)","R","Xilitla (054)El Corazón de María (El Campamento) (0134)",21.383578,-99.005812000000006,198,101,97,42,240540134,"SI","Alto","Medio",{"$f":"IFERROR(VLOOKUP(CONCATENATE(B9054,D9054),Padrón_Indígenas!$A$2:$G$988,7,0),\"No\")","v":"Sí"}]
[24,"054","Xilitla","0190","El Encinal (0190)","R","Xilitla (054)El Encinal (0190)",21.370215999999999,-98.968599999999995,50,21,29,12,240540190,"SI","Alto","Medio",{"$f":"IFERROR(VLOOKUP(CONCATENATE(B9055,D9055),Padrón_Indígenas!$A$2:$G$988,7,0),\"No\")","v":"Sí"}]
[24,"054","Xilitla","0253","El Encino (0253)","R","Xilitla (054)El Encino (0253)",21.305402999999998,-99.074887000000004,16,10,6,5,240540253,null,"Alto","Medio",{"$f":"IFERROR(VLOOKUP(CONCATENATE(B9056,D9056),Padrón_Indígenas!$A$2:$G$988,7,0),\"No\")","v":"No"}]
[24,"054","Xilitla","0193","El Granado (0193)","R","Xilitla (054)El Granado (0193)",21.469977,-98.988017999999997,231,106,125,52,240540193,"SI","Muy alto","Medio",{"$f":"IFERROR(VLOOKUP(CONCATENATE(B9057,D9057),Padrón_Indígenas!$A$2:$G$988,7,0),\"No\")","v":"Sí"}]
[24,"054","Xilitla","0026","El Jobo (0026)","R","Xilitla (054)El Jobo (0026)",21.419053999999999,-98.954668999999996,670,345,325,128,240540026,"SI","Alto","Medio",{"$f":"IFERROR(VLOOKUP(CONCATENATE(B9058,D9058),Padrón_Indígenas!$A$2:$G$988,7,0),\"No\")","v":"Sí"}]
[24,"054","Xilitla","0129","El Jobo (0129)","R","Xilitla (054)El Jobo (0129)",21.377976,-98.974513000000002,74,30,44,19,240540129,"SI","Medio","Bajo",{"$f":"IFERROR(VLOOKUP(CONCATENATE(B9059,D9059),Padrón_Indígenas!$A$2:$G$988,7,0),\"No\")","v":"Sí"}]
[24,"054","Xilitla","0200","El Lagarto (0200)","R","Xilitla (054)El Lagarto (0200)",21.344778999999999,-98.975199000000003,150,77,73,36,240540200,"SI","Alto","Medio",{"$f":"IFERROR(VLOOKUP(CONCATENATE(B9060,D9060),Padrón_Indígenas!$A$2:$G$988,7,0),\"No\")","v":"Sí"}]
[24,"054","Xilitla","0031","El Limón (0031)","R","Xilitla (054)El Limón (0031)",21.314333999999999,-98.993762000000004,34,19,15,8,240540031,"SI","Muy alto","Alto",{"$f":"IFERROR(VLOOKUP(CONCATENATE(B9061,D9061),Padrón_Indígenas!$A$2:$G$988,7,0),\"No\")","v":"Sí"}]
[24,"054","Xilitla","0144","El Limón (0144)","R","Xilitla (054)El Limón (0144)",21.419287000000001,-99.029392999999999,26,14,12,6,240540144,null,"Alto","Bajo",{"$f":"IFERROR(VLOOKUP(CONCATENATE(B9062,D9062),Padrón_Indígenas!$A$2:$G$988,7,0),\"No\")","v":"No"}]
[24,"054","Xilitla","0202","El Limoncito (0202)","R","Xilitla (054)El Limoncito (0202)",21.311005999999999,-98.982444999999998,64,34,30,17,240540202,null,"Alto","Medio",{"$f":"IFERROR(VLOOKUP(CONCATENATE(B9063,D9063),Padrón_Indígenas!$A$2:$G$988,7,0),\"No\")","v":"Sí"}]
[24,"054","Xilitla","0110","El Mamey (0110)","R","Xilitla (054)El Mamey (0110)",21.396646,-98.986475999999996,46,23,23,12,240540110,"SI","Alto","Bajo",{"$f":"IFERROR(VLOOKUP(CONCATENATE(B9064,D9064),Padrón_Indígenas!$A$2:$G$988,7,0),\"No\")","v":"No"}]
[24,"054","Xilitla","0150","El Mirador (0150)","R","Xilitla (054)El Mirador (0150)",21.331530999999998,-99.095702000000003,175,85,90,32,240540150,null,"Alto","Medio",{"$f":"IFERROR(VLOOKUP(CONCATENATE(B9065,D9065),Padrón_Indígenas!$A$2:$G$988,7,0),\"No\")","v":"Sí"}]
[24,"054","Xilitla","0206","El Mirador (0206)","R","Xilitla (054)El Mirador (0206)",21.335473,-98.992986999999999,142,66,76,31,240540206,"SI","Alto","Medio",{"$f":"IFERROR(VLOOKUP(CONCATENATE(B9066,D9066),Padrón_Indígenas!$A$2:$G$988,7,0),\"No\")","v":"Sí"}]
[24,"054","Xilitla","0274","El Mirador (0274)","R","Xilitla (054)El Mirador (0274)",21.387602999999999,-98.983196000000007,16,8,8,5,240540274,"SI","Muy alto","Alto",{"$f":"IFERROR(VLOOKUP(CONCATENATE(B9067,D9067),Padrón_Indígenas!$A$2:$G$988,7,0),\"No\")","v":"Sí"}]
[24,"054","Xilitla","0036","El Nacimiento (0036)","R","Xilitla (054)El Nacimiento (0036)",21.457566,-98.978914000000003,272,138,134,53,240540036,"SI","Alto","Bajo",{"$f":"IFERROR(VLOOKUP(CONCATENATE(B9068,D9068),Padrón_Indígenas!$A$2:$G$988,7,0),\"No\")","v":"Sí"}]
[24,"054","Xilitla","0037","El Naranjal (La Ceiba) (0037)","R","Xilitla (054)El Naranjal (La Ceiba) (0037)",21.388286000000001,-98.933246999999994,356,178,178,83,240540037,"SI","Alto","Bajo",{"$f":"IFERROR(VLOOKUP(CONCATENATE(B9069,D9069),Padrón_Indígenas!$A$2:$G$988,7,0),\"No\")","v":"Sí"}]
[24,"054","Xilitla","0208","El Naranjal Dos (0208)","R","Xilitla (054)El Naranjal Dos (0208)",21.382192,-98.934860999999998,159,87,72,36,240540208,"SI","Alto","Medio",{"$f":"IFERROR(VLOOKUP(CONCATENATE(B9070,D9070),Padrón_Indígenas!$A$2:$G$988,7,0),\"No\")","v":"Sí"}]
[24,"054","Xilitla","0212","El Pino (0212)","R","Xilitla (054)El Pino (0212)",21.469131000000001,-99.008120000000005,105,47,58,31,240540212,"SI","Alto","Medio",{"$f":"IFERROR(VLOOKUP(CONCATENATE(B9071,D9071),Padrón_Indígenas!$A$2:$G$988,7,0),\"No\")","v":"Sí"}]
[24,"054","Xilitla","0215","El Potrero (0215)","R","Xilitla (054)El Potrero (0215)",21.333888999999999,-99.002222000000003,115,53,62,31,240540215,"SI","Alto","Medio",{"$f":"IFERROR(VLOOKUP(CONCATENATE(B9072,D9072),Padrón_Indígenas!$A$2:$G$988,7,0),\"No\")","v":"No"}]
[24,"054","Xilitla","0265","El Puerto de Potrerillos (0265)","R","Xilitla (054)El Puerto de Potrerillos (0265)",21.311202999999999,-99.062090999999995,195,90,105,59,240540265,null,"Alto","Medio",{"$f":"IFERROR(VLOOKUP(CONCATENATE(B9073,D9073),Padrón_Indígenas!$A$2:$G$988,7,0),\"No\")","v":"No"}]
[24,"054","Xilitla","0267","El Raizal (0267)","R","Xilitla (054)El Raizal (0267)",21.297181999999999,-99.086436000000006,24,11,13,6,240540267,null,"Alto","Medio",{"$f":"IFERROR(VLOOKUP(CONCATENATE(B9074,D9074),Padrón_Indígenas!$A$2:$G$988,7,0),\"No\")","v":"No"}]
[24,"054","Xilitla","0119","El Retén (0119)","R","Xilitla (054)El Retén (0119)",21.294082,-99.100703999999993,216,110,106,57,240540119,null,"Alto","Medio",{"$f":"IFERROR(VLOOKUP(CONCATENATE(B9075,D9075),Padrón_Indígenas!$A$2:$G$988,7,0),\"No\")","v":"No"}]
[24,"054","Xilitla","0223","El Rincón (0223)","R","Xilitla (054)El Rincón (0223)",21.427230999999999,-99.017374000000004,148,72,76,43,240540223,"SI","Alto","Bajo",{"$f":"IFERROR(VLOOKUP(CONCATENATE(B9076,D9076),Padrón_Indígenas!$A$2:$G$988,7,0),\"No\")","v":"Sí"}]
[24,"054","Xilitla","0269","El Rincón (0269)","R","Xilitla (054)El Rincón (0269)",21.403683999999998,-99.024495000000002,63,33,30,14,240540269,"SI","Alto","Medio",{"$f":"IFERROR(VLOOKUP(CONCATENATE(B9077,D9077),Padrón_Indígenas!$A$2:$G$988,7,0),\"No\")","v":"Sí"}]
[24,"054","Xilitla","0222","El Rincón de Zacatipa (0222)","R","Xilitla (054)El Rincón de Zacatipa (0222)",21.368428000000002,-99.057849000000004,133,53,80,32,240540222,null,"Alto","Bajo",{"$f":"IFERROR(VLOOKUP(CONCATENATE(B9078,D9078),Padrón_Indígenas!$A$2:$G$988,7,0),\"No\")","v":"No"}]
[24,"054","Xilitla","0062","El Sabino (0062)","R","Xilitla (054)El Sabino (0062)",21.318994,-98.969555999999997,656,334,322,145,240540062,"SI","Alto","Medio",{"$f":"IFERROR(VLOOKUP(CONCATENATE(B9079,D9079),Padrón_Indígenas!$A$2:$G$988,7,0),\"No\")","v":"Sí"}]
[24,"054","Xilitla","0226","El Tamarindo (0226)","R","Xilitla (054)El Tamarindo (0226)",21.379480999999998,-98.931804,33,14,19,8,240540226,"SI","Alto","Medio",{"$f":"IFERROR(VLOOKUP(CONCATENATE(B9080,D9080),Padrón_Indígenas!$A$2:$G$988,7,0),\"No\")","v":"No"}]
[24,"054","Xilitla","0236","El Tule (0236)","R","Xilitla (054)El Tule (0236)",21.300284999999999,-99.075359000000006,0,0,0,0,240540236,null,null,null,{"$f":"IFERROR(VLOOKUP(CONCATENATE(B9081,D9081),Padrón_Indígenas!$A$2:$G$988,7,0),\"No\")","v":"No"}]
[24,"054","Xilitla","0108","El Túnel (0108)","R","Xilitla (054)El Túnel (0108)",21.401223999999999,-98.982533000000004,90,52,38,27,240540108,"SI","Alto","Medio",{"$f":"IFERROR(VLOOKUP(CONCATENATE(B9082,D9082),Padrón_Indígenas!$A$2:$G$988,7,0),\"No\")","v":"No"}]
[24,"054","Xilitla","0232","El Zancudo (0232)","R","Xilitla (054)El Zancudo (0232)",21.311747,-99.095026000000004,80,39,41,24,240540232,"SI","Alto","Medio",{"$f":"IFERROR(VLOOKUP(CONCATENATE(B9083,D9083),Padrón_Indígenas!$A$2:$G$988,7,0),\"No\")","v":"No"}]
[24,"054","Xilitla","0118","Encinal Uno (0118)","R","Xilitla (054)Encinal Uno (0118)",21.341003000000001,-98.981989999999996,134,67,67,30,240540118,"SI","Alto","Medio",{"$f":"IFERROR(VLOOKUP(CONCATENATE(B9084,D9084),Padrón_Indígenas!$A$2:$G$988,7,0),\"No\")","v":"Sí"}]
[24,"054","Xilitla","0284","Francisco I. Madero (0284)","R","Xilitla (054)Francisco I. Madero (0284)",21.380025,-98.987176000000005,53,28,25,15,240540284,"SI","Alto","Medio",{"$f":"IFERROR(VLOOKUP(CONCATENATE(B9085,D9085),Padrón_Indígenas!$A$2:$G$988,7,0),\"No\")","v":"No"}]
[24,"054","Xilitla","0196","Hacienda de Huitzmolotitla (0196)","R","Xilitla (054)Hacienda de Huitzmolotitla (0196)",21.417847999999999,-99.005521000000002,5,"*","*",1,240540196,"SI",null,null,{"$f":"IFERROR(VLOOKUP(CONCATENATE(B9086,D9086),Padrón_Indígenas!$A$2:$G$988,7,0),\"No\")","v":"No"}]
[24,"054","Xilitla","0195","Hacienda de Suchiayo (0195)","R","Xilitla (054)Hacienda de Suchiayo (0195)",21.411933999999999,-98.994620999999995,0,0,0,0,240540195,null,null,null,{"$f":"IFERROR(VLOOKUP(CONCATENATE(B9087,D9087),Padrón_Indígenas!$A$2:$G$988,7,0),\"No\")","v":"No"}]
[24,"054","Xilitla","0100","Honduras (0100)","R","Xilitla (054)Honduras (0100)",21.422836,-98.978639000000001,2,"*","*",1,240540100,"SI",null,null,{"$f":"IFERROR(VLOOKUP(CONCATENATE(B9088,D9088),Padrón_Indígenas!$A$2:$G$988,7,0),\"No\")","v":"No"}]
[24,"054","Xilitla","0050","Huachichila (Barrio los Pocitos) (0050)","R","Xilitla (054)Huachichila (Barrio los Pocitos) (0050)",21.383420000000001,-98.939695,76,39,37,13,240540050,"SI","Alto","Medio",{"$f":"IFERROR(VLOOKUP(CONCATENATE(B9089,D9089),Padrón_Indígenas!$A$2:$G$988,7,0),\"No\")","v":"No"}]
[24,"054","Xilitla","0012","Ixtacamel Buenos Aires (0012)","R","Xilitla (054)Ixtacamel Buenos Aires (0012)",21.409213999999999,-98.960204000000004,284,142,142,76,240540012,"SI","Alto","Medio",{"$f":"IFERROR(VLOOKUP(CONCATENATE(B9090,D9090),Padrón_Indígenas!$A$2:$G$988,7,0),\"No\")","v":"Sí"}]
[24,"054","Xilitla","0024","Iztacapa (0024)","R","Xilitla (054)Iztacapa (0024)",21.369451000000002,-98.941291000000007,1272,656,616,260,240540024,"SI","Alto","Medio",{"$f":"IFERROR(VLOOKUP(CONCATENATE(B9091,D9091),Padrón_Indígenas!$A$2:$G$988,7,0),\"No\")","v":"Sí"}]
[24,"054","Xilitla","0140","Joya del Agua (0140)","R","Xilitla (054)Joya del Agua (0140)",21.466667000000001,-99.026111,18,"*","*",2,240540140,"SI",null,null,{"$f":"IFERROR(VLOOKUP(CONCATENATE(B9092,D9092),Padrón_Indígenas!$A$2:$G$988,7,0),\"No\")","v":"Sí"}]
[24,"054","Xilitla","0141","Joya del Durazno (0141)","R","Xilitla (054)Joya del Durazno (0141)",21.356010000000001,-99.062291000000002,64,31,33,15,240540141,null,"Alto","Medio",{"$f":"IFERROR(VLOOKUP(CONCATENATE(B9093,D9093),Padrón_Indígenas!$A$2:$G$988,7,0),\"No\")","v":"No"}]
[24,"054","Xilitla","0143","Joyita del Tres (0143)","R","Xilitla (054)Joyita del Tres (0143)",21.483701,-99.072432000000006,118,58,60,25,240540143,"SI","Muy alto","Alto",{"$f":"IFERROR(VLOOKUP(CONCATENATE(B9094,D9094),Padrón_Indígenas!$A$2:$G$988,7,0),\"No\")","v":"No"}]
[24,"054","Xilitla","0103","La Barranca (0103)","R","Xilitla (054)La Barranca (0103)",21.343889000000001,-99.042221999999995,135,71,64,36,240540103,null,"Alto","Bajo",{"$f":"IFERROR(VLOOKUP(CONCATENATE(B9095,D9095),Padrón_Indígenas!$A$2:$G$988,7,0),\"No\")","v":"No"}]
[24,"054","Xilitla","0249","La Ceiba (0249)","R","Xilitla (054)La Ceiba (0249)",21.339183999999999,-99.047809000000001,62,32,30,15,240540249,null,"Alto","Medio",{"$f":"IFERROR(VLOOKUP(CONCATENATE(B9096,D9096),Padrón_Indígenas!$A$2:$G$988,7,0),\"No\")","v":"Sí"}]
[24,"054","Xilitla","0189","La Chaca (0189)","R","Xilitla (054)La Chaca (0189)",21.368939000000001,-98.957644999999999,77,34,43,18,240540189,"SI","Alto","Medio",{"$f":"IFERROR(VLOOKUP(CONCATENATE(B9097,D9097),Padrón_Indígenas!$A$2:$G$988,7,0),\"No\")","v":"No"}]
[24,"054","Xilitla","0183","La Ciénaga (0183)","R","Xilitla (054)La Ciénaga (0183)",21.366313999999999,-99.060689999999994,44,15,29,9,240540183,null,"Alto","Bajo",{"$f":"IFERROR(VLOOKUP(CONCATENATE(B9098,D9098),Padrón_Indígenas!$A$2:$G$988,7,0),\"No\")","v":"No"}]
[24,"054","Xilitla","0016","La Conchita (0016)","R","Xilitla (054)La Conchita (0016)",21.394237,-98.989401000000001,285,133,152,67,240540016,"SI","Alto","Bajo",{"$f":"IFERROR(VLOOKUP(CONCATENATE(B9099,D9099),Padrón_Indígenas!$A$2:$G$988,7,0),\"No\")","v":"No"}]
[24,"054","Xilitla","0187","La Cuesta (0187)","R","Xilitla (054)La Cuesta (0187)",21.350556000000001,-98.979721999999995,42,19,23,13,240540187,"SI","Alto","Medio",{"$f":"IFERROR(VLOOKUP(CONCATENATE(B9100,D9100),Padrón_Indígenas!$A$2:$G$988,7,0),\"No\")","v":"Sí"}]
[24,"054","Xilitla","0185","La Cueva (0185)","R","Xilitla (054)La Cueva (0185)",21.456555000000002,-99.003614999999996,147,76,71,33,240540185,"SI","Alto","Medio",{"$f":"IFERROR(VLOOKUP(CONCATENATE(B9101,D9101),Padrón_Indígenas!$A$2:$G$988,7,0),\"No\")","v":"Sí"}]
[24,"054","Xilitla","0186","La Cueva (0186)","R","Xilitla (054)La Cueva (0186)",21.319402,-99.025264000000007,19,8,11,4,240540186,null,"Alto","Medio",{"$f":"IFERROR(VLOOKUP(CONCATENATE(B9102,D9102),Padrón_Indígenas!$A$2:$G$988,7,0),\"No\")","v":"Sí"}]
[24,"054","Xilitla","0251","La Curva (0251)","R","Xilitla (054)La Curva (0251)",21.420646000000001,-98.962100000000007,59,29,30,10,240540251,"SI","Alto","Medio",{"$f":"IFERROR(VLOOKUP(CONCATENATE(B9103,D9103),Padrón_Indígenas!$A$2:$G$988,7,0),\"No\")","v":"Sí"}]
[24,"054","Xilitla","0252","La Curva (0252)","R","Xilitla (054)La Curva (0252)",21.332941000000002,-99.048467000000002,26,17,9,7,240540252,null,"Muy alto","Alto",{"$f":"IFERROR(VLOOKUP(CONCATENATE(B9104,D9104),Padrón_Indígenas!$A$2:$G$988,7,0),\"No\")","v":"Sí"}]
[24,"054","Xilitla","0114","La Escalera (0114)","R","Xilitla (054)La Escalera (0114)",21.413453000000001,-98.942261000000002,303,140,163,62,240540114,"SI","Alto","Medio",{"$f":"IFERROR(VLOOKUP(CONCATENATE(B9105,D9105),Padrón_Indígenas!$A$2:$G$988,7,0),\"No\")","v":"Sí"}]
[24,"054","Xilitla","0121","La Escondida (0121)","R","Xilitla (054)La Escondida (0121)",21.409701999999999,-98.966813000000002,0,0,0,0,240540121,null,null,null,{"$f":"IFERROR(VLOOKUP(CONCATENATE(B9106,D9106),Padrón_Indígenas!$A$2:$G$988,7,0),\"No\")","v":"No"}]
[24,"054","Xilitla","0137","La Esperanza (0137)","R","Xilitla (054)La Esperanza (0137)",21.349035000000001,-98.969496000000007,132,73,59,23,240540137,"SI","Alto","Medio",{"$f":"IFERROR(VLOOKUP(CONCATENATE(B9107,D9107),Padrón_Indígenas!$A$2:$G$988,7,0),\"No\")","v":"No"}]
[24,"054","Xilitla","0254","La Finca (0254)","R","Xilitla (054)La Finca (0254)",21.316718999999999,-98.983847999999995,59,29,30,13,240540254,null,"Alto","Medio",{"$f":"IFERROR(VLOOKUP(CONCATENATE(B9108,D9108),Padrón_Indígenas!$A$2:$G$988,7,0),\"No\")","v":"Sí"}]
[24,"054","Xilitla","0117","La Florida (0117)","R","Xilitla (054)La Florida (0117)",21.373341,-98.973571000000007,49,22,27,10,240540117,"SI","Alto","Medio",{"$f":"IFERROR(VLOOKUP(CONCATENATE(B9109,D9109),Padrón_Indígenas!$A$2:$G$988,7,0),\"No\")","v":"Sí"}]
[24,"054","Xilitla","0192","La Gloria (0192)","R","Xilitla (054)La Gloria (0192)",21.301252000000002,-99.063681000000003,113,66,47,28,240540192,"SI","Alto","Medio",{"$f":"IFERROR(VLOOKUP(CONCATENATE(B9110,D9110),Padrón_Indígenas!$A$2:$G$988,7,0),\"No\")","v":"No"}]
[24,"054","Xilitla","0138","La Hacienda (0138)","R","Xilitla (054)La Hacienda (0138)",21.430536,-99.027317999999994,0,0,0,0,240540138,null,null,null,{"$f":"IFERROR(VLOOKUP(CONCATENATE(B9111,D9111),Padrón_Indígenas!$A$2:$G$988,7,0),\"No\")","v":"No"}]
[24,"054","Xilitla","0194","La Hacienda (0194)","R","Xilitla (054)La Hacienda (0194)",21.384829,-98.929300999999995,30,14,16,8,240540194,"SI","Alto","Medio",{"$f":"IFERROR(VLOOKUP(CONCATENATE(B9112,D9112),Padrón_Indígenas!$A$2:$G$988,7,0),\"No\")","v":"No"}]
[24,"054","Xilitla","0022","La Herradura (0022)","R","Xilitla (054)La Herradura (0022)",21.441958,-98.949163999999996,1249,618,631,259,240540022,"SI","Alto","Bajo",{"$f":"IFERROR(VLOOKUP(CONCATENATE(B9113,D9113),Padrón_Indígenas!$A$2:$G$988,7,0),\"No\")","v":"Sí"}]
[24,"054","Xilitla","0028","La Joya (0028)","R","Xilitla (054)La Joya (0028)",21.41817,-99.001188999999997,365,160,205,90,240540028,"SI","Alto","Medio",{"$f":"IFERROR(VLOOKUP(CONCATENATE(B9114,D9114),Padrón_Indígenas!$A$2:$G$988,7,0),\"No\")","v":"Sí"}]
[24,"054","Xilitla","0198","La Joya de Tlaletla (0198)","R","Xilitla (054)La Joya de Tlaletla (0198)",21.343021,-98.986521999999994,199,104,95,46,240540198,"SI","Alto","Bajo",{"$f":"IFERROR(VLOOKUP(CONCATENATE(B9115,D9115),Padrón_Indígenas!$A$2:$G$988,7,0),\"No\")","v":"Sí"}]
[24,"054","Xilitla","0027","La Joya del Paraíso (0027)","R","Xilitla (054)La Joya del Paraíso (0027)",21.375278000000002,-98.996943999999999,0,0,0,0,240540027,null,null,null,{"$f":"IFERROR(VLOOKUP(CONCATENATE(B9116,D9116),Padrón_Indígenas!$A$2:$G$988,7,0),\"No\")","v":"No"}]
[24,"054","Xilitla","0199","La Ladera (0199)","R","Xilitla (054)La Ladera (0199)",21.436897999999999,-99.011857000000006,19,10,9,7,240540199,"SI","Muy alto","Alto",{"$f":"IFERROR(VLOOKUP(CONCATENATE(B9117,D9117),Padrón_Indígenas!$A$2:$G$988,7,0),\"No\")","v":"Sí"}]
[24,"054","Xilitla","0201","La Laguna (0201)","R","Xilitla (054)La Laguna (0201)",21.450419,-99.006203999999997,106,57,49,25,240540201,"SI","Alto","Medio",{"$f":"IFERROR(VLOOKUP(CONCATENATE(B9118,D9118),Padrón_Indígenas!$A$2:$G$988,7,0),\"No\")","v":"Sí"}]
[24,"054","Xilitla","0145","La Loma (0145)","R","Xilitla (054)La Loma (0145)",21.372122999999998,-98.952751000000006,161,84,77,31,240540145,"SI","Alto","Medio",{"$f":"IFERROR(VLOOKUP(CONCATENATE(B9119,D9119),Padrón_Indígenas!$A$2:$G$988,7,0),\"No\")","v":"Sí"}]
[24,"054","Xilitla","0146","La Loma (0146)","R","Xilitla (054)La Loma (0146)",21.342185000000001,-98.966033999999993,198,91,107,44,240540146,"SI","Alto","Medio",{"$f":"IFERROR(VLOOKUP(CONCATENATE(B9120,D9120),Padrón_Indígenas!$A$2:$G$988,7,0),\"No\")","v":"Sí"}]
[24,"054","Xilitla","0256","La Loma (0256)","R","Xilitla (054)La Loma (0256)",21.286104000000002,-99.070888999999994,0,0,0,0,240540256,null,null,null,{"$f":"IFERROR(VLOOKUP(CONCATENATE(B9121,D9121),Padrón_Indígenas!$A$2:$G$988,7,0),\"No\")","v":"No"}]
[24,"054","Xilitla","0149","La Mina (0149)","R","Xilitla (054)La Mina (0149)",21.438345999999999,-99.024054000000007,6,"*","*",2,240540149,"SI",null,null,{"$f":"IFERROR(VLOOKUP(CONCATENATE(B9122,D9122),Padrón_Indígenas!$A$2:$G$988,7,0),\"No\")","v":"No"}]
[24,"054","Xilitla","0258","La Mojonera (0258)","R","Xilitla (054)La Mojonera (0258)",21.448640999999999,-99.030182999999994,98,53,45,18,240540258,"SI","Alto","Medio",{"$f":"IFERROR(VLOOKUP(CONCATENATE(B9123,D9123),Padrón_Indígenas!$A$2:$G$988,7,0),\"No\")","v":"Sí"}]
[24,"054","Xilitla","0151","La Mora (0151)","R","Xilitla (054)La Mora (0151)",21.311966000000002,-99.087333999999998,43,24,19,13,240540151,null,"Alto","Medio",{"$f":"IFERROR(VLOOKUP(CONCATENATE(B9124,D9124),Padrón_Indígenas!$A$2:$G$988,7,0),\"No\")","v":"No"}]
[24,"054","Xilitla","0280","La Nueva Independencia (0280)","R","Xilitla (054)La Nueva Independencia (0280)",21.333043,-98.870991000000004,56,35,21,14,240540280,"SI","Alto","Medio",{"$f":"IFERROR(VLOOKUP(CONCATENATE(B9125,D9125),Padrón_Indígenas!$A$2:$G$988,7,0),\"No\")","v":"Sí"}]
[24,"054","Xilitla","0210","La Pagua (0210)","R","Xilitla (054)La Pagua (0210)",21.381284000000001,-98.985714000000002,367,170,197,94,240540210,"SI","Medio","Muy bajo",{"$f":"IFERROR(VLOOKUP(CONCATENATE(B9126,D9126),Padrón_Indígenas!$A$2:$G$988,7,0),\"No\")","v":"No"}]
[24,"054","Xilitla","0154","La Palangana (0154)","R","Xilitla (054)La Palangana (0154)",21.441756000000002,-99.030491999999995,13,5,8,5,240540154,"SI","Alto","Medio",{"$f":"IFERROR(VLOOKUP(CONCATENATE(B9127,D9127),Padrón_Indígenas!$A$2:$G$988,7,0),\"No\")","v":"Sí"}]
[24,"054","Xilitla","0041","La Palizada (0041)","R","Xilitla (054)La Palizada (0041)",21.332674999999998,-99.057303000000005,91,42,49,25,240540041,"SI","Muy alto","Alto",{"$f":"IFERROR(VLOOKUP(CONCATENATE(B9128,D9128),Padrón_Indígenas!$A$2:$G$988,7,0),\"No\")","v":"No"}]
[24,"054","Xilitla","0155","La Palma (0155)","R","Xilitla (054)La Palma (0155)",21.490321999999999,-99.015103999999994,363,190,173,81,240540155,"SI","Alto","Medio",{"$f":"IFERROR(VLOOKUP(CONCATENATE(B9129,D9129),Padrón_Indígenas!$A$2:$G$988,7,0),\"No\")","v":"Sí"}]
[24,"054","Xilitla","0239","La Palma (0239)","R","Xilitla (054)La Palma (0239)",21.479949999999999,-99.034486999999999,60,36,24,13,240540239,"SI","Muy alto","Alto",{"$f":"IFERROR(VLOOKUP(CONCATENATE(B9130,D9130),Padrón_Indígenas!$A$2:$G$988,7,0),\"No\")","v":"Sí"}]
[24,"054","Xilitla","0054","La Primavera (0054)","R","Xilitla (054)La Primavera (0054)",21.329805,-99.034298000000007,29,16,13,8,240540054,null,"Muy alto","Alto",{"$f":"IFERROR(VLOOKUP(CONCATENATE(B9131,D9131),Padrón_Indígenas!$A$2:$G$988,7,0),\"No\")","v":"No"}]
[24,"054","Xilitla","0216","La Puerta de la Esperanza (0216)","R","Xilitla (054)La Puerta de la Esperanza (0216)",21.383497999999999,-98.925442000000004,78,39,39,18,240540216,"SI","Alto","Medio",{"$f":"IFERROR(VLOOKUP(CONCATENATE(B9132,D9132),Padrón_Indígenas!$A$2:$G$988,7,0),\"No\")","v":"Sí"}]
[24,"054","Xilitla","0071","La Silleta (0071)","R","Xilitla (054)La Silleta (0071)",21.451547000000001,-99.060090000000002,219,105,114,40,240540071,"SI","Alto","Medio",{"$f":"IFERROR(VLOOKUP(CONCATENATE(B9133,D9133),Padrón_Indígenas!$A$2:$G$988,7,0),\"No\")","v":"Sí"}]
[24,"054","Xilitla","0227","La Targea (0227)","R","Xilitla (054)La Targea (0227)",21.332135999999998,-99.002110999999999,158,82,76,37,240540227,"SI","Alto","Medio",{"$f":"IFERROR(VLOOKUP(CONCATENATE(B9134,D9134),Padrón_Indígenas!$A$2:$G$988,7,0),\"No\")","v":"No"}]
[24,"054","Xilitla","0078","La Tinaja (0078)","R","Xilitla (054)La Tinaja (0078)",21.457913000000001,-99.046200999999996,270,133,137,56,240540078,"SI","Alto","Medio",{"$f":"IFERROR(VLOOKUP(CONCATENATE(B9135,D9135),Padrón_Indígenas!$A$2:$G$988,7,0),\"No\")","v":"Sí"}]
[24,"054","Xilitla","0169","La Tinaja (0169)","R","Xilitla (054)La Tinaja (0169)",21.392851,-98.954232000000005,368,166,202,79,240540169,"SI","Alto","Medio",{"$f":"IFERROR(VLOOKUP(CONCATENATE(B9136,D9136),Padrón_Indígenas!$A$2:$G$988,7,0),\"No\")","v":"Sí"}]
[24,"054","Xilitla","0273","La Tinaja (0273)","R","Xilitla (054)La Tinaja (0273)",21.364629000000001,-99.018415000000005,42,20,22,12,240540273,"SI","Alto","Bajo",{"$f":"IFERROR(VLOOKUP(CONCATENATE(B9137,D9137),Padrón_Indígenas!$A$2:$G$988,7,0),\"No\")","v":"Sí"}]
[24,"054","Xilitla","0084","La Trinidad (0084)","R","Xilitla (054)La Trinidad (0084)",21.404734000000001,-99.0715,91,45,46,17,240540084,"SI","Alto","Medio",{"$f":"IFERROR(VLOOKUP(CONCATENATE(B9138,D9138),Padrón_Indígenas!$A$2:$G$988,7,0),\"No\")","v":"Sí"}]
[24,"054","Xilitla","0085","La Victoria (0085)","R","Xilitla (054)La Victoria (0085)",21.316699,-99.016305000000003,466,239,227,110,240540085,"SI","Alto","Medio",{"$f":"IFERROR(VLOOKUP(CONCATENATE(B9139,D9139),Padrón_Indígenas!$A$2:$G$988,7,0),\"No\")","v":"No"}]
[24,"054","Xilitla","0281","Las Adjuntas (0281)","R","Xilitla (054)Las Adjuntas (0281)",21.385708000000001,-98.969266000000005,58,35,23,11,240540281,"SI","Muy alto","Alto",{"$f":"IFERROR(VLOOKUP(CONCATENATE(B9140,D9140),Padrón_Indígenas!$A$2:$G$988,7,0),\"No\")","v":"No"}]
[24,"054","Xilitla","0128","Las Arganas (0128)","R","Xilitla (054)Las Arganas (0128)",21.325745999999999,-99.088645,51,32,19,13,240540128,null,"Alto","Medio",{"$f":"IFERROR(VLOOKUP(CONCATENATE(B9141,D9141),Padrón_Indígenas!$A$2:$G$988,7,0),\"No\")","v":"No"}]
[24,"054","Xilitla","0111","Las Crucitas (0111)","R","Xilitla (054)Las Crucitas (0111)",21.422080999999999,-98.967732999999996,293,151,142,66,240540111,"SI","Alto","Medio",{"$f":"IFERROR(VLOOKUP(CONCATENATE(B9142,D9142),Padrón_Indígenas!$A$2:$G$988,7,0),\"No\")","v":"Sí"}]
[24,"054","Xilitla","0030","Las Joyas (0030)","R","Xilitla (054)Las Joyas (0030)",21.424949999999999,-99.040716000000003,190,94,96,53,240540030,"SI","Alto","Medio",{"$f":"IFERROR(VLOOKUP(CONCATENATE(B9143,D9143),Padrón_Indígenas!$A$2:$G$988,7,0),\"No\")","v":"Sí"}]
[24,"054","Xilitla","0287","Las Palmas (0287)","R","Xilitla (054)Las Palmas (0287)",21.330732999999999,-98.878856999999996,104,60,44,21,240540287,"SI","Alto","Medio",{"$f":"IFERROR(VLOOKUP(CONCATENATE(B9144,D9144),Padrón_Indígenas!$A$2:$G$988,7,0),\"No\")","v":"No"}]
[24,"054","Xilitla","0261","Las Pozas (0261)","R","Xilitla (054)Las Pozas (0261)",21.395956000000002,-98.995686000000006,0,0,0,0,240540261,null,null,null,{"$f":"IFERROR(VLOOKUP(CONCATENATE(B9145,D9145),Padrón_Indígenas!$A$2:$G$988,7,0),\"No\")","v":"No"}]
[24,"054","Xilitla","0229","Las Tiendas (0229)","R","Xilitla (054)Las Tiendas (0229)",21.430353,-99.010401000000002,246,104,142,63,240540229,"SI","Alto","Bajo",{"$f":"IFERROR(VLOOKUP(CONCATENATE(B9146,D9146),Padrón_Indígenas!$A$2:$G$988,7,0),\"No\")","v":"Sí"}]
[24,"054","Xilitla","0203","Loma San Isidro (0203)","R","Xilitla (054)Loma San Isidro (0203)",21.315003999999998,-99.077813000000006,22,10,12,7,240540203,null,"Muy alto","Alto",{"$f":"IFERROR(VLOOKUP(CONCATENATE(B9147,D9147),Padrón_Indígenas!$A$2:$G$988,7,0),\"No\")","v":"No"}]
[24,"054","Xilitla","0177","Los Cajones (0177)","R","Xilitla (054)Los Cajones (0177)",21.412094,-98.979615999999993,12,"*","*",2,240540177,"SI",null,null,{"$f":"IFERROR(VLOOKUP(CONCATENATE(B9148,D9148),Padrón_Indígenas!$A$2:$G$988,7,0),\"No\")","v":"No"}]
[24,"054","Xilitla","0136","Los Cuisillos (0136)","R","Xilitla (054)Los Cuisillos (0136)",21.475178,-99.081508999999997,8,"*","*",2,240540136,null,null,null,{"$f":"IFERROR(VLOOKUP(CONCATENATE(B9149,D9149),Padrón_Indígenas!$A$2:$G$988,7,0),\"No\")","v":"No"}]
[24,"054","Xilitla","0025","Los Jarros (Ahuacatlán) (0025)","R","Xilitla (054)Los Jarros (Ahuacatlán) (0025)",21.335215999999999,-99.016912000000005,37,16,21,11,240540025,"SI","Alto","Bajo",{"$f":"IFERROR(VLOOKUP(CONCATENATE(B9150,D9150),Padrón_Indígenas!$A$2:$G$988,7,0),\"No\")","v":"No"}]
[24,"054","Xilitla","0197","Los Jarros (Xilitlilla) (0197)","R","Xilitla (054)Los Jarros (Xilitlilla) (0197)",21.339192000000001,-99.019459999999995,56,31,25,14,240540197,null,"Alto","Bajo",{"$f":"IFERROR(VLOOKUP(CONCATENATE(B9151,D9151),Padrón_Indígenas!$A$2:$G$988,7,0),\"No\")","v":"No"}]
[24,"054","Xilitla","0209","Los Otates (0209)","R","Xilitla (054)Los Otates (0209)",21.391921,-98.935591000000002,149,75,74,38,240540209,"SI","Alto","Medio",{"$f":"IFERROR(VLOOKUP(CONCATENATE(B9152,D9152),Padrón_Indígenas!$A$2:$G$988,7,0),\"No\")","v":"No"}]
[24,"054","Xilitla","0109","Los Pemoches (Puerto Rico) (0109)","R","Xilitla (054)Los Pemoches (Puerto Rico) (0109)",21.404278999999999,-98.989464999999996,47,23,24,12,240540109,"SI","Alto","Medio",{"$f":"IFERROR(VLOOKUP(CONCATENATE(B9153,D9153),Padrón_Indígenas!$A$2:$G$988,7,0),\"No\")","v":"No"}]
[24,"054","Xilitla","0051","Los Pocitos (0051)","R","Xilitla (054)Los Pocitos (0051)",21.383496999999998,-98.943036000000006,74,41,33,16,240540051,"SI","Alto","Bajo",{"$f":"IFERROR(VLOOKUP(CONCATENATE(B9154,D9154),Padrón_Indígenas!$A$2:$G$988,7,0),\"No\")","v":"Sí"}]
[24,"054","Xilitla","0233","Los Sótanos (0233)","R","Xilitla (054)Los Sótanos (0233)",21.317340000000002,-99.085246999999995,0,0,0,0,240540233,null,null,null,{"$f":"IFERROR(VLOOKUP(CONCATENATE(B9155,D9155),Padrón_Indígenas!$A$2:$G$988,7,0),\"No\")","v":"No"}]
[24,"054","Xilitla","0102","Manteco (0102)","R","Xilitla (054)Manteco (0102)",21.325334000000002,-98.970731000000001,226,119,107,46,240540102,"SI","Muy alto","Alto",{"$f":"IFERROR(VLOOKUP(CONCATENATE(B9156,D9156),Padrón_Indígenas!$A$2:$G$988,7,0),\"No\")","v":"Sí"}]
[24,"054","Xilitla","0205","Manteco (0205)","R","Xilitla (054)Manteco (0205)",21.455611000000001,-98.953892999999994,76,40,36,15,240540205,"SI","Alto","Medio",{"$f":"IFERROR(VLOOKUP(CONCATENATE(B9157,D9157),Padrón_Indígenas!$A$2:$G$988,7,0),\"No\")","v":"Sí"}]
[24,"054","Xilitla","0148","Manteyo (0148)","R","Xilitla (054)Manteyo (0148)",21.345393000000001,-98.916415999999998,468,226,242,100,240540148,"SI","Alto","Medio",{"$f":"IFERROR(VLOOKUP(CONCATENATE(B9158,D9158),Padrón_Indígenas!$A$2:$G$988,7,0),\"No\")","v":"Sí"}]
[24,"054","Xilitla","0035","Miramar Viejo (0035)","R","Xilitla (054)Miramar Viejo (0035)",21.393626000000001,-99.050501999999994,258,135,123,54,240540035,"SI","Alto","Medio",{"$f":"IFERROR(VLOOKUP(CONCATENATE(B9159,D9159),Padrón_Indígenas!$A$2:$G$988,7,0),\"No\")","v":"Sí"}]
[24,"054","Xilitla","0207","Moloxco (0207)","R","Xilitla (054)Moloxco (0207)",21.388943999999999,-98.942704000000006,294,135,159,54,240540207,"SI","Alto","Medio",{"$f":"IFERROR(VLOOKUP(CONCATENATE(B9160,D9160),Padrón_Indígenas!$A$2:$G$988,7,0),\"No\")","v":"Sí"}]
[24,"054","Xilitla","0152","Nuevo Miramar (0152)","R","Xilitla (054)Nuevo Miramar (0152)",21.381231,-99.033377999999999,780,380,400,147,240540152,"SI","Alto","Medio",{"$f":"IFERROR(VLOOKUP(CONCATENATE(B9161,D9161),Padrón_Indígenas!$A$2:$G$988,7,0),\"No\")","v":"Sí"}]
[24,"054","Xilitla","0039","Ollita del Pino (0039)","R","Xilitla (054)Ollita del Pino (0039)",21.373885999999999,-99.064226000000005,341,155,186,89,240540039,"SI","Alto","Medio",{"$f":"IFERROR(VLOOKUP(CONCATENATE(B9162,D9162),Padrón_Indígenas!$A$2:$G$988,7,0),\"No\")","v":"No"}]
[24,"054","Xilitla","0040","Otlaxhuayo (0040)","R","Xilitla (054)Otlaxhuayo (0040)",21.336086000000002,-98.890803000000005,158,79,79,33,240540040,"SI","Alto","Medio",{"$f":"IFERROR(VLOOKUP(CONCATENATE(B9163,D9163),Padrón_Indígenas!$A$2:$G$988,7,0),\"No\")","v":"Sí"}]
[24,"054","Xilitla","0153","Paguayo (0153)","R","Xilitla (054)Paguayo (0153)",21.331306999999999,-98.986431999999994,160,68,92,32,240540153,"SI","Alto","Medio",{"$f":"IFERROR(VLOOKUP(CONCATENATE(B9164,D9164),Padrón_Indígenas!$A$2:$G$988,7,0),\"No\")","v":"Sí"}]
[24,"054","Xilitla","0211","Papatlal (0211)","R","Xilitla (054)Papatlal (0211)",21.337391,-98.996117999999996,111,61,50,29,240540211,"SI","Alto","Medio",{"$f":"IFERROR(VLOOKUP(CONCATENATE(B9165,D9165),Padrón_Indígenas!$A$2:$G$988,7,0),\"No\")","v":"Sí"}]
[24,"054","Xilitla","0043","Pemoxco (0043)","R","Xilitla (054)Pemoxco (0043)",21.361851999999999,-98.939355000000006,947,463,484,197,240540043,"SI","Alto","Medio",{"$f":"IFERROR(VLOOKUP(CONCATENATE(B9166,D9166),Padrón_Indígenas!$A$2:$G$988,7,0),\"No\")","v":"Sí"}]
[24,"054","Xilitla","0044","Peña Blanca (0044)","R","Xilitla (054)Peña Blanca (0044)",21.428968999999999,-98.981577000000001,742,354,388,155,240540044,"SI","Alto","Medio",{"$f":"IFERROR(VLOOKUP(CONCATENATE(B9167,D9167),Padrón_Indígenas!$A$2:$G$988,7,0),\"No\")","v":"Sí"}]
[24,"054","Xilitla","0045","Petatillo (0045)","R","Xilitla (054)Petatillo (0045)",21.332861999999999,-98.992026999999993,420,197,223,98,240540045,"SI","Alto","Medio",{"$f":"IFERROR(VLOOKUP(CONCATENATE(B9168,D9168),Padrón_Indígenas!$A$2:$G$988,7,0),\"No\")","v":"Sí"}]
[24,"054","Xilitla","0156","Petatillo (0156)","R","Xilitla (054)Petatillo (0156)",21.333507000000001,-99.067222000000001,108,49,59,26,240540156,"SI","Alto","Medio",{"$f":"IFERROR(VLOOKUP(CONCATENATE(B9169,D9169),Padrón_Indígenas!$A$2:$G$988,7,0),\"No\")","v":"Sí"}]
[24,"054","Xilitla","0123","Pilahuehueyo (0123)","R","Xilitla (054)Pilahuehueyo (0123)",21.345853999999999,-98.897093999999996,186,85,101,43,240540123,"SI","Alto","Medio",{"$f":"IFERROR(VLOOKUP(CONCATENATE(B9170,D9170),Padrón_Indígenas!$A$2:$G$988,7,0),\"No\")","v":"Sí"}]
[24,"054","Xilitla","0046","Pilateno (0046)","R","Xilitla (054)Pilateno (0046)",21.331676999999999,-98.968958000000001,594,315,279,122,240540046,"SI","Alto","Medio",{"$f":"IFERROR(VLOOKUP(CONCATENATE(B9171,D9171),Padrón_Indígenas!$A$2:$G$988,7,0),\"No\")","v":"Sí"}]
[24,"054","Xilitla","0047","Pitzóatl (0047)","R","Xilitla (054)Pitzóatl (0047)",21.425355,-98.951469000000003,473,242,231,107,240540047,"SI","Alto","Medio",{"$f":"IFERROR(VLOOKUP(CONCATENATE(B9172,D9172),Padrón_Indígenas!$A$2:$G$988,7,0),\"No\")","v":"Sí"}]
[24,"054","Xilitla","0213","Plan de Amayo (0213)","R","Xilitla (054)Plan de Amayo (0213)",21.319562000000001,-98.988636999999997,11,"*","*",2,240540213,null,null,null,{"$f":"IFERROR(VLOOKUP(CONCATENATE(B9173,D9173),Padrón_Indígenas!$A$2:$G$988,7,0),\"No\")","v":"No"}]
[24,"054","Xilitla","0049","Plan de Juárez (0049)","R","Xilitla (054)Plan de Juárez (0049)",21.365856000000001,-98.991799,258,115,143,75,240540049,"SI","Alto","Bajo",{"$f":"IFERROR(VLOOKUP(CONCATENATE(B9174,D9174),Padrón_Indígenas!$A$2:$G$988,7,0),\"No\")","v":"No"}]
[24,"054","Xilitla","0260","Plan de la Laja (0260)","R","Xilitla (054)Plan de la Laja (0260)",21.359801999999998,-99.039413999999994,1,"*","*",1,240540260,null,null,null,{"$f":"IFERROR(VLOOKUP(CONCATENATE(B9175,D9175),Padrón_Indígenas!$A$2:$G$988,7,0),\"No\")","v":"No"}]
[24,"054","Xilitla","0052","Potrerillos (0052)","R","Xilitla (054)Potrerillos (0052)",21.31,-99.075034000000002,604,290,314,129,240540052,null,"Alto","Bajo",{"$f":"IFERROR(VLOOKUP(CONCATENATE(B9176,D9176),Padrón_Indígenas!$A$2:$G$988,7,0),\"No\")","v":"No"}]
[24,"054","Xilitla","0053","Poxtla (La Empresa) (0053)","R","Xilitla (054)Poxtla (La Empresa) (0053)",21.339918000000001,-98.950395999999998,320,163,157,78,240540053,"SI","Alto","Medio",{"$f":"IFERROR(VLOOKUP(CONCATENATE(B9177,D9177),Padrón_Indígenas!$A$2:$G$988,7,0),\"No\")","v":"Sí"}]
[24,"054","Xilitla","0262","Pozo Tapado (0262)","R","Xilitla (054)Pozo Tapado (0262)",21.332014000000001,-99.087114999999997,23,13,10,5,240540262,null,"Alto","Bajo",{"$f":"IFERROR(VLOOKUP(CONCATENATE(B9178,D9178),Padrón_Indígenas!$A$2:$G$988,7,0),\"No\")","v":"No"}]
[24,"054","Xilitla","0158","Puerto Colorado (0158)","R","Xilitla (054)Puerto Colorado (0158)",21.340183,-98.997337000000002,9,"*","*",1,240540158,"SI",null,null,{"$f":"IFERROR(VLOOKUP(CONCATENATE(B9179,D9179),Padrón_Indígenas!$A$2:$G$988,7,0),\"No\")","v":"No"}]
[24,"054","Xilitla","0055","Puerto de Belén (0055)","R","Xilitla (054)Puerto de Belén (0055)",21.380596000000001,-98.957977999999997,310,140,170,64,240540055,"SI","Alto","Bajo",{"$f":"IFERROR(VLOOKUP(CONCATENATE(B9180,D9180),Padrón_Indígenas!$A$2:$G$988,7,0),\"No\")","v":"Sí"}]
[24,"054","Xilitla","0263","Puerto de la Joya del Durazno (0263)","R","Xilitla (054)Puerto de la Joya del Durazno (0263)",21.358947000000001,-99.065903000000006,42,23,19,9,240540263,null,"Alto","Medio",{"$f":"IFERROR(VLOOKUP(CONCATENATE(B9181,D9181),Padrón_Indígenas!$A$2:$G$988,7,0),\"No\")","v":"No"}]
[24,"054","Xilitla","0056","Puerto de la Victoria (0056)","R","Xilitla (054)Puerto de la Victoria (0056)",21.319921000000001,-99.027603999999997,125,63,62,26,240540056,null,"Alto","Medio",{"$f":"IFERROR(VLOOKUP(CONCATENATE(B9182,D9182),Padrón_Indígenas!$A$2:$G$988,7,0),\"No\")","v":"No"}]
[24,"054","Xilitla","0283","Puerto de los Barrenos (0283)","R","Xilitla (054)Puerto de los Barrenos (0283)",21.379314999999998,-98.990996999999993,2,"*","*",1,240540283,null,null,null,{"$f":"IFERROR(VLOOKUP(CONCATENATE(B9183,D9183),Padrón_Indígenas!$A$2:$G$988,7,0),\"No\")","v":"No"}]
[24,"054","Xilitla","0266","Puerto de San Juan (0266)","R","Xilitla (054)Puerto de San Juan (0266)",21.351361000000001,-99.070446000000004,4,"*","*",2,240540266,null,null,null,{"$f":"IFERROR(VLOOKUP(CONCATENATE(B9184,D9184),Padrón_Indígenas!$A$2:$G$988,7,0),\"No\")","v":"No"}]
[24,"054","Xilitla","0217","Puerto del Durazno (0217)","R","Xilitla (054)Puerto del Durazno (0217)",21.298729000000002,-99.062019000000006,89,50,39,23,240540217,null,"Alto","Medio",{"$f":"IFERROR(VLOOKUP(CONCATENATE(B9185,D9185),Padrón_Indígenas!$A$2:$G$988,7,0),\"No\")","v":"No"}]
[24,"054","Xilitla","0218","Puerto Encinal (0218)","R","Xilitla (054)Puerto Encinal (0218)",21.335927999999999,-98.985507999999996,384,177,207,75,240540218,"SI","Alto","Medio",{"$f":"IFERROR(VLOOKUP(CONCATENATE(B9186,D9186),Padrón_Indígenas!$A$2:$G$988,7,0),\"No\")","v":"Sí"}]
[24,"054","Xilitla","0159","Puerto la Minita (Tres Cruces) (0159)","R","Xilitla (054)Puerto la Minita (Tres Cruces) (0159)",21.302106999999999,-99.055794000000006,0,0,0,0,240540159,null,null,null,{"$f":"IFERROR(VLOOKUP(CONCATENATE(B9187,D9187),Padrón_Indígenas!$A$2:$G$988,7,0),\"No\")","v":"No"}]
[24,"054","Xilitla","0160","Puerto las Flores (0160)","R","Xilitla (054)Puerto las Flores (0160)",21.350777999999998,-99.035670999999994,23,9,14,6,240540160,null,"Alto","Medio",{"$f":"IFERROR(VLOOKUP(CONCATENATE(B9188,D9188),Padrón_Indígenas!$A$2:$G$988,7,0),\"No\")","v":"No"}]
[24,"054","Xilitla","0080","Puerto Tlaletla (0080)","R","Xilitla (054)Puerto Tlaletla (0080)",21.349339000000001,-98.981369999999998,111,45,66,25,240540080,"SI","Alto","Bajo",{"$f":"IFERROR(VLOOKUP(CONCATENATE(B9189,D9189),Padrón_Indígenas!$A$2:$G$988,7,0),\"No\")","v":"Sí"}]
[24,"054","Xilitla","0161","Puerto Tres Cruces (San Antonio Xalcuayo Uno) (0161)","R","Xilitla (054)Puerto Tres Cruces (San Antonio Xalcuayo Uno) (0161)",21.381025999999999,-99.005267000000003,83,39,44,22,240540161,"SI","Alto","Medio",{"$f":"IFERROR(VLOOKUP(CONCATENATE(B9190,D9190),Padrón_Indígenas!$A$2:$G$988,7,0),\"No\")","v":"Sí"}]
[24,"054","Xilitla","0057","Quilicalco (0057)","R","Xilitla (054)Quilicalco (0057)",21.427194,-98.970634000000004,29,11,18,7,240540057,"SI","Alto","Medio",{"$f":"IFERROR(VLOOKUP(CONCATENATE(B9191,D9191),Padrón_Indígenas!$A$2:$G$988,7,0),\"No\")","v":"Sí"}]
[24,"054","Xilitla","0163","Quirámbaro (0163)","R","Xilitla (054)Quirámbaro (0163)",21.473378,-99.022334000000001,82,49,33,19,240540163,"SI","Muy alto","Medio",{"$f":"IFERROR(VLOOKUP(CONCATENATE(B9192,D9192),Padrón_Indígenas!$A$2:$G$988,7,0),\"No\")","v":"Sí"}]
[24,"054","Xilitla","0164","Ranchito la Silleta (0164)","R","Xilitla (054)Ranchito la Silleta (0164)",21.462285999999999,-99.049108000000004,39,17,22,13,240540164,"SI","Muy alto","Alto",{"$f":"IFERROR(VLOOKUP(CONCATENATE(B9193,D9193),Padrón_Indígenas!$A$2:$G$988,7,0),\"No\")","v":"Sí"}]
[24,"054","Xilitla","0282","Rancho la Gloria (0282)","R","Xilitla (054)Rancho la Gloria (0282)",21.353957000000001,-98.985387000000003,3,"*","*",1,240540282,"SI",null,null,{"$f":"IFERROR(VLOOKUP(CONCATENATE(B9194,D9194),Padrón_Indígenas!$A$2:$G$988,7,0),\"No\")","v":"No"}]
[24,"054","Xilitla","0131","Rancho los Barbechos (0131)","R","Xilitla (054)Rancho los Barbechos (0131)",21.349187000000001,-99.009566000000007,43,21,22,10,240540131,"SI","Muy alto","Alto",{"$f":"IFERROR(VLOOKUP(CONCATENATE(B9195,D9195),Padrón_Indígenas!$A$2:$G$988,7,0),\"No\")","v":"No"}]
[24,"054","Xilitla","0058","Rancho Nuevo (0058)","R","Xilitla (054)Rancho Nuevo (0058)",21.341926000000001,-98.993734000000003,97,51,46,24,240540058,"SI","Alto","Medio",{"$f":"IFERROR(VLOOKUP(CONCATENATE(B9196,D9196),Padrón_Indígenas!$A$2:$G$988,7,0),\"No\")","v":"Sí"}]
[24,"054","Xilitla","0059","Rancho Nuevo (0059)","R","Xilitla (054)Rancho Nuevo (0059)",21.440179000000001,-99.040377000000007,438,204,234,95,240540059,"SI","Muy alto","Medio",{"$f":"IFERROR(VLOOKUP(CONCATENATE(B9197,D9197),Padrón_Indígenas!$A$2:$G$988,7,0),\"No\")","v":"Sí"}]
[24,"054","Xilitla","0165","Rancho Nuevo (0165)","R","Xilitla (054)Rancho Nuevo (0165)",21.346392000000002,-99.069046999999998,71,38,33,16,240540165,null,"Alto","Medio",{"$f":"IFERROR(VLOOKUP(CONCATENATE(B9198,D9198),Padrón_Indígenas!$A$2:$G$988,7,0),\"No\")","v":"Sí"}]
[24,"054","Xilitla","0219","Rancho Nuevo (0219)","R","Xilitla (054)Rancho Nuevo (0219)",21.369126999999999,-98.962013999999996,28,14,14,8,240540219,null,"Alto","Medio",{"$f":"IFERROR(VLOOKUP(CONCATENATE(B9199,D9199),Padrón_Indígenas!$A$2:$G$988,7,0),\"No\")","v":"Sí"}]
[24,"054","Xilitla","0220","Rancho Nuevo (0220)","R","Xilitla (054)Rancho Nuevo (0220)",21.337070000000001,-98.960305000000005,102,44,58,22,240540220,"SI","Alto","Medio",{"$f":"IFERROR(VLOOKUP(CONCATENATE(B9200,D9200),Padrón_Indígenas!$A$2:$G$988,7,0),\"No\")","v":"Sí"}]
[24,"054","Xilitla","0221","Rancho Nuevo (0221)","R","Xilitla (054)Rancho Nuevo (0221)",21.334271999999999,-98.941281000000004,86,42,44,20,240540221,"SI","Alto","Medio",{"$f":"IFERROR(VLOOKUP(CONCATENATE(B9201,D9201),Padrón_Indígenas!$A$2:$G$988,7,0),\"No\")","v":"Sí"}]
[24,"054","Xilitla","0060","Rincón de la Barranca (0060)","R","Xilitla (054)Rincón de la Barranca (0060)",21.335383,-99.043402999999998,4,2,2,3,240540060,null,"Muy alto","Alto",{"$f":"IFERROR(VLOOKUP(CONCATENATE(B9202,D9202),Padrón_Indígenas!$A$2:$G$988,7,0),\"No\")","v":"No"}]
[24,"054","Xilitla","0268","Rincón de Paguayo (0268)","R","Xilitla (054)Rincón de Paguayo (0268)",21.324884999999998,-98.983407,23,12,11,7,240540268,null,"Alto","Medio",{"$f":"IFERROR(VLOOKUP(CONCATENATE(B9203,D9203),Padrón_Indígenas!$A$2:$G$988,7,0),\"No\")","v":"Sí"}]
[24,"054","Xilitla","0224","Rincón la Joya (0224)","R","Xilitla (054)Rincón la Joya (0224)",21.324824,-98.999702999999997,168,80,88,43,240540224,"SI","Alto","Medio",{"$f":"IFERROR(VLOOKUP(CONCATENATE(B9204,D9204),Padrón_Indígenas!$A$2:$G$988,7,0),\"No\")","v":"No"}]
[24,"054","Xilitla","0107","San Agustín (0107)","R","Xilitla (054)San Agustín (0107)",21.400711000000001,-98.989931999999996,43,24,19,13,240540107,"SI","Alto","Medio",{"$f":"IFERROR(VLOOKUP(CONCATENATE(B9205,D9205),Padrón_Indígenas!$A$2:$G$988,7,0),\"No\")","v":"No"}]
[24,"054","Xilitla","0063","San Antonio Huitzquilico (Barrio Centro) (0063)","R","Xilitla (054)San Antonio Huitzquilico (Barrio Centro) (0063)",21.476133999999998,-99.000219999999999,643,319,324,134,240540063,"SI","Alto","Medio",{"$f":"IFERROR(VLOOKUP(CONCATENATE(B9206,D9206),Padrón_Indígenas!$A$2:$G$988,7,0),\"No\")","v":"Sí"}]
[24,"054","Xilitla","0065","San Antonio Xalcuayo Dos (0065)","R","Xilitla (054)San Antonio Xalcuayo Dos (0065)",21.366254000000001,-99.013205999999997,449,234,215,111,240540065,"SI","Alto","Bajo",{"$f":"IFERROR(VLOOKUP(CONCATENATE(B9207,D9207),Padrón_Indígenas!$A$2:$G$988,7,0),\"No\")","v":"Sí"}]
[24,"054","Xilitla","0225","San José (0225)","R","Xilitla (054)San José (0225)",21.449947000000002,-99.010233999999997,219,115,104,52,240540225,"SI","Alto","Medio",{"$f":"IFERROR(VLOOKUP(CONCATENATE(B9208,D9208),Padrón_Indígenas!$A$2:$G$988,7,0),\"No\")","v":"Sí"}]
[24,"054","Xilitla","0066","San Pedro Huitzquilico (0066)","R","Xilitla (054)San Pedro Huitzquilico (0066)",21.456775,-99.010819999999995,829,433,396,179,240540066,"SI","Alto","Bajo",{"$f":"IFERROR(VLOOKUP(CONCATENATE(B9209,D9209),Padrón_Indígenas!$A$2:$G$988,7,0),\"No\")","v":"Sí"}]
[24,"054","Xilitla","0067","San Rafael (0067)","R","Xilitla (054)San Rafael (0067)",21.391337,-98.980208000000005,253,126,127,53,240540067,"SI","Alto","Medio",{"$f":"IFERROR(VLOOKUP(CONCATENATE(B9210,D9210),Padrón_Indígenas!$A$2:$G$988,7,0),\"No\")","v":"Sí"}]
[24,"054","Xilitla","0166","Santa Anita (0166)","R","Xilitla (054)Santa Anita (0166)",21.3399,-99.066293000000002,249,115,134,49,240540166,null,"Alto","Bajo",{"$f":"IFERROR(VLOOKUP(CONCATENATE(B9211,D9211),Padrón_Indígenas!$A$2:$G$988,7,0),\"No\")","v":"No"}]
[24,"054","Xilitla","0068","Santa Mónica (0068)","R","Xilitla (054)Santa Mónica (0068)",21.391774000000002,-98.994455000000002,21,9,12,8,240540068,"SI","Medio","Muy bajo",{"$f":"IFERROR(VLOOKUP(CONCATENATE(B9212,D9212),Padrón_Indígenas!$A$2:$G$988,7,0),\"No\")","v":"No"}]
[24,"054","Xilitla","0069","Sierra Chiquita (0069)","R","Xilitla (054)Sierra Chiquita (0069)",21.312926000000001,-99.045518000000001,73,41,32,22,240540069,"SI","Alto","Medio",{"$f":"IFERROR(VLOOKUP(CONCATENATE(B9213,D9213),Padrón_Indígenas!$A$2:$G$988,7,0),\"No\")","v":"No"}]
[24,"054","Xilitla","0070","Sierra Mojada (0070)","R","Xilitla (054)Sierra Mojada (0070)",21.309166999999999,-99.045000000000002,99,49,50,22,240540070,null,"Alto","Medio",{"$f":"IFERROR(VLOOKUP(CONCATENATE(B9214,D9214),Padrón_Indígenas!$A$2:$G$988,7,0),\"No\")","v":"No"}]
[24,"054","Xilitla","0270","Sierra Mojada (Roberto Martínez Andablo) (0270)","R","Xilitla (054)Sierra Mojada (Roberto Martínez Andablo) (0270)",21.305966000000002,-99.045637999999997,3,"*","*",1,240540270,null,null,null,{"$f":"IFERROR(VLOOKUP(CONCATENATE(B9215,D9215),Padrón_Indígenas!$A$2:$G$988,7,0),\"No\")","v":"No"}]
[24,"054","Xilitla","0073","Soledad de Zaragoza (0073)","R","Xilitla (054)Soledad de Zaragoza (0073)",21.334913,-99.078402999999994,491,249,242,117,240540073,"SI","Alto","Medio",{"$f":"IFERROR(VLOOKUP(CONCATENATE(B9216,D9216),Padrón_Indígenas!$A$2:$G$988,7,0),\"No\")","v":"No"}]
[24,"054","Xilitla","0242","Sorianito (0242)","R","Xilitla (054)Sorianito (0242)",21.414166999999999,-98.975832999999994,0,0,0,0,240540242,null,null,null,{"$f":"IFERROR(VLOOKUP(CONCATENATE(B9217,D9217),Padrón_Indígenas!$A$2:$G$988,7,0),\"No\")","v":"No"}]
[24,"054","Xilitla","0074","Suchiayo (0074)","R","Xilitla (054)Suchiayo (0074)",21.417044000000001,-98.991629000000003,153,72,81,42,240540074,"SI","Alto","Medio",{"$f":"IFERROR(VLOOKUP(CONCATENATE(B9218,D9218),Padrón_Indígenas!$A$2:$G$988,7,0),\"No\")","v":"Sí"}]
[24,"054","Xilitla","0279","Tecaya Dos (0279)","R","Xilitla (054)Tecaya Dos (0279)",21.399463999999998,-98.944980999999999,71,35,36,14,240540279,"SI","Alto","Medio",{"$f":"IFERROR(VLOOKUP(CONCATENATE(B9219,D9219),Padrón_Indígenas!$A$2:$G$988,7,0),\"No\")","v":"No"}]
[24,"054","Xilitla","0271","Tecaya Uno (0271)","R","Xilitla (054)Tecaya Uno (0271)",21.402349000000001,-98.946109000000007,91,43,48,19,240540271,"SI","Alto","Medio",{"$f":"IFERROR(VLOOKUP(CONCATENATE(B9220,D9220),Padrón_Indígenas!$A$2:$G$988,7,0),\"No\")","v":"No"}]
[24,"054","Xilitla","0228","Temascales (0228)","R","Xilitla (054)Temascales (0228)",21.348427999999998,-98.952663999999999,372,191,181,73,240540228,"SI","Alto","Medio",{"$f":"IFERROR(VLOOKUP(CONCATENATE(B9221,D9221),Padrón_Indígenas!$A$2:$G$988,7,0),\"No\")","v":"Sí"}]
[24,"054","Xilitla","0167","Tenepanco (0167)","R","Xilitla (054)Tenepanco (0167)",21.332089,-98.945581000000004,143,72,71,38,240540167,"SI","Alto","Medio",{"$f":"IFERROR(VLOOKUP(CONCATENATE(B9222,D9222),Padrón_Indígenas!$A$2:$G$988,7,0),\"No\")","v":"Sí"}]
[24,"054","Xilitla","0075","Tepetzintla (0075)","R","Xilitla (054)Tepetzintla (0075)",21.369924999999999,-98.920400999999998,196,100,96,37,240540075,"SI","Alto","Medio",{"$f":"IFERROR(VLOOKUP(CONCATENATE(B9223,D9223),Padrón_Indígenas!$A$2:$G$988,7,0),\"No\")","v":"Sí"}]
[24,"054","Xilitla","0077","Tierra Blanca Ejido (0077)","R","Xilitla (054)Tierra Blanca Ejido (0077)",21.348133000000001,-98.990497000000005,145,75,70,35,240540077,"SI","Alto","Medio",{"$f":"IFERROR(VLOOKUP(CONCATENATE(B9224,D9224),Padrón_Indígenas!$A$2:$G$988,7,0),\"No\")","v":"Sí"}]
[24,"054","Xilitla","0076","Tierra Blanca Fracción (0076)","R","Xilitla (054)Tierra Blanca Fracción (0076)",21.356679,-98.994927000000004,185,100,85,42,240540076,"SI","Alto","Medio",{"$f":"IFERROR(VLOOKUP(CONCATENATE(B9225,D9225),Padrón_Indígenas!$A$2:$G$988,7,0),\"No\")","v":"Sí"}]
[24,"054","Xilitla","0285","Tierra y Libertad (0285)","R","Xilitla (054)Tierra y Libertad (0285)",21.378993999999999,-98.979578000000004,59,31,28,13,240540285,"SI","Alto","Medio",{"$f":"IFERROR(VLOOKUP(CONCATENATE(B9226,D9226),Padrón_Indígenas!$A$2:$G$988,7,0),\"No\")","v":"No"}]
[24,"054","Xilitla","0272","Tierras Coloradas (0272)","R","Xilitla (054)Tierras Coloradas (0272)",21.359055000000001,-99.021769000000006,78,42,36,24,240540272,null,"Alto","Bajo",{"$f":"IFERROR(VLOOKUP(CONCATENATE(B9227,D9227),Padrón_Indígenas!$A$2:$G$988,7,0),\"No\")","v":"No"}]
[24,"054","Xilitla","0079","Tlacuapa (Temascal) (0079)","R","Xilitla (054)Tlacuapa (Temascal) (0079)",21.420648,-98.945402000000001,567,305,262,120,240540079,"SI","Alto","Medio",{"$f":"IFERROR(VLOOKUP(CONCATENATE(B9228,D9228),Padrón_Indígenas!$A$2:$G$988,7,0),\"No\")","v":"Sí"}]
[24,"054","Xilitla","0288","Tlacuapa Primera Sección (0288)","R","Xilitla (054)Tlacuapa Primera Sección (0288)",21.417306,-98.946042000000006,121,70,51,32,240540288,"SI","Alto","Medio",{"$f":"IFERROR(VLOOKUP(CONCATENATE(B9229,D9229),Padrón_Indígenas!$A$2:$G$988,7,0),\"No\")","v":"No"}]
[24,"054","Xilitla","0105","Tlahuilapa (0105)","R","Xilitla (054)Tlahuilapa (0105)",21.421209999999999,-98.971376000000006,413,213,200,102,240540105,"SI","Alto","Medio",{"$f":"IFERROR(VLOOKUP(CONCATENATE(B9230,D9230),Padrón_Indígenas!$A$2:$G$988,7,0),\"No\")","v":"Sí"}]
[24,"054","Xilitla","0081","Tlamaya (0081)","R","Xilitla (054)Tlamaya (0081)",21.421098000000001,-99.014346000000003,336,166,170,89,240540081,"SI","Bajo","Muy bajo",{"$f":"IFERROR(VLOOKUP(CONCATENATE(B9231,D9231),Padrón_Indígenas!$A$2:$G$988,7,0),\"No\")","v":"Sí"}]
[24,"054","Xilitla","0082","Tlamimil (0082)","R","Xilitla (054)Tlamimil (0082)",21.415533,-98.964196999999999,199,92,107,48,240540082,"SI","Alto","Medio",{"$f":"IFERROR(VLOOKUP(CONCATENATE(B9232,D9232),Padrón_Indígenas!$A$2:$G$988,7,0),\"No\")","v":"Sí"}]
[24,"054","Xilitla","0120","Tlapexmecayo (0120)","R","Xilitla (054)Tlapexmecayo (0120)",21.410938000000002,-98.971451999999999,100,48,52,25,240540120,"SI","Alto","Medio",{"$f":"IFERROR(VLOOKUP(CONCATENATE(B9233,D9233),Padrón_Indígenas!$A$2:$G$988,7,0),\"No\")","v":"Sí"}]
[24,"054","Xilitla","0083","Tres Pozos (0083)","R","Xilitla (054)Tres Pozos (0083)",21.342020000000002,-99.056002000000007,69,36,33,15,240540083,"SI","Alto","Bajo",{"$f":"IFERROR(VLOOKUP(CONCATENATE(B9234,D9234),Padrón_Indígenas!$A$2:$G$988,7,0),\"No\")","v":"Sí"}]
[24,"054","Xilitla","0230","Tres Pozos (San Antonio Xalcuayo Uno) (0230)","R","Xilitla (054)Tres Pozos (San Antonio Xalcuayo Uno) (0230)",21.377824,-99.007277999999999,181,82,99,42,240540230,"SI","Alto","Bajo",{"$f":"IFERROR(VLOOKUP(CONCATENATE(B9235,D9235),Padrón_Indígenas!$A$2:$G$988,7,0),\"No\")","v":"Sí"}]
[24,"054","Xilitla","0170","Uhaxuco (0170)","R","Xilitla (054)Uhaxuco (0170)",21.335868000000001,-99.005508000000006,99,50,49,27,240540170,"SI","Alto","Medio",{"$f":"IFERROR(VLOOKUP(CONCATENATE(B9236,D9236),Padrón_Indígenas!$A$2:$G$988,7,0),\"No\")","v":"No"}]
[24,"054","Xilitla","0171","Uhaxuquito (0171)","R","Xilitla (054)Uhaxuquito (0171)",21.343914000000002,-98.996335000000002,126,56,70,27,240540171,"SI","Alto","Medio",{"$f":"IFERROR(VLOOKUP(CONCATENATE(B9237,D9237),Padrón_Indígenas!$A$2:$G$988,7,0),\"No\")","v":"Sí"}]
[24,"054","Xilitla","0112","Uxtuapan (0112)","R","Xilitla (054)Uxtuapan (0112)",21.361837000000001,-98.976291000000003,590,300,290,137,240540112,"SI","Alto","Medio",{"$f":"IFERROR(VLOOKUP(CONCATENATE(B9238,D9238),Padrón_Indígenas!$A$2:$G$988,7,0),\"No\")","v":"No"}]
[24,"054","Xilitla","0172","Villa de Guadalupe (0172)","R","Xilitla (054)Villa de Guadalupe (0172)",21.407454000000001,-99.030607000000003,129,63,66,24,240540172,"SI","Alto","Bajo",{"$f":"IFERROR(VLOOKUP(CONCATENATE(B9239,D9239),Padrón_Indígenas!$A$2:$G$988,7,0),\"No\")","v":"Sí"}]
[24,"054","Xilitla","0173","Xaltipa (0173)","R","Xilitla (054)Xaltipa (0173)",21.334032000000001,-98.933722000000003,264,134,130,51,240540173,"SI","Alto","Medio",{"$f":"IFERROR(VLOOKUP(CONCATENATE(B9240,D9240),Padrón_Indígenas!$A$2:$G$988,7,0),\"No\")","v":"Sí"}]
[24,"054","Xilitla","0240","Xiliátl (0240)","R","Xilitla (054)Xiliátl (0240)",21.439817000000001,-99.015291000000005,37,19,18,9,240540240,"SI","Muy alto","Alto",{"$f":"IFERROR(VLOOKUP(CONCATENATE(B9241,D9241),Padrón_Indígenas!$A$2:$G$988,7,0),\"No\")","v":"Sí"}]
[24,"054","Xilitla","0001","Xilitla (0001)","U","Xilitla (054)Xilitla (0001)",21.385193000000001,-98.989572999999993,6576,3097,3479,1684,240540001,"SI",null,null,{"$f":"IFERROR(VLOOKUP(CONCATENATE(B9242,D9242),Padrón_Indígenas!$A$2:$G$988,7,0),\"No\")","v":"No"}]
[24,"054","Xilitla","0174","Xilitlilla (0174)","R","Xilitla (054)Xilitlilla (0174)",21.355391000000001,-99.028024000000002,298,148,150,91,240540174,"SI","Alto","Bajo",{"$f":"IFERROR(VLOOKUP(CONCATENATE(B9243,D9243),Padrón_Indígenas!$A$2:$G$988,7,0),\"No\")","v":"Sí"}]
[24,"054","Xilitla","0087","Xiloxochico (El Chico) (0087)","R","Xilitla (054)Xiloxochico (El Chico) (0087)",21.364920000000001,-98.968451000000002,165,87,78,35,240540087,"SI","Alto","Medio",{"$f":"IFERROR(VLOOKUP(CONCATENATE(B9244,D9244),Padrón_Indígenas!$A$2:$G$988,7,0),\"No\")","v":"Sí"}]
[24,"054","Xilitla","0231","Xocoyo (0231)","R","Xilitla (054)Xocoyo (0231)",21.347048999999998,-98.957794000000007,143,68,75,29,240540231,"SI","Muy alto","Medio",{"$f":"IFERROR(VLOOKUP(CONCATENATE(B9245,D9245),Padrón_Indígenas!$A$2:$G$988,7,0),\"No\")","v":"Sí"}]
[24,"054","Xilitla","0088","Zacatipa (0088)","R","Xilitla (054)Zacatipa (0088)",21.364629000000001,-99.053589000000002,168,85,83,48,240540088,"SI","Alto","Bajo",{"$f":"IFERROR(VLOOKUP(CONCATENATE(B9246,D9246),Padrón_Indígenas!$A$2:$G$988,7,0),\"No\")","v":"No"}]
[24,"054","Xilitla","0089","Zapuyo (0089)","R","Xilitla (054)Zapuyo (0089)",21.355459,-98.920940999999999,1267,637,630,258,240540089,"SI","Alto","Medio",{"$f":"IFERROR(VLOOKUP(CONCATENATE(B9247,D9247),Padrón_Indígenas!$A$2:$G$988,7,0),\"No\")","v":"Sí"}]
[24,"054","Xilitla",null,"Todo el municipio ",null,{"$f":"_xlfn.CONCAT(C9248,\" (\",B9248,\")\",E9248)","v":"Xilitla (054)Todo el municipio "},null,null,{"$f":"SUM(J9013:J9247)","v":51498}]
[24,"055","Zaragoza","0002","Agua Blanca (0002)","R","Zaragoza (055)Agua Blanca (0002)",22.060279999999999,-100.62002200000001,63,22,41,14,240550002,null,"Alto","Bajo",{"$f":"IFERROR(VLOOKUP(CONCATENATE(B9249,D9249),Padrón_Indígenas!$A$2:$G$988,7,0),\"No\")","v":"No"}]
[24,"055","Zaragoza","0004","Agua Zarca (0004)","R","Zaragoza (055)Agua Zarca (0004)",21.941336,-100.62449100000001,92,47,45,21,240550004,null,"Alto","Bajo",{"$f":"IFERROR(VLOOKUP(CONCATENATE(B9250,D9250),Padrón_Indígenas!$A$2:$G$988,7,0),\"No\")","v":"No"}]
[24,"055","Zaragoza","0005","Alberca de la Cruz (0005)","R","Zaragoza (055)Alberca de la Cruz (0005)",21.981731,-100.68818899999999,327,160,167,77,240550005,null,"Alto","Bajo",{"$f":"IFERROR(VLOOKUP(CONCATENATE(B9251,D9251),Padrón_Indígenas!$A$2:$G$988,7,0),\"No\")","v":"No"}]
[24,"055","Zaragoza","0171","Alfredo Alvarado (El Picacho) (0171)","R","Zaragoza (055)Alfredo Alvarado (El Picacho) (0171)",21.995833000000001,-100.683333,0,0,0,0,240550171,null,null,null,{"$f":"IFERROR(VLOOKUP(CONCATENATE(B9252,D9252),Padrón_Indígenas!$A$2:$G$988,7,0),\"No\")","v":"No"}]
[24,"055","Zaragoza","0006","Altamira (0006)","R","Zaragoza (055)Altamira (0006)",22.07743,-100.635043,61,23,38,15,240550006,null,"Alto","Bajo",{"$f":"IFERROR(VLOOKUP(CONCATENATE(B9253,D9253),Padrón_Indígenas!$A$2:$G$988,7,0),\"No\")","v":"No"}]
[24,"055","Zaragoza","0007","Álvarez (0007)","R","Zaragoza (055)Álvarez (0007)",22.033137,-100.60824700000001,41,17,24,14,240550007,null,"Alto","Medio",{"$f":"IFERROR(VLOOKUP(CONCATENATE(B9254,D9254),Padrón_Indígenas!$A$2:$G$988,7,0),\"No\")","v":"No"}]
[24,"055","Zaragoza","0214","Ángel Hernández (0214)","R","Zaragoza (055)Ángel Hernández (0214)",22.063953999999999,-100.700518,0,0,0,0,240550214,null,null,null,{"$f":"IFERROR(VLOOKUP(CONCATENATE(B9255,D9255),Padrón_Indígenas!$A$2:$G$988,7,0),\"No\")","v":"No"}]
[24,"055","Zaragoza","0009","Arreates (0009)","R","Zaragoza (055)Arreates (0009)",21.898934000000001,-100.777163,188,98,90,36,240550009,"SI","Alto","Medio",{"$f":"IFERROR(VLOOKUP(CONCATENATE(B9256,D9256),Padrón_Indígenas!$A$2:$G$988,7,0),\"No\")","v":"No"}]
[24,"055","Zaragoza","0010","Arroyo Hondo (0010)","R","Zaragoza (055)Arroyo Hondo (0010)",22.061146000000001,-100.687692,204,113,91,47,240550010,null,"Alto","Medio",{"$f":"IFERROR(VLOOKUP(CONCATENATE(B9257,D9257),Padrón_Indígenas!$A$2:$G$988,7,0),\"No\")","v":"No"}]
[24,"055","Zaragoza","0198","Autódromo Potosino [Pista de Carreras] (0198)","R","Zaragoza (055)Autódromo Potosino [Pista de Carreras] (0198)",22.091469,-100.725785,0,0,0,0,240550198,null,null,null,{"$f":"IFERROR(VLOOKUP(CONCATENATE(B9258,D9258),Padrón_Indígenas!$A$2:$G$988,7,0),\"No\")","v":"No"}]
[24,"055","Zaragoza","0173","Bellavista (0173)","R","Zaragoza (055)Bellavista (0173)",22.078147000000001,-100.640438,0,0,0,0,240550173,null,null,null,{"$f":"IFERROR(VLOOKUP(CONCATENATE(B9259,D9259),Padrón_Indígenas!$A$2:$G$988,7,0),\"No\")","v":"No"}]
[24,"055","Zaragoza","0174","Benito Cárdenas (0174)","R","Zaragoza (055)Benito Cárdenas (0174)",22.062311000000001,-100.72887799999999,0,0,0,0,240550174,null,null,null,{"$f":"IFERROR(VLOOKUP(CONCATENATE(B9260,D9260),Padrón_Indígenas!$A$2:$G$988,7,0),\"No\")","v":"No"}]
[24,"055","Zaragoza","0235","Campo de Tiro (Club de Tiro Ferrocarrilero) (0235)","R","Zaragoza (055)Campo de Tiro (Club de Tiro Ferrocarrilero) (0235)",22.137222000000001,-100.768889,0,0,0,0,240550235,null,null,null,{"$f":"IFERROR(VLOOKUP(CONCATENATE(B9261,D9261),Padrón_Indígenas!$A$2:$G$988,7,0),\"No\")","v":"No"}]
[24,"055","Zaragoza","0133","Cañón del Pozo (0133)","R","Zaragoza (055)Cañón del Pozo (0133)",22.036299,-100.64788,4,"*","*",1,240550133,null,null,null,{"$f":"IFERROR(VLOOKUP(CONCATENATE(B9262,D9262),Padrón_Indígenas!$A$2:$G$988,7,0),\"No\")","v":"No"}]
[24,"055","Zaragoza","0175","Casas Blancas (0175)","R","Zaragoza (055)Casas Blancas (0175)",22.116724000000001,-100.746718,8,"*","*",2,240550175,null,null,null,{"$f":"IFERROR(VLOOKUP(CONCATENATE(B9263,D9263),Padrón_Indígenas!$A$2:$G$988,7,0),\"No\")","v":"No"}]
[24,"055","Zaragoza","0019","Cerro Cuate (0019)","R","Zaragoza (055)Cerro Cuate (0019)",21.994285000000001,-100.615708,4,"*","*",2,240550019,null,null,null,{"$f":"IFERROR(VLOOKUP(CONCATENATE(B9264,D9264),Padrón_Indígenas!$A$2:$G$988,7,0),\"No\")","v":"No"}]
[24,"055","Zaragoza","0021","Cerro Gordo (0021)","R","Zaragoza (055)Cerro Gordo (0021)",21.975000000000001,-100.806389,2123,1073,1050,431,240550021,"SI","Alto","Bajo",{"$f":"IFERROR(VLOOKUP(CONCATENATE(B9265,D9265),Padrón_Indígenas!$A$2:$G$988,7,0),\"No\")","v":"No"}]
[24,"055","Zaragoza","0210","Cerro los Caballos (0210)","R","Zaragoza (055)Cerro los Caballos (0210)",22.065833000000001,-100.648889,0,0,0,0,240550210,null,null,null,{"$f":"IFERROR(VLOOKUP(CONCATENATE(B9266,D9266),Padrón_Indígenas!$A$2:$G$988,7,0),\"No\")","v":"No"}]
[24,"055","Zaragoza","0216","Chula Vista (0216)","R","Zaragoza (055)Chula Vista (0216)",22.010442000000001,-100.619578,0,0,0,0,240550216,null,null,null,{"$f":"IFERROR(VLOOKUP(CONCATENATE(B9267,D9267),Padrón_Indígenas!$A$2:$G$988,7,0),\"No\")","v":"No"}]
[24,"055","Zaragoza","0026","Coahuila (0026)","R","Zaragoza (055)Coahuila (0026)",21.931501000000001,-100.751513,203,99,104,47,240550026,null,"Alto","Bajo",{"$f":"IFERROR(VLOOKUP(CONCATENATE(B9268,D9268),Padrón_Indígenas!$A$2:$G$988,7,0),\"No\")","v":"No"}]
[24,"055","Zaragoza","0176","Colonia el Pedregal (0176)","R","Zaragoza (055)Colonia el Pedregal (0176)",21.964911000000001,-100.81631400000001,141,70,71,34,240550176,null,"Medio","Muy bajo",{"$f":"IFERROR(VLOOKUP(CONCATENATE(B9269,D9269),Padrón_Indígenas!$A$2:$G$988,7,0),\"No\")","v":"No"}]
[24,"055","Zaragoza","0029","Corral de Palmas (0029)","R","Zaragoza (055)Corral de Palmas (0029)",22.108367999999999,-100.752934,36,18,18,7,240550029,null,"Alto","Bajo",{"$f":"IFERROR(VLOOKUP(CONCATENATE(B9270,D9270),Padrón_Indígenas!$A$2:$G$988,7,0),\"No\")","v":"No"}]
[24,"055","Zaragoza","0031","Derramadero (0031)","R","Zaragoza (055)Derramadero (0031)",22.123045000000001,-100.748716,105,55,50,21,240550031,null,"Alto","Bajo",{"$f":"IFERROR(VLOOKUP(CONCATENATE(B9271,D9271),Padrón_Indígenas!$A$2:$G$988,7,0),\"No\")","v":"No"}]
[24,"055","Zaragoza","0178","Ejido la Enramada (0178)","R","Zaragoza (055)Ejido la Enramada (0178)",21.893701,-100.795152,0,0,0,0,240550178,null,null,null,{"$f":"IFERROR(VLOOKUP(CONCATENATE(B9272,D9272),Padrón_Indígenas!$A$2:$G$988,7,0),\"No\")","v":"No"}]
[24,"055","Zaragoza","0003","El Aguacatal (0003)","R","Zaragoza (055)El Aguacatal (0003)",22.024996000000002,-100.582106,1,"*","*",1,240550003,null,null,null,{"$f":"IFERROR(VLOOKUP(CONCATENATE(B9273,D9273),Padrón_Indígenas!$A$2:$G$988,7,0),\"No\")","v":"No"}]
[24,"055","Zaragoza","0008","El Arenal (0008)","R","Zaragoza (055)El Arenal (0008)",22.068059000000002,-100.710767,0,0,0,0,240550008,null,null,null,{"$f":"IFERROR(VLOOKUP(CONCATENATE(B9274,D9274),Padrón_Indígenas!$A$2:$G$988,7,0),\"No\")","v":"No"}]
[24,"055","Zaragoza","0161","El Cambalache (0161)","R","Zaragoza (055)El Cambalache (0161)",21.906213000000001,-100.79965900000001,23,12,11,5,240550161,null,"Alto","Medio",{"$f":"IFERROR(VLOOKUP(CONCATENATE(B9275,D9275),Padrón_Indígenas!$A$2:$G$988,7,0),\"No\")","v":"No"}]
[24,"055","Zaragoza","0015","El Capulín (0015)","R","Zaragoza (055)El Capulín (0015)",22.042556999999999,-100.657746,28,20,8,6,240550015,null,"Alto","Medio",{"$f":"IFERROR(VLOOKUP(CONCATENATE(B9276,D9276),Padrón_Indígenas!$A$2:$G$988,7,0),\"No\")","v":"No"}]
[24,"055","Zaragoza","0017","El Carmen (0017)","R","Zaragoza (055)El Carmen (0017)",21.940432000000001,-100.80542800000001,111,55,56,23,240550017,"SI","Alto","Bajo",{"$f":"IFERROR(VLOOKUP(CONCATENATE(B9277,D9277),Padrón_Indígenas!$A$2:$G$988,7,0),\"No\")","v":"No"}]
[24,"055","Zaragoza","0154","El Carrizal (0154)","R","Zaragoza (055)El Carrizal (0154)",21.980277999999998,-100.567778,0,0,0,0,240550154,null,null,null,{"$f":"IFERROR(VLOOKUP(CONCATENATE(B9278,D9278),Padrón_Indígenas!$A$2:$G$988,7,0),\"No\")","v":"No"}]
[24,"055","Zaragoza","0105","El Cascarero (0105)","R","Zaragoza (055)El Cascarero (0105)",21.910591,-100.781486,7,"*","*",2,240550105,null,null,null,{"$f":"IFERROR(VLOOKUP(CONCATENATE(B9279,D9279),Padrón_Indígenas!$A$2:$G$988,7,0),\"No\")","v":"No"}]
[24,"055","Zaragoza","0159","El Castillo (0159)","R","Zaragoza (055)El Castillo (0159)",22.103632999999999,-100.699808,0,0,0,0,240550159,null,null,null,{"$f":"IFERROR(VLOOKUP(CONCATENATE(B9280,D9280),Padrón_Indígenas!$A$2:$G$988,7,0),\"No\")","v":"No"}]
[24,"055","Zaragoza","0215","El Cerrito (0215)","R","Zaragoza (055)El Cerrito (0215)",22.031081,-100.722791,0,0,0,0,240550215,null,null,null,{"$f":"IFERROR(VLOOKUP(CONCATENATE(B9281,D9281),Padrón_Indígenas!$A$2:$G$988,7,0),\"No\")","v":"No"}]
[24,"055","Zaragoza","0155","El Charco (0155)","R","Zaragoza (055)El Charco (0155)",21.942267000000001,-100.659339,0,0,0,0,240550155,null,null,null,{"$f":"IFERROR(VLOOKUP(CONCATENATE(B9282,D9282),Padrón_Indígenas!$A$2:$G$988,7,0),\"No\")","v":"No"}]
[24,"055","Zaragoza","0108","El Chilarillo (0108)","R","Zaragoza (055)El Chilarillo (0108)",21.982835000000001,-100.757637,62,32,30,13,240550108,null,"Alto","Medio",{"$f":"IFERROR(VLOOKUP(CONCATENATE(B9283,D9283),Padrón_Indígenas!$A$2:$G$988,7,0),\"No\")","v":"No"}]
[24,"055","Zaragoza","0146","El Cocolistle (0146)","R","Zaragoza (055)El Cocolistle (0146)",22.028091,-100.71193700000001,6,"*","*",1,240550146,null,null,null,{"$f":"IFERROR(VLOOKUP(CONCATENATE(B9284,D9284),Padrón_Indígenas!$A$2:$G$988,7,0),\"No\")","v":"No"}]
[24,"055","Zaragoza","0145","El Congo (0145)","R","Zaragoza (055)El Congo (0145)",22.030228999999999,-100.720468,7,"*","*",2,240550145,null,null,null,{"$f":"IFERROR(VLOOKUP(CONCATENATE(B9285,D9285),Padrón_Indígenas!$A$2:$G$988,7,0),\"No\")","v":"No"}]
[24,"055","Zaragoza","0177","El Divisadero (0177)","R","Zaragoza (055)El Divisadero (0177)",22.088889000000002,-100.645556,0,0,0,0,240550177,null,null,null,{"$f":"IFERROR(VLOOKUP(CONCATENATE(B9286,D9286),Padrón_Indígenas!$A$2:$G$988,7,0),\"No\")","v":"No"}]
[24,"055","Zaragoza","0168","El Garabatillo (0168)","R","Zaragoza (055)El Garabatillo (0168)",22.107101,-100.689984,0,0,0,0,240550168,null,null,null,{"$f":"IFERROR(VLOOKUP(CONCATENATE(B9287,D9287),Padrón_Indígenas!$A$2:$G$988,7,0),\"No\")","v":"No"}]
[24,"055","Zaragoza","0183","El Jagüey (0183)","R","Zaragoza (055)El Jagüey (0183)",21.977308000000001,-100.696622,4,"*","*",1,240550183,null,null,null,{"$f":"IFERROR(VLOOKUP(CONCATENATE(B9288,D9288),Padrón_Indígenas!$A$2:$G$988,7,0),\"No\")","v":"No"}]
[24,"055","Zaragoza","0044","El Jaralito (0044)","R","Zaragoza (055)El Jaralito (0044)",21.954654999999999,-100.72626,111,47,64,28,240550044,null,"Alto","Medio",{"$f":"IFERROR(VLOOKUP(CONCATENATE(B9289,D9289),Padrón_Indígenas!$A$2:$G$988,7,0),\"No\")","v":"No"}]
[24,"055","Zaragoza","0051","El Lindero (0051)","R","Zaragoza (055)El Lindero (0051)",21.965651000000001,-100.700964,30,17,13,10,240550051,null,"Alto","Medio",{"$f":"IFERROR(VLOOKUP(CONCATENATE(B9290,D9290),Padrón_Indígenas!$A$2:$G$988,7,0),\"No\")","v":"No"}]
[24,"055","Zaragoza","0054","El Llano de Santa Isabel (0054)","R","Zaragoza (055)El Llano de Santa Isabel (0054)",22.097801,-100.718371,88,43,45,22,240550054,null,"Medio","Muy bajo",{"$f":"IFERROR(VLOOKUP(CONCATENATE(B9291,D9291),Padrón_Indígenas!$A$2:$G$988,7,0),\"No\")","v":"No"}]
[24,"055","Zaragoza","0148","El Membrillo (0148)","R","Zaragoza (055)El Membrillo (0148)",22.024722000000001,-100.711111,8,"*","*",1,240550148,null,null,null,{"$f":"IFERROR(VLOOKUP(CONCATENATE(B9292,D9292),Padrón_Indígenas!$A$2:$G$988,7,0),\"No\")","v":"No"}]
[24,"055","Zaragoza","0106","El Milagro (0106)","R","Zaragoza (055)El Milagro (0106)",22.07891,-100.637362,9,4,5,3,240550106,null,"Alto","Medio",{"$f":"IFERROR(VLOOKUP(CONCATENATE(B9293,D9293),Padrón_Indígenas!$A$2:$G$988,7,0),\"No\")","v":"No"}]
[24,"055","Zaragoza","0107","El Ojo de Agua (0107)","R","Zaragoza (055)El Ojo de Agua (0107)",21.990369000000001,-100.756119,56,28,28,14,240550107,null,"Alto","Medio",{"$f":"IFERROR(VLOOKUP(CONCATENATE(B9294,D9294),Padrón_Indígenas!$A$2:$G$988,7,0),\"No\")","v":"No"}]
[24,"055","Zaragoza","0164","El Pachol (0164)","R","Zaragoza (055)El Pachol (0164)",21.949563999999999,-100.767962,6,"*","*",2,240550164,null,null,null,{"$f":"IFERROR(VLOOKUP(CONCATENATE(B9295,D9295),Padrón_Indígenas!$A$2:$G$988,7,0),\"No\")","v":"No"}]
[24,"055","Zaragoza","0188","El Pame (0188)","R","Zaragoza (055)El Pame (0188)",22.066127999999999,-100.70599300000001,0,0,0,0,240550188,null,null,null,{"$f":"IFERROR(VLOOKUP(CONCATENATE(B9296,D9296),Padrón_Indígenas!$A$2:$G$988,7,0),\"No\")","v":"No"}]
[24,"055","Zaragoza","0058","El Panal (0058)","R","Zaragoza (055)El Panal (0058)",21.954336999999999,-100.71387799999999,11,"*","*",2,240550058,null,null,null,{"$f":"IFERROR(VLOOKUP(CONCATENATE(B9297,D9297),Padrón_Indígenas!$A$2:$G$988,7,0),\"No\")","v":"No"}]
[24,"055","Zaragoza","0062","El Pasito (0062)","R","Zaragoza (055)El Pasito (0062)",21.926666999999998,-100.61666700000001,0,0,0,0,240550062,null,null,null,{"$f":"IFERROR(VLOOKUP(CONCATENATE(B9298,D9298),Padrón_Indígenas!$A$2:$G$988,7,0),\"No\")","v":"No"}]
[24,"055","Zaragoza","0191","El Pinal (0191)","R","Zaragoza (055)El Pinal (0191)",22.089053,-100.62771100000001,0,0,0,0,240550191,null,null,null,{"$f":"IFERROR(VLOOKUP(CONCATENATE(B9299,D9299),Padrón_Indígenas!$A$2:$G$988,7,0),\"No\")","v":"No"}]
[24,"055","Zaragoza","0192","El Polvorín (0192)","R","Zaragoza (055)El Polvorín (0192)",21.892066,-100.790521,8,"*","*",1,240550192,null,null,null,{"$f":"IFERROR(VLOOKUP(CONCATENATE(B9300,D9300),Padrón_Indígenas!$A$2:$G$988,7,0),\"No\")","v":"No"}]
[24,"055","Zaragoza","0169","El Potrero de Rosario (0169)","R","Zaragoza (055)El Potrero de Rosario (0169)",22.163740000000001,-100.724777,0,0,0,0,240550169,null,null,null,{"$f":"IFERROR(VLOOKUP(CONCATENATE(B9301,D9301),Padrón_Indígenas!$A$2:$G$988,7,0),\"No\")","v":"No"}]
[24,"055","Zaragoza","0236","El Potrero Nuevo (0236)","R","Zaragoza (055)El Potrero Nuevo (0236)",22.066866000000001,-100.703529,0,0,0,0,240550236,null,null,null,{"$f":"IFERROR(VLOOKUP(CONCATENATE(B9302,D9302),Padrón_Indígenas!$A$2:$G$988,7,0),\"No\")","v":"No"}]
[24,"055","Zaragoza","0034","El Puertecito de las Escobas (0034)","R","Zaragoza (055)El Puertecito de las Escobas (0034)",21.926933999999999,-100.564514,8,"*","*",1,240550034,null,null,null,{"$f":"IFERROR(VLOOKUP(CONCATENATE(B9303,D9303),Padrón_Indígenas!$A$2:$G$988,7,0),\"No\")","v":"No"}]
[24,"055","Zaragoza","0220","El Puerto Hondo (0220)","R","Zaragoza (055)El Puerto Hondo (0220)",22.064131,-100.639427,0,0,0,0,240550220,null,null,null,{"$f":"IFERROR(VLOOKUP(CONCATENATE(B9304,D9304),Padrón_Indígenas!$A$2:$G$988,7,0),\"No\")","v":"No"}]
[24,"055","Zaragoza","0225","El Recodo (0225)","R","Zaragoza (055)El Recodo (0225)",21.937369,-100.572301,10,"*","*",2,240550225,null,null,null,{"$f":"IFERROR(VLOOKUP(CONCATENATE(B9305,D9305),Padrón_Indígenas!$A$2:$G$988,7,0),\"No\")","v":"No"}]
[24,"055","Zaragoza","0082","El Rodeo (0082)","R","Zaragoza (055)El Rodeo (0082)",21.927222,-100.603889,3,"*","*",1,240550082,null,null,null,{"$f":"IFERROR(VLOOKUP(CONCATENATE(B9306,D9306),Padrón_Indígenas!$A$2:$G$988,7,0),\"No\")","v":"No"}]
[24,"055","Zaragoza","0142","El Tablón (0142)","R","Zaragoza (055)El Tablón (0142)",22.009474000000001,-100.62752399999999,0,0,0,0,240550142,null,null,null,{"$f":"IFERROR(VLOOKUP(CONCATENATE(B9307,D9307),Padrón_Indígenas!$A$2:$G$988,7,0),\"No\")","v":"No"}]
[24,"055","Zaragoza","0097","El Tostadero (0097)","R","Zaragoza (055)El Tostadero (0097)",21.956410999999999,-100.712402,41,18,23,9,240550097,null,"Alto","Medio",{"$f":"IFERROR(VLOOKUP(CONCATENATE(B9308,D9308),Padrón_Indígenas!$A$2:$G$988,7,0),\"No\")","v":"No"}]
[24,"055","Zaragoza","0103","El Venadito (0103)","R","Zaragoza (055)El Venadito (0103)",21.933664,-100.800297,11,6,5,3,240550103,null,"Alto","Medio",{"$f":"IFERROR(VLOOKUP(CONCATENATE(B9309,D9309),Padrón_Indígenas!$A$2:$G$988,7,0),\"No\")","v":"No"}]
[24,"055","Zaragoza","0241","El Viejo [Rancho] (0241)","R","Zaragoza (055)El Viejo [Rancho] (0241)",22.033626999999999,-100.753794,"-","-","-","-",240550241,null,null,null,{"$f":"IFERROR(VLOOKUP(CONCATENATE(B9310,D9310),Padrón_Indígenas!$A$2:$G$988,7,0),\"No\")","v":"No"}]
[24,"055","Zaragoza","0102","El Zapote (0102)","R","Zaragoza (055)El Zapote (0102)",22.030128999999999,-100.718953,14,"*","*",2,240550102,null,null,null,{"$f":"IFERROR(VLOOKUP(CONCATENATE(B9311,D9311),Padrón_Indígenas!$A$2:$G$988,7,0),\"No\")","v":"No"}]
[24,"055","Zaragoza","0093","Emiliano Zapata (El Tepozán) (0093)","R","Zaragoza (055)Emiliano Zapata (El Tepozán) (0093)",22.082847999999998,-100.727465,181,92,89,37,240550093,"SI","Alto","Medio",{"$f":"IFERROR(VLOOKUP(CONCATENATE(B9312,D9312),Padrón_Indígenas!$A$2:$G$988,7,0),\"No\")","v":"No"}]
[24,"055","Zaragoza","0138","Entronque de Zaragoza (0138)","R","Zaragoza (055)Entronque de Zaragoza (0138)",21.975852,-100.818478,10,"*","*",2,240550138,null,null,null,{"$f":"IFERROR(VLOOKUP(CONCATENATE(B9313,D9313),Padrón_Indígenas!$A$2:$G$988,7,0),\"No\")","v":"No"}]
[24,"055","Zaragoza","0230","Esperanza Juárez Rocha (0230)","R","Zaragoza (055)Esperanza Juárez Rocha (0230)",22.036131000000001,-100.722548,3,"*","*",1,240550230,null,null,null,{"$f":"IFERROR(VLOOKUP(CONCATENATE(B9314,D9314),Padrón_Indígenas!$A$2:$G$988,7,0),\"No\")","v":"No"}]
[24,"055","Zaragoza","0037","Estanco del Carmen (0037)","R","Zaragoza (055)Estanco del Carmen (0037)",21.959620999999999,-100.631957,133,66,67,26,240550037,null,"Alto","Medio",{"$f":"IFERROR(VLOOKUP(CONCATENATE(B9315,D9315),Padrón_Indígenas!$A$2:$G$988,7,0),\"No\")","v":"No"}]
[24,"055","Zaragoza","0179","Evaristo Sánchez (0179)","R","Zaragoza (055)Evaristo Sánchez (0179)",21.992163999999999,-100.679588,0,0,0,0,240550179,null,null,null,{"$f":"IFERROR(VLOOKUP(CONCATENATE(B9316,D9316),Padrón_Indígenas!$A$2:$G$988,7,0),\"No\")","v":"No"}]
[24,"055","Zaragoza","0047","Fracción Juárez (0047)","R","Zaragoza (055)Fracción Juárez (0047)",21.939323000000002,-100.59402900000001,29,10,19,6,240550047,null,"Alto","Medio",{"$f":"IFERROR(VLOOKUP(CONCATENATE(B9317,D9317),Padrón_Indígenas!$A$2:$G$988,7,0),\"No\")","v":"No"}]
[24,"055","Zaragoza","0039","Garrochitas (0039)","R","Zaragoza (055)Garrochitas (0039)",22.158055999999998,-100.709476,11,6,5,4,240550039,null,"Muy alto","Alto",{"$f":"IFERROR(VLOOKUP(CONCATENATE(B9318,D9318),Padrón_Indígenas!$A$2:$G$988,7,0),\"No\")","v":"No"}]
[24,"055","Zaragoza","0033","Hacienda de la Enramada (0033)","R","Zaragoza (055)Hacienda de la Enramada (0033)",21.911667000000001,-100.77,38,17,21,8,240550033,null,"Alto","Medio",{"$f":"IFERROR(VLOOKUP(CONCATENATE(B9319,D9319),Padrón_Indígenas!$A$2:$G$988,7,0),\"No\")","v":"No"}]
[24,"055","Zaragoza","0180","Hacienda de la Morena (0180)","R","Zaragoza (055)Hacienda de la Morena (0180)",22.155322999999999,-100.732373,0,0,0,0,240550180,null,null,null,{"$f":"IFERROR(VLOOKUP(CONCATENATE(B9320,D9320),Padrón_Indígenas!$A$2:$G$988,7,0),\"No\")","v":"No"}]
[24,"055","Zaragoza","0181","Hacienda de San Isidro (0181)","R","Zaragoza (055)Hacienda de San Isidro (0181)",22.099029000000002,-100.64207399999999,0,0,0,0,240550181,null,null,null,{"$f":"IFERROR(VLOOKUP(CONCATENATE(B9321,D9321),Padrón_Indígenas!$A$2:$G$988,7,0),\"No\")","v":"No"}]
[24,"055","Zaragoza","0042","Independencia (Patol) (0042)","R","Zaragoza (055)Independencia (Patol) (0042)",22.119561000000001,-100.740111,175,84,91,45,240550042,null,"Alto","Bajo",{"$f":"IFERROR(VLOOKUP(CONCATENATE(B9322,D9322),Padrón_Indígenas!$A$2:$G$988,7,0),\"No\")","v":"No"}]
[24,"055","Zaragoza","0043","Jamay (0043)","R","Zaragoza (055)Jamay (0043)",21.988968,-100.74494300000001,285,143,142,57,240550043,null,"Alto","Medio",{"$f":"IFERROR(VLOOKUP(CONCATENATE(B9323,D9323),Padrón_Indígenas!$A$2:$G$988,7,0),\"No\")","v":"No"}]
[24,"055","Zaragoza","0204","Jondablito [Colonia Bicentenario] (0204)","R","Zaragoza (055)Jondablito [Colonia Bicentenario] (0204)",22.031393999999999,-100.72465099999999,3,"*","*",1,240550204,null,null,null,{"$f":"IFERROR(VLOOKUP(CONCATENATE(B9324,D9324),Padrón_Indígenas!$A$2:$G$988,7,0),\"No\")","v":"No"}]
[24,"055","Zaragoza","0231","José Natividad Silva (0231)","R","Zaragoza (055)José Natividad Silva (0231)",22.142620000000001,-100.716859,0,0,0,0,240550231,null,null,null,{"$f":"IFERROR(VLOOKUP(CONCATENATE(B9325,D9325),Padrón_Indígenas!$A$2:$G$988,7,0),\"No\")","v":"No"}]
[24,"055","Zaragoza","0046","Joya Honda (0046)","R","Zaragoza (055)Joya Honda (0046)",21.979216999999998,-100.580647,17,7,10,5,240550046,null,"Alto","Medio",{"$f":"IFERROR(VLOOKUP(CONCATENATE(B9326,D9326),Padrón_Indígenas!$A$2:$G$988,7,0),\"No\")","v":"No"}]
[24,"055","Zaragoza","0049","Kilómetro 58 (0049)","R","Zaragoza (055)Kilómetro 58 (0049)",22.020257999999998,-100.60108099999999,200,107,93,44,240550049,null,"Alto","Medio",{"$f":"IFERROR(VLOOKUP(CONCATENATE(B9327,D9327),Padrón_Indígenas!$A$2:$G$988,7,0),\"No\")","v":"No"}]
[24,"055","Zaragoza","0237","La Alberca (Eudocio de la Cruz Martínez) (0237)","R","Zaragoza (055)La Alberca (Eudocio de la Cruz Martínez) (0237)",22.093375000000002,-100.718892,2,"*","*",1,240550237,null,null,null,{"$f":"IFERROR(VLOOKUP(CONCATENATE(B9328,D9328),Padrón_Indígenas!$A$2:$G$988,7,0),\"No\")","v":"No"}]
[24,"055","Zaragoza","0172","La Bajadita (0172)","R","Zaragoza (055)La Bajadita (0172)",21.95626,-100.715671,5,"*","*",1,240550172,null,null,null,{"$f":"IFERROR(VLOOKUP(CONCATENATE(B9329,D9329),Padrón_Indígenas!$A$2:$G$988,7,0),\"No\")","v":"No"}]
[24,"055","Zaragoza","0012","La Calera (0012)","R","Zaragoza (055)La Calera (0012)",22.048098,-100.676417,371,185,186,74,240550012,null,"Alto","Medio",{"$f":"IFERROR(VLOOKUP(CONCATENATE(B9330,D9330),Padrón_Indígenas!$A$2:$G$988,7,0),\"No\")","v":"No"}]
[24,"055","Zaragoza","0209","La Cañada del Pastle (0209)","R","Zaragoza (055)La Cañada del Pastle (0209)",21.923276000000001,-100.626284,13,"*","*",2,240550209,null,null,null,{"$f":"IFERROR(VLOOKUP(CONCATENATE(B9331,D9331),Padrón_Indígenas!$A$2:$G$988,7,0),\"No\")","v":"No"}]
[24,"055","Zaragoza","0223","La Cardona (Las Aguilillas) (0223)","R","Zaragoza (055)La Cardona (Las Aguilillas) (0223)",21.982211,-100.59287399999999,0,0,0,0,240550223,null,null,null,{"$f":"IFERROR(VLOOKUP(CONCATENATE(B9332,D9332),Padrón_Indígenas!$A$2:$G$988,7,0),\"No\")","v":"No"}]
[24,"055","Zaragoza","0022","La Ciénaga del Trigo (0022)","R","Zaragoza (055)La Ciénaga del Trigo (0022)",22.054157,-100.626713,0,0,0,0,240550022,null,null,null,{"$f":"IFERROR(VLOOKUP(CONCATENATE(B9333,D9333),Padrón_Indígenas!$A$2:$G$988,7,0),\"No\")","v":"No"}]
[24,"055","Zaragoza","0023","La Cieneguilla (0023)","R","Zaragoza (055)La Cieneguilla (0023)",21.989197999999998,-100.684575,18,8,10,5,240550023,null,"Alto","Medio",{"$f":"IFERROR(VLOOKUP(CONCATENATE(B9334,D9334),Padrón_Indígenas!$A$2:$G$988,7,0),\"No\")","v":"No"}]
[24,"055","Zaragoza","0217","La Colmena (0217)","R","Zaragoza (055)La Colmena (0217)",22.094722000000001,-100.625833,0,0,0,0,240550217,null,null,null,{"$f":"IFERROR(VLOOKUP(CONCATENATE(B9335,D9335),Padrón_Indígenas!$A$2:$G$988,7,0),\"No\")","v":"No"}]
[24,"055","Zaragoza","0035","La Esperanza (0035)","R","Zaragoza (055)La Esperanza (0035)",22.008009000000001,-100.764853,2054,1010,1044,425,240550035,null,"Alto","Bajo",{"$f":"IFERROR(VLOOKUP(CONCATENATE(B9336,D9336),Padrón_Indígenas!$A$2:$G$988,7,0),\"No\")","v":"No"}]
[24,"055","Zaragoza","0238","La Esperanza (Isidro Ávila) (0238)","R","Zaragoza (055)La Esperanza (Isidro Ávila) (0238)",22.011389000000001,-100.77145299999999,1,"*","*",1,240550238,null,null,null,{"$f":"IFERROR(VLOOKUP(CONCATENATE(B9337,D9337),Padrón_Indígenas!$A$2:$G$988,7,0),\"No\")","v":"No"}]
[24,"055","Zaragoza","0036","La Estancia (0036)","R","Zaragoza (055)La Estancia (0036)",22.114560000000001,-100.713365,259,123,136,69,240550036,"SI","Alto","Medio",{"$f":"IFERROR(VLOOKUP(CONCATENATE(B9338,D9338),Padrón_Indígenas!$A$2:$G$988,7,0),\"No\")","v":"No"}]
[24,"055","Zaragoza","0050","La Labor del Mazo (0050)","R","Zaragoza (055)La Labor del Mazo (0050)",21.949386000000001,-100.617063,17,11,6,8,240550050,null,"Alto","Medio",{"$f":"IFERROR(VLOOKUP(CONCATENATE(B9339,D9339),Padrón_Indígenas!$A$2:$G$988,7,0),\"No\")","v":"No"}]
[24,"055","Zaragoza","0197","La Laguna (0197)","R","Zaragoza (055)La Laguna (0197)",21.975073999999999,-100.57396900000001,0,0,0,0,240550197,null,null,null,{"$f":"IFERROR(VLOOKUP(CONCATENATE(B9340,D9340),Padrón_Indígenas!$A$2:$G$988,7,0),\"No\")","v":"No"}]
[24,"055","Zaragoza","0147","La Lagunita (0147)","R","Zaragoza (055)La Lagunita (0147)",22.032679000000002,-100.71798099999999,0,0,0,0,240550147,null,null,null,{"$f":"IFERROR(VLOOKUP(CONCATENATE(B9341,D9341),Padrón_Indígenas!$A$2:$G$988,7,0),\"No\")","v":"No"}]
[24,"055","Zaragoza","0184","La Lagunita (0184)","R","Zaragoza (055)La Lagunita (0184)",22.101224999999999,-100.63949,9,"*","*",2,240550184,null,null,null,{"$f":"IFERROR(VLOOKUP(CONCATENATE(B9342,D9342),Padrón_Indígenas!$A$2:$G$988,7,0),\"No\")","v":"No"}]
[24,"055","Zaragoza","0200","La Lagunita (0200)","R","Zaragoza (055)La Lagunita (0200)",22.014385999999998,-100.771675,0,0,0,0,240550200,null,null,null,{"$f":"IFERROR(VLOOKUP(CONCATENATE(B9343,D9343),Padrón_Indígenas!$A$2:$G$988,7,0),\"No\")","v":"No"}]
[24,"055","Zaragoza","0124","La Laja (0124)","R","Zaragoza (055)La Laja (0124)",22.052344000000002,-100.564722,8,4,4,3,240550124,null,"Muy alto","Alto",{"$f":"IFERROR(VLOOKUP(CONCATENATE(B9344,D9344),Padrón_Indígenas!$A$2:$G$988,7,0),\"No\")","v":"No"}]
[24,"055","Zaragoza","0185","La Lobera (0185)","R","Zaragoza (055)La Lobera (0185)",21.986249999999998,-100.682219,0,0,0,0,240550185,null,null,null,{"$f":"IFERROR(VLOOKUP(CONCATENATE(B9345,D9345),Padrón_Indígenas!$A$2:$G$988,7,0),\"No\")","v":"No"}]
[24,"055","Zaragoza","0048","La Luz (Rodríguez Gaytán) (0048)","R","Zaragoza (055)La Luz (Rodríguez Gaytán) (0048)",22.157066,-100.735173,14,7,7,5,240550048,null,"Muy alto","Alto",{"$f":"IFERROR(VLOOKUP(CONCATENATE(B9346,D9346),Padrón_Indígenas!$A$2:$G$988,7,0),\"No\")","v":"No"}]
[24,"055","Zaragoza","0242","La Malquerida [Rancho] (0242)","R","Zaragoza (055)La Malquerida [Rancho] (0242)",22.066155999999999,-100.718917,"-","-","-","-",240550242,null,null,null,{"$f":"IFERROR(VLOOKUP(CONCATENATE(B9347,D9347),Padrón_Indígenas!$A$2:$G$988,7,0),\"No\")","v":"No"}]
[24,"055","Zaragoza","0137","La Mesita (La Vallita) (0137)","R","Zaragoza (055)La Mesita (La Vallita) (0137)",21.994444000000001,-100.76,52,26,26,12,240550137,null,"Alto","Bajo",{"$f":"IFERROR(VLOOKUP(CONCATENATE(B9348,D9348),Padrón_Indígenas!$A$2:$G$988,7,0),\"No\")","v":"No"}]
[24,"055","Zaragoza","0056","La Morena (0056)","R","Zaragoza (055)La Morena (0056)",22.150193999999999,-100.73206999999999,81,35,46,22,240550056,null,"Alto","Bajo",{"$f":"IFERROR(VLOOKUP(CONCATENATE(B9349,D9349),Padrón_Indígenas!$A$2:$G$988,7,0),\"No\")","v":"No"}]
[24,"055","Zaragoza","0213","La Ordeñita (0213)","R","Zaragoza (055)La Ordeñita (0213)",21.935278,-100.634739,4,"*","*",1,240550213,null,null,null,{"$f":"IFERROR(VLOOKUP(CONCATENATE(B9350,D9350),Padrón_Indígenas!$A$2:$G$988,7,0),\"No\")","v":"No"}]
[24,"055","Zaragoza","0061","La Parada del Zarcido (0061)","R","Zaragoza (055)La Parada del Zarcido (0061)",22.079908,-100.700131,570,286,284,132,240550061,null,"Alto","Bajo",{"$f":"IFERROR(VLOOKUP(CONCATENATE(B9351,D9351),Padrón_Indígenas!$A$2:$G$988,7,0),\"No\")","v":"No"}]
[24,"055","Zaragoza","0122","La Paradita (0122)","R","Zaragoza (055)La Paradita (0122)",21.942737999999999,-100.642955,0,0,0,0,240550122,null,null,null,{"$f":"IFERROR(VLOOKUP(CONCATENATE(B9352,D9352),Padrón_Indígenas!$A$2:$G$988,7,0),\"No\")","v":"No"}]
[24,"055","Zaragoza","0125","La Pendencia (0125)","R","Zaragoza (055)La Pendencia (0125)",22.094588999999999,-100.617475,0,0,0,0,240550125,null,null,null,{"$f":"IFERROR(VLOOKUP(CONCATENATE(B9353,D9353),Padrón_Indígenas!$A$2:$G$988,7,0),\"No\")","v":"No"}]
[24,"055","Zaragoza","0068","La Presita (0068)","R","Zaragoza (055)La Presita (0068)",21.95457,-100.719857,49,23,26,11,240550068,null,"Alto","Medio",{"$f":"IFERROR(VLOOKUP(CONCATENATE(B9354,D9354),Padrón_Indígenas!$A$2:$G$988,7,0),\"No\")","v":"No"}]
[24,"055","Zaragoza","0193","La Puerta del Arbolito (0193)","R","Zaragoza (055)La Puerta del Arbolito (0193)",22.069327000000001,-100.730889,0,0,0,0,240550193,null,null,null,{"$f":"IFERROR(VLOOKUP(CONCATENATE(B9355,D9355),Padrón_Indígenas!$A$2:$G$988,7,0),\"No\")","v":"No"}]
[24,"055","Zaragoza","0084","La Salitrera (0084)","R","Zaragoza (055)La Salitrera (0084)",21.940014999999999,-100.574821,307,159,148,73,240550084,null,"Alto","Bajo",{"$f":"IFERROR(VLOOKUP(CONCATENATE(B9356,D9356),Padrón_Indígenas!$A$2:$G$988,7,0),\"No\")","v":"No"}]
[24,"055","Zaragoza","0202","La Sierra (0202)","R","Zaragoza (055)La Sierra (0202)",22.086320000000001,-100.645516,4,"*","*",1,240550202,null,null,null,{"$f":"IFERROR(VLOOKUP(CONCATENATE(B9357,D9357),Padrón_Indígenas!$A$2:$G$988,7,0),\"No\")","v":"No"}]
[24,"055","Zaragoza","0158","La Soledad (0158)","R","Zaragoza (055)La Soledad (0158)",21.900141999999999,-100.737674,14,"*","*",2,240550158,null,null,null,{"$f":"IFERROR(VLOOKUP(CONCATENATE(B9358,D9358),Padrón_Indígenas!$A$2:$G$988,7,0),\"No\")","v":"No"}]
[24,"055","Zaragoza","0151","La Tableta (0151)","R","Zaragoza (055)La Tableta (0151)",21.968610999999999,-100.630278,13,"*","*",1,240550151,null,null,null,{"$f":"IFERROR(VLOOKUP(CONCATENATE(B9359,D9359),Padrón_Indígenas!$A$2:$G$988,7,0),\"No\")","v":"No"}]
[24,"055","Zaragoza","0096","La Tinaja (0096)","R","Zaragoza (055)La Tinaja (0096)",22.164069999999999,-100.718576,48,28,20,10,240550096,"SI","Alto","Medio",{"$f":"IFERROR(VLOOKUP(CONCATENATE(B9360,D9360),Padrón_Indígenas!$A$2:$G$988,7,0),\"No\")","v":"No"}]
[24,"055","Zaragoza","0211","La Virgen (0211)","R","Zaragoza (055)La Virgen (0211)",22.055388000000001,-100.581627,5,"*","*",2,240550211,null,null,null,{"$f":"IFERROR(VLOOKUP(CONCATENATE(B9361,D9361),Padrón_Indígenas!$A$2:$G$988,7,0),\"No\")","v":"No"}]
[24,"055","Zaragoza","0167","Las Aguilillas (0167)","R","Zaragoza (055)Las Aguilillas (0167)",22.070713000000001,-100.620751,34,17,17,9,240550167,null,"Alto","Bajo",{"$f":"IFERROR(VLOOKUP(CONCATENATE(B9362,D9362),Padrón_Indígenas!$A$2:$G$988,7,0),\"No\")","v":"No"}]
[24,"055","Zaragoza","0132","Las Ánimas (0132)","R","Zaragoza (055)Las Ánimas (0132)",22.117902000000001,-100.727746,0,0,0,0,240550132,null,null,null,{"$f":"IFERROR(VLOOKUP(CONCATENATE(B9363,D9363),Padrón_Indígenas!$A$2:$G$988,7,0),\"No\")","v":"No"}]
[24,"055","Zaragoza","0135","Las Borrachas (0135)","R","Zaragoza (055)Las Borrachas (0135)",21.986063999999999,-100.763892,38,17,21,10,240550135,null,"Alto","Medio",{"$f":"IFERROR(VLOOKUP(CONCATENATE(B9364,D9364),Padrón_Indígenas!$A$2:$G$988,7,0),\"No\")","v":"No"}]
[24,"055","Zaragoza","0113","Las Galgas (0113)","R","Zaragoza (055)Las Galgas (0113)",21.993888999999999,-100.581389,0,0,0,0,240550113,null,null,null,{"$f":"IFERROR(VLOOKUP(CONCATENATE(B9365,D9365),Padrón_Indígenas!$A$2:$G$988,7,0),\"No\")","v":"No"}]
[24,"055","Zaragoza","0189","Las Paredes (0189)","R","Zaragoza (055)Las Paredes (0189)",21.936253000000001,-100.783176,17,11,6,3,240550189,null,"Alto","Medio",{"$f":"IFERROR(VLOOKUP(CONCATENATE(B9366,D9366),Padrón_Indígenas!$A$2:$G$988,7,0),\"No\")","v":"No"}]
[24,"055","Zaragoza","0083","Las Rusias (0083)","R","Zaragoza (055)Las Rusias (0083)",22.053394999999998,-100.559476,65,30,35,17,240550083,null,"Muy alto","Alto",{"$f":"IFERROR(VLOOKUP(CONCATENATE(B9367,D9367),Padrón_Indígenas!$A$2:$G$988,7,0),\"No\")","v":"No"}]
[24,"055","Zaragoza","0099","Las Trojes (0099)","R","Zaragoza (055)Las Trojes (0099)",22.144615000000002,-100.770959,36,14,22,9,240550099,null,"Alto","Bajo",{"$f":"IFERROR(VLOOKUP(CONCATENATE(B9368,D9368),Padrón_Indígenas!$A$2:$G$988,7,0),\"No\")","v":"No"}]
[24,"055","Zaragoza","0221","Las Trojes (0221)","R","Zaragoza (055)Las Trojes (0221)",22.081313999999999,-100.642719,0,0,0,0,240550221,null,null,null,{"$f":"IFERROR(VLOOKUP(CONCATENATE(B9369,D9369),Padrón_Indígenas!$A$2:$G$988,7,0),\"No\")","v":"No"}]
[24,"055","Zaragoza","0186","Longoria (0186)","R","Zaragoza (055)Longoria (0186)",21.956938000000001,-100.708822,140,65,75,27,240550186,null,"Alto","Medio",{"$f":"IFERROR(VLOOKUP(CONCATENATE(B9370,D9370),Padrón_Indígenas!$A$2:$G$988,7,0),\"No\")","v":"No"}]
[24,"055","Zaragoza","0207","Los Arroyitos (0207)","R","Zaragoza (055)Los Arroyitos (0207)",21.891324000000001,-100.749514,2,"*","*",1,240550207,null,null,null,{"$f":"IFERROR(VLOOKUP(CONCATENATE(B9371,D9371),Padrón_Indígenas!$A$2:$G$988,7,0),\"No\")","v":"No"}]
[24,"055","Zaragoza","0227","Los Calicantitos (Jorge del Fierro) (0227)","R","Zaragoza (055)Los Calicantitos (Jorge del Fierro) (0227)",22.130067,-100.712125,0,0,0,0,240550227,null,null,null,{"$f":"IFERROR(VLOOKUP(CONCATENATE(B9372,D9372),Padrón_Indígenas!$A$2:$G$988,7,0),\"No\")","v":"No"}]
[24,"055","Zaragoza","0153","Los Castillos (0153)","R","Zaragoza (055)Los Castillos (0153)",22.030166000000001,-100.712109,27,14,13,7,240550153,null,"Alto","Bajo",{"$f":"IFERROR(VLOOKUP(CONCATENATE(B9373,D9373),Padrón_Indígenas!$A$2:$G$988,7,0),\"No\")","v":"No"}]
[24,"055","Zaragoza","0117","Los Cerritos (0117)","R","Zaragoza (055)Los Cerritos (0117)",21.973666000000001,-100.69806800000001,25,11,14,9,240550117,null,"Alto","Medio",{"$f":"IFERROR(VLOOKUP(CONCATENATE(B9374,D9374),Padrón_Indígenas!$A$2:$G$988,7,0),\"No\")","v":"No"}]
[24,"055","Zaragoza","0032","Los Dos Cerros (0032)","R","Zaragoza (055)Los Dos Cerros (0032)",21.931788999999998,-100.544168,2,"*","*",1,240550032,null,null,null,{"$f":"IFERROR(VLOOKUP(CONCATENATE(B9375,D9375),Padrón_Indígenas!$A$2:$G$988,7,0),\"No\")","v":"No"}]
[24,"055","Zaragoza","0127","Los Hoyos (0127)","R","Zaragoza (055)Los Hoyos (0127)",22.048950999999999,-100.564459,6,"*","*",2,240550127,null,null,null,{"$f":"IFERROR(VLOOKUP(CONCATENATE(B9376,D9376),Padrón_Indígenas!$A$2:$G$988,7,0),\"No\")","v":"No"}]
[24,"055","Zaragoza","0052","Los Lirios (0052)","R","Zaragoza (055)Los Lirios (0052)",21.986312999999999,-100.61281,2,"*","*",1,240550052,null,null,null,{"$f":"IFERROR(VLOOKUP(CONCATENATE(B9377,D9377),Padrón_Indígenas!$A$2:$G$988,7,0),\"No\")","v":"No"}]
[24,"055","Zaragoza","0053","Los Llanitos (0053)","R","Zaragoza (055)Los Llanitos (0053)",22.034739999999999,-100.562478,31,20,11,11,240550053,null,"Muy alto","Alto",{"$f":"IFERROR(VLOOKUP(CONCATENATE(B9378,D9378),Padrón_Indígenas!$A$2:$G$988,7,0),\"No\")","v":"No"}]
[24,"055","Zaragoza","0055","Los Matías (0055)","R","Zaragoza (055)Los Matías (0055)",22.096388999999999,-100.639167,81,43,38,23,240550055,null,"Alto","Medio",{"$f":"IFERROR(VLOOKUP(CONCATENATE(B9379,D9379),Padrón_Indígenas!$A$2:$G$988,7,0),\"No\")","v":"No"}]
[24,"055","Zaragoza","0066","Los Pilares (0066)","R","Zaragoza (055)Los Pilares (0066)",21.929441000000001,-100.781736,210,96,114,47,240550066,null,"Alto","Bajo",{"$f":"IFERROR(VLOOKUP(CONCATENATE(B9380,D9380),Padrón_Indígenas!$A$2:$G$988,7,0),\"No\")","v":"No"}]
[24,"055","Zaragoza","0094","Los Terreros (0094)","R","Zaragoza (055)Los Terreros (0094)",22.127313999999998,-100.729626,64,33,31,14,240550094,null,"Alto","Medio",{"$f":"IFERROR(VLOOKUP(CONCATENATE(B9381,D9381),Padrón_Indígenas!$A$2:$G$988,7,0),\"No\")","v":"No"}]
[24,"055","Zaragoza","0218","Magdaleno de la Rosa (0218)","R","Zaragoza (055)Magdaleno de la Rosa (0218)",22.158809000000002,-100.724761,0,0,0,0,240550218,null,null,null,{"$f":"IFERROR(VLOOKUP(CONCATENATE(B9382,D9382),Padrón_Indígenas!$A$2:$G$988,7,0),\"No\")","v":"No"}]
[24,"055","Zaragoza","0212","Nazario Bravo (0212)","R","Zaragoza (055)Nazario Bravo (0212)",22.013939000000001,-100.77846599999999,1,"*","*",1,240550212,null,null,null,{"$f":"IFERROR(VLOOKUP(CONCATENATE(B9383,D9383),Padrón_Indígenas!$A$2:$G$988,7,0),\"No\")","v":"No"}]
[24,"055","Zaragoza","0203","Ninguno [Trituradora de Mármol] (0203)","R","Zaragoza (055)Ninguno [Trituradora de Mármol] (0203)",22.086874000000002,-100.741041,0,0,0,0,240550203,null,null,null,{"$f":"IFERROR(VLOOKUP(CONCATENATE(B9384,D9384),Padrón_Indígenas!$A$2:$G$988,7,0),\"No\")","v":"No"}]
[24,"055","Zaragoza","0060","Parada de los Martínez (0060)","R","Zaragoza (055)Parada de los Martínez (0060)",21.959513000000001,-100.706219,298,132,166,63,240550060,null,"Alto","Medio",{"$f":"IFERROR(VLOOKUP(CONCATENATE(B9385,D9385),Padrón_Indígenas!$A$2:$G$988,7,0),\"No\")","v":"No"}]
[24,"055","Zaragoza","0063","Paso Colorado (0063)","R","Zaragoza (055)Paso Colorado (0063)",22.147500000000001,-100.749444,38,22,16,10,240550063,null,"Alto","Medio",{"$f":"IFERROR(VLOOKUP(CONCATENATE(B9386,D9386),Padrón_Indígenas!$A$2:$G$988,7,0),\"No\")","v":"No"}]
[24,"055","Zaragoza","0140","Pilar de Guadalupe (0140)","R","Zaragoza (055)Pilar de Guadalupe (0140)",21.935227999999999,-100.790753,148,63,85,30,240550140,null,"Alto","Bajo",{"$f":"IFERROR(VLOOKUP(CONCATENATE(B9387,D9387),Padrón_Indígenas!$A$2:$G$988,7,0),\"No\")","v":"No"}]
[24,"055","Zaragoza","0194","Plan de San José (0194)","R","Zaragoza (055)Plan de San José (0194)",22.073184999999999,-100.73688,24,12,12,7,240550194,null,"Alto","Medio",{"$f":"IFERROR(VLOOKUP(CONCATENATE(B9388,D9388),Padrón_Indígenas!$A$2:$G$988,7,0),\"No\")","v":"No"}]
[24,"055","Zaragoza","0067","Potrerillo (0067)","R","Zaragoza (055)Potrerillo (0067)",21.925905,-100.555364,6,4,2,3,240550067,null,"Muy alto","Medio",{"$f":"IFERROR(VLOOKUP(CONCATENATE(B9389,D9389),Padrón_Indígenas!$A$2:$G$988,7,0),\"No\")","v":"No"}]
[24,"055","Zaragoza","0228","Pozo Número 2 (0228)","R","Zaragoza (055)Pozo Número 2 (0228)",22.031172000000002,-100.78968399999999,10,"*","*",1,240550228,null,null,null,{"$f":"IFERROR(VLOOKUP(CONCATENATE(B9390,D9390),Padrón_Indígenas!$A$2:$G$988,7,0),\"No\")","v":"No"}]
[24,"055","Zaragoza","0070","Puerta de las Andanas (0070)","R","Zaragoza (055)Puerta de las Andanas (0070)",21.892237000000002,-100.736221,47,26,21,10,240550070,null,"Alto","Medio",{"$f":"IFERROR(VLOOKUP(CONCATENATE(B9391,D9391),Padrón_Indígenas!$A$2:$G$988,7,0),\"No\")","v":"No"}]
[24,"055","Zaragoza","0219","Puertecito de la Cal (0219)","R","Zaragoza (055)Puertecito de la Cal (0219)",21.997481000000001,-100.68986200000001,0,0,0,0,240550219,null,null,null,{"$f":"IFERROR(VLOOKUP(CONCATENATE(B9392,D9392),Padrón_Indígenas!$A$2:$G$988,7,0),\"No\")","v":"No"}]
[24,"055","Zaragoza","0119","Puerto de Badillo (0119)","R","Zaragoza (055)Puerto de Badillo (0119)",21.965713000000001,-100.58378500000001,6,"*","*",2,240550119,null,null,null,{"$f":"IFERROR(VLOOKUP(CONCATENATE(B9393,D9393),Padrón_Indígenas!$A$2:$G$988,7,0),\"No\")","v":"No"}]
[24,"055","Zaragoza","0130","Puerto de la Cruz (0130)","R","Zaragoza (055)Puerto de la Cruz (0130)",21.986456,-100.655608,1,"*","*",1,240550130,null,null,null,{"$f":"IFERROR(VLOOKUP(CONCATENATE(B9394,D9394),Padrón_Indígenas!$A$2:$G$988,7,0),\"No\")","v":"No"}]
[24,"055","Zaragoza","0163","Puerto de la Huerta (0163)","R","Zaragoza (055)Puerto de la Huerta (0163)",22.0975,-100.656944,0,0,0,0,240550163,null,null,null,{"$f":"IFERROR(VLOOKUP(CONCATENATE(B9395,D9395),Padrón_Indígenas!$A$2:$G$988,7,0),\"No\")","v":"No"}]
[24,"055","Zaragoza","0073","Puerto del Jacal (0073)","R","Zaragoza (055)Puerto del Jacal (0073)",21.968610999999999,-100.569722,1,"*","*",1,240550073,null,null,null,{"$f":"IFERROR(VLOOKUP(CONCATENATE(B9396,D9396),Padrón_Indígenas!$A$2:$G$988,7,0),\"No\")","v":"No"}]
[24,"055","Zaragoza","0160","Puerto del Ranchito (0160)","R","Zaragoza (055)Puerto del Ranchito (0160)",21.960125999999999,-100.62200300000001,1,"*","*",1,240550160,null,null,null,{"$f":"IFERROR(VLOOKUP(CONCATENATE(B9397,D9397),Padrón_Indígenas!$A$2:$G$988,7,0),\"No\")","v":"No"}]
[24,"055","Zaragoza","0141","Puerto del Taray (0141)","R","Zaragoza (055)Puerto del Taray (0141)",21.930862000000001,-100.76423200000001,0,0,0,0,240550141,null,null,null,{"$f":"IFERROR(VLOOKUP(CONCATENATE(B9398,D9398),Padrón_Indígenas!$A$2:$G$988,7,0),\"No\")","v":"No"}]
[24,"055","Zaragoza","0195","Quinta Guadalupe (0195)","R","Zaragoza (055)Quinta Guadalupe (0195)",22.097390999999998,-100.643241,3,"*","*",1,240550195,null,null,null,{"$f":"IFERROR(VLOOKUP(CONCATENATE(B9399,D9399),Padrón_Indígenas!$A$2:$G$988,7,0),\"No\")","v":"No"}]
[24,"055","Zaragoza","0196","Ramiro Saldaña (0196)","R","Zaragoza (055)Ramiro Saldaña (0196)",21.908695999999999,-100.788498,3,"*","*",1,240550196,null,null,null,{"$f":"IFERROR(VLOOKUP(CONCATENATE(B9400,D9400),Padrón_Indígenas!$A$2:$G$988,7,0),\"No\")","v":"No"}]
[24,"055","Zaragoza","0077","Ranchito de Juárez (0077)","R","Zaragoza (055)Ranchito de Juárez (0077)",21.960733000000001,-100.615003,53,29,24,18,240550077,null,"Alto","Medio",{"$f":"IFERROR(VLOOKUP(CONCATENATE(B9401,D9401),Padrón_Indígenas!$A$2:$G$988,7,0),\"No\")","v":"No"}]
[24,"055","Zaragoza","0078","Ranchito de los Rivera (0078)","R","Zaragoza (055)Ranchito de los Rivera (0078)",22.113396000000002,-100.697788,325,161,164,78,240550078,"SI","Alto","Medio",{"$f":"IFERROR(VLOOKUP(CONCATENATE(B9402,D9402),Padrón_Indígenas!$A$2:$G$988,7,0),\"No\")","v":"No"}]
[24,"055","Zaragoza","0232","Rancho el Pituche (0232)","R","Zaragoza (055)Rancho el Pituche (0232)",22.124369000000002,-100.697187,0,0,0,0,240550232,null,null,null,{"$f":"IFERROR(VLOOKUP(CONCATENATE(B9403,D9403),Padrón_Indígenas!$A$2:$G$988,7,0),\"No\")","v":"No"}]
[24,"055","Zaragoza","0045","Rancho el Sumidero (0045)","R","Zaragoza (055)Rancho el Sumidero (0045)",22.083888999999999,-100.584444,0,0,0,0,240550045,null,null,null,{"$f":"IFERROR(VLOOKUP(CONCATENATE(B9404,D9404),Padrón_Indígenas!$A$2:$G$988,7,0),\"No\")","v":"No"}]
[24,"055","Zaragoza","0234","Rancho los Cascabeles (0234)","R","Zaragoza (055)Rancho los Cascabeles (0234)",21.959192000000002,-100.643196,0,0,0,0,240550234,null,null,null,{"$f":"IFERROR(VLOOKUP(CONCATENATE(B9405,D9405),Padrón_Indígenas!$A$2:$G$988,7,0),\"No\")","v":"No"}]
[24,"055","Zaragoza","0199","Rancho los Manzanos (0199)","R","Zaragoza (055)Rancho los Manzanos (0199)",22.079681999999998,-100.64061,0,0,0,0,240550199,null,null,null,{"$f":"IFERROR(VLOOKUP(CONCATENATE(B9406,D9406),Padrón_Indígenas!$A$2:$G$988,7,0),\"No\")","v":"No"}]
[24,"055","Zaragoza","0079","Rancho Nuevo (0079)","R","Zaragoza (055)Rancho Nuevo (0079)",21.995918,-100.60596200000001,2,"*","*",1,240550079,null,null,null,{"$f":"IFERROR(VLOOKUP(CONCATENATE(B9407,D9407),Padrón_Indígenas!$A$2:$G$988,7,0),\"No\")","v":"No"}]
[24,"055","Zaragoza","0239","Rancho San Cristóbal (Palenque) (0239)","R","Zaragoza (055)Rancho San Cristóbal (Palenque) (0239)",22.007009,-100.773128,0,0,0,0,240550239,null,null,null,{"$f":"IFERROR(VLOOKUP(CONCATENATE(B9408,D9408),Padrón_Indígenas!$A$2:$G$988,7,0),\"No\")","v":"No"}]
[24,"055","Zaragoza","0162","Rancho San Dimas (0162)","R","Zaragoza (055)Rancho San Dimas (0162)",22.015533999999999,-100.766665,0,0,0,0,240550162,null,null,null,{"$f":"IFERROR(VLOOKUP(CONCATENATE(B9409,D9409),Padrón_Indígenas!$A$2:$G$988,7,0),\"No\")","v":"No"}]
[24,"055","Zaragoza","0080","Reyna (0080)","R","Zaragoza (055)Reyna (0080)",21.973996,-100.641954,21,13,8,6,240550080,null,"Alto","Medio",{"$f":"IFERROR(VLOOKUP(CONCATENATE(B9410,D9410),Padrón_Indígenas!$A$2:$G$988,7,0),\"No\")","v":"No"}]
[24,"055","Zaragoza","0201","Rincón de la Yerbabuena (0201)","R","Zaragoza (055)Rincón de la Yerbabuena (0201)",22.087154999999999,-100.651205,0,0,0,0,240550201,null,null,null,{"$f":"IFERROR(VLOOKUP(CONCATENATE(B9411,D9411),Padrón_Indígenas!$A$2:$G$988,7,0),\"No\")","v":"No"}]
[24,"055","Zaragoza","0226","Rincón de los Alicoches (0226)","R","Zaragoza (055)Rincón de los Alicoches (0226)",22.090330000000002,-100.67483300000001,0,0,0,0,240550226,null,null,null,{"$f":"IFERROR(VLOOKUP(CONCATENATE(B9412,D9412),Padrón_Indígenas!$A$2:$G$988,7,0),\"No\")","v":"No"}]
[24,"055","Zaragoza","0081","Rincón de Santa Eduwiges (0081)","R","Zaragoza (055)Rincón de Santa Eduwiges (0081)",22.071650999999999,-100.687766,110,56,54,27,240550081,null,"Alto","Bajo",{"$f":"IFERROR(VLOOKUP(CONCATENATE(B9413,D9413),Padrón_Indígenas!$A$2:$G$988,7,0),\"No\")","v":"No"}]
[24,"055","Zaragoza","0240","Rodeo Don Johns Bro (0240)","R","Zaragoza (055)Rodeo Don Johns Bro (0240)",21.981670000000001,-100.820576,0,0,0,0,240550240,null,null,null,{"$f":"IFERROR(VLOOKUP(CONCATENATE(B9414,D9414),Padrón_Indígenas!$A$2:$G$988,7,0),\"No\")","v":"No"}]
[24,"055","Zaragoza","0086","San Francisco (0086)","R","Zaragoza (055)San Francisco (0086)",22.05227,-100.606697,375,182,193,95,240550086,null,"Alto","Bajo",{"$f":"IFERROR(VLOOKUP(CONCATENATE(B9415,D9415),Padrón_Indígenas!$A$2:$G$988,7,0),\"No\")","v":"No"}]
[24,"055","Zaragoza","0087","San José de Gómez (0087)","R","Zaragoza (055)San José de Gómez (0087)",22.119648999999999,-100.708933,996,455,541,249,240550087,"SI","Medio","Muy bajo",{"$f":"IFERROR(VLOOKUP(CONCATENATE(B9416,D9416),Padrón_Indígenas!$A$2:$G$988,7,0),\"No\")","v":"No"}]
[24,"055","Zaragoza","0085","San José del Salto (0085)","R","Zaragoza (055)San José del Salto (0085)",22.001764000000001,-100.637269,0,0,0,0,240550085,null,null,null,{"$f":"IFERROR(VLOOKUP(CONCATENATE(B9417,D9417),Padrón_Indígenas!$A$2:$G$988,7,0),\"No\")","v":"No"}]
[24,"055","Zaragoza","0134","San Rafael (0134)","R","Zaragoza (055)San Rafael (0134)",22.073688000000001,-100.707911,3,"*","*",1,240550134,null,null,null,{"$f":"IFERROR(VLOOKUP(CONCATENATE(B9418,D9418),Padrón_Indígenas!$A$2:$G$988,7,0),\"No\")","v":"No"}]
[24,"055","Zaragoza","0089","Santo Domingo (0089)","R","Zaragoza (055)Santo Domingo (0089)",22.095438999999999,-100.74758199999999,500,256,244,112,240550089,null,"Alto","Bajo",{"$f":"IFERROR(VLOOKUP(CONCATENATE(B9419,D9419),Padrón_Indígenas!$A$2:$G$988,7,0),\"No\")","v":"No"}]
[24,"055","Zaragoza","0170","Tanque el Llano (0170)","R","Zaragoza (055)Tanque el Llano (0170)",22.138759,-100.770824,0,0,0,0,240550170,null,null,null,{"$f":"IFERROR(VLOOKUP(CONCATENATE(B9420,D9420),Padrón_Indígenas!$A$2:$G$988,7,0),\"No\")","v":"No"}]
[24,"055","Zaragoza","0092","Tanque Prieto (0092)","R","Zaragoza (055)Tanque Prieto (0092)",22.145112000000001,-100.754957,17,10,7,4,240550092,null,"Muy alto","Medio",{"$f":"IFERROR(VLOOKUP(CONCATENATE(B9421,D9421),Padrón_Indígenas!$A$2:$G$988,7,0),\"No\")","v":"No"}]
[24,"055","Zaragoza","0095","Texas (0095)","R","Zaragoza (055)Texas (0095)",21.944054000000001,-100.7437,714,345,369,153,240550095,null,"Alto","Bajo",{"$f":"IFERROR(VLOOKUP(CONCATENATE(B9422,D9422),Padrón_Indígenas!$A$2:$G$988,7,0),\"No\")","v":"No"}]
[24,"055","Zaragoza","0222","Valente Moreno Ponce (0222)","R","Zaragoza (055)Valente Moreno Ponce (0222)",22.116907000000001,-100.72371,8,"*","*",1,240550222,null,null,null,{"$f":"IFERROR(VLOOKUP(CONCATENATE(B9423,D9423),Padrón_Indígenas!$A$2:$G$988,7,0),\"No\")","v":"No"}]
[24,"055","Zaragoza","0131","Valle de los Fantasmas (0131)","R","Zaragoza (055)Valle de los Fantasmas (0131)",22.066184,-100.61909,136,62,74,32,240550131,null,"Alto","Bajo",{"$f":"IFERROR(VLOOKUP(CONCATENATE(B9424,D9424),Padrón_Indígenas!$A$2:$G$988,7,0),\"No\")","v":"No"}]
[24,"055","Zaragoza","0001","Villa de Zaragoza (0001)","U","Zaragoza (055)Villa de Zaragoza (0001)",22.035605,-100.73096700000001,9915,4882,5033,1971,240550001,"SI",null,null,{"$f":"IFERROR(VLOOKUP(CONCATENATE(B9425,D9425),Padrón_Indígenas!$A$2:$G$988,7,0),\"No\")","v":"No"}]
[24,"055","Zaragoza","0101","Xoconoxtle (0101)","R","Zaragoza (055)Xoconoxtle (0101)",22.099605,-100.710421,788,388,400,188,240550101,"SI","Alto","Bajo",{"$f":"IFERROR(VLOOKUP(CONCATENATE(B9426,D9426),Padrón_Indígenas!$A$2:$G$988,7,0),\"No\")","v":"No"}]
[24,"055","Zaragoza",null,"Todo el municipio ",null,{"$f":"_xlfn.CONCAT(C9427,\" (\",B9427,\")\",E9427)","v":"Zaragoza (055)Todo el municipio "},null,null,{"$f":"SUM(J9249:J9426)","v":24596}]

{"sheet":"Cat_Tipo_Acción","index":13,"n_rows":39,"n_cols":3,"rows_kept":39,"cut":false,"hidden":true,"merged":[]}
["idtipoaccion","idclasificacion","descripcion"]
[7,1,"AMPLIACIÓN"]
[8,1,"EQUIPAMIENTO"]
[9,1,"ESTUDIOS"]
[10,1,"MANTENIMIENTO"]
[11,1,"PROGRAMA DE APOYO"]
[12,1,"PROYECTO EJECUTIVO"]
[23,1,"PROGRAMA"]
[24,1,"CAPACITACIÓN Y ACTUALIZACIÓN"]
[25,1,"BECAS"]
[26,1,"NÓMINA"]
[27,1,"ASESORÍA"]
[28,1,"PREMIOS"]
[29,1,"ADQUISICIÓN"]
[30,1,"EVENTO"]
[31,1,"FIDEICOMISO"]
[32,1,"APOYO ECONÓMICO"]
[35,1,"INSPECCIÓN Y MONITOREO"]
[36,1,"EMPLEO TEMPORAL"]
[37,1,"CAMPAÑA"]
[38,1,"CONFERENCIA"]
[39,1,"FOROS"]
[40,1,"FINANCIAMIENTO"]
[41,1,"APOYOS ASISTENCIALES (OPORTUNIDADES)"]
[42,1,"SUBSIDIOS"]
[46,1,"RAMO 33"]
[48,1,"GASTO DE OPERACIÓN"]
[14,2,"AMPLIACIÓN"]
[15,2,"CONSTRUCCIÓN"]
[16,2,"EQUIPAMIENTO"]
[17,2,"MANTENIMIENTO"]
[18,2,"REHABILITACIÓN"]
[20,2,"CONSERVACIÓN"]
[22,2,"PERFORACIÓN"]
[34,2,"REMODELACIÓN"]
[43,2,"CONCLUSIÓN"]
[44,2,"SUSTITUCIÓN"]
[47,2,"RAMO 33"]
[49,2,"RECONSTRUCCIÓN"]

{"sheet":"Cat_PED","index":14,"n_rows":413,"n_cols":24,"rows_kept":413,"cut":false,"hidden":true,"merged":[]}
["EJE","SECTOR","OBJETIVO","ESTRATEGIA","LINEA DE ACCIÓN",null,"Tabla_Ejes",null,null,null,"Tabla_Sectores",null,null,"Tabla S",null,null,null,null,"Tabla S",null,null,null,"ORDENADA"]
["1. San Luis Próspero","1.1. Más y Mejores Empleos","OBJETIVO A. Impulsar la ocupación laboral con  empleos de calidad.","ESTRATEGIA A.1 Fomentar la inversión en el Estado de empresas líderes en áreas estratégicas del desarrollo, que generen una oferta de trabajo calificado y con salarios competitivos.","Multiplicar las actividades de promoción de inversiones y establecer acuerdos de colaboración en el marco de los tratados comerciales suscritos por nuestro País.\n",null,"1. San Luis Próspero","Tabla_1",null,"Tabla_1","1.1. Más y Mejores Empleos","Tabla_11",null,"1.1. Más y Mejores Empleos",null,null,null,null,"1.1. Más y Mejores Empleos",null,null,null,"  C.1. Orientar la calidad de los aprendizajes para la formación integral en la educación, tomando como referencia los resultados de las evaluaciones.","Tabla_23C1"]
["1. San Luis Próspero","1.1. Más y Mejores Empleos","OBJETIVO A. Impulsar la ocupación laboral con  empleos de calidad.","ESTRATEGIA A.1 Fomentar la inversión en el Estado de empresas líderes en áreas estratégicas del desarrollo, que generen una oferta de trabajo calificado y con salarios competitivos.","Impulsar la formación de competencias laborales modernas, mediante convenios con las instituciones de educación, las empresas y los organismos empresariales. ",null,"2. San Luis Incluyente","Tabla_2",null,"Tabla_1","1.2. Impulso al Desarrollo Industrial","Tabla_12",null," A. Impulsar la ocupación laboral con  empleos de calidad.","Tabla_11A",null,null,null,"OBJETIVO A. Impulsar la ocupación laboral con  empleos de calidad.",0,null,null," A.1 Abrir el gobierno a la ciudadanía, ampliando los canales de participación y vigilancia en obras, trámites y servicios.","Tabla_54A1"]
["1. San Luis Próspero","1.1. Más y Mejores Empleos","OBJETIVO A. Impulsar la ocupación laboral con  empleos de calidad.","ESTRATEGIA A.2 Incentivar la ocupación laboral mediante la vinculación de los buscadores de empleo de los distintos grupos de la población con las oportunidades de trabajo.","Impulsar la incorporación de jóvenes al mercado laboral a través de esquemas de incentivos a los empresarios que faciliten las oportunidades del primer empleo.",null,"3. San Luis Sustentable","Tabla_3",null,"Tabla_1","1.3 Desarrollo Turístico, Comercial, de Servicios y Minería","Tabla_13",null," B. Mejorar las competencias de los trabajadores que impulsen la productividad y empleos mejor remunerados.","Tabla_11B",null,null,null," A.1 Fomentar la inversión en el Estado de empresas líderes en áreas estratégicas del desarrollo, que generen una oferta de trabajo calificado y con salarios competitivos.","Tabla_11A1",null,null," A.1 Aplicar los protocolos de protección civil ante fenómenos que pongan en riesgo la integridad y el patrimonio de las personas.","Tabla_45A1"]
["1. San Luis Próspero","1.1. Más y Mejores Empleos","OBJETIVO A. Impulsar la ocupación laboral con  empleos de calidad.","ESTRATEGIA A.2 Incentivar la ocupación laboral mediante la vinculación de los buscadores de empleo de los distintos grupos de la población con las oportunidades de trabajo.","Fortalecer los programas de becas temporales de capacitación a empresas que ofrecen oportunidades de trabajo y entrenamiento a personas que buscan un mejor empleo.  ",null,"4. San Luis Seguro","Tabla_4",null,"Tabla_1","1.4. Desarrollo Agropecuario Y Agroindustrial","Tabla_14",null," C. Incentivar la formalidad laboral.","Tabla_11C",null,null,null," A.2 Incentivar la ocupación laboral mediante la vinculación de los buscadores de empleo de los distintos grupos de la población con las oportunidades de trabajo.","Tabla_11A2",null,null," A.1 Consolidar una estrategia integral de prevención social de la violencia y la delincuencia con participación ciudadana.","Tabla_44A1"]
["1. San Luis Próspero","1.1. Más y Mejores Empleos","OBJETIVO A. Impulsar la ocupación laboral con  empleos de calidad.","ESTRATEGIA A.2 Incentivar la ocupación laboral mediante la vinculación de los buscadores de empleo de los distintos grupos de la población con las oportunidades de trabajo.","Promover en las empresas la contratación de más adultos mayores y personas con discapacidad.",null,"5. San Luis con Buen Gobierno","Tabla_5",null,"Tabla_1","1.5. Infraestructura, Desarrollo Urbano Y Movilidad","Tabla_15",null," D. Conservar y fortalecer el Pacto para la Competitividad y el Empleo. ","Tabla_11D",null,null,null,"OBJETIVO B. Mejorar las competencias de los trabajadores que impulsen la productividad y empleos mejor remunerados.",0,null,null," A.1 Construir una alianza estratégica para el desarrollo turístico con la participación de todos los actores del sector.","Tabla_13A1"]
["1. San Luis Próspero","1.1. Más y Mejores Empleos","OBJETIVO B. Mejorar las competencias de los trabajadores que impulsen la productividad y empleos mejor remunerados.","ESTRATEGIA B.1 Articular la educación, capacitación y empleo con la participación de los sectores público, privado y social.  ","Capacitar a la población desempleada en las competencias laborales y habilidades productivas que las empresas demandan en mayor medida, para facilitar su acceso al mercado laboral.",null,null,null,null,"B","2.1. Combate a la Pobreza","Tabla_21",null,"1.2. Impulso al Desarrollo Industrial",null,null,null,null," B.1 Articular la educación, capacitación y empleo con la participación de los sectores público, privado y social.  ","Tabla_11B1",null,null," A.1 Disminuir el rezago educativo.","Tabla_21A1"]
["1. San Luis Próspero","1.1. Más y Mejores Empleos","OBJETIVO B. Mejorar las competencias de los trabajadores que impulsen la productividad y empleos mejor remunerados.","ESTRATEGIA B.1 Articular la educación, capacitación y empleo con la participación de los sectores público, privado y social.  ","Fortalecer a los Institutos de Capacitación para el Trabajo con equipo y personal certificado en tecnologías de la información, a fin de ampliar la cobertura y  calidad de sus programas.",null,null,null,null,"B","2.2. Salud y Alimentación","Tabla_22",null," A.  Consolidar el desarrollo industrial, como palanca para atracción de inversiones y creación de nuevas fuentes de trabajo.","Tabla_12A",null,null,null,"OBJETIVO C. Incentivar la formalidad laboral.",0,null,null," A.1 Establecer convenios de coordinación intermunicipal para el manejo integral de los residuos sólidos. ","Tabla_33A1"]
["1. San Luis Próspero","1.1. Más y Mejores Empleos","OBJETIVO C. Incentivar la formalidad laboral.","ESTRATEGIA C.1 Impulsar mecanismos para la formalización del empleo que garantice el acceso a la seguridad social de los trabajadores conforme a lo establecido en la Ley Federal del Trabajo. ","Promover la concertación de acciones para que la población ocupada acceda al pleno disfrute de sus derechos laborales.",null,null,null,null,"B","2.3. Educación, Cultura y Deporte","Tabla_23",null," B. Establecer esquemas de financiamiento, encadenamiento productivo y programas de desarrollo de proveedores locales, a efecto de impulsar su competitividad.","Tabla_12B",null,null,null," C.1 Impulsar mecanismos para la formalización del empleo que garantice el acceso a la seguridad social de los trabajadores conforme a lo establecido en la Ley Federal del Trabajo. ","Tabla_11C1",null,null," A.1 Establecer la agenda estatal de cambio climático, con la participación de los municipios y de los sectores de la sociedad.","Tabla_34A1"]
["1. San Luis Próspero","1.1. Más y Mejores Empleos","OBJETIVO C. Incentivar la formalidad laboral.","ESTRATEGIA C.2 Incentivar el autoempleo en sectores de la población con limitado acceso a oportunidades de empleo formal.","Apoyar y promover las iniciativas de autoempleo, mediante opciones de financiamiento para el inicio de negocios y de proyectos productivos.",null,null,null,null,"B","2.4. Políticas de Equidad","Tabla_24",null,"1.3 Desarrollo Turístico, Comercial, de Servicios y Minería",null,null,null,null," C.2 Incentivar el autoempleo en sectores de la población con limitado acceso a oportunidades de empleo formal.","Tabla_11C2",null,null," A.1 Fomentar la igualdad social y aumentar el acceso de todos los potosinos a educación, salud y bienestar.","Tabla_24A1"]
["1. San Luis Próspero","1.1. Más y Mejores Empleos","OBJETIVO C. Incentivar la formalidad laboral.","ESTRATEGIA C.2 Incentivar el autoempleo en sectores de la población con limitado acceso a oportunidades de empleo formal.","Promover e impulsar a los emprendedores a través de incubadoras de negocios, en vinculación con instituciones educativas.",null,null,null,null,"C","3.1. Recursos Forestales, Conservación de Suelos y Biodiversidad.","Tabla_31",null," A. Impulsar el desarrollo de la oferta turística para el crecimiento del sector, aprovechando las potencialidades regionales y con ello generar una mayor derrama económica en la Entidad.","Tabla_13A",null,null,null,"OBJETIVO D. Conservar y fortalecer el Pacto para la Competitividad y el Empleo. ",0,null,null," A.1 Fomentar la inversión en el Estado de empresas líderes en áreas estratégicas del desarrollo, que generen una oferta de trabajo calificado y con salarios competitivos.","Tabla_11A1"]
["1. San Luis Próspero","1.1. Más y Mejores Empleos","OBJETIVO D. Conservar y fortalecer el Pacto para la Competitividad y el Empleo. ","ESTRATEGIA D.1 Mantener la paz laboral que permita la atracción de mayor inversión. ","Fomentar la solución conciliada de las controversias laborales. ",null,null,null,null,"C","3.2. Agua y Reservas Hidrológicas. ","Tabla_32",null," B. Consolidar el sector comercio a través de financiamiento, desarrollo de infraestructura y capacidades logísticas y de almacenamiento.","Tabla_13B",null,null,null," D.1 Mantener la paz laboral que permita la atracción de mayor inversión. ","Tabla_11D1",null,null," A.1 Generar oportunidades de acceso, permanencia y terminación de estudios para todos los potosinos.","Tabla_23A1"]
["1. San Luis Próspero","1.1. Más y Mejores Empleos","OBJETIVO D. Conservar y fortalecer el Pacto para la Competitividad y el Empleo. ","ESTRATEGIA D.1 Mantener la paz laboral que permita la atracción de mayor inversión. ","Brindar asesoría jurídica a empresas y trabajadores. ",null,null,null,null,"C","3.3. Gestión Integral de Residuos.","Tabla_33",null," C. Diseñar estrategias para la atracción de empresas de alta especialización en servicios.","Tabla_13C",null,null,null,"1.2. Impulso al Desarrollo Industrial",{"$error":"#N/A"},null,null," A.1 Impulsar acciones de autocuidado de la salud, mediante la actividad física y la alimentación adecuada. ","Tabla_22A1"]
["1. San Luis Próspero","1.2. Impulso al Desarrollo Industrial","OBJETIVO A.  Consolidar el desarrollo industrial, como palanca para atracción de inversiones y creación de nuevas fuentes de trabajo.","ESTRATEGIA A.1 Promover la inversión y diversificación del sector y  fomentar la innovación. ","Consolidar la inversión y la competitividad de los sectores estratégicos con mayor contribución al desarrollo industrial: automotriz, metalmecánico, electrodomésticos y alimentario.",null,null,null,null,"C","3.4. Cambio Climático y Energías Renovables.","Tabla_34",null," D. Promover mayores niveles de inversión y competitividad en el sector minero.","Tabla_13D",null,null,null,"OBJETIVO A.  Consolidar el desarrollo industrial, como palanca para atracción de inversiones y creación de nuevas fuentes de trabajo.",0,null,null," A.1 Impulsar acciones que contribuyan a combatir la corrupción en la administración pública estatal. ","Tabla_52A1"]
["1. San Luis Próspero","1.2. Impulso al Desarrollo Industrial","OBJETIVO A.  Consolidar el desarrollo industrial, como palanca para atracción de inversiones y creación de nuevas fuentes de trabajo.","ESTRATEGIA A.1 Promover la inversión y diversificación del sector y  fomentar la innovación. ","Impulsar las actividades industriales con potencial competitivo: química, de energías alternativas, aeronáutica, electrónica y de nuevos materiales.",null,null,null,null,"D","4.1. Seguridad Pública.","Tabla_41",null,"1.4. Desarrollo Agropecuario Y Agroindustrial",null,null,null,null," A.1 Promover la inversión y diversificación del sector y  fomentar la innovación. ","Tabla_12A1",null,null," A.1 Impulsar acciones que generen certidumbre, transparencia, imparcialidad y mayor profesionalización en la impartición de la justicia.","Tabla_42A1"]
["1. San Luis Próspero","1.2. Impulso al Desarrollo Industrial","OBJETIVO A.  Consolidar el desarrollo industrial, como palanca para atracción de inversiones y creación de nuevas fuentes de trabajo.","ESTRATEGIA A.1 Promover la inversión y diversificación del sector y  fomentar la innovación. ","Apoyar a las empresas instaladas y nuevas con incentivos transparentes que otorguen certeza institucional a los inversionistas.",null,null,null,null,"D","4.2. Procuración de Justicia. ","Tabla_42",null," A. Fortalecer la productividad y competitividad de las actividades agropecuarias, promoviendo la diversificación del sector.","Tabla_14A",null,null,null," A.2 Reducir la brecha tecnológica con apoyo de las instituciones de investigación, desarrollo e innovación.","Tabla_12A2",null,null," A.1 Instrumentar una política financiera responsable, basada en criterios de disciplina, austeridad, transparencia y rendición de cuentas.","Tabla_53A1"]
["1. San Luis Próspero","1.2. Impulso al Desarrollo Industrial","OBJETIVO A.  Consolidar el desarrollo industrial, como palanca para atracción de inversiones y creación de nuevas fuentes de trabajo.","ESTRATEGIA A.1 Promover la inversión y diversificación del sector y  fomentar la innovación. ","Impulsar un programa de regeneración progresiva de la zona industrial del área metropolitana. ",null,null,null,null,"D","4.3. Reinserción Social.","Tabla_43",null," B. Modernizar la actividad productiva en el sector rural, que incremente el volumen y valor de la producción.","Tabla_14B",null,null,null,"OBJETIVO B. Establecer esquemas de financiamiento, encadenamiento productivo y programas de desarrollo de proveedores locales, a efecto de impulsar su competitividad.",0,null,null," A.1 Mantener y preservar el patrimonio natural en todas las regiones para asegurar un desarrollo sustentable y contribuir a mejorar la calidad de vida de la población.","Tabla_31A1"]
["1. San Luis Próspero","1.2. Impulso al Desarrollo Industrial","OBJETIVO A.  Consolidar el desarrollo industrial, como palanca para atracción de inversiones y creación de nuevas fuentes de trabajo.","ESTRATEGIA A.1 Promover la inversión y diversificación del sector y  fomentar la innovación. ","· Promover el equipamiento, operación, mejoramiento y conservación de las zonas industriales, así como el desarrollo de parques con servicios e infraestructura de calidad.",null,null,null,null,"D","4.4. Prevención de la Delincuencia y Atención a Víctimas.","Tabla_44",null," C. Asegurar estándares de sanidad, calidad e inocuidad agroalimentaria. ","Tabla_14C",null,null,null," B.1 Promover  opciones de financiamiento, capacitación y desarrollo de proveedores, para las empresas y emprendedores en las cuatro regiones.","Tabla_12B1",null,null," A.1 Promover economías de escala en la producción agropecuaria que generen mayor valor agregado.","Tabla_14A1"]
["1. San Luis Próspero","1.2. Impulso al Desarrollo Industrial","OBJETIVO A.  Consolidar el desarrollo industrial, como palanca para atracción de inversiones y creación de nuevas fuentes de trabajo.","ESTRATEGIA A.1 Promover la inversión y diversificación del sector y  fomentar la innovación. ","· Promover la instalación de micro y pequeñas empresas,  apoyando sus proyectos, financiamiento y posibilidades de internacionalización.",null,null,null,null,"D","4.5. Protección Civil.","Tabla_45",null,"1.5. Infraestructura, Desarrollo Urbano Y Movilidad",null,null,null,null," B.2 Fortalecer los instrumentos de mejora regulatoria en el Estado para impulsar la competitividad y el desarrollo económico.","Tabla_12B2",null,null," A.1 Promover la inversión y diversificación del sector y  fomentar la innovación. ","Tabla_12A1"]
["1. San Luis Próspero","1.2. Impulso al Desarrollo Industrial","OBJETIVO A.  Consolidar el desarrollo industrial, como palanca para atracción de inversiones y creación de nuevas fuentes de trabajo.","ESTRATEGIA A.1 Promover la inversión y diversificación del sector y  fomentar la innovación. ","Avanzar en la consolidación de la industrialización de las regiones centro del Estado y del corredor Matehuala – Cedral – Villa de la Paz en el Altiplano. ",null,null,null,null,"E","5.1. Gobernabilidad.","Tabla_51",null," A. Fortalecer un desarrollo regional, urbano y metropolitano sustentable, que promueva la inversión productiva y el empleo.","Tabla_15A",null,null,null,"1.3 Desarrollo Turístico, Comercial, de Servicios y Minería",{"$error":"#N/A"},null,null," A.1 Promover una mayor coordinación operativa y de inteligencia entre los tres órdenes de gobierno.","Tabla_41A1"]
["1. San Luis Próspero","1.2. Impulso al Desarrollo Industrial","OBJETIVO A.  Consolidar el desarrollo industrial, como palanca para atracción de inversiones y creación de nuevas fuentes de trabajo.","ESTRATEGIA A.1 Promover la inversión y diversificación del sector y  fomentar la innovación. ","Fortalecer la infraestructura de comunicaciones, energía y gas natural, para el desarrollo industrial, fomentando la inversión pública y privada. ",null,null,null,null,"E","5.2. Prevención y Combate a la Corrupción. ","Tabla_52",null," B. Mejorar la infraestructura de conectividad bajo criterios estratégicos y de eficiencia.","Tabla_15B",null,null,null,"OBJETIVO A. Impulsar el desarrollo de la oferta turística para el crecimiento del sector, aprovechando las potencialidades regionales y con ello generar una mayor derrama económica en la Entidad.",0,null,null," A.1 Propiciar el desarrollo democrático y cívico del Estado.","Tabla_51A1"]
["1. San Luis Próspero","1.2. Impulso al Desarrollo Industrial","OBJETIVO A.  Consolidar el desarrollo industrial, como palanca para atracción de inversiones y creación de nuevas fuentes de trabajo.","ESTRATEGIA A.1 Promover la inversión y diversificación del sector y  fomentar la innovación. ","Impulsar una política de aprovechamiento sustentable de energía en el sector industrial.",null,null,null,null,"E","5.3. Responsabilidad Financiera y Rendición de Cuentas.","Tabla_53",null," C. Coordinar esfuerzos con la Federación para que mediante inversiones privadas se garantice cobertura y accesibilidad de los servicios digitales.","Tabla_15C",null,null,null," A.2 Fortalecer y diversificar la oferta turística mejorando la infraestructura de los destinos.","Tabla_13A2",null,null," A.1 Regular el crecimiento de las zonas urbanas de acuerdo con las normas vigentes.","Tabla_15A1"]
["1. San Luis Próspero","1.2. Impulso al Desarrollo Industrial","OBJETIVO A.  Consolidar el desarrollo industrial, como palanca para atracción de inversiones y creación de nuevas fuentes de trabajo.","ESTRATEGIA A.2 Reducir la brecha tecnológica con apoyo de las instituciones de investigación, desarrollo e innovación.","Vincular de mejor manera a las instituciones de educación superior, centros de investigación, empresas e instituciones gubernamentales, para consolidar el Sistema Estatal de Ciencia, Tecnología e Innovación. ",null,null,null,null,"E","5.4. Gobierno Abierto e Innovador.","Tabla_54",null,"2.1. Combate a la Pobreza",null,null,null,null," A.1 Construir una alianza estratégica para el desarrollo turístico con la participación de todos los actores del sector.","Tabla_13A1",null,null," A.1.  Intensificar las acciones que consoliden un sistema penitenciario que garantice una reinserción social efectiva.","Tabla_43A1"]
["1. San Luis Próspero","1.2. Impulso al Desarrollo Industrial","OBJETIVO A.  Consolidar el desarrollo industrial, como palanca para atracción de inversiones y creación de nuevas fuentes de trabajo.","ESTRATEGIA A.2 Reducir la brecha tecnológica con apoyo de las instituciones de investigación, desarrollo e innovación.","Fortalecer las instituciones de educación superior y centros de investigación para la formación de recursos humanos altamente especializados.",null,null,null,null,"E","5.5. Derechos Humanos.","Tabla_55",null," A. Abatir la pobreza en todas sus manifestaciones.","Tabla_21A",null,null,null," A.2 Fortalecer y diversificar la oferta turística mejorando la infraestructura de los destinos.","Tabla_13A2",null,null," A.1. Crear los mecanismos que contribuyan a un mejor manejo y gestión integral del recurso hídrico en las regiones.","Tabla_32A1"]
["1. San Luis Próspero","1.2. Impulso al Desarrollo Industrial","OBJETIVO A.  Consolidar el desarrollo industrial, como palanca para atracción de inversiones y creación de nuevas fuentes de trabajo.","ESTRATEGIA A.2 Reducir la brecha tecnológica con apoyo de las instituciones de investigación, desarrollo e innovación.","Conformar redes y alianzas estratégicas de investigación y transferencia de tecnología al sector industrial, a favor de la innovación y la competitividad.",null,null,null,null,null,null,null,null,"2.2. Salud y Alimentación",null,null,null,null," A.3 Promover la inversión pública y privada para el desarrollo del sector turístico. ","Tabla_13A3",null,null," A.1. Realizar campañas de difusión y programas de capacitación que transmitan los contenidos de las reformas constitucionales de Derechos Humanos.","Tabla_55A1"]
["1. San Luis Próspero","1.2. Impulso al Desarrollo Industrial","OBJETIVO A.  Consolidar el desarrollo industrial, como palanca para atracción de inversiones y creación de nuevas fuentes de trabajo.","ESTRATEGIA A.2 Reducir la brecha tecnológica con apoyo de las instituciones de investigación, desarrollo e innovación.","Crear agendas regionales de Innovación que atiendan los retos económicos del Estado.",null,null,null,null,null,null,null,null," A. Promover actitudes y conductas que favorezcan una vida sana.","Tabla_22A",null,null,null," A.4  Impulsar el desarrollo turístico del Estado en un marco de sustentabilidad y de contribución al  bienestar social.","Tabla_13A4",null,null," A.2 Asegurar el acceso efectivo a los servicios de salud.","Tabla_21A2"]
["1. San Luis Próspero","1.2. Impulso al Desarrollo Industrial","OBJETIVO A.  Consolidar el desarrollo industrial, como palanca para atracción de inversiones y creación de nuevas fuentes de trabajo.","ESTRATEGIA A.2 Reducir la brecha tecnológica con apoyo de las instituciones de investigación, desarrollo e innovación.","Promover un centro de formación y capacitación de recursos humanos para el sector automotriz, en coordinación con el CONACYT.",null,null,null,null,null,null,null,null," B. Elevar la calidad de los servicios médicos.","Tabla_22B",null,null,null,"OBJETIVO B. Consolidar el sector comercio a través de financiamiento, desarrollo de infraestructura y capacidades logísticas y de almacenamiento.",0,null,null," A.2 Elevar el nivel de escolaridad de los jóvenes y favorecer su incorporación al mercado laboral, atender sus necesidades de salud y ampliar su acceso al deporte y la cultura.","Tabla_24A2"]
["1. San Luis Próspero","1.2. Impulso al Desarrollo Industrial","OBJETIVO A.  Consolidar el desarrollo industrial, como palanca para atracción de inversiones y creación de nuevas fuentes de trabajo.","ESTRATEGIA A.2 Reducir la brecha tecnológica con apoyo de las instituciones de investigación, desarrollo e innovación.","Establecer un mayor contacto con los centros de generación de tecnología del país y del extranjero, promoviendo investigaciones conjuntas, intercambios de investigadores y acceso a redes de información tecnológica.",null,null,null,null,null,null,null,null," C. Disminuir la mortalidad infantil y materna, el embarazo en adolescentes, la obesidad, la diabetes y las adicciones.","Tabla_22C",null,null,null," B.1 Promover el desarrollo comercial con un enfoque de desarrollo regional.","Tabla_13B1",null,null," A.2 Fortalecer el programa estatal de capacitación y acompañamiento técnico y normativo a los ayuntamientos.","Tabla_15A2"]
["1. San Luis Próspero","1.2. Impulso al Desarrollo Industrial","OBJETIVO A.  Consolidar el desarrollo industrial, como palanca para atracción de inversiones y creación de nuevas fuentes de trabajo.","ESTRATEGIA A.2 Reducir la brecha tecnológica con apoyo de las instituciones de investigación, desarrollo e innovación.","Avanzar en el modelo de educación dual y de vinculación academia - empresa, en coordinación con los organismos empresariales.",null,null,null,null,null,null,null,null,"2.3. Educación, Cultura y Deporte",null,null,null,null,"OBJETIVO C. Diseñar estrategias para la atracción de empresas de alta especialización en servicios.",0,null,null," A.2 Fortalecer la autonomía de la gestión escolar para impulsar la planeación, la mejora educativa y los procesos de evaluación del desempeño.","Tabla_23A2"]
["1. San Luis Próspero","1.2. Impulso al Desarrollo Industrial","OBJETIVO A.  Consolidar el desarrollo industrial, como palanca para atracción de inversiones y creación de nuevas fuentes de trabajo.","ESTRATEGIA A.2 Reducir la brecha tecnológica con apoyo de las instituciones de investigación, desarrollo e innovación.","Impulsar el Sistema de Certificación de Competencias Tecnológicas y Laborales para la competitividad y el empleo.",null,null,null,null,null,null,null,null," A. Disminuir el rezago educativo.","Tabla_23A",null,null,null," C.1 Fortalecer esquemas de instalación, incubación y desarrollo de empresas nuevas en sectores de alta tecnología y servicios. ","Tabla_13C1",null,null," A.2 Fortalecer y diversificar la oferta turística mejorando la infraestructura de los destinos.","Tabla_13A2"]
["1. San Luis Próspero","1.2. Impulso al Desarrollo Industrial","OBJETIVO A.  Consolidar el desarrollo industrial, como palanca para atracción de inversiones y creación de nuevas fuentes de trabajo.","ESTRATEGIA A.2 Reducir la brecha tecnológica con apoyo de las instituciones de investigación, desarrollo e innovación.","Apoyar la investigación, el desarrollo tecnológico y la innovación a través de programas de financiamiento.",null,null,null,null,null,null,null,null," B. Impulsar la formación y la certificación de competencias del personal docente. ","Tabla_23B",null,null,null,"OBJETIVO D. Promover mayores niveles de inversión y competitividad en el sector minero.",0,null,null," A.2 Fortalecer y diversificar la oferta turística mejorando la infraestructura de los destinos.","Tabla_13A2"]
["1. San Luis Próspero","1.2. Impulso al Desarrollo Industrial","OBJETIVO B. Establecer esquemas de financiamiento, encadenamiento productivo y programas de desarrollo de proveedores locales, a efecto de impulsar su competitividad.","ESTRATEGIA B.1 Promover  opciones de financiamiento, capacitación y desarrollo de proveedores, para las empresas y emprendedores en las cuatro regiones.","Privilegiar el financiamiento de actividades productivas que mantengan y generen nuevos empleos.",null,null,null,null,null,null,null,null," C. Elevar el desempeño escolar con base en la   evaluación de aprendizaje de los alumnos de nivel básico y medio superior.","Tabla_23C",null,null,null," D.1 Impulsar proyectos de minería sustentable en coordinación con organizaciones del sector.","Tabla_13D1",null,null," A.2 Incentivar la ocupación laboral mediante la vinculación de los buscadores de empleo de los distintos grupos de la población con las oportunidades de trabajo.","Tabla_11A2"]
["1. San Luis Próspero","1.2. Impulso al Desarrollo Industrial","OBJETIVO B. Establecer esquemas de financiamiento, encadenamiento productivo y programas de desarrollo de proveedores locales, a efecto de impulsar su competitividad.","ESTRATEGIA B.1 Promover  opciones de financiamiento, capacitación y desarrollo de proveedores, para las empresas y emprendedores en las cuatro regiones.","Operar esquemas de financiamiento innovadores que impulsen a las micro, pequeñas y medianas empresas en el desarrollo de actividades productivas.",null,null,null,null,null,null,null,null," D. Mejorar la calidad de los espacios educativos.","Tabla_23D",null,null,null,"1.4. Desarrollo Agropecuario Y Agroindustrial",{"$error":"#N/A"},null,null," A.2 Instrumentar acciones coordinadas para el aprovechamiento del potencial forestal de las cuatro regiones.","Tabla_14A2"]
["1. San Luis Próspero","1.2. Impulso al Desarrollo Industrial","OBJETIVO B. Establecer esquemas de financiamiento, encadenamiento productivo y programas de desarrollo de proveedores locales, a efecto de impulsar su competitividad.","ESTRATEGIA B.1 Promover  opciones de financiamiento, capacitación y desarrollo de proveedores, para las empresas y emprendedores en las cuatro regiones.","Incrementar la capacitación a emprendedores y MIPYMES en temas estratégicos, para elevar la cultura empresarial y visión de negocios de las personas.",null,null,null,null,null,null,null,null," E. Preservar y difundir el patrimonio cultural, garantizando el acceso a toda la población, con la participación social y privada.","Tabla_23E",null,null,null,"OBJETIVO A. Fortalecer la productividad y competitividad de las actividades agropecuarias, promoviendo la diversificación del sector.",0,null,null," A.2 Reducir la brecha tecnológica con apoyo de las instituciones de investigación, desarrollo e innovación.","Tabla_12A2"]
["1. San Luis Próspero","1.2. Impulso al Desarrollo Industrial","OBJETIVO B. Establecer esquemas de financiamiento, encadenamiento productivo y programas de desarrollo de proveedores locales, a efecto de impulsar su competitividad.","ESTRATEGIA B.1 Promover  opciones de financiamiento, capacitación y desarrollo de proveedores, para las empresas y emprendedores en las cuatro regiones.","Ampliar la capacitación y la oferta de financiamientos en los 58 municipios.",null,null,null,null,null,null,null,null," F. Impulsar una agenda para vincular educación, cultura y deporte como bienes y servicios al alcance de todos los potosinos.","Tabla_23F",null,null,null," A.1 Promover economías de escala en la producción agropecuaria que generen mayor valor agregado.","Tabla_14A1",null,null," A.3 Aumentar la cobertura de la seguridad social.","Tabla_21A3"]
["1. San Luis Próspero","1.2. Impulso al Desarrollo Industrial","OBJETIVO B. Establecer esquemas de financiamiento, encadenamiento productivo y programas de desarrollo de proveedores locales, a efecto de impulsar su competitividad.","ESTRATEGIA B.1 Promover  opciones de financiamiento, capacitación y desarrollo de proveedores, para las empresas y emprendedores en las cuatro regiones.","Promover un programa de desarrollo de proveedores y encadenamiento productivo en coordinación con los sectores empresariales, instituciones académicas y el gobierno federal.",null,null,null,null,null,null,null,null," G. Impulsar el deporte de alto rendimiento en las diferentes disciplinas.","Tabla_23G",null,null,null," A.2 Instrumentar acciones coordinadas para el aprovechamiento del potencial forestal de las cuatro regiones.","Tabla_14A2",null,null," A.3 Diseñar esquemas de colaboración y participación para fomentar el desarrollo regional urbano y actualizar los instrumentos de planeación.","Tabla_15A3"]
["1. San Luis Próspero","1.2. Impulso al Desarrollo Industrial","OBJETIVO B. Establecer esquemas de financiamiento, encadenamiento productivo y programas de desarrollo de proveedores locales, a efecto de impulsar su competitividad.","ESTRATEGIA B.1 Promover  opciones de financiamiento, capacitación y desarrollo de proveedores, para las empresas y emprendedores en las cuatro regiones.","Crear un programa de asistencia técnica y acompañamiento a los emprendedores y a las MIPyMES potosinas.",null,null,null,null,null,null,null,null,"2.4. Políticas de Equidad",null,null,null,null,"OBJETIVO B. Modernizar la actividad productiva en el sector rural, que incremente el volumen y valor de la producción.",0,null,null," A.3 Impulsar programas dirigidos a promover los derechos y libertades de las mujeres.","Tabla_24A3"]
["1. San Luis Próspero","1.2. Impulso al Desarrollo Industrial","OBJETIVO B. Establecer esquemas de financiamiento, encadenamiento productivo y programas de desarrollo de proveedores locales, a efecto de impulsar su competitividad.","ESTRATEGIA B.2 Fortalecer los instrumentos de mejora regulatoria en el Estado para impulsar la competitividad y el desarrollo económico.","Lograr un  marco regulatorio ágil para la apertura de nuevas empresas, que brinde certidumbre jurídica a los inversionistas.",null,null,null,null,null,null,null,null," A.  Impulsar políticas de equidad que garanticen a todos los potosinos el pleno ejercicio de sus derechos sociales.  ","Tabla_24A",null,null,null," B.1 Impulsar la creación de infraestructura y acciones de capacitación e innovación en el campo.","Tabla_14B1",null,null," A.3 Promover la inversión pública y privada para el desarrollo del sector turístico. ","Tabla_13A3"]
["1. San Luis Próspero","1.2. Impulso al Desarrollo Industrial","OBJETIVO B. Establecer esquemas de financiamiento, encadenamiento productivo y programas de desarrollo de proveedores locales, a efecto de impulsar su competitividad.","ESTRATEGIA B.2 Fortalecer los instrumentos de mejora regulatoria en el Estado para impulsar la competitividad y el desarrollo económico.","Facilitar el tránsito a la economía formal, a través de un marco regulatorio simplificado y transparente. ",null,null,null,null,null,null,null,null," B. Avanzar en el desarrollo de los pueblos indígenas para que puedan ejercer plenamente su derecho a un desarrollo integral.","Tabla_24B",null,null,null,"OBJETIVO C. Asegurar estándares de sanidad, calidad e inocuidad agroalimentaria. ",0,null,null," A.4  Impulsar el desarrollo turístico del Estado en un marco de sustentabilidad y de contribución al  bienestar social.","Tabla_13A4"]
["1. San Luis Próspero","1.2. Impulso al Desarrollo Industrial","OBJETIVO B. Establecer esquemas de financiamiento, encadenamiento productivo y programas de desarrollo de proveedores locales, a efecto de impulsar su competitividad.","ESTRATEGIA B.2 Fortalecer los instrumentos de mejora regulatoria en el Estado para impulsar la competitividad y el desarrollo económico.","Impulsar un servicio público eficiente en la aplicación de la mejora regulatoria y certificación de trámites. ",null,null,null,null,null,null,null,null,"3.1. Recursos Forestales, Conservación de Suelos y Biodiversidad.",null,null,null,null," C.1 Establecer mecanismos coordinados de prevención de plagas y enfermedades en la actividad agropecuaria.","Tabla_14C1",null,null," A.4 Ampliar y fortalecer la movilidad de los diferentes modos de transporte y comunicaciones.","Tabla_15A4"]
["1. San Luis Próspero","1.3 Desarrollo Turístico, Comercial, de Servicios y Minería","OBJETIVO A. Impulsar el desarrollo de la oferta turística para el crecimiento del sector, aprovechando las potencialidades regionales y con ello generar una mayor derrama económica en la Entidad.","ESTRATEGIA A.1 Construir una alianza estratégica para el desarrollo turístico con la participación de todos los actores del sector.","Impulsar un Nuevo Modelo de Desarrollo Turístico del Estado, que promueva la inversión, el empleo y el ingreso en este sector.",null,null,null,null,null,null,null,null," A. Preservar el patrimonio natural de los potosinos.","Tabla_31A",null,null,null,"1.5. Infraestructura, Desarrollo Urbano Y Movilidad",{"$error":"#N/A"},null,null," A.4 Desarrollar políticas que propicien la integración social y productiva de los adultos mayores y las personas con discapacidad. ","Tabla_24A4"]
["1. San Luis Próspero","1.3 Desarrollo Turístico, Comercial, de Servicios y Minería","OBJETIVO A. Impulsar el desarrollo de la oferta turística para el crecimiento del sector, aprovechando las potencialidades regionales y con ello generar una mayor derrama económica en la Entidad.","ESTRATEGIA A.1 Construir una alianza estratégica para el desarrollo turístico con la participación de todos los actores del sector.","Fortalecer la imagen del Estado como destino turístico, promoviendo la calidad, diversidad y autenticidad de sus atractivos.",null,null,null,null,null,null,null,null," B. Incrementar la superficie de Áreas Naturales Protegidas.","Tabla_31B",null,null,null,"OBJETIVO A. Fortalecer un desarrollo regional, urbano y metropolitano sustentable, que promueva la inversión productiva y el empleo.",0,null,null," A.4 Mejorar la calidad y espacios de las viviendas.","Tabla_21A4"]
["1. San Luis Próspero","1.3 Desarrollo Turístico, Comercial, de Servicios y Minería","OBJETIVO A. Impulsar el desarrollo de la oferta turística para el crecimiento del sector, aprovechando las potencialidades regionales y con ello generar una mayor derrama económica en la Entidad.","ESTRATEGIA A.1 Construir una alianza estratégica para el desarrollo turístico con la participación de todos los actores del sector.","Apoyar el fortalecimiento de las estructuras municipales para la promoción turística, impulsando la articulación de programas y acciones.",null,null,null,null,null,null,null,null," C. Implementar el Ordenamiento Ecológico como un modelo de intervención institucional para la protección y gestión de los ecosistemas en las regiones.","Tabla_31C",null,null,null," A.1 Regular el crecimiento de las zonas urbanas de acuerdo con las normas vigentes.","Tabla_15A1",null,null," A.5 Aumentar la cobertura de servicios básicos en las viviendas.","Tabla_21A5"]
["1. San Luis Próspero","1.3 Desarrollo Turístico, Comercial, de Servicios y Minería","OBJETIVO A. Impulsar el desarrollo de la oferta turística para el crecimiento del sector, aprovechando las potencialidades regionales y con ello generar una mayor derrama económica en la Entidad.","ESTRATEGIA A.1 Construir una alianza estratégica para el desarrollo turístico con la participación de todos los actores del sector.","Promover la coordinación entre los tres órdenes de gobierno, las instituciones de educación, el sector privado y el sector social para impulsar el turismo.",null,null,null,null,null,null,null,null," D. Prevenir, controlar y combatir los incendios forestales. ","Tabla_31D",null,null,null," A.2 Fortalecer el programa estatal de capacitación y acompañamiento técnico y normativo a los ayuntamientos.","Tabla_15A2",null,null," A.5 Fortalecer los vínculos entre los migrantes y sus comunidades de origen que permitan concretar acciones de beneficio social.","Tabla_24A5"]
["1. San Luis Próspero","1.3 Desarrollo Turístico, Comercial, de Servicios y Minería","OBJETIVO A. Impulsar el desarrollo de la oferta turística para el crecimiento del sector, aprovechando las potencialidades regionales y con ello generar una mayor derrama económica en la Entidad.","ESTRATEGIA A.1 Construir una alianza estratégica para el desarrollo turístico con la participación de todos los actores del sector.","Construir un sistema ágil y actualizado de información estadística del sector, bajo una plataforma oportuna y de fácil acceso.",null,null,null,null,null,null,null,null,"3.2. Agua y Reservas Hidrológicas. ",null,null,null,null," A.3 Diseñar esquemas de colaboración y participación para fomentar el desarrollo regional urbano y actualizar los instrumentos de planeación.","Tabla_15A3",null,null," A.6 Promover una alimentación adecuada para la población con carencia alimentaria moderada y severa.  ","Tabla_21A6"]
["1. San Luis Próspero","1.3 Desarrollo Turístico, Comercial, de Servicios y Minería","OBJETIVO A. Impulsar el desarrollo de la oferta turística para el crecimiento del sector, aprovechando las potencialidades regionales y con ello generar una mayor derrama económica en la Entidad.","ESTRATEGIA A.1 Construir una alianza estratégica para el desarrollo turístico con la participación de todos los actores del sector.","Desarrollar los estudios y proyectos que detonen y consoliden la vocación turística de cada región. ",null,null,null,null,null,null,null,null," A. Promover el manejo integral y sustentable del agua desde una perspectiva de cuencas.","Tabla_32A",null,null,null," A.4 Ampliar y fortalecer la movilidad de los diferentes modos de transporte y comunicaciones.","Tabla_15A4",null,null," A.7 Fortalecer los sistemas de participación social para el combate a la pobreza.","Tabla_21A7"]
["1. San Luis Próspero","1.3 Desarrollo Turístico, Comercial, de Servicios y Minería","OBJETIVO A. Impulsar el desarrollo de la oferta turística para el crecimiento del sector, aprovechando las potencialidades regionales y con ello generar una mayor derrama económica en la Entidad.","ESTRATEGIA A.2 Fortalecer y diversificar la oferta turística mejorando la infraestructura de los destinos.","Incentivar la innovación para ofertar mejores productos y servicios turísticos con la participación y colaboración del sector privado, social y académico.",null,null,null,null,null,null,null,null," B. Incrementar la capacidad de tratamiento de aguas residuales y promover su reúso.","Tabla_32B",null,null,null,"OBJETIVO B. Mejorar la infraestructura de conectividad bajo criterios estratégicos y de eficiencia.",0,null,null," B.1 Actualizar y supervisar el inventario de emisiones de gases de efecto invernadero e impulsar las acciones orientadas a mitigar los efectos del cambio climático. ","Tabla_34B1"]
["1. San Luis Próspero","1.3 Desarrollo Turístico, Comercial, de Servicios y Minería","OBJETIVO A. Impulsar el desarrollo de la oferta turística para el crecimiento del sector, aprovechando las potencialidades regionales y con ello generar una mayor derrama económica en la Entidad.","ESTRATEGIA A.2 Fortalecer y diversificar la oferta turística mejorando la infraestructura de los destinos.","Fomentar acciones de certificación de calidad de los servicios turísticos.",null,null,null,null,null,null,null,null," C. Promover el desarrollo y difusión de tecnologías más efectivas  y eficientes para la potabilización, uso y tratamiento del agua.","Tabla_32C",null,null,null," B.1 Promover con los tres órdenes de gobierno, la modernización de la infraestructura carretera y de caminos.","Tabla_15B1",null,null," B.1 Ampliar la cobertura de beneficios sociales, mediante proyectos, programas y acciones con respeto a sus tradiciones y cultura.","Tabla_24B1"]
["1. San Luis Próspero","1.3 Desarrollo Turístico, Comercial, de Servicios y Minería","OBJETIVO A. Impulsar el desarrollo de la oferta turística para el crecimiento del sector, aprovechando las potencialidades regionales y con ello generar una mayor derrama económica en la Entidad.","ESTRATEGIA A.2 Fortalecer y diversificar la oferta turística mejorando la infraestructura de los destinos.","Dar mayor impulso al turismo de negocios, congresos y convenciones.",null,null,null,null,null,null,null,null," D. Propiciar el uso eficiente del agua en las actividades agrícolas  e industriales.","Tabla_32D",null,null,null," B.2 Contribuir con la agenda del sector ferroviario en el marco del Plan Nacional de Desarrollo.","Tabla_15B2",null,null," B.1 Articular la educación, capacitación y empleo con la participación de los sectores público, privado y social.  ","Tabla_11B1"]
["1. San Luis Próspero","1.3 Desarrollo Turístico, Comercial, de Servicios y Minería","OBJETIVO A. Impulsar el desarrollo de la oferta turística para el crecimiento del sector, aprovechando las potencialidades regionales y con ello generar una mayor derrama económica en la Entidad.","ESTRATEGIA A.2 Fortalecer y diversificar la oferta turística mejorando la infraestructura de los destinos.","Consolidar el potencial turístico de los pueblos mágicos de Real de Catorce y Xilitla, y promover la incorporación a esta categoría de otros sitios del Estado.",null,null,null,null,null,null,null,null,"3.3. Gestión Integral de Residuos.",null,null,null,null," B.3 Fortalecer la infraestructura aeroportuaria para consolidarla como centro de conexión de pasajeros y carga de la región.","Tabla_15B3",null,null," B.1 Construir, rehabilitar y modernizar la infraestructura para el  tratamiento del agua. ","Tabla_32B1"]
["1. San Luis Próspero","1.3 Desarrollo Turístico, Comercial, de Servicios y Minería","OBJETIVO A. Impulsar el desarrollo de la oferta turística para el crecimiento del sector, aprovechando las potencialidades regionales y con ello generar una mayor derrama económica en la Entidad.","ESTRATEGIA A.2 Fortalecer y diversificar la oferta turística mejorando la infraestructura de los destinos.","Continuar la rehabilitación del Centro Histórico de la Ciudad Capital para potenciar sus ventajas de atracción turística.",null,null,null,null,null,null,null,null," A. Promover con los municipios la gestión de manejo y disposición de residuos sólidos urbanos, conforme a la normatividad vigente.","Tabla_33A",null,null,null,"OBJETIVO C. Coordinar esfuerzos con la Federación para que mediante inversiones privadas se garantice cobertura y accesibilidad de los servicios digitales.",0,null,null," B.1 Diseñar y facilitar los contenidos, manuales y guías que pongan en operación el enfoque basado en Derechos Humanos en los planes institucionales de la administración pública estatal y de los municipios. ","Tabla_55B1"]
["1. San Luis Próspero","1.3 Desarrollo Turístico, Comercial, de Servicios y Minería","OBJETIVO A. Impulsar el desarrollo de la oferta turística para el crecimiento del sector, aprovechando las potencialidades regionales y con ello generar una mayor derrama económica en la Entidad.","ESTRATEGIA A.3 Promover la inversión pública y privada para el desarrollo del sector turístico. ","Promover la inversión y financiamiento para proyectos turísticos, con énfasis en la micro y pequeñas empresas.",null,null,null,null,null,null,null,null," B. Promover con los municipios la gestión de manejo y disposición de residuos de manejo especial. ","Tabla_33B",null,null,null," C.1 Fortalecer la cobertura y accesibilidad de los servicios digitales.","Tabla_15C1",null,null," B.1 Fortalecer la capacitación y especialización en el marco de una política integral de desarrollo policial. ","Tabla_41B1"]
["1. San Luis Próspero","1.3 Desarrollo Turístico, Comercial, de Servicios y Minería","OBJETIVO A. Impulsar el desarrollo de la oferta turística para el crecimiento del sector, aprovechando las potencialidades regionales y con ello generar una mayor derrama económica en la Entidad.","ESTRATEGIA A.3 Promover la inversión pública y privada para el desarrollo del sector turístico. ","Aprovechar todos los canales de comercialización de productos turísticos e incentivar la participación de prestadores de servicios en ferias y otros eventos, así como a través de Internet.",null,null,null,null,null,null,null,null," C. Aplicar la normatividad para lograr un eficaz manejo y disposición de los residuos peligrosos.","Tabla_33C",null,null,null,"2.1. Combate a la Pobreza",null,null,null," B.1 Implementar el Nuevo Sistema Estatal Anticorrupción articulado en lo local y vinculado a nivel nacional, así como esquemas de auditoría y fiscalización.","Tabla_52B1"]
["1. San Luis Próspero","1.3 Desarrollo Turístico, Comercial, de Servicios y Minería","OBJETIVO A. Impulsar el desarrollo de la oferta turística para el crecimiento del sector, aprovechando las potencialidades regionales y con ello generar una mayor derrama económica en la Entidad.","ESTRATEGIA A.3 Promover la inversión pública y privada para el desarrollo del sector turístico. ","Promocionar sitios, circuitos y rutas temáticas en las cuatro regiones. ",null,null,null,null,null,null,null,null,"3.4. Cambio Climático y Energías Renovables.",null,null,null,null,"OBJETIVO A. Abatir la pobreza en todas sus manifestaciones.",null,null,null," B.1 Impulsar la creación de infraestructura y acciones de capacitación e innovación en el campo.","Tabla_14B1"]
["1. San Luis Próspero","1.3 Desarrollo Turístico, Comercial, de Servicios y Minería","OBJETIVO A. Impulsar el desarrollo de la oferta turística para el crecimiento del sector, aprovechando las potencialidades regionales y con ello generar una mayor derrama económica en la Entidad.","ESTRATEGIA A.3 Promover la inversión pública y privada para el desarrollo del sector turístico. ","Proporcionar asistencia técnica a empresas privadas y sociales para la comercialización de la oferta turística.",null,null,null,null,null,null,null,null," A. Elaborar instrumentos técnicos que orienten las políticas estatales sobre el Cambio Climático.","Tabla_34A",null,null,null," A.1 Disminuir el rezago educativo.","Tabla_21A1",null,null," B.1 Impulsar la profesionalización basada en competencias, el liderazgo de directivos, y su capacidad para integrarse a la sociedad del conocimiento. ","Tabla_23B1"]
["1. San Luis Próspero","1.3 Desarrollo Turístico, Comercial, de Servicios y Minería","OBJETIVO A. Impulsar el desarrollo de la oferta turística para el crecimiento del sector, aprovechando las potencialidades regionales y con ello generar una mayor derrama económica en la Entidad.","ESTRATEGIA A.3 Promover la inversión pública y privada para el desarrollo del sector turístico. ","·        Establecer los acuerdos de colaboración con el Consejo de Promoción Turística de México.",null,null,null,null,null,null,null,null," B. Mitigar los efectos del cambio climático con acciones que aumenten las oportunidades de desarrollo, la innovación tecnológica y el uso de energías limpias.","Tabla_34B",null,null,null," A.2 Asegurar el acceso efectivo a los servicios de salud.","Tabla_21A2",null,null," B.1 Ofrecer atención médica oportuna bajo esquemas de calidad en los servicios de salud.","Tabla_22B1"]
["1. San Luis Próspero","1.3 Desarrollo Turístico, Comercial, de Servicios y Minería","OBJETIVO A. Impulsar el desarrollo de la oferta turística para el crecimiento del sector, aprovechando las potencialidades regionales y con ello generar una mayor derrama económica en la Entidad.","ESTRATEGIA A.3 Promover la inversión pública y privada para el desarrollo del sector turístico. ","·    Consolidar la capacitación, profesionalización y certificación de los actores del sector para la mejora continua de la calidad de los servicios turísticos.",null,null,null,null,null,null,null,null,"4.1. Seguridad Pública.",null,null,null,null," A.3 Aumentar la cobertura de la seguridad social.","Tabla_21A3",null,null," B.1 Promover  opciones de financiamiento, capacitación y desarrollo de proveedores, para las empresas y emprendedores en las cuatro regiones.","Tabla_12B1"]
["1. San Luis Próspero","1.3 Desarrollo Turístico, Comercial, de Servicios y Minería","OBJETIVO A. Impulsar el desarrollo de la oferta turística para el crecimiento del sector, aprovechando las potencialidades regionales y con ello generar una mayor derrama económica en la Entidad.","ESTRATEGIA A.4  Impulsar el desarrollo turístico del Estado en un marco de sustentabilidad y de contribución al  bienestar social.","Crear programas de turismo social, así como para adultos mayores, jóvenes, estudiantes y personas con discapacidad.",null,null,null,null,null,null,null,null," A. Fortalecer la coordinación interinstitucional y de colaboración con la ciudadanía para reducir la inseguridad.","Tabla_41A",null,null,null," A.4 Mejorar la calidad y espacios de las viviendas.","Tabla_21A4",null,null," B.1 Promover con los tres órdenes de gobierno, la modernización de la infraestructura carretera y de caminos.","Tabla_15B1"]
["1. San Luis Próspero","1.3 Desarrollo Turístico, Comercial, de Servicios y Minería","OBJETIVO A. Impulsar el desarrollo de la oferta turística para el crecimiento del sector, aprovechando las potencialidades regionales y con ello generar una mayor derrama económica en la Entidad.","ESTRATEGIA A.4  Impulsar el desarrollo turístico del Estado en un marco de sustentabilidad y de contribución al  bienestar social.","Incentivar la participación del sector social y privado en el cuidado y preservación del patrimonio cultural, social y natural.",null,null,null,null,null,null,null,null," B. Impulsar la profesionalización de las fuerzas de seguridad, con capacitación y formación, para lograr un mejor desempeño en la función policial.","Tabla_41B",null,null,null," A.5 Aumentar la cobertura de servicios básicos en las viviendas.","Tabla_21A5",null,null," B.1 Promover el desarrollo comercial con un enfoque de desarrollo regional.","Tabla_13B1"]
["1. San Luis Próspero","1.3 Desarrollo Turístico, Comercial, de Servicios y Minería","OBJETIVO B. Consolidar el sector comercio a través de financiamiento, desarrollo de infraestructura y capacidades logísticas y de almacenamiento.","ESTRATEGIA B.1 Promover el desarrollo comercial con un enfoque de desarrollo regional.","Ampliar la infraestructura comercial, de abasto y de servicios en las regiones.",null,null,null,null,null,null,null,null," C. Fortalecer la infraestructura institucional y los protocolos de actuación policial, y modernizar los procesos para afrontar los nuevos retos de seguridad pública.","Tabla_41C",null,null,null," A.6 Promover una alimentación adecuada para la población con carencia alimentaria moderada y severa.  ","Tabla_21A6",null,null," B.1 Realizar gestiones técnico-institucionales para lograr el incremento de la superficie de Áreas Naturales Protegidas. ","Tabla_31B1"]
["1. San Luis Próspero","1.3 Desarrollo Turístico, Comercial, de Servicios y Minería","OBJETIVO B. Consolidar el sector comercio a través de financiamiento, desarrollo de infraestructura y capacidades logísticas y de almacenamiento.","ESTRATEGIA B.1 Promover el desarrollo comercial con un enfoque de desarrollo regional.","Establecer esquemas de cadenas productivas y programas de desarrollo de proveedores locales, para impulsar la competitividad comercial.",null,null,null,null,null,null,null,null,"4.2. Procuración de Justicia. ",null,null,null,null," A.7 Fortalecer los sistemas de participación social para el combate a la pobreza.","Tabla_21A7",null,null," B.1 Sistematizar los controles de combate a la corrupción para erradicar la impunidad de los procesos de procuración de justicia.","Tabla_42B1"]
["1. San Luis Próspero","1.3 Desarrollo Turístico, Comercial, de Servicios y Minería","OBJETIVO B. Consolidar el sector comercio a través de financiamiento, desarrollo de infraestructura y capacidades logísticas y de almacenamiento.","ESTRATEGIA B.1 Promover el desarrollo comercial con un enfoque de desarrollo regional.","Desarrollar proyectos que fortalezcan a la Zona Metropolitana como centro de distribución de bienes y servicios.",null,null,null,null,null,null,null,null," A. Garantizar un Sistema de Justicia Penal eficaz, expedito, imparcial y transparente.","Tabla_42A",null,null,null,"2.2. Salud y Alimentación"," ",null,null," B.1. Consolidar una política integral de atención a personas en situación de víctimas y de justicia para las mujeres.","Tabla_44B1"]
["1. San Luis Próspero","1.3 Desarrollo Turístico, Comercial, de Servicios y Minería","OBJETIVO B. Consolidar el sector comercio a través de financiamiento, desarrollo de infraestructura y capacidades logísticas y de almacenamiento.","ESTRATEGIA B.1 Promover el desarrollo comercial con un enfoque de desarrollo regional.","Aprovechar programas federales y estatales a favor del crecimiento de las micro, pequeñas y medianas empresas comerciales.",null,null,null,null,null,null,null,null," B. Erradicar la corrupción y la impunidad en la investigación y persecución de delitos.","Tabla_42B",null,null,null,"OBJETIVO A. Promover actitudes y conductas que favorezcan una vida sana."," ",null,null," B.1. Establecer convenios de coordinación para el tratamiento integral de los residuos de manejo especial.","Tabla_33B1"]
["1. San Luis Próspero","1.3 Desarrollo Turístico, Comercial, de Servicios y Minería","OBJETIVO B. Consolidar el sector comercio a través de financiamiento, desarrollo de infraestructura y capacidades logísticas y de almacenamiento.","ESTRATEGIA B.1 Promover el desarrollo comercial con un enfoque de desarrollo regional.","Difundir el uso y aprovechamiento de las tecnologías de la información y la comunicación para modernizar las empresas del sector.",null,null,null,null,null,null,null,null,"4.3. Reinserción Social.",null,null,null,null," A.1 Impulsar acciones de autocuidado de la salud, mediante la actividad física y la alimentación adecuada. ","Tabla_22A1",null,null," B.1. Facilitar las metodologías y herramientas de gestión pública para la profesionalización de los servidores públicos en el estado.","Tabla_54B1"]
["1. San Luis Próspero","1.3 Desarrollo Turístico, Comercial, de Servicios y Minería","OBJETIVO B. Consolidar el sector comercio a través de financiamiento, desarrollo de infraestructura y capacidades logísticas y de almacenamiento.","ESTRATEGIA B.1 Promover el desarrollo comercial con un enfoque de desarrollo regional.","Promover a San Luis Potosí como centro de medicina de excelencia, para aprovechar su capacidad como generadora de crecimiento y empleo.",null,null,null,null,null,null,null,null," A. Fortalecer el sistema penitenciario estatal y las medidas de prevención para menores infractores, mejorando","Tabla_43A",null,null,null,"OBJETIVO B. Elevar la calidad de los servicios médicos."," ",null,null," B.1. Fortalecer la gestión integral de riesgos en la entidad, asegurando la prevención y mitigación de daños.","Tabla_45B1"]
["1. San Luis Próspero","1.3 Desarrollo Turístico, Comercial, de Servicios y Minería","OBJETIVO B. Consolidar el sector comercio a través de financiamiento, desarrollo de infraestructura y capacidades logísticas y de almacenamiento.","ESTRATEGIA B.1 Promover el desarrollo comercial con un enfoque de desarrollo regional.","Fomentar con las organizaciones empresariales acciones de innovación, capacitación, asistencia técnica y certificación de sistemas de calidad. ",null,null,null,null,null,null,null,null,"4.4. Prevención de la Delincuencia y Atención a Víctimas.",null,null,null,null," B.1 Ofrecer atención médica oportuna bajo esquemas de calidad en los servicios de salud.","Tabla_22B1",null,null," B.1. Impulsar un ejercicio presupuestario basado en resultados y en la generación de mayor beneficio social.","Tabla_53B1"]
["1. San Luis Próspero","1.3 Desarrollo Turístico, Comercial, de Servicios y Minería","OBJETIVO B. Consolidar el sector comercio a través de financiamiento, desarrollo de infraestructura y capacidades logísticas y de almacenamiento.","ESTRATEGIA B.1 Promover el desarrollo comercial con un enfoque de desarrollo regional.","Apoyar integralmente los procesos de organización, comercialización y distribución de productos artesanales.",null,null,null,null,null,null,null,null," A. Impulsar una política integral de prevención de la violencia y la delincuencia con énfasis en grupos de alta vulnerabilidad social.","Tabla_44A",null,null,null,"OBJETIVO C. Disminuir la mortalidad infantil y materna, el embarazo en adolescentes, la obesidad, la diabetes y las adicciones."," ",null,null," B.2 Contribuir con la agenda del sector ferroviario en el marco del Plan Nacional de Desarrollo.","Tabla_15B2"]
["1. San Luis Próspero","1.3 Desarrollo Turístico, Comercial, de Servicios y Minería","OBJETIVO C. Diseñar estrategias para la atracción de empresas de alta especialización en servicios.","ESTRATEGIA C.1 Fortalecer esquemas de instalación, incubación y desarrollo de empresas nuevas en sectores de alta tecnología y servicios. ","Promover la atracción de empresas de alta especialización en servicios de administración, comercio exterior, financieros y tecnológicos para el funcionamiento de la industria local.",null,null,null,null,null,null,null,null," B. Generar mecanismos eficientes y claros que brinden apoyo a las víctimas que acudan ante la autoridad a hacer valer sus derechos.","Tabla_44B",null,null,null," C.1 Aplicar y reforzar los programas de prevención y  control de enfermedades y riesgos sanitarios.","Tabla_22C1",null,null," B.2 Establecer los protocolos necesarios para instrumentar acciones que modernicen la impartición y procuración de justicia de acuerdo al nuevo sistema penal acusatorio.","Tabla_42B2"]
["1. San Luis Próspero","1.3 Desarrollo Turístico, Comercial, de Servicios y Minería","OBJETIVO C. Diseñar estrategias para la atracción de empresas de alta especialización en servicios.","ESTRATEGIA C.1 Fortalecer esquemas de instalación, incubación y desarrollo de empresas nuevas en sectores de alta tecnología y servicios. ","Crear condiciones para la instalación de parques tecnológicos que permitan la incubación, desarrollo y crecimiento de empresas de alto valor agregado.",null,null,null,null,null,null,null,null,"4.5. Protección Civil.",null,null,null,null,"2.3. Educación, Cultura y Deporte"," ",null,null," B.2 Fomentar el uso de registros e inventarios municipales para consolidar un sistema de información estatal en materia de emisiones de gases de efecto invernadero.","Tabla_34B2"]
["1. San Luis Próspero","1.3 Desarrollo Turístico, Comercial, de Servicios y Minería","OBJETIVO C. Diseñar estrategias para la atracción de empresas de alta especialización en servicios.","ESTRATEGIA C.1 Fortalecer esquemas de instalación, incubación y desarrollo de empresas nuevas en sectores de alta tecnología y servicios. ","Atraer empresas que contribuyan a la diversificación de sectores dinámicos en conocimiento, y sentar las bases para el desarrollo de sectores de mayor complejidad tecnológica y valor agregado. ",null,null,null,null,null,null,null,null," A. Salvaguardar la integridad de las personas y su patrimonio, ante contingencias naturales o provocadas.","Tabla_45A",null,null,null,"OBJETIVO A. Disminuir el rezago educativo.",null,null,null," B.2 Fortalecer los instrumentos de mejora regulatoria en el Estado para impulsar la competitividad y el desarrollo económico.","Tabla_12B2"]
["1. San Luis Próspero","1.3 Desarrollo Turístico, Comercial, de Servicios y Minería","OBJETIVO D. Promover mayores niveles de inversión y competitividad en el sector minero.","ESTRATEGIA D.1 Impulsar proyectos de minería sustentable en coordinación con organizaciones del sector.","Promover la exploración e industrialización, con mayores niveles de inversión y competitividad para el sector.",null,null,null,null,null,null,null,null," B. Impulsar el diseño, operación y evaluación de estrategias de gestión integral de riesgos.","Tabla_45B",null,null,null," A.1 Generar oportunidades de acceso, permanencia y terminación de estudios para todos los potosinos.","Tabla_23A1",null,null," B.2. Impulsar la estrategia de Gobierno Digital. ","Tabla_54B2"]
["1. San Luis Próspero","1.3 Desarrollo Turístico, Comercial, de Servicios y Minería","OBJETIVO D. Promover mayores niveles de inversión y competitividad en el sector minero.","ESTRATEGIA D.1 Impulsar proyectos de minería sustentable en coordinación con organizaciones del sector.","Proveer información técnica y legal especializada para la gestión de proyectos mineros.",null,null,null,null,null,null,null,null," C. Promover la cultura del autocuidado y la organización comunitaria en materia de protección civil.","Tabla_45C",null,null,null," A.2 Fortalecer la autonomía de la gestión escolar para impulsar la planeación, la mejora educativa y los procesos de evaluación del desempeño.","Tabla_23A2",null,null," B.3 Fortalecer la infraestructura aeroportuaria para consolidarla como centro de conexión de pasajeros y carga de la región.","Tabla_15B3"]
["1. San Luis Próspero","1.3 Desarrollo Turístico, Comercial, de Servicios y Minería","OBJETIVO D. Promover mayores niveles de inversión y competitividad en el sector minero.","ESTRATEGIA D.1 Impulsar proyectos de minería sustentable en coordinación con organizaciones del sector.","Apoyar la minería social a través de capacitación técnica, administrativa y de acceso al financiamiento y a las nuevas tecnologías. ",null,null,null,null,null,null,null,null,"5.1. Gobernabilidad.",null,null,null,null,"OBJETIVO B. Impulsar la formación y la certificación de competencias del personal docente. "," ",null,null," B.3. Establecer una plataforma tecnológica integral, homologada y articulada para fomentar la relación entre la sociedad y gobierno, centrada en el ciudadano como usuario de servicios públicos.","Tabla_54B3"]
["1. San Luis Próspero","1.3 Desarrollo Turístico, Comercial, de Servicios y Minería","OBJETIVO D. Promover mayores niveles de inversión y competitividad en el sector minero.","ESTRATEGIA D.1 Impulsar proyectos de minería sustentable en coordinación con organizaciones del sector.","Promover proyectos de exploración en coordinación con organizaciones relacionadas con las empresas mineras.",null,null,null,null,null,null,null,null," A. Consolidar el sistema democrático a través de la adecuada interlocución con las diferentes fuerzas políticas y organismos de la sociedad civil para fortalecer la gobernabilidad. ","Tabla_51A",null,null,null," B.1 Impulsar la profesionalización basada en competencias, el liderazgo de directivos, y su capacidad para integrarse a la sociedad del conocimiento. ","Tabla_23B1",null,null," C.1 Ampliar las acciones de financiamiento para el desarrollo,  con la participación de los sectores público, privado y social.","Tabla_53C1"]
["1. San Luis Próspero","1.3 Desarrollo Turístico, Comercial, de Servicios y Minería","OBJETIVO D. Promover mayores niveles de inversión y competitividad en el sector minero.","ESTRATEGIA D.1 Impulsar proyectos de minería sustentable en coordinación con organizaciones del sector.","Impulsar la formación de recursos humanos y vincular la investigación y el desarrollo tecnológico con la minería.",null,null,null,null,null,null,null,null,"5.2. Prevención y Combate a la Corrupción. ",null,null,null,null,"OBJETIVO C. Elevar el desempeño escolar con base en la   evaluación de aprendizaje de los alumnos de nivel básico y medio superior."," ",null,null," C.1 Aplicar y reforzar los programas de prevención y  control de enfermedades y riesgos sanitarios.","Tabla_22C1"]
["1. San Luis Próspero","1.4. Desarrollo Agropecuario Y Agroindustrial","OBJETIVO A. Fortalecer la productividad y competitividad de las actividades agropecuarias, promoviendo la diversificación del sector.","ESTRATEGIA A.1 Promover economías de escala en la producción agropecuaria que generen mayor valor agregado.","Impulsar la creación de agroparques con la participación del sector privado y los productores.",null,null,null,null,null,null,null,null," A. Promover principios, valores y criterios de conducta de los  servidores públicos.","Tabla_52A",null,null,null,"  C.1. Orientar la calidad de los aprendizajes para la formación integral en la educación, tomando como referencia los resultados de las evaluaciones.","Tabla_23C1",null,null," C.1 Coordinar acciones para el manejo integral de los residuos peligrosos. ","Tabla_33C1"]
["1. San Luis Próspero","1.4. Desarrollo Agropecuario Y Agroindustrial","OBJETIVO A. Fortalecer la productividad y competitividad de las actividades agropecuarias, promoviendo la diversificación del sector.","ESTRATEGIA A.1 Promover economías de escala en la producción agropecuaria que generen mayor valor agregado.","Promover figuras de organización de productores que fortalezcan la planeación, la producción, el financiamiento y la comercialización.",null,null,null,null,null,null,null,null," B. Disponer de los elementos institucionales para la creación del Nuevo Sistema Estatal Anticorrupción, así como esquemas de auditoría y fiscalización.","Tabla_52B",null,null,null,"OBJETIVO D. Mejorar la calidad de los espacios educativos."," ",null,null," C.1 Establecer canales de comunicación para la difusión de información oportuna y relevante en materia de protección civil, y consolidar acciones de organización comunitaria.","Tabla_45C1"]
["1. San Luis Próspero","1.4. Desarrollo Agropecuario Y Agroindustrial","OBJETIVO A. Fortalecer la productividad y competitividad de las actividades agropecuarias, promoviendo la diversificación del sector.","ESTRATEGIA A.1 Promover economías de escala en la producción agropecuaria que generen mayor valor agregado.","Impulsar esquemas de producción y comercialización como la agricultura por contrato que ofrezca mayor certidumbre a los productores.",null,null,null,null,null,null,null,null,"5.3. Responsabilidad Financiera y Rendición de Cuentas.",null,null,null,null," D.1. Incrementar y mejorar los espacios educativos con infraestructura de calidad y equipamiento para la conectividad.","Tabla_23D1",null,null," C.1 Establecer mecanismos coordinados de prevención de plagas y enfermedades en la actividad agropecuaria.","Tabla_14C1"]
["1. San Luis Próspero","1.4. Desarrollo Agropecuario Y Agroindustrial","OBJETIVO A. Fortalecer la productividad y competitividad de las actividades agropecuarias, promoviendo la diversificación del sector.","ESTRATEGIA A.1 Promover economías de escala en la producción agropecuaria que generen mayor valor agregado.","Fomentar sistemas de proveeduría mediante la transferencia  de prácticas operativas, comerciales y financieras. ",null,null,null,null,null,null,null,null," A. Conducir con responsabilidad y transparencia las finanzas públicas de la entidad.","Tabla_53A",null,null,null,"OBJETIVO E. Preservar y difundir el patrimonio cultural, garantizando el acceso a toda la población, con la participación social y privada."," ",null,null," C.1 Formular los instrumentos técnicos y de gestión ambiental con diagnósticos participativos comunitarios.","Tabla_31C1"]
["1. San Luis Próspero","1.4. Desarrollo Agropecuario Y Agroindustrial","OBJETIVO A. Fortalecer la productividad y competitividad de las actividades agropecuarias, promoviendo la diversificación del sector.","ESTRATEGIA A.1 Promover economías de escala en la producción agropecuaria que generen mayor valor agregado.","Promover la certificación de cultivos orgánicos y la denominación de origen de productos potosinos. ",null,null,null,null,null,null,null,null," B. Alinear los ciclos presupuestales de la federación, el Estado y los municipios para lograr una gestión pública estable y ordenada. ","Tabla_53B",null,null,null," E.1 Incentivar la participación de la sociedad en el fortalecimiento de las identidades de los pueblos originarios y de las comunidades.","Tabla_23E1",null,null," C.1 Fortalecer esquemas de instalación, incubación y desarrollo de empresas nuevas en sectores de alta tecnología y servicios. ","Tabla_13C1"]
["1. San Luis Próspero","1.4. Desarrollo Agropecuario Y Agroindustrial","OBJETIVO A. Fortalecer la productividad y competitividad de las actividades agropecuarias, promoviendo la diversificación del sector.","ESTRATEGIA A.1 Promover economías de escala en la producción agropecuaria que generen mayor valor agregado.","Impulsar la producción para el autoconsumo de alimentos saludables en las zonas rurales más vulnerables y favorecer la comercialización de sus excedentes.",null,null,null,null,null,null,null,null," C. Fortalecer los mecanismos de financiamiento que permitan dar viabilidad al proyecto de desarrollo del Estado.","Tabla_53C",null,null,null," E.2 Promover el desarrollo de habilidades artísticas y culturales, así como el disfrute de la cultura.","Tabla_23E2",null,null," C.1 Fortalecer la cobertura y accesibilidad de los servicios digitales.","Tabla_15C1"]
["1. San Luis Próspero","1.4. Desarrollo Agropecuario Y Agroindustrial","OBJETIVO A. Fortalecer la productividad y competitividad de las actividades agropecuarias, promoviendo la diversificación del sector.","ESTRATEGIA A.1 Promover economías de escala en la producción agropecuaria que generen mayor valor agregado.","Promover la creación de un Centro Agroindustrial y Logístico en la región Media que fortalezca la agricultura protegida, la agroindustria y los servicios de logística para el campo.",null,null,null,null,null,null,null,null,"5.4. Gobierno Abierto e Innovador.",null,null,null,null," E.3 Facilitar el desarrollo cultural sostenible y el desarrollo económico en torno a la cultura.","Tabla_23E3",null,null," C.1 Fortalecer los mecanismos de participación ciudadana para construir, implementar y evaluar políticas públicas bajo sistemas de información con enfoque basado en Derechos Humanos.","Tabla_55C1"]
["1. San Luis Próspero","1.4. Desarrollo Agropecuario Y Agroindustrial","OBJETIVO A. Fortalecer la productividad y competitividad de las actividades agropecuarias, promoviendo la diversificación del sector.","ESTRATEGIA A.1 Promover economías de escala en la producción agropecuaria que generen mayor valor agregado.","Mejorar el desarrollo de la ganadería e impulsar  agroparques en la región Altiplano.",null,null,null,null,null,null,null,null," A. Impulsar políticas y mecanismos de participación, para fortalecer la confianza del ciudadano en las instituciones del Estado.","Tabla_54A",null,null,null,"OBJETIVO F. Impulsar una agenda para vincular educación, cultura y deporte como bienes y servicios al alcance de todos los potosinos."," ",null,null," C.1 Impulsar mecanismos para la formalización del empleo que garantice el acceso a la seguridad social de los trabajadores conforme a lo establecido en la Ley Federal del Trabajo. ","Tabla_11C1"]
["1. San Luis Próspero","1.4. Desarrollo Agropecuario Y Agroindustrial","OBJETIVO A. Fortalecer la productividad y competitividad de las actividades agropecuarias, promoviendo la diversificación del sector.","ESTRATEGIA A.1 Promover economías de escala en la producción agropecuaria que generen mayor valor agregado.","Fortalecer el desarrollo agroindustrial integral en la Huasteca Norte, a partir de sus vocaciones productivas en caña de azúcar, ganadería, oleaginosas, granos básicos, y la tecnificación del riego para elevar la productividad. ",null,null,null,null,null,null,null,null," B. Impulsar procesos de innovación gubernamental. ","Tabla_54B",null,null,null," F.1 Promover el deporte como elemento de formación y contribución a la cultura de la salud.","Tabla_23F1",null,null," C.1 Modernizar la estructura organizacional de las instituciones de seguridad pública y su marco normativo.","Tabla_41C1"]
["1. San Luis Próspero","1.4. Desarrollo Agropecuario Y Agroindustrial","OBJETIVO A. Fortalecer la productividad y competitividad de las actividades agropecuarias, promoviendo la diversificación del sector.","ESTRATEGIA A.1 Promover economías de escala en la producción agropecuaria que generen mayor valor agregado.","Mejorar los sistemas de producción de la Huasteca Sur en citricultura, café, piloncillo, vainilla, fruticultura, apicultura, floricultura, productos orgánicos, desarrollo forestal, acuacultura y servicios para la distribución y comercialización.",null,null,null,null,null,null,null,null," C. Desarrollar sistemas de transparencia en la administración pública estatal. ","Tabla_54C",null,null,null,"OBJETIVO G. Impulsar el deporte de alto rendimiento en las diferentes disciplinas."," ",null,null," C.1 Vincular el uso de nuevas tecnologías en los procesos de potabilización, uso y tratamiento del agua. ","Tabla_32C1"]
["1. San Luis Próspero","1.4. Desarrollo Agropecuario Y Agroindustrial","OBJETIVO A. Fortalecer la productividad y competitividad de las actividades agropecuarias, promoviendo la diversificación del sector.","ESTRATEGIA A.1 Promover economías de escala en la producción agropecuaria que generen mayor valor agregado.","Fomentar el desarrollo de capacidades de comercialización directa en los centros de distribución y de consumo.",null,null,null,null,null,null,null,null," D. Rendir cuentas a la sociedad sobre del uso y manejo de los recursos públicos.","Tabla_54D",null,null,null," G.1 Establecer mecanismos para que talentos y prospectos deportivos eleven su rendimiento y dispongan de entrenadores, infraestructura  y estímulos económicos.","Tabla_23G1",null,null," C.1. Asegurar que la información pública sea accesible y se difunda con claridad, sencillez y oportunidad al ciudadano.","Tabla_54C1"]
["1. San Luis Próspero","1.4. Desarrollo Agropecuario Y Agroindustrial","OBJETIVO A. Fortalecer la productividad y competitividad de las actividades agropecuarias, promoviendo la diversificación del sector.","ESTRATEGIA A.1 Promover economías de escala en la producción agropecuaria que generen mayor valor agregado.","Prevenir riesgos para la producción agropecuaria, a través de la red de estaciones agroclimatológicas. ",null,null,null,null,null,null,null,null,"5.5. Derechos Humanos.",null,null,null,null,"2.4. Políticas de Equidad"," ",null,null," C.2 Incentivar el autoempleo en sectores de la población con limitado acceso a oportunidades de empleo formal.","Tabla_11C2"]
["1. San Luis Próspero","1.4. Desarrollo Agropecuario Y Agroindustrial","OBJETIVO A. Fortalecer la productividad y competitividad de las actividades agropecuarias, promoviendo la diversificación del sector.","ESTRATEGIA A.2 Instrumentar acciones coordinadas para el aprovechamiento del potencial forestal de las cuatro regiones.","Promover proyectos para la incorporación de superficies con recursos forestales maderables y no maderables.",null,null,null,null,null,null,null,null," A. Lograr la efectiva implementación de la Reforma Constitucional y reforzar la prevención de violaciones de Derechos Humanos.","Tabla_55A",null,null,null,"OBJETIVO A.  Impulsar políticas de equidad que garanticen a todos los potosinos el pleno ejercicio de sus derechos sociales.  "," ",null,null," C.2. Fortalecer la infraestructura y equipamiento de seguridad pública.","Tabla_41C2"]
["1. San Luis Próspero","1.4. Desarrollo Agropecuario Y Agroindustrial","OBJETIVO A. Fortalecer la productividad y competitividad de las actividades agropecuarias, promoviendo la diversificación del sector.","ESTRATEGIA A.2 Instrumentar acciones coordinadas para el aprovechamiento del potencial forestal de las cuatro regiones.","Incentivar la actividad forestal y promover la capacitación y asistencia técnica. ",null,null,null,null,null,null,null,null," B. Garantizar el ejercicio, goce y protección de los Derechos Humanos a través de la implementación de acciones en planes institucionales y mecanismos de coordinación interinstitucional.","Tabla_55B",null,null,null," A.1 Fomentar la igualdad social y aumentar el acceso de todos los potosinos a educación, salud y bienestar.","Tabla_24A1",null,null," D.1 Desarrollar proyectos que fortalezcan los sistemas y procesos de rendición de cuentas.","Tabla_54D1"]
["1. San Luis Próspero","1.4. Desarrollo Agropecuario Y Agroindustrial","OBJETIVO B. Modernizar la actividad productiva en el sector rural, que incremente el volumen y valor de la producción.","ESTRATEGIA B.1 Impulsar la creación de infraestructura y acciones de capacitación e innovación en el campo.","Mejorar la infraestructura y las técnicas de irrigación para el aprovechamiento sustentable del agua. ",null,null,null,null,null,null,null,null," C. Crear esquemas de participación social para la construcción de políticas públicas y sistemas de información en materia de Derechos Humanos.","Tabla_55C",null,null,null," A.2 Elevar el nivel de escolaridad de los jóvenes y favorecer su incorporación al mercado laboral, atender sus necesidades de salud y ampliar su acceso al deporte y la cultura.","Tabla_24A2",null,null," D.1 Implementar protocolos comunitarios para la prevención y el control de incendios forestales, reforzando la infraestructura y equipamiento para la alerta y la respuesta oportuna.","Tabla_31D1"]
["1. San Luis Próspero","1.4. Desarrollo Agropecuario Y Agroindustrial","OBJETIVO B. Modernizar la actividad productiva en el sector rural, que incremente el volumen y valor de la producción.","ESTRATEGIA B.1 Impulsar la creación de infraestructura y acciones de capacitación e innovación en el campo.","Ampliar la transferencia de ciencia y tecnología de los centros de producción exitosos y de las instituciones de investigación a los productores privados y sociales. ",null,null,null,null,null,null,null,null,null,null,null,null,null," A.3 Impulsar programas dirigidos a promover los derechos y libertades de las mujeres.","Tabla_24A3",null,null," D.1 Impulsar proyectos de minería sustentable en coordinación con organizaciones del sector.","Tabla_13D1"]
["1. San Luis Próspero","1.4. Desarrollo Agropecuario Y Agroindustrial","OBJETIVO B. Modernizar la actividad productiva en el sector rural, que incremente el volumen y valor de la producción.","ESTRATEGIA B.1 Impulsar la creación de infraestructura y acciones de capacitación e innovación en el campo.","Implementar la agricultura de precisión especialmente en el cultivo de caña de azúcar.",null,null,null,null,null,null,null,null,"ORDENADO:",null,null,null,null," A.4 Desarrollar políticas que propicien la integración social y productiva de los adultos mayores y las personas con discapacidad. ","Tabla_24A4",null,null," D.1 Mantener la paz laboral que permita la atracción de mayor inversión. ","Tabla_11D1"]
["1. San Luis Próspero","1.4. Desarrollo Agropecuario Y Agroindustrial","OBJETIVO C. Asegurar estándares de sanidad, calidad e inocuidad agroalimentaria. ","ESTRATEGIA C.1 Establecer mecanismos coordinados de prevención de plagas y enfermedades en la actividad agropecuaria.","Contar con un plan de inspección y vigilancia para detectar amenazas a la sanidad vegetal y animal.",null,null,null,null,null,null,null,null,"1.1. Más y Mejores Empleos",null,null,null,null," A.5 Fortalecer los vínculos entre los migrantes y sus comunidades de origen que permitan concretar acciones de beneficio social.","Tabla_24A5",null,null," D.1 Modernizar y rehabilitar la infraestructura hidroagrícola e industrial.","Tabla_32D1"]
["1. San Luis Próspero","1.4. Desarrollo Agropecuario Y Agroindustrial","OBJETIVO C. Asegurar estándares de sanidad, calidad e inocuidad agroalimentaria. ","ESTRATEGIA C.1 Establecer mecanismos coordinados de prevención de plagas y enfermedades en la actividad agropecuaria.","Crear mecanismos de gestión del riesgo que otorguen certidumbre en la actividad agroalimentaria y forestal.",null,null,null,null,null,null,null,null,"1.2. Impulso al Desarrollo Industrial",null,null,null,null,"OBJETIVO B. Avanzar en el desarrollo de los pueblos indígenas para que puedan ejercer plenamente su derecho a un desarrollo integral."," ",null,null," D.1. Incrementar y mejorar los espacios educativos con infraestructura de calidad y equipamiento para la conectividad.","Tabla_23D1"]
["1. San Luis Próspero","1.4. Desarrollo Agropecuario Y Agroindustrial","OBJETIVO C. Asegurar estándares de sanidad, calidad e inocuidad agroalimentaria. ","ESTRATEGIA C.1 Establecer mecanismos coordinados de prevención de plagas y enfermedades en la actividad agropecuaria.","Aplicar medidas para la reducción de riesgos en las unidades de producción, para generar alimentos inocuos y de mejor calidad.",null,null,null,null,null,null,null,null,"1.3 Desarrollo Turístico, Comercial, de Servicios y Minería",null,null,null,null," B.1 Ampliar la cobertura de beneficios sociales, mediante proyectos, programas y acciones con respeto a sus tradiciones y cultura.","Tabla_24B1",null,null," E.1 Incentivar la participación de la sociedad en el fortalecimiento de las identidades de los pueblos originarios y de las comunidades.","Tabla_23E1"]
["1. San Luis Próspero","1.4. Desarrollo Agropecuario Y Agroindustrial","OBJETIVO C. Asegurar estándares de sanidad, calidad e inocuidad agroalimentaria. ","ESTRATEGIA C.1 Establecer mecanismos coordinados de prevención de plagas y enfermedades en la actividad agropecuaria.","Avanzar en materia de sanidad para acceder a certificaciones que nos inserten en nuevos mercados.",null,null,null,null,null,null,null,null,"1.4. Desarrollo Agropecuario Y Agroindustrial",null,null,null,null,"3.1. Recursos Forestales, Conservación de Suelos y Biodiversidad."," ",null,null," E.2 Promover el desarrollo de habilidades artísticas y culturales, así como el disfrute de la cultura.","Tabla_23E2"]
["1. San Luis Próspero","1.4. Desarrollo Agropecuario Y Agroindustrial","OBJETIVO C. Asegurar estándares de sanidad, calidad e inocuidad agroalimentaria. ","ESTRATEGIA C.1 Establecer mecanismos coordinados de prevención de plagas y enfermedades en la actividad agropecuaria.","Impulsar un sistema estatal de información que fortalezca la base del conocimiento en inocuidad agropecuaria para mejorar la competitividad de los productos potosinos.",null,null,null,null,null,null,null,null,"1.5. Infraestructura, Desarrollo Urbano Y Movilidad",null,null,null,null,"OBJETIVO A. Preservar el patrimonio natural de los potosinos."," ",null,null," E.3 Facilitar el desarrollo cultural sostenible y el desarrollo económico en torno a la cultura.","Tabla_23E3"]
["1. San Luis Próspero","1.5. Infraestructura, Desarrollo Urbano Y Movilidad","OBJETIVO A. Fortalecer un desarrollo regional, urbano y metropolitano sustentable, que promueva la inversión productiva y el empleo.","ESTRATEGIA A.1 Regular el crecimiento de las zonas urbanas de acuerdo con las normas vigentes.","Impulsar una cartera de proyectos estratégicos de alto impacto social y económico, con la colaboración público privada.",null,null,null,null,null,null,null,null,"2.1. Combate a la Pobreza",null,null,null,null," A.1 Mantener y preservar el patrimonio natural en todas las regiones para asegurar un desarrollo sustentable y contribuir a mejorar la calidad de vida de la población.","Tabla_31A1",null,null," F.1 Promover el deporte como elemento de formación y contribución a la cultura de la salud.","Tabla_23F1"]
["1. San Luis Próspero","1.5. Infraestructura, Desarrollo Urbano Y Movilidad","OBJETIVO A. Fortalecer un desarrollo regional, urbano y metropolitano sustentable, que promueva la inversión productiva y el empleo.","ESTRATEGIA A.1 Regular el crecimiento de las zonas urbanas de acuerdo con las normas vigentes.","Recuperar, conservar y proyectar el Centro Histórico de la ciudad Capital con la participación de la sociedad.",null,null,null,null,null,null,null,null,"2.2. Salud y Alimentación",null,null,null,null,"OBJETIVO B. Incrementar la superficie de Áreas Naturales Protegidas."," ",null,null," G.1 Establecer mecanismos para que talentos y prospectos deportivos eleven su rendimiento y dispongan de entrenadores, infraestructura  y estímulos económicos.","Tabla_23G1"]
["1. San Luis Próspero","1.5. Infraestructura, Desarrollo Urbano Y Movilidad","OBJETIVO A. Fortalecer un desarrollo regional, urbano y metropolitano sustentable, que promueva la inversión productiva y el empleo.","ESTRATEGIA A.1 Regular el crecimiento de las zonas urbanas de acuerdo con las normas vigentes.","Fortalecer el marco legal y administrativo con un nuevo enfoque coordinado de gestión pública para la Zona Metropolitana.",null,null,null,null,null,null,null,null,"2.3. Educación, Cultura y Deporte",null,null,null,null," B.1 Realizar gestiones técnico-institucionales para lograr el incremento de la superficie de Áreas Naturales Protegidas. ","Tabla_31B1"]
["1. San Luis Próspero","1.5. Infraestructura, Desarrollo Urbano Y Movilidad","OBJETIVO A. Fortalecer un desarrollo regional, urbano y metropolitano sustentable, que promueva la inversión productiva y el empleo.","ESTRATEGIA A.1 Regular el crecimiento de las zonas urbanas de acuerdo con las normas vigentes.","Fortalecer la movilidad en los centros urbanos, con mejor infraestructura de vialidades y la conservación de las existentes.",null,null,null,null,null,null,null,null,"2.4. Políticas de Equidad",null,null,null,null,"OBJETIVO C. Implementar el Ordenamiento Ecológico como un modelo de intervención institucional para la protección y gestión de los ecosistemas en las regiones."," "]
["1. San Luis Próspero","1.5. Infraestructura, Desarrollo Urbano Y Movilidad","OBJETIVO A. Fortalecer un desarrollo regional, urbano y metropolitano sustentable, que promueva la inversión productiva y el empleo.","ESTRATEGIA A.2 Fortalecer el programa estatal de capacitación y acompañamiento técnico y normativo a los ayuntamientos.","Ofrecer asesoría a los municipios para dar acompañamiento técnico en el programa de reubicación de asentamientos humanos en zonas de riesgo, así como en materia de regularización de la tenencia de la tierra, de suelo y reservas territoriales para el desarrollo urbano y la vivienda.",null,null,null,null,null,null,null,null,"3.1. Recursos Forestales, Conservación de Suelos y Biodiversidad.",null,null,null,null," C.1 Formular los instrumentos técnicos y de gestión ambiental con diagnósticos participativos comunitarios.","Tabla_31C1"]
["1. San Luis Próspero","1.5. Infraestructura, Desarrollo Urbano Y Movilidad","OBJETIVO A. Fortalecer un desarrollo regional, urbano y metropolitano sustentable, que promueva la inversión productiva y el empleo.","ESTRATEGIA A.2 Fortalecer el programa estatal de capacitación y acompañamiento técnico y normativo a los ayuntamientos.","Crear reservas territoriales y diseñar políticas públicas que optimicen el uso de infraestructura y servicios públicos.",null,null,null,null,null,null,null,null,"3.2. Agua y Reservas Hidrológicas. ",null,null,null,null,"OBJETIVO D. Prevenir, controlar y combatir los incendios forestales. "," "]
["1. San Luis Próspero","1.5. Infraestructura, Desarrollo Urbano Y Movilidad","OBJETIVO A. Fortalecer un desarrollo regional, urbano y metropolitano sustentable, que promueva la inversión productiva y el empleo.","ESTRATEGIA A.2 Fortalecer el programa estatal de capacitación y acompañamiento técnico y normativo a los ayuntamientos.","Trabajar con las delegaciones federales y los municipios para apoyar la cartera de proyectos en infraestructura básica.",null,null,null,null,null,null,null,null,"3.3. Gestión Integral de Residuos.",null,null,null,null," D.1 Implementar protocolos comunitarios para la prevención y el control de incendios forestales, reforzando la infraestructura y equipamiento para la alerta y la respuesta oportuna.","Tabla_31D1"]
["1. San Luis Próspero","1.5. Infraestructura, Desarrollo Urbano Y Movilidad","OBJETIVO A. Fortalecer un desarrollo regional, urbano y metropolitano sustentable, que promueva la inversión productiva y el empleo.","ESTRATEGIA A.3 Diseñar esquemas de colaboración y participación para fomentar el desarrollo regional urbano y actualizar los instrumentos de planeación.","Revisar el estatus, las vigencias del conjunto de planes del sistema estatal de planeación urbana y promover su actualización.",null,null,null,null,null,null,null,null,"3.4. Cambio Climático y Energías Renovables.",null,null,null,null,"3.2. Agua y Reservas Hidrológicas. "," "]
["1. San Luis Próspero","1.5. Infraestructura, Desarrollo Urbano Y Movilidad","OBJETIVO A. Fortalecer un desarrollo regional, urbano y metropolitano sustentable, que promueva la inversión productiva y el empleo.","ESTRATEGIA A.3 Diseñar esquemas de colaboración y participación para fomentar el desarrollo regional urbano y actualizar los instrumentos de planeación.","Impulsar la agenda metropolitana de desarrollo urbano y gestión sustentable, acorde al marco normativo y de planeación.",null,null,null,null,null,null,null,null,"4.1. Seguridad Pública.",null,null,null,null,"OBJETIVO A. Promover el manejo integral y sustentable del agua desde una perspectiva de cuencas."," "]
["1. San Luis Próspero","1.5. Infraestructura, Desarrollo Urbano Y Movilidad","OBJETIVO A. Fortalecer un desarrollo regional, urbano y metropolitano sustentable, que promueva la inversión productiva y el empleo.","ESTRATEGIA A.4 Ampliar y fortalecer la movilidad de los diferentes modos de transporte y comunicaciones.","Ejecutar el Plan Integral de Movilidad Urbana Sustentable en la Zona Metropolitana.",null,null,null,null,null,null,null,null,"4.2. Procuración de Justicia. ",null,null,null,null," A.1. Crear los mecanismos que contribuyan a un mejor manejo y gestión integral del recurso hídrico en las regiones.","Tabla_32A1"]
["1. San Luis Próspero","1.5. Infraestructura, Desarrollo Urbano Y Movilidad","OBJETIVO A. Fortalecer un desarrollo regional, urbano y metropolitano sustentable, que promueva la inversión productiva y el empleo.","ESTRATEGIA A.4 Ampliar y fortalecer la movilidad de los diferentes modos de transporte y comunicaciones.","Modernizar y rehabilitar las principales avenidas y bulevares de la Zona Metropolitana para agilizar el tráfico vehicular.",null,null,null,null,null,null,null,null,"4.3. Reinserción Social.",null,null,null,null,"OBJETIVO B. Incrementar la capacidad de tratamiento de aguas residuales y promover su reúso."," "]
["1. San Luis Próspero","1.5. Infraestructura, Desarrollo Urbano Y Movilidad","OBJETIVO A. Fortalecer un desarrollo regional, urbano y metropolitano sustentable, que promueva la inversión productiva y el empleo.","ESTRATEGIA A.4 Ampliar y fortalecer la movilidad de los diferentes modos de transporte y comunicaciones.","Integrar la movilidad sustentable en el ordenamiento del territorio y en la planeación urbana, y desarrollar mecanismos de coordinación y cooperación administrativa.",null,null,null,null,null,null,null,null,"4.4. Prevención de la Delincuencia y Atención a Víctimas.",null,null,null,null," B.1 Construir, rehabilitar y modernizar la infraestructura para el  tratamiento del agua. ","Tabla_32B1"]
["1. San Luis Próspero","1.5. Infraestructura, Desarrollo Urbano Y Movilidad","OBJETIVO A. Fortalecer un desarrollo regional, urbano y metropolitano sustentable, que promueva la inversión productiva y el empleo.","ESTRATEGIA A.4 Ampliar y fortalecer la movilidad de los diferentes modos de transporte y comunicaciones.","Coordinar acciones con los municipios que conforman la Zona Metropolitana para implementar nuevas obras de vialidad.",null,null,null,null,null,null,null,null,"4.5. Protección Civil.",null,null,null,null,"OBJETIVO C. Promover el desarrollo y difusión de tecnologías más efectivas  y eficientes para la potabilización, uso y tratamiento del agua."," "]
["1. San Luis Próspero","1.5. Infraestructura, Desarrollo Urbano Y Movilidad","OBJETIVO A. Fortalecer un desarrollo regional, urbano y metropolitano sustentable, que promueva la inversión productiva y el empleo.","ESTRATEGIA A.4 Ampliar y fortalecer la movilidad de los diferentes modos de transporte y comunicaciones.","Normar la introducción de la movilidad sustentable en los nuevos desarrollos habitacionales, industriales y de servicios. ",null,null,null,null,null,null,null,null,"5.1. Gobernabilidad.",null,null,null,null," C.1 Vincular el uso de nuevas tecnologías en los procesos de potabilización, uso y tratamiento del agua. ","Tabla_32C1"]
["1. San Luis Próspero","1.5. Infraestructura, Desarrollo Urbano Y Movilidad","OBJETIVO A. Fortalecer un desarrollo regional, urbano y metropolitano sustentable, que promueva la inversión productiva y el empleo.","ESTRATEGIA A.4 Ampliar y fortalecer la movilidad de los diferentes modos de transporte y comunicaciones.","Impulsar la infraestructura necesaria para las opciones de transporte no motorizado.",null,null,null,null,null,null,null,null,"5.2. Prevención y Combate a la Corrupción. ",null,null,null,null,"OBJETIVO D. Propiciar el uso eficiente del agua en las actividades agrícolas  e industriales."," "]
["1. San Luis Próspero","1.5. Infraestructura, Desarrollo Urbano Y Movilidad","OBJETIVO B. Mejorar la infraestructura de conectividad bajo criterios estratégicos y de eficiencia.","ESTRATEGIA B.1 Promover con los tres órdenes de gobierno, la modernización de la infraestructura carretera y de caminos.","Consolidar los ejes troncales del Estado.",null,null,null,null,null,null,null,null,"5.3. Responsabilidad Financiera y Rendición de Cuentas.",null,null,null,null," D.1 Modernizar y rehabilitar la infraestructura hidroagrícola e industrial.","Tabla_32D1"]
["1. San Luis Próspero","1.5. Infraestructura, Desarrollo Urbano Y Movilidad","OBJETIVO B. Mejorar la infraestructura de conectividad bajo criterios estratégicos y de eficiencia.","ESTRATEGIA B.1 Promover con los tres órdenes de gobierno, la modernización de la infraestructura carretera y de caminos.","Construir  y modernizar caminos y carreteras que fortalezcan los  intercambios económicos y sociales entre las comunidades. ",null,null,null,null,null,null,null,null,"5.4. Gobierno Abierto e Innovador.",null,null,null,null,"3.3. Gestión Integral de Residuos."," "]
["1. San Luis Próspero","1.5. Infraestructura, Desarrollo Urbano Y Movilidad","OBJETIVO B. Mejorar la infraestructura de conectividad bajo criterios estratégicos y de eficiencia.","ESTRATEGIA B.1 Promover con los tres órdenes de gobierno, la modernización de la infraestructura carretera y de caminos.","Impulsar la modernización de la infraestructura carretera entre la Huasteca Norte y Sur.",null,null,null,null,null,null,null,null,"5.5. Derechos Humanos.",null,null,null,null,"OBJETIVO A. Promover con los municipios la gestión de manejo y disposición de residuos sólidos urbanos, conforme a la normatividad vigente."," "]
["1. San Luis Próspero","1.5. Infraestructura, Desarrollo Urbano Y Movilidad","OBJETIVO B. Mejorar la infraestructura de conectividad bajo criterios estratégicos y de eficiencia.","ESTRATEGIA B.1 Promover con los tres órdenes de gobierno, la modernización de la infraestructura carretera y de caminos.","Promover las conexiones carreteras entre la Huasteca Potosina y el puerto de Altamira, Tamaulipas.",null,null,null,null,null,null,null,null," A.  Consolidar el desarrollo industrial, como palanca para atracción de inversiones y creación de nuevas fuentes de trabajo.","Tabla_12A",null,null,null," A.1 Establecer convenios de coordinación intermunicipal para el manejo integral de los residuos sólidos. ","Tabla_33A1"]
["1. San Luis Próspero","1.5. Infraestructura, Desarrollo Urbano Y Movilidad","OBJETIVO B. Mejorar la infraestructura de conectividad bajo criterios estratégicos y de eficiencia.","ESTRATEGIA B.1 Promover con los tres órdenes de gobierno, la modernización de la infraestructura carretera y de caminos.","Impulsar la conservación y construcción de puentes vehiculares.",null,null,null,null,null,null,null,null," A.  Impulsar políticas de equidad que garanticen a todos los potosinos el pleno ejercicio de sus derechos sociales.  ","Tabla_24A",null,null,null,"OBJETIVO B. Promover con los municipios la gestión de manejo y disposición de residuos de manejo especial. "," "]
["1. San Luis Próspero","1.5. Infraestructura, Desarrollo Urbano Y Movilidad","OBJETIVO B. Mejorar la infraestructura de conectividad bajo criterios estratégicos y de eficiencia.","ESTRATEGIA B.1 Promover con los tres órdenes de gobierno, la modernización de la infraestructura carretera y de caminos.","·        Desarrollar estudios y proyectos de infraestructura con los organismos empresariales de la industria de la construcción.",null,null,null,null,null,null,null,null," A. Abatir la pobreza en todas sus manifestaciones.","Tabla_21A",null,null,null," B.1. Establecer convenios de coordinación para el tratamiento integral de los residuos de manejo especial.","Tabla_33B1"]
["1. San Luis Próspero","1.5. Infraestructura, Desarrollo Urbano Y Movilidad","OBJETIVO B. Mejorar la infraestructura de conectividad bajo criterios estratégicos y de eficiencia.","ESTRATEGIA B.2 Contribuir con la agenda del sector ferroviario en el marco del Plan Nacional de Desarrollo.","Promover la construcción de nuevos tramos ferroviarios, libramientos, acortamientos y relocalización de vías férreas que permitan conectar nodos del sistema nacional de plataformas logísticas.",null,null,null,null,null,null,null,null," A. Conducir con responsabilidad y transparencia las finanzas públicas de la entidad.","Tabla_53A",null,null,null,"OBJETIVO C. Aplicar la normatividad para lograr un eficaz manejo y disposición de los residuos peligrosos."," "]
["1. San Luis Próspero","1.5. Infraestructura, Desarrollo Urbano Y Movilidad","OBJETIVO B. Mejorar la infraestructura de conectividad bajo criterios estratégicos y de eficiencia.","ESTRATEGIA B.2 Contribuir con la agenda del sector ferroviario en el marco del Plan Nacional de Desarrollo.","Actualizar los programas de conservación y modernización de vías férreas y puentes, para mantener la infraestructura sobre la que circulan los trenes.",null,null,null,null,null,null,null,null," A. Consolidar el sistema democrático a través de la adecuada interlocución con las diferentes fuerzas políticas y organismos de la sociedad civil para fortalecer la gobernabilidad. ","Tabla_51A",null,null,null," C.1 Coordinar acciones para el manejo integral de los residuos peligrosos. ","Tabla_33C1"]
["1. San Luis Próspero","1.5. Infraestructura, Desarrollo Urbano Y Movilidad","OBJETIVO B. Mejorar la infraestructura de conectividad bajo criterios estratégicos y de eficiencia.","ESTRATEGIA B.2 Contribuir con la agenda del sector ferroviario en el marco del Plan Nacional de Desarrollo.","Promover un programa integral de seguridad ferroviaria.",null,null,null,null,null,null,null,null," A. Disminuir el rezago educativo.","Tabla_23A",null,null,null,"3.4. Cambio Climático y Energías Renovables."," "]
["1. San Luis Próspero","1.5. Infraestructura, Desarrollo Urbano Y Movilidad","OBJETIVO B. Mejorar la infraestructura de conectividad bajo criterios estratégicos y de eficiencia.","ESTRATEGIA B.3 Fortalecer la infraestructura aeroportuaria para consolidarla como centro de conexión de pasajeros y carga de la región.","Desarrollar la infraestructura aeroportuaria y mejorar su interconexión bajo esquemas que garanticen su operación y conservación eficiente, así como su rentabilidad operativa.",null,null,null,null,null,null,null,null," A. Elaborar instrumentos técnicos que orienten las políticas estatales sobre el Cambio Climático.","Tabla_34A",null,null,null,"OBJETIVO A. Elaborar instrumentos técnicos que orienten las políticas estatales sobre el Cambio Climático."," "]
["1. San Luis Próspero","1.5. Infraestructura, Desarrollo Urbano Y Movilidad","OBJETIVO B. Mejorar la infraestructura de conectividad bajo criterios estratégicos y de eficiencia.","ESTRATEGIA B.3 Fortalecer la infraestructura aeroportuaria para consolidarla como centro de conexión de pasajeros y carga de la región.","Promover la certificación del aeropuerto Ponciano Arriaga con base en estándares internacionales.",null,null,null,null,null,null,null,null," A. Fortalecer el sistema penitenciario estatal y las medidas de prevención para menores infractores, mejorando","Tabla_43A",null,null,null," A.1 Establecer la agenda estatal de cambio climático, con la participación de los municipios y de los sectores de la sociedad.","Tabla_34A1"]
["1. San Luis Próspero","1.5. Infraestructura, Desarrollo Urbano Y Movilidad","OBJETIVO C. Coordinar esfuerzos con la Federación para que mediante inversiones privadas se garantice cobertura y accesibilidad de los servicios digitales.","ESTRATEGIA C.1 Fortalecer la cobertura y accesibilidad de los servicios digitales.","Fortalecer la red de centros comunitarios de capacitación y educación digital.",null,null,null,null,null,null,null,null," A. Fortalecer la coordinación interinstitucional y de colaboración con la ciudadanía para reducir la inseguridad.","Tabla_41A",null,null,null,"OBJETIVO B. Mitigar los efectos del cambio climático con acciones que aumenten las oportunidades de desarrollo, la innovación tecnológica y el uso de energías limpias."," "]
["1. San Luis Próspero","1.5. Infraestructura, Desarrollo Urbano Y Movilidad","OBJETIVO C. Coordinar esfuerzos con la Federación para que mediante inversiones privadas se garantice cobertura y accesibilidad de los servicios digitales.","ESTRATEGIA C.1 Fortalecer la cobertura y accesibilidad de los servicios digitales.","Promover la ampliación de la cobertura de telefonía e internet en coordinación con el Gobierno Federal.",null,null,null,null,null,null,null,null," A. Fortalecer la productividad y competitividad de las actividades agropecuarias, promoviendo la diversificación del sector.","Tabla_14A",null,null,null," B.1 Actualizar y supervisar el inventario de emisiones de gases de efecto invernadero e impulsar las acciones orientadas a mitigar los efectos del cambio climático. ","Tabla_34B1"]
["1. San Luis Próspero","1.5. Infraestructura, Desarrollo Urbano Y Movilidad","OBJETIVO C. Coordinar esfuerzos con la Federación para que mediante inversiones privadas se garantice cobertura y accesibilidad de los servicios digitales.","ESTRATEGIA C.1 Fortalecer la cobertura y accesibilidad de los servicios digitales.","Ampliar el acceso a la tecnología digital y a los servicios de telecomunicaciones de la población rural.",null,null,null,null,null,null,null,null," A. Fortalecer un desarrollo regional, urbano y metropolitano sustentable, que promueva la inversión productiva y el empleo.","Tabla_15A",null,null,null," B.2 Fomentar el uso de registros e inventarios municipales para consolidar un sistema de información estatal en materia de emisiones de gases de efecto invernadero.","Tabla_34B2"]
["1. San Luis Próspero","1.5. Infraestructura, Desarrollo Urbano Y Movilidad","OBJETIVO C. Coordinar esfuerzos con la Federación para que mediante inversiones privadas se garantice cobertura y accesibilidad de los servicios digitales.","ESTRATEGIA C.1 Fortalecer la cobertura y accesibilidad de los servicios digitales.","Impulsar el programa de conectividad a los servicios de banda ancha para asegurar el acceso a Internet con fines de investigación, educación y salud a toda la población.",null,null,null,null,null,null,null,null," A. Garantizar un Sistema de Justicia Penal eficaz, expedito, imparcial y transparente.","Tabla_42A",null,null,null,"4.1. Seguridad Pública."," "]
["2. San Luis Incluyente","2.1. Combate a la Pobreza","OBJETIVO A. Abatir la pobreza en todas sus manifestaciones.","ESTRATEGIA A.1 Disminuir el rezago educativo.","Impulsar programas de becas, útiles escolares, uniformes, materiales didácticos y otros apoyos que contribuyan a que todos los niños en edad escolar, asistan, permanezcan y finalicen su educación básica.",null,null,null,null,null,null,null,null," A. Impulsar el desarrollo de la oferta turística para el crecimiento del sector, aprovechando las potencialidades regionales y con ello generar una mayor derrama económica en la Entidad.","Tabla_13A",null,null,null,"OBJETIVO A. Fortalecer la coordinación interinstitucional y de colaboración con la ciudadanía para reducir la inseguridad."," "]
["2. San Luis Incluyente","2.1. Combate a la Pobreza","OBJETIVO A. Abatir la pobreza en todas sus manifestaciones.","ESTRATEGIA A.1 Disminuir el rezago educativo.","Implementar programas de certificación en primaria y secundaria  para las personas mayores de 16 años que no la concluyeron.",null,null,null,null,null,null,null,null," A. Impulsar la ocupación laboral con  empleos de calidad.","Tabla_11A",null,null,null," A.1 Promover una mayor coordinación operativa y de inteligencia entre los tres órdenes de gobierno.","Tabla_41A1"]
["2. San Luis Incluyente","2.1. Combate a la Pobreza","OBJETIVO A. Abatir la pobreza en todas sus manifestaciones.","ESTRATEGIA A.2 Asegurar el acceso efectivo a los servicios de salud.","Promover y concretar el acceso de todos los potosinos al Sistema de Salud.",null,null,null,null,null,null,null,null," A. Impulsar políticas y mecanismos de participación, para fortalecer la confianza del ciudadano en las instituciones del Estado.","Tabla_54A",null,null,null,"OBJETIVO B. Impulsar la profesionalización de las fuerzas de seguridad, con capacitación y formación, para lograr un mejor desempeño en la función policial."," "]
["2. San Luis Incluyente","2.1. Combate a la Pobreza","OBJETIVO A. Abatir la pobreza en todas sus manifestaciones.","ESTRATEGIA A.2 Asegurar el acceso efectivo a los servicios de salud.","Proseguir la afiliación al Seguro Popular de la población sin acceso a servicios de salud.",null,null,null,null,null,null,null,null," A. Impulsar una política integral de prevención de la violencia y la delincuencia con énfasis en grupos de alta vulnerabilidad social.","Tabla_44A",null,null,null," B.1 Fortalecer la capacitación y especialización en el marco de una política integral de desarrollo policial. ","Tabla_41B1"]
["2. San Luis Incluyente","2.1. Combate a la Pobreza","OBJETIVO A. Abatir la pobreza en todas sus manifestaciones.","ESTRATEGIA A.3 Aumentar la cobertura de la seguridad social.","Promover el empleo rural y urbano, con protección contra riesgos laborales y con acceso a mecanismos formales de seguridad social.",null,null,null,null,null,null,null,null," A. Lograr la efectiva implementación de la Reforma Constitucional y reforzar la prevención de violaciones de Derechos Humanos.","Tabla_55A",null,null,null,"OBJETIVO C. Fortalecer la infraestructura institucional y los protocolos de actuación policial, y modernizar los procesos para afrontar los nuevos retos de seguridad pública."," "]
["2. San Luis Incluyente","2.1. Combate a la Pobreza","OBJETIVO A. Abatir la pobreza en todas sus manifestaciones.","ESTRATEGIA A.3 Aumentar la cobertura de la seguridad social.","Afiliar al Programa de Pensión para Adultos Mayores a la población mayor de 65 años que no cuenta con seguridad social.",null,null,null,null,null,null,null,null," A. Preservar el patrimonio natural de los potosinos.","Tabla_31A",null,null,null," C.1 Modernizar la estructura organizacional de las instituciones de seguridad pública y su marco normativo.","Tabla_41C1"]
["2. San Luis Incluyente","2.1. Combate a la Pobreza","OBJETIVO A. Abatir la pobreza en todas sus manifestaciones.","ESTRATEGIA A.4 Mejorar la calidad y espacios de las viviendas.","Desarrollar mecanismos que permitan el acceso de la población de menores ingresos a una vivienda digna. ",null,null,null,null,null,null,null,null," A. Promover actitudes y conductas que favorezcan una vida sana.","Tabla_22A",null,null,null," C.2. Fortalecer la infraestructura y equipamiento de seguridad pública.","Tabla_41C2"]
["2. San Luis Incluyente","2.1. Combate a la Pobreza","OBJETIVO A. Abatir la pobreza en todas sus manifestaciones.","ESTRATEGIA A.4 Mejorar la calidad y espacios de las viviendas.","Reducir el nivel de hacinamiento en las viviendas.",null,null,null,null,null,null,null,null," A. Promover con los municipios la gestión de manejo y disposición de residuos sólidos urbanos, conforme a la normatividad vigente.","Tabla_33A",null,null,null,"4.2. Procuración de Justicia. "," "]
["2. San Luis Incluyente","2.1. Combate a la Pobreza","OBJETIVO A. Abatir la pobreza en todas sus manifestaciones.","ESTRATEGIA A.4 Mejorar la calidad y espacios de las viviendas.","Impulsar programas de consolidación en materia de pisos, techos y muros en localidades de muy alto y alto grado de rezago social. ",null,null,null,null,null,null,null,null," A. Promover el manejo integral y sustentable del agua desde una perspectiva de cuencas.","Tabla_32A",null,null,null,"OBJETIVO A. Garantizar un Sistema de Justicia Penal eficaz, expedito, imparcial y transparente."," "]
["2. San Luis Incluyente","2.1. Combate a la Pobreza","OBJETIVO A. Abatir la pobreza en todas sus manifestaciones.","ESTRATEGIA A.4 Mejorar la calidad y espacios de las viviendas.","Coordinar acciones para que los programas de vivienda se desarrollen en congruencia con los planes de desarrollo urbano y de uso de suelo.",null,null,null,null,null,null,null,null," A. Promover principios, valores y criterios de conducta de los  servidores públicos.","Tabla_52A",null,null,null," A.1 Impulsar acciones que generen certidumbre, transparencia, imparcialidad y mayor profesionalización en la impartición de la justicia.","Tabla_42A1"]
["2. San Luis Incluyente","2.1. Combate a la Pobreza","OBJETIVO A. Abatir la pobreza en todas sus manifestaciones.","ESTRATEGIA A.5 Aumentar la cobertura de servicios básicos en las viviendas.","Impulsar la dotación de infraestructura de agua potable y drenaje, con especial énfasis en zonas de mayor rezago social.",null,null,null,null,null,null,null,null," A. Salvaguardar la integridad de las personas y su patrimonio, ante contingencias naturales o provocadas.","Tabla_45A",null,null,null,"OBJETIVO B. Erradicar la corrupción y la impunidad en la investigación y persecución de delitos."," "]
["2. San Luis Incluyente","2.1. Combate a la Pobreza","OBJETIVO A. Abatir la pobreza en todas sus manifestaciones.","ESTRATEGIA A.5 Aumentar la cobertura de servicios básicos en las viviendas.","Alcanzar la cobertura total en programas de electrificación en localidades rurales y urbanas. ",null,null,null,null,null,null,null,null," B. Alinear los ciclos presupuestales de la federación, el Estado y los municipios para lograr una gestión pública estable y ordenada. ","Tabla_53B",null,null,null," B.1 Sistematizar los controles de combate a la corrupción para erradicar la impunidad de los procesos de procuración de justicia.","Tabla_42B1"]
["2. San Luis Incluyente","2.1. Combate a la Pobreza","OBJETIVO A. Abatir la pobreza en todas sus manifestaciones.","ESTRATEGIA A.5 Aumentar la cobertura de servicios básicos en las viviendas.","Impulsar programas que induzcan el uso de soluciones sustentables en las viviendas.",null,null,null,null,null,null,null,null," B. Avanzar en el desarrollo de los pueblos indígenas para que puedan ejercer plenamente su derecho a un desarrollo integral.","Tabla_24B",null,null,null," B.2 Establecer los protocolos necesarios para instrumentar acciones que modernicen la impartición y procuración de justicia de acuerdo al nuevo sistema penal acusatorio.","Tabla_42B2"]
["2. San Luis Incluyente","2.1. Combate a la Pobreza","OBJETIVO A. Abatir la pobreza en todas sus manifestaciones.","ESTRATEGIA A.6 Promover una alimentación adecuada para la población con carencia alimentaria moderada y severa.  ","Fortalecer el sistema de abasto social para ampliar el acceso de la población en pobreza extrema a la canasta básica alimentaria.",null,null,null,null,null,null,null,null," B. Consolidar el sector comercio a través de financiamiento, desarrollo de infraestructura y capacidades logísticas y de almacenamiento.","Tabla_13B",null,null,null,"4.3. Reinserción Social."," "]
["2. San Luis Incluyente","2.1. Combate a la Pobreza","OBJETIVO A. Abatir la pobreza en todas sus manifestaciones.","ESTRATEGIA A.6 Promover una alimentación adecuada para la población con carencia alimentaria moderada y severa.  ","Impulsar un programa de alimentación orientado de manera prioritaria a los grupos de población con inseguridad alimentaria, en coordinación con el Gobierno Federal y los municipios.",null,null,null,null,null,null,null,null," B. Disponer de los elementos institucionales para la creación del Nuevo Sistema Estatal Anticorrupción, así como esquemas de auditoría y fiscalización.","Tabla_52B",null,null,null,"OBJETIVO A. Fortalecer el sistema penitenciario estatal y las medidas de prevención para menores infractores, mejorando las instalaciones, equipamiento y operatividad de los centros de reclusión para que existan condiciones para una reinserción social y productiva"," "]
["2. San Luis Incluyente","2.1. Combate a la Pobreza","OBJETIVO A. Abatir la pobreza en todas sus manifestaciones.","ESTRATEGIA A.7 Fortalecer los sistemas de participación social para el combate a la pobreza.","Promover campañas de participación ciudadana particularmente en localidades con mayor rezago.",null,null,null,null,null,null,null,null," B. Elevar la calidad de los servicios médicos.","Tabla_22B",null,null,null," A.1.  Intensificar las acciones que consoliden un sistema penitenciario que garantice una reinserción social efectiva.","Tabla_43A1"]
["2. San Luis Incluyente","2.1. Combate a la Pobreza","OBJETIVO A. Abatir la pobreza en todas sus manifestaciones.","ESTRATEGIA A.7 Fortalecer los sistemas de participación social para el combate a la pobreza.","Apoyar el fortalecimiento de las capacidades institucionales de los municipios para potenciar los recursos en el combate a la pobreza.",null,null,null,null,null,null,null,null," B. Erradicar la corrupción y la impunidad en la investigación y persecución de delitos.","Tabla_42B",null,null,null,"4.4. Prevención de la Delincuencia y Atención a Víctimas."," "]
["2. San Luis Incluyente","2.1. Combate a la Pobreza","OBJETIVO A. Abatir la pobreza en todas sus manifestaciones.","ESTRATEGIA A.7 Fortalecer los sistemas de participación social para el combate a la pobreza.","Impulsar proyectos de desarrollo social basados en la participación de las comunidades.",null,null,null,null,null,null,null,null," B. Establecer esquemas de financiamiento, encadenamiento productivo y programas de desarrollo de proveedores locales, a efecto de impulsar su competitividad.","Tabla_12B",null,null,null,"OBJETIVO A. Impulsar una política integral de prevención de la violencia y la delincuencia con énfasis en grupos de alta vulnerabilidad social."," "]
["2. San Luis Incluyente","2.1. Combate a la Pobreza","OBJETIVO A. Abatir la pobreza en todas sus manifestaciones.","ESTRATEGIA A.7 Fortalecer los sistemas de participación social para el combate a la pobreza.","Fortalecer la contraloría ciudadana para  el seguimiento y vigilancia a los programas sociales.",null,null,null,null,null,null,null,null," B. Garantizar el ejercicio, goce y protección de los Derechos Humanos a través de la implementación de acciones en planes institucionales y mecanismos de coordinación interinstitucional.","Tabla_55B",null,null,null," A.1 Consolidar una estrategia integral de prevención social de la violencia y la delincuencia con participación ciudadana.","Tabla_44A1"]
["2. San Luis Incluyente","2.2. Salud y Alimentación","OBJETIVO A. Promover actitudes y conductas que favorezcan una vida sana.","ESTRATEGIA A.1 Impulsar acciones de autocuidado de la salud, mediante la actividad física y la alimentación adecuada. ","Impulsar acciones de detección oportuna de sobrepeso y obesidad en entornos escolares, laborales y comunitarios.",null,null,null,null,null,null,null,null," B. Generar mecanismos eficientes y claros que brinden apoyo a las víctimas que acudan ante la autoridad a hacer valer sus derechos.","Tabla_44B",null,null,null,"OBJETIVO B. Generar mecanismos eficientes y claros que brinden apoyo a las víctimas que acudan ante la autoridad a hacer valer sus derechos."," "]
["2. San Luis Incluyente","2.2. Salud y Alimentación","OBJETIVO A. Promover actitudes y conductas que favorezcan una vida sana.","ESTRATEGIA A.1 Impulsar acciones de autocuidado de la salud, mediante la actividad física y la alimentación adecuada. ","Promover la prevención y detección de hábitos alimentarios inadecuados, y su atención por el sector salud.",null,null,null,null,null,null,null,null," B. Impulsar el diseño, operación y evaluación de estrategias de gestión integral de riesgos.","Tabla_45B",null,null,null," B.1. Consolidar una política integral de atención a personas en situación de víctimas y de justicia para las mujeres.","Tabla_44B1"]
["2. San Luis Incluyente","2.2. Salud y Alimentación","OBJETIVO A. Promover actitudes y conductas que favorezcan una vida sana.","ESTRATEGIA A.1 Impulsar acciones de autocuidado de la salud, mediante la actividad física y la alimentación adecuada. ","Promover la colaboración interinstitucional y de la sociedad, para incentivar la activación física.",null,null,null,null,null,null,null,null," B. Impulsar la formación y la certificación de competencias del personal docente. ","Tabla_23B",null,null,null,"4.5. Protección Civil."," "]
["2. San Luis Incluyente","2.2. Salud y Alimentación","OBJETIVO B. Elevar la calidad de los servicios médicos.","ESTRATEGIA B.1 Ofrecer atención médica oportuna bajo esquemas de calidad en los servicios de salud.","Fortalecer los servicios de primer y segundo nivel de atención y reducir el tiempo de espera en hospitales y centros de salud.",null,null,null,null,null,null,null,null," B. Impulsar la profesionalización de las fuerzas de seguridad, con capacitación y formación, para lograr un mejor desempeño en la función policial.","Tabla_41B",null,null,null,"OBJETIVO A. Salvaguardar la integridad de las personas y su patrimonio, ante contingencias naturales o provocadas."," "]
["2. San Luis Incluyente","2.2. Salud y Alimentación","OBJETIVO B. Elevar la calidad de los servicios médicos.","ESTRATEGIA B.1 Ofrecer atención médica oportuna bajo esquemas de calidad en los servicios de salud.","Consolidar los servicios de los hospitales generales en las especialidades sustantivas, con equipamiento y uso de tecnologías para una mejor atención.",null,null,null,null,null,null,null,null," B. Impulsar procesos de innovación gubernamental. ","Tabla_54B",null,null,null," A.1 Aplicar los protocolos de protección civil ante fenómenos que pongan en riesgo la integridad y el patrimonio de las personas.","Tabla_45A1"]
["2. San Luis Incluyente","2.2. Salud y Alimentación","OBJETIVO B. Elevar la calidad de los servicios médicos.","ESTRATEGIA B.1 Ofrecer atención médica oportuna bajo esquemas de calidad en los servicios de salud.","Contar con recursos humanos capacitados e insumos suficientes para brindar una atención de salud oportuna y de calidad.",null,null,null,null,null,null,null,null," B. Incrementar la capacidad de tratamiento de aguas residuales y promover su reúso.","Tabla_32B",null,null,null,"OBJETIVO B. Impulsar el diseño, operación y evaluación de estrategias de gestión integral de riesgos."," "]
["2. San Luis Incluyente","2.2. Salud y Alimentación","OBJETIVO B. Elevar la calidad de los servicios médicos.","ESTRATEGIA B.1 Ofrecer atención médica oportuna bajo esquemas de calidad en los servicios de salud.","Consolidar la telemedicina para acercar servicios de alta especialidad a la población dispersa.",null,null,null,null,null,null,null,null," B. Incrementar la superficie de Áreas Naturales Protegidas.","Tabla_31B",null,null,null," B.1. Fortalecer la gestión integral de riesgos en la entidad, asegurando la prevención y mitigación de daños.","Tabla_45B1"]
["2. San Luis Incluyente","2.2. Salud y Alimentación","OBJETIVO C. Disminuir la mortalidad infantil y materna, el embarazo en adolescentes, la obesidad, la diabetes y las adicciones.","ESTRATEGIA C.1 Aplicar y reforzar los programas de prevención y  control de enfermedades y riesgos sanitarios.","Disminuir la mortalidad materna mediante la atención prenatal, del parto y el puerperio, y la vigilancia de las mujeres en riesgo.",null,null,null,null,null,null,null,null," B. Mejorar la infraestructura de conectividad bajo criterios estratégicos y de eficiencia.","Tabla_15B",null,null,null,"OBJETIVO C. Promover la cultura del autocuidado y la organización comunitaria en materia de protección civil."," "]
["2. San Luis Incluyente","2.2. Salud y Alimentación","OBJETIVO C. Disminuir la mortalidad infantil y materna, el embarazo en adolescentes, la obesidad, la diabetes y las adicciones.","ESTRATEGIA C.1 Aplicar y reforzar los programas de prevención y  control de enfermedades y riesgos sanitarios.","Reducir la mortalidad infantil, a través de la capacitación a las madres y/o responsables de los menores de cinco años.",null,null,null,null,null,null,null,null," B. Mejorar las competencias de los trabajadores que impulsen la productividad y empleos mejor remunerados.","Tabla_11B",null,null,null," C.1 Establecer canales de comunicación para la difusión de información oportuna y relevante en materia de protección civil, y consolidar acciones de organización comunitaria.","Tabla_45C1"]
["2. San Luis Incluyente","2.2. Salud y Alimentación","OBJETIVO C. Disminuir la mortalidad infantil y materna, el embarazo en adolescentes, la obesidad, la diabetes y las adicciones.","ESTRATEGIA C.1 Aplicar y reforzar los programas de prevención y  control de enfermedades y riesgos sanitarios.","Bajar los índices de morbilidad por enfermedades respiratorias agudas y enfermedades diarreicas.",null,null,null,null,null,null,null,null," B. Mitigar los efectos del cambio climático con acciones que aumenten las oportunidades de desarrollo, la innovación tecnológica y el uso de energías limpias.","Tabla_34B",null,null,null,"5.1. Gobernabilidad."," "]
["2. San Luis Incluyente","2.2. Salud y Alimentación","OBJETIVO C. Disminuir la mortalidad infantil y materna, el embarazo en adolescentes, la obesidad, la diabetes y las adicciones.","ESTRATEGIA C.1 Aplicar y reforzar los programas de prevención y  control de enfermedades y riesgos sanitarios.","Fortalecer el control de las enfermedades transmisibles y contener los brotes a través de la acción conjunta del sector salud y de la sociedad.",null,null,null,null,null,null,null,null," B. Modernizar la actividad productiva en el sector rural, que incremente el volumen y valor de la producción.","Tabla_14B",null,null,null,"OBJETIVO A. Consolidar el sistema democrático a través de la adecuada interlocución con las diferentes fuerzas políticas y organismos de la sociedad civil para fortalecer la gobernabilidad. "," "]
["2. San Luis Incluyente","2.2. Salud y Alimentación","OBJETIVO C. Disminuir la mortalidad infantil y materna, el embarazo en adolescentes, la obesidad, la diabetes y las adicciones.","ESTRATEGIA C.1 Aplicar y reforzar los programas de prevención y  control de enfermedades y riesgos sanitarios.","Realizar jornadas intensivas y permanentes para asegurar la cobertura de vacunación universal en la población infantil.",null,null,null,null,null,null,null,null," B. Promover con los municipios la gestión de manejo y disposición de residuos de manejo especial. ","Tabla_33B",null,null,null," A.1 Propiciar el desarrollo democrático y cívico del Estado.","Tabla_51A1"]
["2. San Luis Incluyente","2.2. Salud y Alimentación","OBJETIVO C. Disminuir la mortalidad infantil y materna, el embarazo en adolescentes, la obesidad, la diabetes y las adicciones.","ESTRATEGIA C.1 Aplicar y reforzar los programas de prevención y  control de enfermedades y riesgos sanitarios.","Promover la salud reproductiva responsable en la población, con especial énfasis entre los adolescentes. ",null,null,null,null,null,null,null,null," C. Aplicar la normatividad para lograr un eficaz manejo y disposición de los residuos peligrosos.","Tabla_33C",null,null,null,"5.2. Prevención y Combate a la Corrupción. "," "]
["2. San Luis Incluyente","2.2. Salud y Alimentación","OBJETIVO C. Disminuir la mortalidad infantil y materna, el embarazo en adolescentes, la obesidad, la diabetes y las adicciones.","ESTRATEGIA C.1 Aplicar y reforzar los programas de prevención y  control de enfermedades y riesgos sanitarios.","Establecer esquemas de prevención de adicciones principalmente en la población adolescente, en coordinación con el sector educativo, instituciones de apoyo a la juventud y organizaciones de la sociedad civil.",null,null,null,null,null,null,null,null," C. Asegurar estándares de sanidad, calidad e inocuidad agroalimentaria. ","Tabla_14C",null,null,null,"OBJETIVO A. Promover principios, valores y criterios de conducta de los  servidores públicos."," "]
["2. San Luis Incluyente","2.3. Educación, Cultura y Deporte","OBJETIVO A. Disminuir el rezago educativo.","ESTRATEGIA A.1 Generar oportunidades de acceso, permanencia y terminación de estudios para todos los potosinos.","Fortalecer las campañas de alfabetización y certificación de adultos en primaria y secundaria.",null,null,null,null,null,null,null,null," C. Coordinar esfuerzos con la Federación para que mediante inversiones privadas se garantice cobertura y accesibilidad de los servicios digitales.","Tabla_15C",null,null,null," A.1 Impulsar acciones que contribuyan a combatir la corrupción en la administración pública estatal. ","Tabla_52A1"]
["2. San Luis Incluyente","2.3. Educación, Cultura y Deporte","OBJETIVO A. Disminuir el rezago educativo.","ESTRATEGIA A.1 Generar oportunidades de acceso, permanencia y terminación de estudios para todos los potosinos.","\nImpulsar acciones para mejorar la cobertura y calidad de la educación en la población indígena.",null,null,null,null,null,null,null,null," C. Crear esquemas de participación social para la construcción de políticas públicas y sistemas de información en materia de Derechos Humanos.","Tabla_55C",null,null,null,"OBJETIVO B. Disponer de los elementos institucionales para la creación del Nuevo Sistema Estatal Anticorrupción, así como esquemas de auditoría y fiscalización."," "]
["2. San Luis Incluyente","2.3. Educación, Cultura y Deporte","OBJETIVO A. Disminuir el rezago educativo.","ESTRATEGIA A.1 Generar oportunidades de acceso, permanencia y terminación de estudios para todos los potosinos.","Apoyar el acceso de las personas con necesidades especiales a una educación de calidad.",null,null,null,null,null,null,null,null," C. Desarrollar sistemas de transparencia en la administración pública estatal. ","Tabla_54C",null,null,null," B.1 Implementar el Nuevo Sistema Estatal Anticorrupción articulado en lo local y vinculado a nivel nacional, así como esquemas de auditoría y fiscalización.","Tabla_52B1"]
["2. San Luis Incluyente","2.3. Educación, Cultura y Deporte","OBJETIVO A. Disminuir el rezago educativo.","ESTRATEGIA A.1 Generar oportunidades de acceso, permanencia y terminación de estudios para todos los potosinos.","Fortalecer los programas de entrega de útiles escolares, materiales educativos,  así como becas para garantizar la permanencia en la escuela de alumnos de escasos recursos.",null,null,null,null,null,null,null,null," C. Diseñar estrategias para la atracción de empresas de alta especialización en servicios.","Tabla_13C",null,null,null,"5.3. Responsabilidad Financiera y Rendición de Cuentas."," "]
["2. San Luis Incluyente","2.3. Educación, Cultura y Deporte","OBJETIVO A. Disminuir el rezago educativo.","ESTRATEGIA A.2 Fortalecer la autonomía de la gestión escolar para impulsar la planeación, la mejora educativa y los procesos de evaluación del desempeño.","Impulsar la participación de directivos, docentes, alumnos y padres de familia en la gestión escolar.",null,null,null,null,null,null,null,null," C. Disminuir la mortalidad infantil y materna, el embarazo en adolescentes, la obesidad, la diabetes y las adicciones.","Tabla_22C",null,null,null,"OBJETIVO A. Conducir con responsabilidad y transparencia las finanzas públicas de la entidad."," "]
["2. San Luis Incluyente","2.3. Educación, Cultura y Deporte","OBJETIVO A. Disminuir el rezago educativo.","ESTRATEGIA A.2 Fortalecer la autonomía de la gestión escolar para impulsar la planeación, la mejora educativa y los procesos de evaluación del desempeño.","Asegurar el cumplimiento de los criterios de normalidad mínima en el funcionamiento de las escuelas de educación básica.",null,null,null,null,null,null,null,null," C. Elevar el desempeño escolar con base en la   evaluación de aprendizaje de los alumnos de nivel básico y medio superior.","Tabla_23C",null,null,null," A.1 Instrumentar una política financiera responsable, basada en criterios de disciplina, austeridad, transparencia y rendición de cuentas.","Tabla_53A1"]
["2. San Luis Incluyente","2.3. Educación, Cultura y Deporte","OBJETIVO A. Disminuir el rezago educativo.","ESTRATEGIA A.2 Fortalecer la autonomía de la gestión escolar para impulsar la planeación, la mejora educativa y los procesos de evaluación del desempeño.","Mejorar la articulación entre los niveles básico, medio superior y superior, particularmente en las áreas de matemáticas, español y ciencias, fortaleciendo el enfoque de competencias.",null,null,null,null,null,null,null,null," C. Fortalecer la infraestructura institucional y los protocolos de actuación policial, y modernizar los procesos para afrontar los nuevos retos de seguridad pública.","Tabla_41C",null,null,null,"OBJETIVO B. Alinear los ciclos presupuestales de la federación, el Estado y los municipios para lograr una gestión pública estable y ordenada. "," "]
["2. San Luis Incluyente","2.3. Educación, Cultura y Deporte","OBJETIVO A. Disminuir el rezago educativo.","ESTRATEGIA A.2 Fortalecer la autonomía de la gestión escolar para impulsar la planeación, la mejora educativa y los procesos de evaluación del desempeño.","Incrementar los índices de cobertura y absorción en todos los niveles educativos, con un sentido de inclusión y equidad, haciendo énfasis en los niveles de educación media superior y superior.",null,null,null,null,null,null,null,null," C. Fortalecer los mecanismos de financiamiento que permitan dar viabilidad al proyecto de desarrollo del Estado.","Tabla_53C",null,null,null," B.1. Impulsar un ejercicio presupuestario basado en resultados y en la generación de mayor beneficio social.","Tabla_53B1"]
["2. San Luis Incluyente","2.3. Educación, Cultura y Deporte","OBJETIVO A. Disminuir el rezago educativo.","ESTRATEGIA A.2 Fortalecer la autonomía de la gestión escolar para impulsar la planeación, la mejora educativa y los procesos de evaluación del desempeño.","Disminuir la deserción escolar, mejorar la eficiencia terminal en cada nivel educativo, y aumentar la continuidad de estudios entre un nivel y otro.",null,null,null,null,null,null,null,null," C. Implementar el Ordenamiento Ecológico como un modelo de intervención institucional para la protección y gestión de los ecosistemas en las regiones.","Tabla_31C",null,null,null,"OBJETIVO C. Fortalecer los mecanismos de financiamiento que permitan dar viabilidad al proyecto de desarrollo del Estado."," "]
["2. San Luis Incluyente","2.3. Educación, Cultura y Deporte","OBJETIVO B. Impulsar la formación y la certificación de competencias del personal docente. ","ESTRATEGIA B.1 Impulsar la profesionalización basada en competencias, el liderazgo de directivos, y su capacidad para integrarse a la sociedad del conocimiento. ","Desarrollar en las instituciones formadoras de docentes, procesos de actualización de planes y programas de estudio.",null,null,null,null,null,null,null,null," C. Incentivar la formalidad laboral.","Tabla_11C",null,null,null," C.1 Ampliar las acciones de financiamiento para el desarrollo,  con la participación de los sectores público, privado y social.","Tabla_53C1"]
["2. San Luis Incluyente","2.3. Educación, Cultura y Deporte","OBJETIVO B. Impulsar la formación y la certificación de competencias del personal docente. ","ESTRATEGIA B.1 Impulsar la profesionalización basada en competencias, el liderazgo de directivos, y su capacidad para integrarse a la sociedad del conocimiento. ","Fortalecer el Instituto de Profesionalización del Magisterio Potosino como instrumento de capacitación y actualización de los docentes.",null,null,null,null,null,null,null,null," C. Promover el desarrollo y difusión de tecnologías más efectivas  y eficientes para la potabilización, uso y tratamiento del agua.","Tabla_32C",null,null,null,"5.4. Gobierno Abierto e Innovador."," "]
["2. San Luis Incluyente","2.3. Educación, Cultura y Deporte","OBJETIVO B. Impulsar la formación y la certificación de competencias del personal docente. ","ESTRATEGIA B.1 Impulsar la profesionalización basada en competencias, el liderazgo de directivos, y su capacidad para integrarse a la sociedad del conocimiento. ","·        Promover la participación de los docentes en los procesos de ingreso al servicio, la promoción, la permanencia y el reconocimiento en el marco de la Reforma Educativa.",null,null,null,null,null,null,null,null," C. Promover la cultura del autocuidado y la organización comunitaria en materia de protección civil.","Tabla_45C",null,null,null,"OBJETIVO A. Impulsar políticas y mecanismos de participación, para fortalecer la confianza del ciudadano en las instituciones del Estado."," "]
["2. San Luis Incluyente","2.3. Educación, Cultura y Deporte","OBJETIVO C. Elevar el desempeño escolar con base en la   evaluación de aprendizaje de los alumnos de nivel básico y medio superior.","ESTRATEGIA  C.1. Orientar la calidad de los aprendizajes para la formación integral en la educación, tomando como referencia los resultados de las evaluaciones.","Emplear los resultados de las evaluaciones de alumnos y docentes como la principal herramienta para la mejora de los aprendizajes y el desempeño de la escuela.",null,null,null,null,null,null,null,null," D. Conservar y fortalecer el Pacto para la Competitividad y el Empleo. ","Tabla_11D",null,null,null," A.1 Abrir el gobierno a la ciudadanía, ampliando los canales de participación y vigilancia en obras, trámites y servicios.","Tabla_54A1"]
["2. San Luis Incluyente","2.3. Educación, Cultura y Deporte","OBJETIVO C. Elevar el desempeño escolar con base en la   evaluación de aprendizaje de los alumnos de nivel básico y medio superior.","ESTRATEGIA  C.1. Orientar la calidad de los aprendizajes para la formación integral en la educación, tomando como referencia los resultados de las evaluaciones.","Llevar a cabo prácticas de planeación participativa en los planteles de educación básica y media superior, para mejorar los aprendizajes y resultados.",null,null,null,null,null,null,null,null," D. Mejorar la calidad de los espacios educativos.","Tabla_23D",null,null,null,"OBJETIVO B. Impulsar procesos de innovación gubernamental. "," "]
["2. San Luis Incluyente","2.3. Educación, Cultura y Deporte","OBJETIVO D. Mejorar la calidad de los espacios educativos.","ESTRATEGIA D.1. Incrementar y mejorar los espacios educativos con infraestructura de calidad y equipamiento para la conectividad.","Incrementar  y mejorar los espacios educativos en todos los niveles, sobre todo en localidades dispersas y en zonas urbanas en crecimiento.",null,null,null,null,null,null,null,null," D. Prevenir, controlar y combatir los incendios forestales. ","Tabla_31D",null,null,null," B.1. Facilitar las metodologías y herramientas de gestión pública para la profesionalización de los servidores públicos en el estado.","Tabla_54B1"]
["2. San Luis Incluyente","2.3. Educación, Cultura y Deporte","OBJETIVO D. Mejorar la calidad de los espacios educativos.","ESTRATEGIA D.1. Incrementar y mejorar los espacios educativos con infraestructura de calidad y equipamiento para la conectividad.","Mejorar las condiciones de conectividad de los planteles de educación básica, media superior y superior a través de los programas federales de equipamiento y conectividad.",null,null,null,null,null,null,null,null," D. Promover mayores niveles de inversión y competitividad en el sector minero.","Tabla_13D",null,null,null," B.2. Impulsar la estrategia de Gobierno Digital. ","Tabla_54B2"]
["2. San Luis Incluyente","2.3. Educación, Cultura y Deporte","OBJETIVO E. Preservar y difundir el patrimonio cultural, garantizando el acceso a toda la población, con la participación social y privada.","ESTRATEGIA E.1 Incentivar la participación de la sociedad en el fortalecimiento de las identidades de los pueblos originarios y de las comunidades.","Desarrollar acciones a favor del intercambio cultural entre las regiones del Estado y hacia el país y el mundo.",null,null,null,null,null,null,null,null," D. Propiciar el uso eficiente del agua en las actividades agrícolas  e industriales.","Tabla_32D",null,null,null," B.3. Establecer una plataforma tecnológica integral, homologada y articulada para fomentar la relación entre la sociedad y gobierno, centrada en el ciudadano como usuario de servicios públicos.","Tabla_54B3"]
["2. San Luis Incluyente","2.3. Educación, Cultura y Deporte","OBJETIVO E. Preservar y difundir el patrimonio cultural, garantizando el acceso a toda la población, con la participación social y privada.","ESTRATEGIA E.1 Incentivar la participación de la sociedad en el fortalecimiento de las identidades de los pueblos originarios y de las comunidades.","Preservar, registrar, catalogar y difundir el patrimonio cultural material e inmaterial.",null,null,null,null,null,null,null,null," D. Rendir cuentas a la sociedad sobre del uso y manejo de los recursos públicos.","Tabla_54D",null,null,null,"OBJETIVO C. Desarrollar sistemas de transparencia en la administración pública estatal. "," "]
["2. San Luis Incluyente","2.3. Educación, Cultura y Deporte","OBJETIVO E. Preservar y difundir el patrimonio cultural, garantizando el acceso a toda la población, con la participación social y privada.","ESTRATEGIA E.2 Promover el desarrollo de habilidades artísticas y culturales, así como el disfrute de la cultura.","Gestionar programas que promuevan la participación artística y cultural de los potosinos.",null,null,null,null,null,null,null,null," E. Preservar y difundir el patrimonio cultural, garantizando el acceso a toda la población, con la participación social y privada.","Tabla_23E",null,null,null," C.1. Asegurar que la información pública sea accesible y se difunda con claridad, sencillez y oportunidad al ciudadano.","Tabla_54C1"]
["2. San Luis Incluyente","2.3. Educación, Cultura y Deporte","OBJETIVO E. Preservar y difundir el patrimonio cultural, garantizando el acceso a toda la población, con la participación social y privada.","ESTRATEGIA E.2 Promover el desarrollo de habilidades artísticas y culturales, así como el disfrute de la cultura.","Impulsar actividades y festivales culturales en las cuatro regiones del Estado.",null,null,null,null,null,null,null,null," F. Impulsar una agenda para vincular educación, cultura y deporte como bienes y servicios al alcance de todos los potosinos.","Tabla_23F",null,null,null,"OBJETIVO D. Rendir cuentas a la sociedad sobre del uso y manejo de los recursos públicos."," "]
["2. San Luis Incluyente","2.3. Educación, Cultura y Deporte","OBJETIVO E. Preservar y difundir el patrimonio cultural, garantizando el acceso a toda la población, con la participación social y privada.","ESTRATEGIA E.2 Promover el desarrollo de habilidades artísticas y culturales, así como el disfrute de la cultura.","Ampliar y conservar la infraestructura cultural, y propiciar el rescate y uso  óptimo de espacios públicos.",null,null,null,null,null,null,null,null," G. Impulsar el deporte de alto rendimiento en las diferentes disciplinas.","Tabla_23G",null,null,null," D.1 Desarrollar proyectos que fortalezcan los sistemas y procesos de rendición de cuentas.","Tabla_54D1"]
["2. San Luis Incluyente","2.3. Educación, Cultura y Deporte","OBJETIVO E. Preservar y difundir el patrimonio cultural, garantizando el acceso a toda la población, con la participación social y privada.","ESTRATEGIA E.2 Promover el desarrollo de habilidades artísticas y culturales, así como el disfrute de la cultura.","Promover la educación artística y cultural de calidad a niveles de iniciación, medio, medio superior y superior.",null,null,null,null,null,null,null,null,null,null,null,null,null,"5.5. Derechos Humanos."," "]
["2. San Luis Incluyente","2.3. Educación, Cultura y Deporte","OBJETIVO E. Preservar y difundir el patrimonio cultural, garantizando el acceso a toda la población, con la participación social y privada.","ESTRATEGIA E.3 Facilitar el desarrollo cultural sostenible y el desarrollo económico en torno a la cultura.","Facilitar la creación de empresas culturales y el desarrollo de las industrias creativas.",null,null,null,null,null,null,null,null,null,null,null,null,null,"OBJETIVO A. Lograr la efectiva implementación de la Reforma Constitucional y reforzar la prevención de violaciones de Derechos Humanos."," "]
["2. San Luis Incluyente","2.3. Educación, Cultura y Deporte","OBJETIVO E. Preservar y difundir el patrimonio cultural, garantizando el acceso a toda la población, con la participación social y privada.","ESTRATEGIA E.3 Facilitar el desarrollo cultural sostenible y el desarrollo económico en torno a la cultura.","Realizar acciones interinstitucionales para el financiamiento de proyectos para el desarrollo cultural sostenible.",null,null,null,null,null,null,null,null,null,null,null,null,null," A.1. Realizar campañas de difusión y programas de capacitación que transmitan los contenidos de las reformas constitucionales de Derechos Humanos.","Tabla_55A1"]
["2. San Luis Incluyente","2.3. Educación, Cultura y Deporte","OBJETIVO E. Preservar y difundir el patrimonio cultural, garantizando el acceso a toda la población, con la participación social y privada.","ESTRATEGIA E.3 Facilitar el desarrollo cultural sostenible y el desarrollo económico en torno a la cultura.","Diseñar e impulsar esquemas de participación de empresas y organizaciones de la sociedad civil en el financiamiento de la cultura.",null,null,null,null,null,null,null,null,null,null,null,null,null,"OBJETIVO B. Garantizar el ejercicio, goce y protección de los Derechos Humanos a través de la implementación de acciones en planes institucionales y mecanismos de coordinación interinstitucional."," "]
["2. San Luis Incluyente","2.3. Educación, Cultura y Deporte","OBJETIVO F. Impulsar una agenda para vincular educación, cultura y deporte como bienes y servicios al alcance de todos los potosinos.","ESTRATEGIA F.1 Promover el deporte como elemento de formación y contribución a la cultura de la salud.","Promover la activación física y la práctica del deporte, como mecanismos incluyentes para fomentar una cultura preventiva de salud.",null,null,null,null,null,null,null,null,null,null,null,null,null," B.1 Diseñar y facilitar los contenidos, manuales y guías que pongan en operación el enfoque basado en Derechos Humanos en los planes institucionales de la administración pública estatal y de los municipios. ","Tabla_55B1"]
["2. San Luis Incluyente","2.3. Educación, Cultura y Deporte","OBJETIVO F. Impulsar una agenda para vincular educación, cultura y deporte como bienes y servicios al alcance de todos los potosinos.","ESTRATEGIA F.1 Promover el deporte como elemento de formación y contribución a la cultura de la salud.","Fortalecer la infraestructura deportiva con más instalaciones y nuevas disciplinas en comunidades y colonias populares. ",null,null,null,null,null,null,null,null,null,null,null,null,null,"OBJETIVO C. Crear esquemas de participación social para la construcción de políticas públicas y sistemas de información en materia de Derechos Humanos."," "]
["2. San Luis Incluyente","2.3. Educación, Cultura y Deporte","OBJETIVO F. Impulsar una agenda para vincular educación, cultura y deporte como bienes y servicios al alcance de todos los potosinos.","ESTRATEGIA F.1 Promover el deporte como elemento de formación y contribución a la cultura de la salud.","Fomentar a través del deporte los valores de la legalidad y la paz y actitudes de superación personal, cooperación y liderazgo para una mejor convivencia social. ",null,null,null,null,null,null,null,null,null,null,null,null,null," C.1 Fortalecer los mecanismos de participación ciudadana para construir, implementar y evaluar políticas públicas bajo sistemas de información con enfoque basado en Derechos Humanos.","Tabla_55C1"]
["2. San Luis Incluyente","2.3. Educación, Cultura y Deporte","OBJETIVO F. Impulsar una agenda para vincular educación, cultura y deporte como bienes y servicios al alcance de todos los potosinos.","ESTRATEGIA F.1 Promover el deporte como elemento de formación y contribución a la cultura de la salud.","Facilitar a la población mayor acceso a la práctica de actividades físicas y deportivas en instalaciones adecuadas, con la asesoría de personal capacitado.",null,null,null,null,null,null,null,null,null,null,null,null,null,null," "]
["2. San Luis Incluyente","2.3. Educación, Cultura y Deporte","OBJETIVO F. Impulsar una agenda para vincular educación, cultura y deporte como bienes y servicios al alcance de todos los potosinos.","ESTRATEGIA F.1 Promover el deporte como elemento de formación y contribución a la cultura de la salud.","Recuperar espacios públicos para la actividad física y deportiva y garantizar la adecuada administración de la infraestructura y de los servicios deportivos.",null,null,null,null,null,null,null,null,null,null,null,null,null,null," "]
["2. San Luis Incluyente","2.3. Educación, Cultura y Deporte","OBJETIVO G. Impulsar el deporte de alto rendimiento en las diferentes disciplinas.","ESTRATEGIA G.1 Establecer mecanismos para que talentos y prospectos deportivos eleven su rendimiento y dispongan de entrenadores, infraestructura  y estímulos económicos.","Procurar que los niños y jóvenes deportistas con potencial competitivo cuenten con entrenamiento, servicios especializados y estímulos adecuados.",null,null,null,null,null,null,null,null,null,null,null,null,null,null," "]
["2. San Luis Incluyente","2.3. Educación, Cultura y Deporte","OBJETIVO G. Impulsar el deporte de alto rendimiento en las diferentes disciplinas.","ESTRATEGIA G.1 Establecer mecanismos para que talentos y prospectos deportivos eleven su rendimiento y dispongan de entrenadores, infraestructura  y estímulos económicos.","Desarrollar esquemas de apoyo para que los atletas potosinos representen dignamente a su Estado.",null,null,null,null,null,null,null,null,null,null,null,null,null,null," "]
["2. San Luis Incluyente","2.3. Educación, Cultura y Deporte","OBJETIVO G. Impulsar el deporte de alto rendimiento en las diferentes disciplinas.","ESTRATEGIA G.1 Establecer mecanismos para que talentos y prospectos deportivos eleven su rendimiento y dispongan de entrenadores, infraestructura  y estímulos económicos.","Impulsar un Programa de formación de maestros en educación física y entrenadores deportivos con alto grado de especialización.",null,null,null,null,null,null,null,null,null,null,null,null,null,null," "]
["2. San Luis Incluyente","2.3. Educación, Cultura y Deporte","OBJETIVO G. Impulsar el deporte de alto rendimiento en las diferentes disciplinas.","ESTRATEGIA G.1 Establecer mecanismos para que talentos y prospectos deportivos eleven su rendimiento y dispongan de entrenadores, infraestructura  y estímulos económicos.","Crear mecanismos que permitan incorporar el financiamiento del sector privado para el fomento del deporte popular y el de alto ",null,null,null,null,null,null,null,null,null,null,null,null,null,null," "]
["2. San Luis Incluyente","2.4. Políticas de Equidad","OBJETIVO A.  Impulsar políticas de equidad que garanticen a todos los potosinos el pleno ejercicio de sus derechos sociales.  ","ESTRATEGIA A.1 Fomentar la igualdad social y aumentar el acceso de todos los potosinos a educación, salud y bienestar.","Realizar campañas de divulgación para niños y adolescentes en materia de derechos sociales.",null,null,null,null,null,null,null,null,null,null,null,null,null,null," "]
["2. San Luis Incluyente","2.4. Políticas de Equidad","OBJETIVO A.  Impulsar políticas de equidad que garanticen a todos los potosinos el pleno ejercicio de sus derechos sociales.  ","ESTRATEGIA A.1 Fomentar la igualdad social y aumentar el acceso de todos los potosinos a educación, salud y bienestar.","Impulsar acciones para promover la equidad de género. ",null,null,null,null,null,null,null,null,null,null,null,null,null,null," "]
["2. San Luis Incluyente","2.4. Políticas de Equidad","OBJETIVO A.  Impulsar políticas de equidad que garanticen a todos los potosinos el pleno ejercicio de sus derechos sociales.  ","ESTRATEGIA A.1 Fomentar la igualdad social y aumentar el acceso de todos los potosinos a educación, salud y bienestar.","Asegurar el cumplimiento de la Convención de los Derechos de las Niñas, Niños y Adolescentes, con especial énfasis en la prohibición del trabajo infantil.",null,null,null,null,null,null,null,null,null,null,null,null,null,null," "]
["2. San Luis Incluyente","2.4. Políticas de Equidad","OBJETIVO A.  Impulsar políticas de equidad que garanticen a todos los potosinos el pleno ejercicio de sus derechos sociales.  ","ESTRATEGIA A.1 Fomentar la igualdad social y aumentar el acceso de todos los potosinos a educación, salud y bienestar.","Diseñar y aplicar acciones con enfoque de equidad para los programas alimentarios del DIF.",null,null,null,null,null,null,null,null,null,null,null,null,null,null," "]
["2. San Luis Incluyente","2.4. Políticas de Equidad","OBJETIVO A.  Impulsar políticas de equidad que garanticen a todos los potosinos el pleno ejercicio de sus derechos sociales.  ","ESTRATEGIA A.2 Elevar el nivel de escolaridad de los jóvenes y favorecer su incorporación al mercado laboral, atender sus necesidades de salud y ampliar su acceso al deporte y la cultura.","Apoyar a los jóvenes para concluir su educación básica, media superior y superior, mediante becas, material didáctico y acceso a servicios de salud.",null,null,null,null,null,null,null,null,null,null,null,null,null,null," "]
["2. San Luis Incluyente","2.4. Políticas de Equidad","OBJETIVO A.  Impulsar políticas de equidad que garanticen a todos los potosinos el pleno ejercicio de sus derechos sociales.  ","ESTRATEGIA A.2 Elevar el nivel de escolaridad de los jóvenes y favorecer su incorporación al mercado laboral, atender sus necesidades de salud y ampliar su acceso al deporte y la cultura.","Fortalecer la inclusión de jóvenes a la vida laboral, a través de  acuerdos públicos – privados para favorecer el primer empleo."]
["2. San Luis Incluyente","2.4. Políticas de Equidad","OBJETIVO A.  Impulsar políticas de equidad que garanticen a todos los potosinos el pleno ejercicio de sus derechos sociales.  ","ESTRATEGIA A.2 Elevar el nivel de escolaridad de los jóvenes y favorecer su incorporación al mercado laboral, atender sus necesidades de salud y ampliar su acceso al deporte y la cultura.","Impulsar la formación en competencias laborales y digitales para la vida productiva. "]
["2. San Luis Incluyente","2.4. Políticas de Equidad","OBJETIVO A.  Impulsar políticas de equidad que garanticen a todos los potosinos el pleno ejercicio de sus derechos sociales.  ","ESTRATEGIA A.2 Elevar el nivel de escolaridad de los jóvenes y favorecer su incorporación al mercado laboral, atender sus necesidades de salud y ampliar su acceso al deporte y la cultura.","Apoyar con financiamiento e incentivos a jóvenes investigadores para proyectos de emprendimiento e innovación tecnológica."]
["2. San Luis Incluyente","2.4. Políticas de Equidad","OBJETIVO A.  Impulsar políticas de equidad que garanticen a todos los potosinos el pleno ejercicio de sus derechos sociales.  ","ESTRATEGIA A.2 Elevar el nivel de escolaridad de los jóvenes y favorecer su incorporación al mercado laboral, atender sus necesidades de salud y ampliar su acceso al deporte y la cultura.","Promover condiciones para que los jóvenes tengan un entorno digno a través de esquemas de salud, convivencia y seguridad."]
["2. San Luis Incluyente","2.4. Políticas de Equidad","OBJETIVO A.  Impulsar políticas de equidad que garanticen a todos los potosinos el pleno ejercicio de sus derechos sociales.  ","ESTRATEGIA A.2 Elevar el nivel de escolaridad de los jóvenes y favorecer su incorporación al mercado laboral, atender sus necesidades de salud y ampliar su acceso al deporte y la cultura.","Impulsar el deporte como elemento esencial de la  formación de los jóvenes, así como actividades de orientación profesional, participación social y apreciación artística."]
["2. San Luis Incluyente","2.4. Políticas de Equidad","OBJETIVO A.  Impulsar políticas de equidad que garanticen a todos los potosinos el pleno ejercicio de sus derechos sociales.  ","ESTRATEGIA A.2 Elevar el nivel de escolaridad de los jóvenes y favorecer su incorporación al mercado laboral, atender sus necesidades de salud y ampliar su acceso al deporte y la cultura.","Favorecer programas preventivos de salud juvenil, en materia de adicciones,  salud reproductiva y emocional, principalmente."]
["2. San Luis Incluyente","2.4. Políticas de Equidad","OBJETIVO A.  Impulsar políticas de equidad que garanticen a todos los potosinos el pleno ejercicio de sus derechos sociales.  ","ESTRATEGIA A.3 Impulsar programas dirigidos a promover los derechos y libertades de las mujeres.","Promover una política de tolerancia cero a la desigualdad, la discriminación y la violencia de género."]
["2. San Luis Incluyente","2.4. Políticas de Equidad","OBJETIVO A.  Impulsar políticas de equidad que garanticen a todos los potosinos el pleno ejercicio de sus derechos sociales.  ","ESTRATEGIA A.3 Impulsar programas dirigidos a promover los derechos y libertades de las mujeres.","Propiciar la Igualdad de oportunidades educativas, laborales, de salario y de participación política. "]
["2. San Luis Incluyente","2.4. Políticas de Equidad","OBJETIVO A.  Impulsar políticas de equidad que garanticen a todos los potosinos el pleno ejercicio de sus derechos sociales.  ","ESTRATEGIA A.3 Impulsar programas dirigidos a promover los derechos y libertades de las mujeres.","Impulsar programas de alfabetización orientados a las mujeres, para prevenir la deserción escolar  y reforzar su capacitación para el trabajo mejor remunerado."]
["2. San Luis Incluyente","2.4. Políticas de Equidad","OBJETIVO A.  Impulsar políticas de equidad que garanticen a todos los potosinos el pleno ejercicio de sus derechos sociales.  ","ESTRATEGIA A.3 Impulsar programas dirigidos a promover los derechos y libertades de las mujeres.","Ofrecer oportunidades de financiamiento a mujeres emprendedoras en los 58 municipios."]
["2. San Luis Incluyente","2.4. Políticas de Equidad","OBJETIVO A.  Impulsar políticas de equidad que garanticen a todos los potosinos el pleno ejercicio de sus derechos sociales.  ","ESTRATEGIA A.3 Impulsar programas dirigidos a promover los derechos y libertades de las mujeres.","Promover más estancias infantiles en beneficio de madres que trabajan, madres solteras y jefas de familia."]
["2. San Luis Incluyente","2.4. Políticas de Equidad","OBJETIVO A.  Impulsar políticas de equidad que garanticen a todos los potosinos el pleno ejercicio de sus derechos sociales.  ","ESTRATEGIA A.4 Desarrollar políticas que propicien la integración social y productiva de los adultos mayores y las personas con discapacidad. ","Ampliar los servicios de salud y de medicamentos, así como sus opciones  educativas, culturales y de recreación. "]
["2. San Luis Incluyente","2.4. Políticas de Equidad","OBJETIVO A.  Impulsar políticas de equidad que garanticen a todos los potosinos el pleno ejercicio de sus derechos sociales.  ","ESTRATEGIA A.4 Desarrollar políticas que propicien la integración social y productiva de los adultos mayores y las personas con discapacidad. ","Promover la creación de espacios adecuados a través de proyectos de vialidad y movilidad urbana, así como en parques, plazas y otros espacios públicos."]
["2. San Luis Incluyente","2.4. Políticas de Equidad","OBJETIVO A.  Impulsar políticas de equidad que garanticen a todos los potosinos el pleno ejercicio de sus derechos sociales.  ","ESTRATEGIA A.4 Desarrollar políticas que propicien la integración social y productiva de los adultos mayores y las personas con discapacidad. ","Apoyar de manera especial a los adultos mayores que se encuentran en condiciones de soledad e indigencia."]
["2. San Luis Incluyente","2.4. Políticas de Equidad","OBJETIVO A.  Impulsar políticas de equidad que garanticen a todos los potosinos el pleno ejercicio de sus derechos sociales.  ","ESTRATEGIA A.4 Desarrollar políticas que propicien la integración social y productiva de los adultos mayores y las personas con discapacidad. ","Fomentar una cultura de respeto a las personas con discapacidad, e impulsar sus opciones productivas, culturales y deportivas."]
["2. San Luis Incluyente","2.4. Políticas de Equidad","OBJETIVO A.  Impulsar políticas de equidad que garanticen a todos los potosinos el pleno ejercicio de sus derechos sociales.  ","ESTRATEGIA A.4 Desarrollar políticas que propicien la integración social y productiva de los adultos mayores y las personas con discapacidad. ","·        Impulsar la reglamentación para la movilidad segura de personas con discapacidad. "]
["2. San Luis Incluyente","2.4. Políticas de Equidad","OBJETIVO A.  Impulsar políticas de equidad que garanticen a todos los potosinos el pleno ejercicio de sus derechos sociales.  ","ESTRATEGIA A.5 Fortalecer los vínculos entre los migrantes y sus comunidades de origen que permitan concretar acciones de beneficio social.","Otorgar mayor seguridad y asistencia a la población migrante en retorno."]
["2. San Luis Incluyente","2.4. Políticas de Equidad","OBJETIVO A.  Impulsar políticas de equidad que garanticen a todos los potosinos el pleno ejercicio de sus derechos sociales.  ","ESTRATEGIA A.5 Fortalecer los vínculos entre los migrantes y sus comunidades de origen que permitan concretar acciones de beneficio social.","Fortalecer los vínculos con las organizaciones y clubes de migrantes en los Estados Unidos."]
["2. San Luis Incluyente","2.4. Políticas de Equidad","OBJETIVO A.  Impulsar políticas de equidad que garanticen a todos los potosinos el pleno ejercicio de sus derechos sociales.  ","ESTRATEGIA A.5 Fortalecer los vínculos entre los migrantes y sus comunidades de origen que permitan concretar acciones de beneficio social.","Promover un trato preferencial a la condición de migrante en servicios y trámites administrativos, personales y familiares."]
["2. San Luis Incluyente","2.4. Políticas de Equidad","OBJETIVO A.  Impulsar políticas de equidad que garanticen a todos los potosinos el pleno ejercicio de sus derechos sociales.  ","ESTRATEGIA A.5 Fortalecer los vínculos entre los migrantes y sus comunidades de origen que permitan concretar acciones de beneficio social.","Impulsar programas para apoyar a los migrantes y sus familias en el desarrollo de sus comunidades de origen."]
["2. San Luis Incluyente","2.4. Políticas de Equidad","OBJETIVO A.  Impulsar políticas de equidad que garanticen a todos los potosinos el pleno ejercicio de sus derechos sociales.  ","ESTRATEGIA A.5 Fortalecer los vínculos entre los migrantes y sus comunidades de origen que permitan concretar acciones de beneficio social.","Implementar una red efectiva de comunicación para nuevas oportunidades de inversión en turismo, educación, cultura e intercambio de experiencias que fortalezcan los lazos de identidad y solidaridad con los migrantes."]
["2. San Luis Incluyente","2.4. Políticas de Equidad","OBJETIVO B. Avanzar en el desarrollo de los pueblos indígenas para que puedan ejercer plenamente su derecho a un desarrollo integral.","ESTRATEGIA B.1 Ampliar la cobertura de beneficios sociales, mediante proyectos, programas y acciones con respeto a sus tradiciones y cultura.","Ampliar la coordinación entre los tres niveles de gobierno y los poderes legislativo y judicial, para garantizar el acceso expedito de los pueblos indígenas a la impartición y procuración de justicia en su lengua original."]
["2. San Luis Incluyente","2.4. Políticas de Equidad","OBJETIVO B. Avanzar en el desarrollo de los pueblos indígenas para que puedan ejercer plenamente su derecho a un desarrollo integral.","ESTRATEGIA B.1 Ampliar la cobertura de beneficios sociales, mediante proyectos, programas y acciones con respeto a sus tradiciones y cultura.","Promover mayor cobertura de servicios básicos en sus comunidades y reducir el hacinamiento en las viviendas. "]
["2. San Luis Incluyente","2.4. Políticas de Equidad","OBJETIVO B. Avanzar en el desarrollo de los pueblos indígenas para que puedan ejercer plenamente su derecho a un desarrollo integral.","ESTRATEGIA B.1 Ampliar la cobertura de beneficios sociales, mediante proyectos, programas y acciones con respeto a sus tradiciones y cultura.","Fortalecer  la construcción y modernización de la red de caminos en las zonas indígenas."]
["2. San Luis Incluyente","2.4. Políticas de Equidad","OBJETIVO B. Avanzar en el desarrollo de los pueblos indígenas para que puedan ejercer plenamente su derecho a un desarrollo integral.","ESTRATEGIA B.1 Ampliar la cobertura de beneficios sociales, mediante proyectos, programas y acciones con respeto a sus tradiciones y cultura.","Impulsar programas de investigación y capacitación para el desarrollo de proyectos productivos de las comunidades indígenas."]
["2. San Luis Incluyente","2.4. Políticas de Equidad","OBJETIVO B. Avanzar en el desarrollo de los pueblos indígenas para que puedan ejercer plenamente su derecho a un desarrollo integral.","ESTRATEGIA B.1 Ampliar la cobertura de beneficios sociales, mediante proyectos, programas y acciones con respeto a sus tradiciones y cultura.","Otorgar asesoría especializada y financiamiento para la comercialización de productos de las comunidades indígenas."]
["3. San Luis Sustentable","3.1. Recursos Forestales, Conservación de Suelos y Biodiversidad.","OBJETIVO A. Preservar el patrimonio natural de los potosinos.","ESTRATEGIA A.1 Mantener y preservar el patrimonio natural en todas las regiones para asegurar un desarrollo sustentable y contribuir a mejorar la calidad de vida de la población.","Promover programas de reforestación en áreas rurales y urbanas, con participación comunitaria."]
["3. San Luis Sustentable","3.1. Recursos Forestales, Conservación de Suelos y Biodiversidad.","OBJETIVO A. Preservar el patrimonio natural de los potosinos.","ESTRATEGIA A.1 Mantener y preservar el patrimonio natural en todas las regiones para asegurar un desarrollo sustentable y contribuir a mejorar la calidad de vida de la población.","Elaborar los estudios que determinen las áreas de protección forestal."]
["3. San Luis Sustentable","3.1. Recursos Forestales, Conservación de Suelos y Biodiversidad.","OBJETIVO A. Preservar el patrimonio natural de los potosinos.","ESTRATEGIA A.1 Mantener y preservar el patrimonio natural en todas las regiones para asegurar un desarrollo sustentable y contribuir a mejorar la calidad de vida de la población.","Proteger la diversidad biológica con programas de conservación,  restauración y aprovechamiento sustentable de los recursos naturales. "]
["3. San Luis Sustentable","3.1. Recursos Forestales, Conservación de Suelos y Biodiversidad.","OBJETIVO B. Incrementar la superficie de Áreas Naturales Protegidas.","ESTRATEGIA B.1 Realizar gestiones técnico-institucionales para lograr el incremento de la superficie de Áreas Naturales Protegidas. ","Formular los planes de manejo de las Áreas Naturales Protegidas."]
["3. San Luis Sustentable","3.1. Recursos Forestales, Conservación de Suelos y Biodiversidad.","OBJETIVO B. Incrementar la superficie de Áreas Naturales Protegidas.","ESTRATEGIA B.1 Realizar gestiones técnico-institucionales para lograr el incremento de la superficie de Áreas Naturales Protegidas. ","\nGestionar ante la federación declaratorias de nuevas Áreas Naturales Protegidas."]
["3. San Luis Sustentable","3.1. Recursos Forestales, Conservación de Suelos y Biodiversidad.","OBJETIVO B. Incrementar la superficie de Áreas Naturales Protegidas.","ESTRATEGIA B.1 Realizar gestiones técnico-institucionales para lograr el incremento de la superficie de Áreas Naturales Protegidas. ","\nPromover la certificación de Unidades de Manejo Ambiental."]
["3. San Luis Sustentable","3.1. Recursos Forestales, Conservación de Suelos y Biodiversidad.","OBJETIVO C. Implementar el Ordenamiento Ecológico como un modelo de intervención institucional para la protección y gestión de los ecosistemas en las regiones.","ESTRATEGIA C.1 Formular los instrumentos técnicos y de gestión ambiental con diagnósticos participativos comunitarios.","Establecer un programa estatal para la protección y gestión de ecosistemas."]
["3. San Luis Sustentable","3.1. Recursos Forestales, Conservación de Suelos y Biodiversidad.","OBJETIVO C. Implementar el Ordenamiento Ecológico como un modelo de intervención institucional para la protección y gestión de los ecosistemas en las regiones.","ESTRATEGIA C.1 Formular los instrumentos técnicos y de gestión ambiental con diagnósticos participativos comunitarios.","Promover convenios con los municipios para la protección de ecosistemas y para la atención de problemas de orden ambiental."]
["3. San Luis Sustentable","3.1. Recursos Forestales, Conservación de Suelos y Biodiversidad.","OBJETIVO D. Prevenir, controlar y combatir los incendios forestales. ","ESTRATEGIA D.1 Implementar protocolos comunitarios para la prevención y el control de incendios forestales, reforzando la infraestructura y equipamiento para la alerta y la respuesta oportuna.","Establecer programas de capacitación en materia de prevención, alerta, combate y control de incendios forestales."]
["3. San Luis Sustentable","3.1. Recursos Forestales, Conservación de Suelos y Biodiversidad.","OBJETIVO D. Prevenir, controlar y combatir los incendios forestales. ","ESTRATEGIA D.1 Implementar protocolos comunitarios para la prevención y el control de incendios forestales, reforzando la infraestructura y equipamiento para la alerta y la respuesta oportuna.","Impulsar la formación de grupos de voluntarios en las zonas de mayor incidencia de incendios."]
["3. San Luis Sustentable","3.1. Recursos Forestales, Conservación de Suelos y Biodiversidad.","OBJETIVO D. Prevenir, controlar y combatir los incendios forestales. ","ESTRATEGIA D.1 Implementar protocolos comunitarios para la prevención y el control de incendios forestales, reforzando la infraestructura y equipamiento para la alerta y la respuesta oportuna.","Fortalecer los modelos municipales de gestión ambiental."]
["3. San Luis Sustentable","3.1. Recursos Forestales, Conservación de Suelos y Biodiversidad.","OBJETIVO D. Prevenir, controlar y combatir los incendios forestales. ","ESTRATEGIA D.1 Implementar protocolos comunitarios para la prevención y el control de incendios forestales, reforzando la infraestructura y equipamiento para la alerta y la respuesta oportuna.","Realizar acciones de restauración, aprovechamiento forestal y saneamiento para mantener y mejorar los bosques, selvas y vegetación de zonas áridas."]
["3. San Luis Sustentable","3.2. Agua y Reservas Hidrológicas. ","OBJETIVO A. Promover el manejo integral y sustentable del agua desde una perspectiva de cuencas.","ESTRATEGIA A.1. Crear los mecanismos que contribuyan a un mejor manejo y gestión integral del recurso hídrico en las regiones.","Desarrollar una agenda sectorial que ponga en marcha el Programa de Recursos Hídricos de Largo Plazo."]
["3. San Luis Sustentable","3.2. Agua y Reservas Hidrológicas. ","OBJETIVO A. Promover el manejo integral y sustentable del agua desde una perspectiva de cuencas.","ESTRATEGIA A.1. Crear los mecanismos que contribuyan a un mejor manejo y gestión integral del recurso hídrico en las regiones.","Promover la actualización y el seguimiento de la legislación respecto al uso sustentable del agua."]
["3. San Luis Sustentable","3.2. Agua y Reservas Hidrológicas. ","OBJETIVO A. Promover el manejo integral y sustentable del agua desde una perspectiva de cuencas.","ESTRATEGIA A.1. Crear los mecanismos que contribuyan a un mejor manejo y gestión integral del recurso hídrico en las regiones.","Ordenar la explotación y el aprovechamiento del recurso agua en las diferentes cuencas y acuíferos mediante un manejo integrado y sustentable."]
["3. San Luis Sustentable","3.2. Agua y Reservas Hidrológicas. ","OBJETIVO A. Promover el manejo integral y sustentable del agua desde una perspectiva de cuencas.","ESTRATEGIA A.1. Crear los mecanismos que contribuyan a un mejor manejo y gestión integral del recurso hídrico en las regiones.","Formular los programas y estrategias de eficiencia técnica y acciones de recarga, para atender la recuperación de los acuíferos sobreexplotados."]
["3. San Luis Sustentable","3.2. Agua y Reservas Hidrológicas. ","OBJETIVO A. Promover el manejo integral y sustentable del agua desde una perspectiva de cuencas.","ESTRATEGIA A.1. Crear los mecanismos que contribuyan a un mejor manejo y gestión integral del recurso hídrico en las regiones.","Incrementar la seguridad hídrica ante fenómenos meteorológicos como las sequías y las inundaciones."]
["3. San Luis Sustentable","3.2. Agua y Reservas Hidrológicas. ","OBJETIVO A. Promover el manejo integral y sustentable del agua desde una perspectiva de cuencas.","ESTRATEGIA A.1. Crear los mecanismos que contribuyan a un mejor manejo y gestión integral del recurso hídrico en las regiones.","Promover acciones de control y sanciones que reduzcan las descargas de contaminantes en los diversos cuerpos de agua."]
["3. San Luis Sustentable","3.2. Agua y Reservas Hidrológicas. ","OBJETIVO B. Incrementar la capacidad de tratamiento de aguas residuales y promover su reúso.","ESTRATEGIA B.1 Construir, rehabilitar y modernizar la infraestructura para el  tratamiento del agua. ","Rehabilitar las plantas de tratamiento y de potabilización existentes que contribuyan a garantizar el abasto de agua."]
["3. San Luis Sustentable","3.2. Agua y Reservas Hidrológicas. ","OBJETIVO B. Incrementar la capacidad de tratamiento de aguas residuales y promover su reúso.","ESTRATEGIA B.1 Construir, rehabilitar y modernizar la infraestructura para el  tratamiento del agua. ","Fortalecer los Consejos de Cuenca y los Comités Técnicos de Aguas Subterráneas."]
["3. San Luis Sustentable","3.2. Agua y Reservas Hidrológicas. ","OBJETIVO C. Promover el desarrollo y difusión de tecnologías más efectivas  y eficientes para la potabilización, uso y tratamiento del agua.","ESTRATEGIA C.1 Vincular el uso de nuevas tecnologías en los procesos de potabilización, uso y tratamiento del agua. ","Promover sistemas para la captación de agua de lluvias, para incrementar el abastecimiento a la población."]
["3. San Luis Sustentable","3.2. Agua y Reservas Hidrológicas. ","OBJETIVO C. Promover el desarrollo y difusión de tecnologías más efectivas  y eficientes para la potabilización, uso y tratamiento del agua.","ESTRATEGIA C.1 Vincular el uso de nuevas tecnologías en los procesos de potabilización, uso y tratamiento del agua. ","Impulsar, desarrollar y transferir conocimientos científicos y tecnológicos en materia de agua y su gestión integral por cuencas, así como la medición del ciclo hidrológico y la disponibilidad de los acuíferos."]
["3. San Luis Sustentable","3.2. Agua y Reservas Hidrológicas. ","OBJETIVO D. Propiciar el uso eficiente del agua en las actividades agrícolas  e industriales.","ESTRATEGIA D.1 Modernizar y rehabilitar la infraestructura hidroagrícola e industrial.","Realizar campañas, foros y ferias de tecnologías que propicien el uso eficiente del agua en las actividades industriales, agrícolas y domésticas."]
["3. San Luis Sustentable","3.2. Agua y Reservas Hidrológicas. ","OBJETIVO D. Propiciar el uso eficiente del agua en las actividades agrícolas  e industriales.","ESTRATEGIA D.1 Modernizar y rehabilitar la infraestructura hidroagrícola e industrial.","Promover esquemas de financiamiento para la adopción de las tecnologías en los procesos agrícolas e industriales."]
["3. San Luis Sustentable","3.3. Gestión Integral de Residuos.","OBJETIVO A. Promover con los municipios la gestión de manejo y disposición de residuos sólidos urbanos, conforme a la normatividad vigente.","ESTRATEGIA A.1 Establecer convenios de coordinación intermunicipal para el manejo integral de los residuos sólidos. ","Propiciar que todos los municipios cuenten con relleno sanitario o sitio de disposición o confinamiento controlado para los residuos sólidos."]
["3. San Luis Sustentable","3.3. Gestión Integral de Residuos.","OBJETIVO A. Promover con los municipios la gestión de manejo y disposición de residuos sólidos urbanos, conforme a la normatividad vigente.","ESTRATEGIA A.1 Establecer convenios de coordinación intermunicipal para el manejo integral de los residuos sólidos. ","Desarrollar los estudios técnicos y financieros para la gestión de plantas de tratamiento de residuos orgánicos o de compostaje."]
["3. San Luis Sustentable","3.3. Gestión Integral de Residuos.","OBJETIVO A. Promover con los municipios la gestión de manejo y disposición de residuos sólidos urbanos, conforme a la normatividad vigente.","ESTRATEGIA A.1 Establecer convenios de coordinación intermunicipal para el manejo integral de los residuos sólidos. ","Impulsar una gestión integral de los residuos que involucre la modernización operativa y administrativa de los sistemas de recolección, tratamiento y disposición final."]
["3. San Luis Sustentable","3.3. Gestión Integral de Residuos.","OBJETIVO B. Promover con los municipios la gestión de manejo y disposición de residuos de manejo especial. ","ESTRATEGIA B.1. Establecer convenios de coordinación para el tratamiento integral de los residuos de manejo especial.","Aplicar la normatividad para que se adopten las medidas sanitarias viables para la recolección y disposición de los residuos de manejo especial generados en el Estado."]
["3. San Luis Sustentable","3.3. Gestión Integral de Residuos.","OBJETIVO C. Aplicar la normatividad para lograr un eficaz manejo y disposición de los residuos peligrosos.","ESTRATEGIA C.1 Coordinar acciones para el manejo integral de los residuos peligrosos. ","Aplicar la normatividad y medidas de control a los emisores de residuos peligrosos."]
["3. San Luis Sustentable","3.3. Gestión Integral de Residuos.","OBJETIVO C. Aplicar la normatividad para lograr un eficaz manejo y disposición de los residuos peligrosos.","ESTRATEGIA C.1 Coordinar acciones para el manejo integral de los residuos peligrosos. ","Solicitar a quienes generan residuos peligrosos la actualización o realización de planes de manejo y registrarlos para su control."]
["3. San Luis Sustentable","3.3. Gestión Integral de Residuos.","OBJETIVO C. Aplicar la normatividad para lograr un eficaz manejo y disposición de los residuos peligrosos.","ESTRATEGIA C.1 Coordinar acciones para el manejo integral de los residuos peligrosos. ","Actualizar los estudios técnicos para determinar la infraestructura requerida en el manejo de residuos peligrosos."]
["3. San Luis Sustentable","3.4. Cambio Climático y Energías Renovables.","OBJETIVO A. Elaborar instrumentos técnicos que orienten las políticas estatales sobre el Cambio Climático.","ESTRATEGIA A.1 Establecer la agenda estatal de cambio climático, con la participación de los municipios y de los sectores de la sociedad.","Elaborar el Programa Estatal de Cambio Climático."]
["3. San Luis Sustentable","3.4. Cambio Climático y Energías Renovables.","OBJETIVO A. Elaborar instrumentos técnicos que orienten las políticas estatales sobre el Cambio Climático.","ESTRATEGIA A.1 Establecer la agenda estatal de cambio climático, con la participación de los municipios y de los sectores de la sociedad.","Desarrollar planes de acción en coordinación con los municipios y la sociedad para enfrentar los desafíos del cambio climático."]
["3. San Luis Sustentable","3.4. Cambio Climático y Energías Renovables.","OBJETIVO A. Elaborar instrumentos técnicos que orienten las políticas estatales sobre el Cambio Climático.","ESTRATEGIA A.1 Establecer la agenda estatal de cambio climático, con la participación de los municipios y de los sectores de la sociedad.","Impulsar la investigación sobre cambio climático."]
["3. San Luis Sustentable","3.4. Cambio Climático y Energías Renovables.","OBJETIVO B. Mitigar los efectos del cambio climático con acciones que aumenten las oportunidades de desarrollo, la innovación tecnológica y el uso de energías limpias.","ESTRATEGIA B.1 Actualizar y supervisar el inventario de emisiones de gases de efecto invernadero e impulsar las acciones orientadas a mitigar los efectos del cambio climático. ","Fomentar el uso eficiente de energía en los ámbitos industrial, transporte, agrícola y doméstico."]
["3. San Luis Sustentable","3.4. Cambio Climático y Energías Renovables.","OBJETIVO B. Mitigar los efectos del cambio climático con acciones que aumenten las oportunidades de desarrollo, la innovación tecnológica y el uso de energías limpias.","ESTRATEGIA B.1 Actualizar y supervisar el inventario de emisiones de gases de efecto invernadero e impulsar las acciones orientadas a mitigar los efectos del cambio climático. ","Mejorar la atracción de inversiones y promover el aprovechamiento de recursos naturales para la producción de energías renovables, principalmente eólica, fotovoltaica y por biomasa. "]
["3. San Luis Sustentable","3.4. Cambio Climático y Energías Renovables.","OBJETIVO B. Mitigar los efectos del cambio climático con acciones que aumenten las oportunidades de desarrollo, la innovación tecnológica y el uso de energías limpias.","ESTRATEGIA B.1 Actualizar y supervisar el inventario de emisiones de gases de efecto invernadero e impulsar las acciones orientadas a mitigar los efectos del cambio climático. ","Desarrollar  mecanismos para incentivar la reducción de emisiones de gases de efecto invernadero, y promover sistemas de transporte con consumo energético limpio."]
["3. San Luis Sustentable","3.4. Cambio Climático y Energías Renovables.","OBJETIVO B. Mitigar los efectos del cambio climático con acciones que aumenten las oportunidades de desarrollo, la innovación tecnológica y el uso de energías limpias.","ESTRATEGIA B.1 Actualizar y supervisar el inventario de emisiones de gases de efecto invernadero e impulsar las acciones orientadas a mitigar los efectos del cambio climático. ","Implementar un programa general de ahorro de energía. "]
["3. San Luis Sustentable","3.4. Cambio Climático y Energías Renovables.","OBJETIVO B. Mitigar los efectos del cambio climático con acciones que aumenten las oportunidades de desarrollo, la innovación tecnológica y el uso de energías limpias.","ESTRATEGIA B.2 Fomentar el uso de registros e inventarios municipales para consolidar un sistema de información estatal en materia de emisiones de gases de efecto invernadero.","Coordinar acciones con los municipios para llevar registros y monitoreo sobre la calidad del aire."]
["3. San Luis Sustentable","3.4. Cambio Climático y Energías Renovables.","OBJETIVO B. Mitigar los efectos del cambio climático con acciones que aumenten las oportunidades de desarrollo, la innovación tecnológica y el uso de energías limpias.","ESTRATEGIA B.2 Fomentar el uso de registros e inventarios municipales para consolidar un sistema de información estatal en materia de emisiones de gases de efecto invernadero.","Elaborar y actualizar un inventario estatal y municipal de emisiones de gases de efecto invernadero."]
["3. San Luis Sustentable","3.4. Cambio Climático y Energías Renovables.","OBJETIVO B. Mitigar los efectos del cambio climático con acciones que aumenten las oportunidades de desarrollo, la innovación tecnológica y el uso de energías limpias.","ESTRATEGIA B.2 Fomentar el uso de registros e inventarios municipales para consolidar un sistema de información estatal en materia de emisiones de gases de efecto invernadero.","Llevar a cabo campañas de difusión sobre los impactos, vulnerabilidad y medidas de adaptación al cambio climático."]
["3. San Luis Sustentable","3.4. Cambio Climático y Energías Renovables.","OBJETIVO B. Mitigar los efectos del cambio climático con acciones que aumenten las oportunidades de desarrollo, la innovación tecnológica y el uso de energías limpias.","ESTRATEGIA B.2 Fomentar el uso de registros e inventarios municipales para consolidar un sistema de información estatal en materia de emisiones de gases de efecto invernadero.","Promover a través de la educación, capacitación y comunicación ambiental, actitudes responsables frente al cambio climático."]
["4. San Luis Seguro","4.1. Seguridad Pública.","OBJETIVO A. Fortalecer la coordinación interinstitucional y de colaboración con la ciudadanía para reducir la inseguridad.","ESTRATEGIA A.1 Promover una mayor coordinación operativa y de inteligencia entre los tres órdenes de gobierno.","Robustecer la coordinación entre el Ejército, la Marina Armada y la Policía Federal para el combate de delitos de alto impacto."]
["4. San Luis Seguro","4.1. Seguridad Pública.","OBJETIVO A. Fortalecer la coordinación interinstitucional y de colaboración con la ciudadanía para reducir la inseguridad.","ESTRATEGIA A.1 Promover una mayor coordinación operativa y de inteligencia entre los tres órdenes de gobierno.","Ampliar la coordinación con las corporaciones municipales de seguridad pública con miras a avanzar al esquema de mando único."]
["4. San Luis Seguro","4.1. Seguridad Pública.","OBJETIVO A. Fortalecer la coordinación interinstitucional y de colaboración con la ciudadanía para reducir la inseguridad.","ESTRATEGIA A.1 Promover una mayor coordinación operativa y de inteligencia entre los tres órdenes de gobierno.","Fortalecer las áreas de inteligencia para detección de actividades ilícitas."]
["4. San Luis Seguro","4.1. Seguridad Pública.","OBJETIVO A. Fortalecer la coordinación interinstitucional y de colaboración con la ciudadanía para reducir la inseguridad.","ESTRATEGIA A.1 Promover una mayor coordinación operativa y de inteligencia entre los tres órdenes de gobierno.","Realizar diagnósticos participativos en materia de seguridad pública que involucren a la ciudadanía en la solución de la problemática."]
["4. San Luis Seguro","4.1. Seguridad Pública.","OBJETIVO A. Fortalecer la coordinación interinstitucional y de colaboración con la ciudadanía para reducir la inseguridad.","ESTRATEGIA A.1 Promover una mayor coordinación operativa y de inteligencia entre los tres órdenes de gobierno.","Reforzar los esquemas de colaboración entre la ciudadanía y el gobierno para mayor seguridad en los hogares y las colonias, así como para el rescate de espacios públicos y deportivos."]
["4. San Luis Seguro","4.1. Seguridad Pública.","OBJETIVO A. Fortalecer la coordinación interinstitucional y de colaboración con la ciudadanía para reducir la inseguridad.","ESTRATEGIA A.1 Promover una mayor coordinación operativa y de inteligencia entre los tres órdenes de gobierno.","Aplicar permanentemente los operativos Anti-Alcohol en zonas urbanas: San Luis Potosí – Soledad de Graciano Sánchez, Ciudad Valles, Matehuala, Río Verde y Tamazunchale."]
["4. San Luis Seguro","4.1. Seguridad Pública.","OBJETIVO A. Fortalecer la coordinación interinstitucional y de colaboración con la ciudadanía para reducir la inseguridad.","ESTRATEGIA A.1 Promover una mayor coordinación operativa y de inteligencia entre los tres órdenes de gobierno.","Mejorar la eficacia de los programas de denuncia, llamadas de emergencia y respuesta a través del C4."]
["4. San Luis Seguro","4.1. Seguridad Pública.","OBJETIVO A. Fortalecer la coordinación interinstitucional y de colaboración con la ciudadanía para reducir la inseguridad.","ESTRATEGIA A.1 Promover una mayor coordinación operativa y de inteligencia entre los tres órdenes de gobierno.","Avanzar en la coordinación operativa policial con los Estados vecinos para la contención y persecución del delito."]
["4. San Luis Seguro","4.1. Seguridad Pública.","OBJETIVO A. Fortalecer la coordinación interinstitucional y de colaboración con la ciudadanía para reducir la inseguridad.","ESTRATEGIA A.1 Promover una mayor coordinación operativa y de inteligencia entre los tres órdenes de gobierno.","Erradicar la práctica de la extorsión, mediante la aplicación de programas que disminuyan su incidencia en la entidad. "]
["4. San Luis Seguro","4.1. Seguridad Pública.","OBJETIVO B. Impulsar la profesionalización de las fuerzas de seguridad, con capacitación y formación, para lograr un mejor desempeño en la función policial.","ESTRATEGIA B.1 Fortalecer la capacitación y especialización en el marco de una política integral de desarrollo policial. ","Sustituir a los elementos no acreditados en los exámenes de control de confianza."]
["4. San Luis Seguro","4.1. Seguridad Pública.","OBJETIVO B. Impulsar la profesionalización de las fuerzas de seguridad, con capacitación y formación, para lograr un mejor desempeño en la función policial.","ESTRATEGIA B.1 Fortalecer la capacitación y especialización en el marco de una política integral de desarrollo policial. ","Depurar y reasignar elementos comisionados."]
["4. San Luis Seguro","4.1. Seguridad Pública.","OBJETIVO B. Impulsar la profesionalización de las fuerzas de seguridad, con capacitación y formación, para lograr un mejor desempeño en la función policial.","ESTRATEGIA B.1 Fortalecer la capacitación y especialización en el marco de una política integral de desarrollo policial. ","Ampliar el estado de fuerza de la policía preventiva,  ministerial, peritos y ministerios públicos."]
["4. San Luis Seguro","4.1. Seguridad Pública.","OBJETIVO B. Impulsar la profesionalización de las fuerzas de seguridad, con capacitación y formación, para lograr un mejor desempeño en la función policial.","ESTRATEGIA B.1 Fortalecer la capacitación y especialización en el marco de una política integral de desarrollo policial. ","Crear un Grupo Elite para Delitos de Alto Impacto."]
["4. San Luis Seguro","4.1. Seguridad Pública.","OBJETIVO B. Impulsar la profesionalización de las fuerzas de seguridad, con capacitación y formación, para lograr un mejor desempeño en la función policial.","ESTRATEGIA B.1 Fortalecer la capacitación y especialización en el marco de una política integral de desarrollo policial. ","Mejorar los salarios y prestaciones a elementos de las corporaciones de la Secretaría de Seguridad Pública y la Procuraduría de Justicia del Gobierno del Estado."]
["4. San Luis Seguro","4.1. Seguridad Pública.","OBJETIVO B. Impulsar la profesionalización de las fuerzas de seguridad, con capacitación y formación, para lograr un mejor desempeño en la función policial.","ESTRATEGIA B.1 Fortalecer la capacitación y especialización en el marco de una política integral de desarrollo policial. ","Consolidar el servicio civil de carrera policial que permita darle certeza a los elementos  de seguridad pública estatal sobre su desarrollo profesional."]
["4. San Luis Seguro","4.1. Seguridad Pública.","OBJETIVO B. Impulsar la profesionalización de las fuerzas de seguridad, con capacitación y formación, para lograr un mejor desempeño en la función policial.","ESTRATEGIA B.1 Fortalecer la capacitación y especialización en el marco de una política integral de desarrollo policial. ","Asegurar que todos los elementos de seguridad pública en el estado cuenten al menos con bachillerato, formación en derechos humanos y las competencias requeridas para el adecuado ejercicio de sus funciones en el marco del Sistema de Justicia Penal Acusatorio."]
["4. San Luis Seguro","4.1. Seguridad Pública.","OBJETIVO B. Impulsar la profesionalización de las fuerzas de seguridad, con capacitación y formación, para lograr un mejor desempeño en la función policial.","ESTRATEGIA B.1 Fortalecer la capacitación y especialización en el marco de una política integral de desarrollo policial. ","Trabajar conjuntamente con los municipios para reforzar los esquemas de reclutamiento, control y confianza, formación inicial y evaluación del desempeño con miras a contar con policías certificadas."]
["4. San Luis Seguro","4.1. Seguridad Pública.","OBJETIVO B. Impulsar la profesionalización de las fuerzas de seguridad, con capacitación y formación, para lograr un mejor desempeño en la función policial.","ESTRATEGIA B.1 Fortalecer la capacitación y especialización en el marco de una política integral de desarrollo policial. ","Presentar iniciativas para la adecuación de leyes y reglamentos en materia de seguridad pública, con el fin de homologar las disposiciones locales con las constitucionales."]
["4. San Luis Seguro","4.1. Seguridad Pública.","OBJETIVO B. Impulsar la profesionalización de las fuerzas de seguridad, con capacitación y formación, para lograr un mejor desempeño en la función policial.","ESTRATEGIA B.1 Fortalecer la capacitación y especialización en el marco de una política integral de desarrollo policial. ","Mejorar las prestaciones de los policías en activo que sean certificados, así como ampliar las becas de estudio para los hijos y los seguros para las familias de policías incapacitados o caídos en el cumplimiento de su deber."]
["4. San Luis Seguro","4.1. Seguridad Pública.","OBJETIVO B. Impulsar la profesionalización de las fuerzas de seguridad, con capacitación y formación, para lograr un mejor desempeño en la función policial.","ESTRATEGIA B.1 Fortalecer la capacitación y especialización en el marco de una política integral de desarrollo policial. ","Suscribir convenios de colaboración con universidades, institutos, fundaciones y organismos nacionales e internacionales especializados en seguridad pública para mejorar la formación académica de los cuerpos policiacos."]
["4. San Luis Seguro","4.1. Seguridad Pública.","OBJETIVO B. Impulsar la profesionalización de las fuerzas de seguridad, con capacitación y formación, para lograr un mejor desempeño en la función policial.","ESTRATEGIA B.1 Fortalecer la capacitación y especialización en el marco de una política integral de desarrollo policial. ","Aplicar y fortalecer los sistemas de evaluación del desempeño que permitan medir y calificar la eficiencia y eficacia de la gestión policial y tolerancia cero a la corrupción policial."]
["4. San Luis Seguro","4.1. Seguridad Pública.","OBJETIVO C. Fortalecer la infraestructura institucional y los protocolos de actuación policial, y modernizar los procesos para afrontar los nuevos retos de seguridad pública.","ESTRATEGIA C.1 Modernizar la estructura organizacional de las instituciones de seguridad pública y su marco normativo.","Reestructurar la Secretaria de Seguridad Pública del Estado a fin de que se fortalezcan y escalen sus capacidades operativas y se optimicen sus recursos humanos, materiales y financieros."]
["4. San Luis Seguro","4.1. Seguridad Pública.","OBJETIVO C. Fortalecer la infraestructura institucional y los protocolos de actuación policial, y modernizar los procesos para afrontar los nuevos retos de seguridad pública.","ESTRATEGIA C.1 Modernizar la estructura organizacional de las instituciones de seguridad pública y su marco normativo.","Incrementar la capacidad de gestión financiera a través de un ejercicio transparente y eficaz de los recursos en materia de seguridad pública. "]
["4. San Luis Seguro","4.1. Seguridad Pública.","OBJETIVO C. Fortalecer la infraestructura institucional y los protocolos de actuación policial, y modernizar los procesos para afrontar los nuevos retos de seguridad pública.","ESTRATEGIA C.1 Modernizar la estructura organizacional de las instituciones de seguridad pública y su marco normativo.","Homologar manuales operativos y de protocolo policial con base en estándares nacionales e internacionales, bajo una lógica de seguridad ciudadana y con estricto apego a los Derechos Humanos."]
["4. San Luis Seguro","4.1. Seguridad Pública.","OBJETIVO C. Fortalecer la infraestructura institucional y los protocolos de actuación policial, y modernizar los procesos para afrontar los nuevos retos de seguridad pública.","ESTRATEGIA C.1 Modernizar la estructura organizacional de las instituciones de seguridad pública y su marco normativo.","Suscribir convenios de coordinación con los gobiernos municipales tendientes a ampliar sus capacidades operativas e impulsar el mando único."]
["4. San Luis Seguro","4.1. Seguridad Pública.","OBJETIVO C. Fortalecer la infraestructura institucional y los protocolos de actuación policial, y modernizar los procesos para afrontar los nuevos retos de seguridad pública.","ESTRATEGIA C.2. Fortalecer la infraestructura y equipamiento de seguridad pública.","Desarrollar el proyecto, prever recursos de inversión y ejecutar construcción para el nuevo cuartel militar región Altiplano. "]
["4. San Luis Seguro","4.1. Seguridad Pública.","OBJETIVO C. Fortalecer la infraestructura institucional y los protocolos de actuación policial, y modernizar los procesos para afrontar los nuevos retos de seguridad pública.","ESTRATEGIA C.2. Fortalecer la infraestructura y equipamiento de seguridad pública.","Aumentar los arcos de seguridad y reforzar el sistema de video vigilancia en las carreteras del Estado y en zonas urbanas. "]
["4. San Luis Seguro","4.1. Seguridad Pública.","OBJETIVO C. Fortalecer la infraestructura institucional y los protocolos de actuación policial, y modernizar los procesos para afrontar los nuevos retos de seguridad pública.","ESTRATEGIA C.2. Fortalecer la infraestructura y equipamiento de seguridad pública.","Concluir la edificación y equipamiento del C3, adaptar el nuevo C4 y protección civil. "]
["4. San Luis Seguro","4.1. Seguridad Pública.","OBJETIVO C. Fortalecer la infraestructura institucional y los protocolos de actuación policial, y modernizar los procesos para afrontar los nuevos retos de seguridad pública.","ESTRATEGIA C.2. Fortalecer la infraestructura y equipamiento de seguridad pública.","Rehabilitar la Academia de Seguridad Pública Estatal."]
["4. San Luis Seguro","4.2. Procuración de Justicia. ","OBJETIVO A. Garantizar un Sistema de Justicia Penal eficaz, expedito, imparcial y transparente.","ESTRATEGIA A.1 Impulsar acciones que generen certidumbre, transparencia, imparcialidad y mayor profesionalización en la impartición de la justicia.","Concluir la infraestructura y equipamiento necesario para la operación óptima del Sistema de Justicia Penal Acusatorio. "]
["4. San Luis Seguro","4.2. Procuración de Justicia. ","OBJETIVO A. Garantizar un Sistema de Justicia Penal eficaz, expedito, imparcial y transparente.","ESTRATEGIA A.1 Impulsar acciones que generen certidumbre, transparencia, imparcialidad y mayor profesionalización en la impartición de la justicia.","Fortalecer la infraestructura de la Procuraduría General de Justicia y dotarla de laboratorios de genética forense."]
["4. San Luis Seguro","4.2. Procuración de Justicia. ","OBJETIVO A. Garantizar un Sistema de Justicia Penal eficaz, expedito, imparcial y transparente.","ESTRATEGIA A.1 Impulsar acciones que generen certidumbre, transparencia, imparcialidad y mayor profesionalización en la impartición de la justicia.","Aplicar programas de capacitación integral a primer respondiente, ministerios públicos y peritos; jueces, mediadores, asociaciones de abogados, y universidades."]
["4. San Luis Seguro","4.2. Procuración de Justicia. ","OBJETIVO A. Garantizar un Sistema de Justicia Penal eficaz, expedito, imparcial y transparente.","ESTRATEGIA A.1 Impulsar acciones que generen certidumbre, transparencia, imparcialidad y mayor profesionalización en la impartición de la justicia.","Establecer programas permanentes de difusión del nuevo Sistema de Justicia Penal."]
["4. San Luis Seguro","4.2. Procuración de Justicia. ","OBJETIVO A. Garantizar un Sistema de Justicia Penal eficaz, expedito, imparcial y transparente.","ESTRATEGIA A.1 Impulsar acciones que generen certidumbre, transparencia, imparcialidad y mayor profesionalización en la impartición de la justicia.","Integrar sistemas de información municipales y estatales para generar productos de inteligencia, en coordinación con instituciones de seguridad."]
["4. San Luis Seguro","4.2. Procuración de Justicia. ","OBJETIVO A. Garantizar un Sistema de Justicia Penal eficaz, expedito, imparcial y transparente.","ESTRATEGIA A.1 Impulsar acciones que generen certidumbre, transparencia, imparcialidad y mayor profesionalización en la impartición de la justicia.","Privilegiar la certificación y estandarización de los procesos administrativos de las instituciones públicas vinculadas con la procuración de justicia."]
["4. San Luis Seguro","4.2. Procuración de Justicia. ","OBJETIVO A. Garantizar un Sistema de Justicia Penal eficaz, expedito, imparcial y transparente.","ESTRATEGIA A.1 Impulsar acciones que generen certidumbre, transparencia, imparcialidad y mayor profesionalización en la impartición de la justicia.","Fortalecer la colaboración de las instituciones públicas vinculadas con la procuración de justicia."]
["4. San Luis Seguro","4.2. Procuración de Justicia. ","OBJETIVO A. Garantizar un Sistema de Justicia Penal eficaz, expedito, imparcial y transparente.","ESTRATEGIA A.1 Impulsar acciones que generen certidumbre, transparencia, imparcialidad y mayor profesionalización en la impartición de la justicia.","Establecer mecanismos de evaluación y análisis continuo de la calidad de servicios que brindan las instituciones vinculadas con la procuración de justicia."]
["4. San Luis Seguro","4.2. Procuración de Justicia. ","OBJETIVO A. Garantizar un Sistema de Justicia Penal eficaz, expedito, imparcial y transparente.","ESTRATEGIA A.1 Impulsar acciones que generen certidumbre, transparencia, imparcialidad y mayor profesionalización en la impartición de la justicia.","Fortalecer la aplicación de tecnologías de la información en la gestión de servicios que las instituciones de procuración de justicia ofrecen. "]
["4. San Luis Seguro","4.2. Procuración de Justicia. ","OBJETIVO B. Erradicar la corrupción y la impunidad en la investigación y persecución de delitos.","ESTRATEGIA B.1 Sistematizar los controles de combate a la corrupción para erradicar la impunidad de los procesos de procuración de justicia.","Fortalecer los órganos de control interno de las instituciones públicas vinculadas con la procuración de justicia."]
["4. San Luis Seguro","4.2. Procuración de Justicia. ","OBJETIVO B. Erradicar la corrupción y la impunidad en la investigación y persecución de delitos.","ESTRATEGIA B.1 Sistematizar los controles de combate a la corrupción para erradicar la impunidad de los procesos de procuración de justicia.","Diseñar e implementar políticas orientadas a la investigación y persecución de los delitos. "]
["4. San Luis Seguro","4.2. Procuración de Justicia. ","OBJETIVO B. Erradicar la corrupción y la impunidad en la investigación y persecución de delitos.","ESTRATEGIA B.1 Sistematizar los controles de combate a la corrupción para erradicar la impunidad de los procesos de procuración de justicia.","Implementar en todos los ámbitos de la procuración de justicia la reforma constitucional vigente en materia de derechos humanos."]
["4. San Luis Seguro","4.2. Procuración de Justicia. ","OBJETIVO B. Erradicar la corrupción y la impunidad en la investigación y persecución de delitos.","ESTRATEGIA B.1 Sistematizar los controles de combate a la corrupción para erradicar la impunidad de los procesos de procuración de justicia.","Coordinar esfuerzos para desarticular las estructuras operativas de la delincuencia. "]
["4. San Luis Seguro","4.2. Procuración de Justicia. ","OBJETIVO B. Erradicar la corrupción y la impunidad en la investigación y persecución de delitos.","ESTRATEGIA B.1 Sistematizar los controles de combate a la corrupción para erradicar la impunidad de los procesos de procuración de justicia.","Transparentar la actuación de los servidores públicos ante la ciudadanía para evitar actos de corrupción."]
["4. San Luis Seguro","4.2. Procuración de Justicia. ","OBJETIVO B. Erradicar la corrupción y la impunidad en la investigación y persecución de delitos.","ESTRATEGIA B.2 Establecer los protocolos necesarios para instrumentar acciones que modernicen la impartición y procuración de justicia de acuerdo al nuevo sistema penal acusatorio.","Simplificar procesos de procuración de justicia."]
["4. San Luis Seguro","4.2. Procuración de Justicia. ","OBJETIVO B. Erradicar la corrupción y la impunidad en la investigación y persecución de delitos.","ESTRATEGIA B.2 Establecer los protocolos necesarios para instrumentar acciones que modernicen la impartición y procuración de justicia de acuerdo al nuevo sistema penal acusatorio.","Generar los códigos de ética de las instituciones vinculadas con la procuración de justicia, con la finalidad de sean referencia en la evaluación del desempeño de los funcionarios públicos."]
["4. San Luis Seguro","4.2. Procuración de Justicia. ","OBJETIVO B. Erradicar la corrupción y la impunidad en la investigación y persecución de delitos.","ESTRATEGIA B.2 Establecer los protocolos necesarios para instrumentar acciones que modernicen la impartición y procuración de justicia de acuerdo al nuevo sistema penal acusatorio.","Establecer mecanismos de colaboración institucional para promover el respeto y protección de los derechos de las víctimas."]
["4. San Luis Seguro","4.2. Procuración de Justicia. ","OBJETIVO B. Erradicar la corrupción y la impunidad en la investigación y persecución de delitos.","ESTRATEGIA B.2 Establecer los protocolos necesarios para instrumentar acciones que modernicen la impartición y procuración de justicia de acuerdo al nuevo sistema penal acusatorio.","Establecer criterios de evaluación sobre el funcionamiento del Sistema de Justicia Penal Acusatorio. "]
["4. San Luis Seguro","4.2. Procuración de Justicia. ","OBJETIVO B. Erradicar la corrupción y la impunidad en la investigación y persecución de delitos.","ESTRATEGIA B.2 Establecer los protocolos necesarios para instrumentar acciones que modernicen la impartición y procuración de justicia de acuerdo al nuevo sistema penal acusatorio.","Fomentar la especialización de los operadores del sistema penal acusatorio y mejorar la coordinación entre los mismos."]
["4. San Luis Seguro","4.2. Procuración de Justicia. ","OBJETIVO B. Erradicar la corrupción y la impunidad en la investigación y persecución de delitos.","ESTRATEGIA B.2 Establecer los protocolos necesarios para instrumentar acciones que modernicen la impartición y procuración de justicia de acuerdo al nuevo sistema penal acusatorio.","Reforzar la vinculación con Gobierno Federal para la gestión de recursos y medios institucionales que faciliten la eficiencia en la implementación del Sistema de Justicia Penal Acusatorio. "]
["4. San Luis Seguro","4.2. Procuración de Justicia. ","OBJETIVO B. Erradicar la corrupción y la impunidad en la investigación y persecución de delitos.","ESTRATEGIA B.2 Establecer los protocolos necesarios para instrumentar acciones que modernicen la impartición y procuración de justicia de acuerdo al nuevo sistema penal acusatorio.","Trabajar coordinadamente con el Consejo Consultivo Ciudadano de Procuración de Justicia, y avanzar en el impulso de los Consejos regionales."]
["4. San Luis Seguro","4.2. Procuración de Justicia. ","OBJETIVO B. Erradicar la corrupción y la impunidad en la investigación y persecución de delitos.","ESTRATEGIA B.2 Establecer los protocolos necesarios para instrumentar acciones que modernicen la impartición y procuración de justicia de acuerdo al nuevo sistema penal acusatorio.","Establecer mecanismos para la evaluación del nivel de satisfacción en los distintos servicios que proporcionan las instituciones involucradas en la procuración de justicia."]
["4. San Luis Seguro","4.2. Procuración de Justicia. ","OBJETIVO B. Erradicar la corrupción y la impunidad en la investigación y persecución de delitos.","ESTRATEGIA B.2 Establecer los protocolos necesarios para instrumentar acciones que modernicen la impartición y procuración de justicia de acuerdo al nuevo sistema penal acusatorio.","Elevar los índices de transparencia en las instituciones involucradas en la procuración de justicia."]
["4. San Luis Seguro","4.2. Procuración de Justicia. ","OBJETIVO B. Erradicar la corrupción y la impunidad en la investigación y persecución de delitos.","ESTRATEGIA B.2 Establecer los protocolos necesarios para instrumentar acciones que modernicen la impartición y procuración de justicia de acuerdo al nuevo sistema penal acusatorio.","·        Crear plataformas electrónicas para la divulgación de información de interés público en materia de procuración de justicia, a fin de fortalecer la cultura de la transparencia."]
["4. San Luis Seguro","4.3. Reinserción Social.","OBJETIVO A. Fortalecer el sistema penitenciario estatal y las medidas de prevención para menores infractores, mejorando las instalaciones, equipamiento y operatividad de los centros de reclusión para que existan condiciones para una reinserción social y productiva","ESTRATEGIA A.1.  Intensificar las acciones que consoliden un sistema penitenciario que garantice una reinserción social efectiva.","Garantizar una estancia adecuada a la población interna y facilidades para su reinserción social, con respeto a sus derechos humanos y oportunidades educativas, de capacitación para el trabajo, deporte y recreación."]
["4. San Luis Seguro","4.3. Reinserción Social.","OBJETIVO A. Fortalecer el sistema penitenciario estatal y las medidas de prevención para menores infractores, mejorando las instalaciones, equipamiento y operatividad de los centros de reclusión para que existan condiciones para una reinserción social y productiva","ESTRATEGIA A.1.  Intensificar las acciones que consoliden un sistema penitenciario que garantice una reinserción social efectiva.","Capacitar y dar entrenamiento técnico al personal que se desempeña dentro de los centros de reinserción social, en función de las necesidades del servicio."]
["4. San Luis Seguro","4.3. Reinserción Social.","OBJETIVO A. Fortalecer el sistema penitenciario estatal y las medidas de prevención para menores infractores, mejorando las instalaciones, equipamiento y operatividad de los centros de reclusión para que existan condiciones para una reinserción social y productiva","ESTRATEGIA A.1.  Intensificar las acciones que consoliden un sistema penitenciario que garantice una reinserción social efectiva.","Avanzar en los programas de prevención del delito a través del combate a las adicciones, educación sexual para adolescentes, prevención de embarazos no deseados, el bullying y el acoso en redes sociales."]
["4. San Luis Seguro","4.3. Reinserción Social.","OBJETIVO A. Fortalecer el sistema penitenciario estatal y las medidas de prevención para menores infractores, mejorando las instalaciones, equipamiento y operatividad de los centros de reclusión para que existan condiciones para una reinserción social y productiva","ESTRATEGIA A.1.  Intensificar las acciones que consoliden un sistema penitenciario que garantice una reinserción social efectiva.","Fortalecer las acciones para brindar a los menores infractores una atención integral, con respeto a sus Derechos Humanos, que les ayude a reintegrarse a la vida social y familiar."]
["4. San Luis Seguro","4.3. Reinserción Social.","OBJETIVO A. Fortalecer el sistema penitenciario estatal y las medidas de prevención para menores infractores, mejorando las instalaciones, equipamiento y operatividad de los centros de reclusión para que existan condiciones para una reinserción social y productiva","ESTRATEGIA A.1.  Intensificar las acciones que consoliden un sistema penitenciario que garantice una reinserción social efectiva.","Rehabilitar y modernizar la infraestructura y el equipamiento de los centros de prevención y readaptación social del Estado. "]
["4. San Luis Seguro","4.4. Prevención de la Delincuencia y Atención a Víctimas.","OBJETIVO A. Impulsar una política integral de prevención de la violencia y la delincuencia con énfasis en grupos de alta vulnerabilidad social.","ESTRATEGIA A.1 Consolidar una estrategia integral de prevención social de la violencia y la delincuencia con participación ciudadana.","Desarrollar programas a favor de la cultura de la paz y la legalidad entre niñas, niños y adolescentes."]
["4. San Luis Seguro","4.4. Prevención de la Delincuencia y Atención a Víctimas.","OBJETIVO A. Impulsar una política integral de prevención de la violencia y la delincuencia con énfasis en grupos de alta vulnerabilidad social.","ESTRATEGIA A.1 Consolidar una estrategia integral de prevención social de la violencia y la delincuencia con participación ciudadana.","Diseñar estrategias basadas en diagnósticos participativos con la sociedad, para la solución pacífica de conflictos y la generación de entornos sociales saludables y libres de violencia."]
["4. San Luis Seguro","4.4. Prevención de la Delincuencia y Atención a Víctimas.","OBJETIVO A. Impulsar una política integral de prevención de la violencia y la delincuencia con énfasis en grupos de alta vulnerabilidad social.","ESTRATEGIA A.1 Consolidar una estrategia integral de prevención social de la violencia y la delincuencia con participación ciudadana.","Fortalecer la participación ciudadana en programas de prevención de la violencia y la delincuencia y en pro de la cultura de la legalidad."]
["4. San Luis Seguro","4.4. Prevención de la Delincuencia y Atención a Víctimas.","OBJETIVO A. Impulsar una política integral de prevención de la violencia y la delincuencia con énfasis en grupos de alta vulnerabilidad social.","ESTRATEGIA A.1 Consolidar una estrategia integral de prevención social de la violencia y la delincuencia con participación ciudadana.","Fortalecer los comités municipales de consulta y participación ciudadana en materia de prevención social de la violencia y la delincuencia, así como los consejos municipales de seguridad pública."]
["4. San Luis Seguro","4.4. Prevención de la Delincuencia y Atención a Víctimas.","OBJETIVO B. Generar mecanismos eficientes y claros que brinden apoyo a las víctimas que acudan ante la autoridad a hacer valer sus derechos.","ESTRATEGIA B.1. Consolidar una política integral de atención a personas en situación de víctimas y de justicia para las mujeres.","Garantizar la atención y protección a las víctimas del delito."]
["4. San Luis Seguro","4.4. Prevención de la Delincuencia y Atención a Víctimas.","OBJETIVO B. Generar mecanismos eficientes y claros que brinden apoyo a las víctimas que acudan ante la autoridad a hacer valer sus derechos.","ESTRATEGIA B.1. Consolidar una política integral de atención a personas en situación de víctimas y de justicia para las mujeres.","Establecer la atención de las personas en situación de víctimas a través de un modelo integral y protocolos de atención especializados en las instituciones de la administración pública estatal."]
["4. San Luis Seguro","4.4. Prevención de la Delincuencia y Atención a Víctimas.","OBJETIVO B. Generar mecanismos eficientes y claros que brinden apoyo a las víctimas que acudan ante la autoridad a hacer valer sus derechos.","ESTRATEGIA B.1. Consolidar una política integral de atención a personas en situación de víctimas y de justicia para las mujeres.","Fortalecer las estrategias institucionales de atención a mujeres víctimas de violencia, así como a sus hijas e hijos, garantizando su acceso a la justicia."]
["4. San Luis Seguro","4.4. Prevención de la Delincuencia y Atención a Víctimas.","OBJETIVO B. Generar mecanismos eficientes y claros que brinden apoyo a las víctimas que acudan ante la autoridad a hacer valer sus derechos.","ESTRATEGIA B.1. Consolidar una política integral de atención a personas en situación de víctimas y de justicia para las mujeres.","Desarrollar esquemas de participación de los gobiernos municipales para coadyuvar en  la atención de víctimas."]
["4. San Luis Seguro","4.4. Prevención de la Delincuencia y Atención a Víctimas.","OBJETIVO B. Generar mecanismos eficientes y claros que brinden apoyo a las víctimas que acudan ante la autoridad a hacer valer sus derechos.","ESTRATEGIA B.1. Consolidar una política integral de atención a personas en situación de víctimas y de justicia para las mujeres.","Implementar estrategias de protección a las mujeres contra todas las formas de violencia y discriminación."]
["4. San Luis Seguro","4.4. Prevención de la Delincuencia y Atención a Víctimas.","OBJETIVO B. Generar mecanismos eficientes y claros que brinden apoyo a las víctimas que acudan ante la autoridad a hacer valer sus derechos.","ESTRATEGIA B.1. Consolidar una política integral de atención a personas en situación de víctimas y de justicia para las mujeres.","Consolidar la red estatal de Centros de Justicia para Mujeres."]
["4. San Luis Seguro","4.4. Prevención de la Delincuencia y Atención a Víctimas.","OBJETIVO B. Generar mecanismos eficientes y claros que brinden apoyo a las víctimas que acudan ante la autoridad a hacer valer sus derechos.","ESTRATEGIA B.1. Consolidar una política integral de atención a personas en situación de víctimas y de justicia para las mujeres.","Brindar atención integral y especializada a las víctimas de delito, o de violación de sus derechos humanos."]
["4. San Luis Seguro","4.5. Protección Civil.","OBJETIVO A. Salvaguardar la integridad de las personas y su patrimonio, ante contingencias naturales o provocadas.","ESTRATEGIA A.1 Aplicar los protocolos de protección civil ante fenómenos que pongan en riesgo la integridad y el patrimonio de las personas.","Establecer permanentemente protocolos de seguridad en eventos masivos, en coordinación con las corporaciones policiacas estatales y municipales."]
["4. San Luis Seguro","4.5. Protección Civil.","OBJETIVO A. Salvaguardar la integridad de las personas y su patrimonio, ante contingencias naturales o provocadas.","ESTRATEGIA A.1 Aplicar los protocolos de protección civil ante fenómenos que pongan en riesgo la integridad y el patrimonio de las personas.","Participar de manera colegiada en las instancias municipales de planeación del desarrollo urbano, a fin de asegurar la aplicación de la normatividad en la materia."]
["4. San Luis Seguro","4.5. Protección Civil.","OBJETIVO A. Salvaguardar la integridad de las personas y su patrimonio, ante contingencias naturales o provocadas.","ESTRATEGIA A.1 Aplicar los protocolos de protección civil ante fenómenos que pongan en riesgo la integridad y el patrimonio de las personas.","Actualizar permanentemente el Atlas Estatal de Riesgos."]
["4. San Luis Seguro","4.5. Protección Civil.","OBJETIVO A. Salvaguardar la integridad de las personas y su patrimonio, ante contingencias naturales o provocadas.","ESTRATEGIA A.1 Aplicar los protocolos de protección civil ante fenómenos que pongan en riesgo la integridad y el patrimonio de las personas.","·       Promover la actualización del marco normativo vigente en materia de protección civil, a fin de alinearlo con las directrices nacionales. "]
["4. San Luis Seguro","4.5. Protección Civil.","OBJETIVO B. Impulsar el diseño, operación y evaluación de estrategias de gestión integral de riesgos.","ESTRATEGIA B.1. Fortalecer la gestión integral de riesgos en la entidad, asegurando la prevención y mitigación de daños.","Fortalecer el Consejo Estatal de Protección y crear el Sistema Estatal de Información en materia de riesgos para una adecuada y eficaz toma de decisiones."]
["4. San Luis Seguro","4.5. Protección Civil.","OBJETIVO B. Impulsar el diseño, operación y evaluación de estrategias de gestión integral de riesgos.","ESTRATEGIA B.1. Fortalecer la gestión integral de riesgos en la entidad, asegurando la prevención y mitigación de daños.","Elaborar el Plan de Protección Civil, con el acompañamiento de organismos  nacionales e internacionales."]
["4. San Luis Seguro","4.5. Protección Civil.","OBJETIVO B. Impulsar el diseño, operación y evaluación de estrategias de gestión integral de riesgos.","ESTRATEGIA B.1. Fortalecer la gestión integral de riesgos en la entidad, asegurando la prevención y mitigación de daños.","Promover los análisis de riesgos y vulnerabilidades en proyectos de inversión."]
["4. San Luis Seguro","4.5. Protección Civil.","OBJETIVO B. Impulsar el diseño, operación y evaluación de estrategias de gestión integral de riesgos.","ESTRATEGIA B.1. Fortalecer la gestión integral de riesgos en la entidad, asegurando la prevención y mitigación de daños.","Identificar y establecer acciones conjuntas para la reducción de la vulnerabilidad y de sus riesgos inherentes, a fin de incrementar la protección a las comunidades con alto riesgo."]
["4. San Luis Seguro","4.5. Protección Civil.","OBJETIVO B. Impulsar el diseño, operación y evaluación de estrategias de gestión integral de riesgos.","ESTRATEGIA B.1. Fortalecer la gestión integral de riesgos en la entidad, asegurando la prevención y mitigación de daños.","Implementar y actualizar las redes de monitoreo y los sistemas de alerta temprana ante desastres."]
["4. San Luis Seguro","4.5. Protección Civil.","OBJETIVO B. Impulsar el diseño, operación y evaluación de estrategias de gestión integral de riesgos.","ESTRATEGIA B.1. Fortalecer la gestión integral de riesgos en la entidad, asegurando la prevención y mitigación de daños.","Promover el desarrollo científico y tecnológico en materia de protección civil."]
["4. San Luis Seguro","4.5. Protección Civil.","OBJETIVO C. Promover la cultura del autocuidado y la organización comunitaria en materia de protección civil.","ESTRATEGIA C.1 Establecer canales de comunicación para la difusión de información oportuna y relevante en materia de protección civil, y consolidar acciones de organización comunitaria.","Aplicar un programa de información para la prevención, la respuesta eficaz y la continuidad de operación en materia de protección civil, mediante convenios con los municipios que contribuyan al establecimiento de protocolos de actuación ante eventualidades."]
["4. San Luis Seguro","4.5. Protección Civil.","OBJETIVO C. Promover la cultura del autocuidado y la organización comunitaria en materia de protección civil.","ESTRATEGIA C.1 Establecer canales de comunicación para la difusión de información oportuna y relevante en materia de protección civil, y consolidar acciones de organización comunitaria.","Fortalecer las brigadas comunitarias, formando una red de voluntarios para actuar en situaciones de emergencia."]
["4. San Luis Seguro","4.5. Protección Civil.","OBJETIVO C. Promover la cultura del autocuidado y la organización comunitaria en materia de protección civil.","ESTRATEGIA C.1 Establecer canales de comunicación para la difusión de información oportuna y relevante en materia de protección civil, y consolidar acciones de organización comunitaria.","Fomentar la cultura de protección y aseguranza ante eventos catastróficos. "]
["5. San Luis con Buen Gobierno","5.1. Gobernabilidad.","OBJETIVO A. Consolidar el sistema democrático a través de la adecuada interlocución con las diferentes fuerzas políticas y organismos de la sociedad civil para fortalecer la gobernabilidad. ","ESTRATEGIA A.1 Propiciar el desarrollo democrático y cívico del Estado.","Colaborar con las autoridades electorales federales, estatales y partidos políticos en el perfeccionamiento de los sistemas y procesos electorales, así como en la cultura del respeto a la voluntad ciudadana."]
["5. San Luis con Buen Gobierno","5.1. Gobernabilidad.","OBJETIVO A. Consolidar el sistema democrático a través de la adecuada interlocución con las diferentes fuerzas políticas y organismos de la sociedad civil para fortalecer la gobernabilidad. ","ESTRATEGIA A.1 Propiciar el desarrollo democrático y cívico del Estado.","Colaborar con el Poder Legislativo en la revisión y actualización del marco jurídico de la Entidad."]
["5. San Luis con Buen Gobierno","5.1. Gobernabilidad.","OBJETIVO A. Consolidar el sistema democrático a través de la adecuada interlocución con las diferentes fuerzas políticas y organismos de la sociedad civil para fortalecer la gobernabilidad. ","ESTRATEGIA A.1 Propiciar el desarrollo democrático y cívico del Estado.","Reforzar las relaciones con el Poder Judicial, para garantizar a la población el acceso a una administración de justicia pronta, eficaz y expedita. "]
["5. San Luis con Buen Gobierno","5.1. Gobernabilidad.","OBJETIVO A. Consolidar el sistema democrático a través de la adecuada interlocución con las diferentes fuerzas políticas y organismos de la sociedad civil para fortalecer la gobernabilidad. ","ESTRATEGIA A.1 Propiciar el desarrollo democrático y cívico del Estado.","Atender las demandas de orden político y social en las regiones del Estado para mantener la gobernabilidad democrática."]
["5. San Luis con Buen Gobierno","5.1. Gobernabilidad.","OBJETIVO A. Consolidar el sistema democrático a través de la adecuada interlocución con las diferentes fuerzas políticas y organismos de la sociedad civil para fortalecer la gobernabilidad. ","ESTRATEGIA A.1 Propiciar el desarrollo democrático y cívico del Estado.","Fortalecer las relaciones con las fuerzas políticas y organizaciones de la sociedad civil, privilegiando el diálogo en un marco de respeto y cooperación. "]
["5. San Luis con Buen Gobierno","5.2. Prevención y Combate a la Corrupción. ","OBJETIVO A. Promover principios, valores y criterios de conducta de los  servidores públicos.","ESTRATEGIA A.1 Impulsar acciones que contribuyan a combatir la corrupción en la administración pública estatal. ","Promover la aplicación de reglas de integridad y de conflicto de interés para los servidores públicos del Gobierno del Estado de San Luis Potosí en el ejercicio de sus funciones."]
["5. San Luis con Buen Gobierno","5.2. Prevención y Combate a la Corrupción. ","OBJETIVO A. Promover principios, valores y criterios de conducta de los  servidores públicos.","ESTRATEGIA A.1 Impulsar acciones que contribuyan a combatir la corrupción en la administración pública estatal. ","Asegurar que la declaración patrimonial que presentan los servidores públicos de la administración estatal  se apegue a los principios de ética e integridad. "]
["5. San Luis con Buen Gobierno","5.2. Prevención y Combate a la Corrupción. ","OBJETIVO A. Promover principios, valores y criterios de conducta de los  servidores públicos.","ESTRATEGIA A.1 Impulsar acciones que contribuyan a combatir la corrupción en la administración pública estatal. ","Aplicar puntualmente los procedimientos de responsabilidad administrativa, sancionatoria y resarcitoria de los servidores públicos."]
["5. San Luis con Buen Gobierno","5.2. Prevención y Combate a la Corrupción. ","OBJETIVO A. Promover principios, valores y criterios de conducta de los  servidores públicos.","ESTRATEGIA A.1 Impulsar acciones que contribuyan a combatir la corrupción en la administración pública estatal. ","Implementar modelos eficaces y transparentes de verificación administrativa."]
["5. San Luis con Buen Gobierno","5.2. Prevención y Combate a la Corrupción. ","OBJETIVO B. Disponer de los elementos institucionales para la creación del Nuevo Sistema Estatal Anticorrupción, así como esquemas de auditoría y fiscalización.","ESTRATEGIA B.1 Implementar el Nuevo Sistema Estatal Anticorrupción articulado en lo local y vinculado a nivel nacional, así como esquemas de auditoría y fiscalización.","Instrumentar y operar las acciones necesarias para prevenir y sancionar la corrupción, con base en el nuevo Sistema Estatal Anticorrupción."]
["5. San Luis con Buen Gobierno","5.2. Prevención y Combate a la Corrupción. ","OBJETIVO B. Disponer de los elementos institucionales para la creación del Nuevo Sistema Estatal Anticorrupción, así como esquemas de auditoría y fiscalización.","ESTRATEGIA B.1 Implementar el Nuevo Sistema Estatal Anticorrupción articulado en lo local y vinculado a nivel nacional, así como esquemas de auditoría y fiscalización.","Fortalecer el Sistema Estatal de Control y Evaluación, partiendo de un nuevo modelo de control interno y los protocolos de auditoría."]
["5. San Luis con Buen Gobierno","5.2. Prevención y Combate a la Corrupción. ","OBJETIVO B. Disponer de los elementos institucionales para la creación del Nuevo Sistema Estatal Anticorrupción, así como esquemas de auditoría y fiscalización.","ESTRATEGIA B.1 Implementar el Nuevo Sistema Estatal Anticorrupción articulado en lo local y vinculado a nivel nacional, así como esquemas de auditoría y fiscalización.","Impulsar acciones de mejora y transparencia en los procesos de contratación de adquisiciones, obra pública, insumos y servicios."]
["5. San Luis con Buen Gobierno","5.2. Prevención y Combate a la Corrupción. ","OBJETIVO B. Disponer de los elementos institucionales para la creación del Nuevo Sistema Estatal Anticorrupción, así como esquemas de auditoría y fiscalización.","ESTRATEGIA B.1 Implementar el Nuevo Sistema Estatal Anticorrupción articulado en lo local y vinculado a nivel nacional, así como esquemas de auditoría y fiscalización.","Actualizar las normas profesionales de auditoría emitidas y su grado de cumplimiento."]
["5. San Luis con Buen Gobierno","5.3. Responsabilidad Financiera y Rendición de Cuentas.","OBJETIVO A. Conducir con responsabilidad y transparencia las finanzas públicas de la entidad.","ESTRATEGIA A.1 Instrumentar una política financiera responsable, basada en criterios de disciplina, austeridad, transparencia y rendición de cuentas.","Desarrollar estrategias para incrementar las fuentes de ingresos propios y el fortalecimiento de las que ya se tienen, mejorando la eficiencia recaudatoria y la fiscalización."]
["5. San Luis con Buen Gobierno","5.3. Responsabilidad Financiera y Rendición de Cuentas.","OBJETIVO A. Conducir con responsabilidad y transparencia las finanzas públicas de la entidad.","ESTRATEGIA A.1 Instrumentar una política financiera responsable, basada en criterios de disciplina, austeridad, transparencia y rendición de cuentas.","Modernizar los mecanismos recaudatorios y fortalecer los programas de asistencia al contribuyente."]
["5. San Luis con Buen Gobierno","5.3. Responsabilidad Financiera y Rendición de Cuentas.","OBJETIVO A. Conducir con responsabilidad y transparencia las finanzas públicas de la entidad.","ESTRATEGIA A.1 Instrumentar una política financiera responsable, basada en criterios de disciplina, austeridad, transparencia y rendición de cuentas.","Concentrar el cobro de ingresos propios de los organismos descentralizados para elevar las participaciones federales al Estado."]
["5. San Luis con Buen Gobierno","5.3. Responsabilidad Financiera y Rendición de Cuentas.","OBJETIVO A. Conducir con responsabilidad y transparencia las finanzas públicas de la entidad.","ESTRATEGIA A.1 Instrumentar una política financiera responsable, basada en criterios de disciplina, austeridad, transparencia y rendición de cuentas.","Controlar el crecimiento del gasto corriente. "]
["5. San Luis con Buen Gobierno","5.3. Responsabilidad Financiera y Rendición de Cuentas.","OBJETIVO A. Conducir con responsabilidad y transparencia las finanzas públicas de la entidad.","ESTRATEGIA A.1 Instrumentar una política financiera responsable, basada en criterios de disciplina, austeridad, transparencia y rendición de cuentas.","Administrar responsablemente la deuda pública, asegurando la salud financiera del Estado."]
["5. San Luis con Buen Gobierno","5.3. Responsabilidad Financiera y Rendición de Cuentas.","OBJETIVO A. Conducir con responsabilidad y transparencia las finanzas públicas de la entidad.","ESTRATEGIA A.1 Instrumentar una política financiera responsable, basada en criterios de disciplina, austeridad, transparencia y rendición de cuentas.","Implementar estrategias presupuestarias y financieras que reduzcan progresivamente el déficit operativo. "]
["5. San Luis con Buen Gobierno","5.3. Responsabilidad Financiera y Rendición de Cuentas.","OBJETIVO A. Conducir con responsabilidad y transparencia las finanzas públicas de la entidad.","ESTRATEGIA A.1 Instrumentar una política financiera responsable, basada en criterios de disciplina, austeridad, transparencia y rendición de cuentas.","Realizar acciones para fortalecer  el sistema de pensiones del Estado y asegurar su viabilidad en el largo plazo."]
["5. San Luis con Buen Gobierno","5.3. Responsabilidad Financiera y Rendición de Cuentas.","OBJETIVO A. Conducir con responsabilidad y transparencia las finanzas públicas de la entidad.","ESTRATEGIA A.1 Instrumentar una política financiera responsable, basada en criterios de disciplina, austeridad, transparencia y rendición de cuentas.","Impulsar el modelo de coordinación fiscal y responsabilidad hacendaria que homologue su aplicación a todos los entes sujetos al presupuesto estatal, además de los municipios, bajo los principios de legalidad, honestidad y eficacia."]
["5. San Luis con Buen Gobierno","5.3. Responsabilidad Financiera y Rendición de Cuentas.","OBJETIVO B. Alinear los ciclos presupuestales de la federación, el Estado y los municipios para lograr una gestión pública estable y ordenada. ","ESTRATEGIA B.1. Impulsar un ejercicio presupuestario basado en resultados y en la generación de mayor beneficio social.","Asegurar la congruencia de la Ley de Ingresos y el Presupuesto de Egresos conforme a lo establecido en los documentos rectores de la planeación y el ejercicio del gasto público. "]
["5. San Luis con Buen Gobierno","5.3. Responsabilidad Financiera y Rendición de Cuentas.","OBJETIVO B. Alinear los ciclos presupuestales de la federación, el Estado y los municipios para lograr una gestión pública estable y ordenada. ","ESTRATEGIA B.1. Impulsar un ejercicio presupuestario basado en resultados y en la generación de mayor beneficio social.","Vincular los programas de inversión con su gasto operativo asociado, para valorar de forma integral la relación costo – beneficio. "]
["5. San Luis con Buen Gobierno","5.3. Responsabilidad Financiera y Rendición de Cuentas.","OBJETIVO B. Alinear los ciclos presupuestales de la federación, el Estado y los municipios para lograr una gestión pública estable y ordenada. ","ESTRATEGIA B.1. Impulsar un ejercicio presupuestario basado en resultados y en la generación de mayor beneficio social.","Implementar un sistema integral que simplifique la administración, análisis y proyección de la información financiera de todos los ejecutores del gasto, conforme a las normas y obligaciones del proceso de Armonización Presupuestaria y Contable."]
["5. San Luis con Buen Gobierno","5.3. Responsabilidad Financiera y Rendición de Cuentas.","OBJETIVO C. Fortalecer los mecanismos de financiamiento que permitan dar viabilidad al proyecto de desarrollo del Estado.","ESTRATEGIA C.1 Ampliar las acciones de financiamiento para el desarrollo,  con la participación de los sectores público, privado y social.","Implementar un modelo de planeación que permita establecer la inversión a corto, mediano y largo plazo con base en prioridades y beneficios sociales, poniendo especial atención en el impacto en la reducción de la pobreza; la incidencia en el desarrollo regional; la concurrencia con otros programas y proyectos de inversión y la rentabilidad económica."]
["5. San Luis con Buen Gobierno","5.3. Responsabilidad Financiera y Rendición de Cuentas.","OBJETIVO C. Fortalecer los mecanismos de financiamiento que permitan dar viabilidad al proyecto de desarrollo del Estado.","ESTRATEGIA C.1 Ampliar las acciones de financiamiento para el desarrollo,  con la participación de los sectores público, privado y social.","Fortalecer la capacidad de gestión de recursos extraordinarios para financiar proyectos de alto impacto para el desarrollo del Estado."]
["5. San Luis con Buen Gobierno","5.3. Responsabilidad Financiera y Rendición de Cuentas.","OBJETIVO C. Fortalecer los mecanismos de financiamiento que permitan dar viabilidad al proyecto de desarrollo del Estado.","ESTRATEGIA C.1 Ampliar las acciones de financiamiento para el desarrollo,  con la participación de los sectores público, privado y social.","Implementar un sistema de evaluación del desempeño gubernamental que verifique el grado de cumplimiento de los objetivos y metas, con base en indicadores estratégicos y de gestión que permitan conocer los resultados de la aplicación de los recursos públicos."]
["5. San Luis con Buen Gobierno","5.3. Responsabilidad Financiera y Rendición de Cuentas.","OBJETIVO C. Fortalecer los mecanismos de financiamiento que permitan dar viabilidad al proyecto de desarrollo del Estado.","ESTRATEGIA C.1 Ampliar las acciones de financiamiento para el desarrollo,  con la participación de los sectores público, privado y social.","Aplicar mecanismos que faciliten la transparencia en el manejo de los recursos públicos. "]
["5. San Luis con Buen Gobierno","5.4. Gobierno Abierto e Innovador.","OBJETIVO A. Impulsar políticas y mecanismos de participación, para fortalecer la confianza del ciudadano en las instituciones del Estado.","ESTRATEGIA A.1 Abrir el gobierno a la ciudadanía, ampliando los canales de participación y vigilancia en obras, trámites y servicios.","Establecer los canales que permitan a los ciudadanos proponer mecanismos para la mejora de los procesos, trámites y servicios gubernamentales."]
["5. San Luis con Buen Gobierno","5.4. Gobierno Abierto e Innovador.","OBJETIVO A. Impulsar políticas y mecanismos de participación, para fortalecer la confianza del ciudadano en las instituciones del Estado.","ESTRATEGIA A.1 Abrir el gobierno a la ciudadanía, ampliando los canales de participación y vigilancia en obras, trámites y servicios.","Promover y reforzar acciones de difusión, capacitación y de atención de quejas y denuncias ciudadanas."]
["5. San Luis con Buen Gobierno","5.4. Gobierno Abierto e Innovador.","OBJETIVO A. Impulsar políticas y mecanismos de participación, para fortalecer la confianza del ciudadano en las instituciones del Estado.","ESTRATEGIA A.1 Abrir el gobierno a la ciudadanía, ampliando los canales de participación y vigilancia en obras, trámites y servicios.","Impulsar mecanismos de inclusión ciudadana en la vigilancia del ejercicio de los recursos públicos."]
["5. San Luis con Buen Gobierno","5.4. Gobierno Abierto e Innovador.","OBJETIVO A. Impulsar políticas y mecanismos de participación, para fortalecer la confianza del ciudadano en las instituciones del Estado.","ESTRATEGIA A.1 Abrir el gobierno a la ciudadanía, ampliando los canales de participación y vigilancia en obras, trámites y servicios.","Asegurar la participación de las dependencias, entidades, municipios y sectores de la sociedad civil, en la construcción de una Red por un Gobierno Abierto."]
["5. San Luis con Buen Gobierno","5.4. Gobierno Abierto e Innovador.","OBJETIVO A. Impulsar políticas y mecanismos de participación, para fortalecer la confianza del ciudadano en las instituciones del Estado.","ESTRATEGIA A.1 Abrir el gobierno a la ciudadanía, ampliando los canales de participación y vigilancia en obras, trámites y servicios.","Establecer mecanismos de coordinación con los que se fomente la participación de las organizaciones de la sociedad civil en la planeación y evaluación de las políticas públicas."]
["5. San Luis con Buen Gobierno","5.4. Gobierno Abierto e Innovador.","OBJETIVO A. Impulsar políticas y mecanismos de participación, para fortalecer la confianza del ciudadano en las instituciones del Estado.","ESTRATEGIA A.1 Abrir el gobierno a la ciudadanía, ampliando los canales de participación y vigilancia en obras, trámites y servicios.","Reforzar las acciones que permiten mantener informada oportunamente a la sociedad sobre la aplicación de las políticas públicas que inciden en su desarrollo."]
["5. San Luis con Buen Gobierno","5.4. Gobierno Abierto e Innovador.","OBJETIVO B. Impulsar procesos de innovación gubernamental. ","ESTRATEGIA B.1. Facilitar las metodologías y herramientas de gestión pública para la profesionalización de los servidores públicos en el estado.","Integrar un modelo de profesionalización en el servicio público basado en la certificación de competencias laborales y la evaluación."]
["5. San Luis con Buen Gobierno","5.4. Gobierno Abierto e Innovador.","OBJETIVO B. Impulsar procesos de innovación gubernamental. ","ESTRATEGIA B.1. Facilitar las metodologías y herramientas de gestión pública para la profesionalización de los servidores públicos en el estado.","Apoyar el desarrollo institucional y la formación de capacidades en los gobiernos municipales en aspectos legales, técnicos, administrativos y de información."]
["5. San Luis con Buen Gobierno","5.4. Gobierno Abierto e Innovador.","OBJETIVO B. Impulsar procesos de innovación gubernamental. ","ESTRATEGIA B.2. Impulsar la estrategia de Gobierno Digital. ","Fomentar la innovación y la transformación gubernamental mediante la incorporación de las tecnologías de la información en las actividades de la gestión pública."]
["5. San Luis con Buen Gobierno","5.4. Gobierno Abierto e Innovador.","OBJETIVO B. Impulsar procesos de innovación gubernamental. ","ESTRATEGIA B.2. Impulsar la estrategia de Gobierno Digital. ","Promover la conectividad, el acceso a internet y la aplicación de la estrategia digital para que los potosinos aprovechen sus ventajas y se enriquezca la participación social."]
["5. San Luis con Buen Gobierno","5.4. Gobierno Abierto e Innovador.","OBJETIVO B. Impulsar procesos de innovación gubernamental. ","ESTRATEGIA B.3. Establecer una plataforma tecnológica integral, homologada y articulada para fomentar la relación entre la sociedad y gobierno, centrada en el ciudadano como usuario de servicios públicos.","Promover el desarrollo de servicios digitales interactivos a través de un solo sitio web de la administración pública estatal."]
["5. San Luis con Buen Gobierno","5.4. Gobierno Abierto e Innovador.","OBJETIVO B. Impulsar procesos de innovación gubernamental. ","ESTRATEGIA B.3. Establecer una plataforma tecnológica integral, homologada y articulada para fomentar la relación entre la sociedad y gobierno, centrada en el ciudadano como usuario de servicios públicos.","Integrar herramientas y aplicaciones con contenido digital al servicio del ciudadano en los ámbitos de salud, educación y seguridad. "]
["5. San Luis con Buen Gobierno","5.4. Gobierno Abierto e Innovador.","OBJETIVO B. Impulsar procesos de innovación gubernamental. ","ESTRATEGIA B.3. Establecer una plataforma tecnológica integral, homologada y articulada para fomentar la relación entre la sociedad y gobierno, centrada en el ciudadano como usuario de servicios públicos.","Fomentar el acceso de la sociedad a los datos públicos, mediante estándares abiertos, así como facilitar la interoperabilidad de los sistemas de información del gobierno."]
["5. San Luis con Buen Gobierno","5.4. Gobierno Abierto e Innovador.","OBJETIVO C. Desarrollar sistemas de transparencia en la administración pública estatal. ","ESTRATEGIA C.1. Asegurar que la información pública sea accesible y se difunda con claridad, sencillez y oportunidad al ciudadano.","Fortalecer las Unidades de Transparencia y Acceso a la Información Pública de las dependencias y entidades de la administración pública estatal."]
["5. San Luis con Buen Gobierno","5.4. Gobierno Abierto e Innovador.","OBJETIVO C. Desarrollar sistemas de transparencia en la administración pública estatal. ","ESTRATEGIA C.1. Asegurar que la información pública sea accesible y se difunda con claridad, sencillez y oportunidad al ciudadano.","Promover la capacitación de los servidores públicos para el cumplimiento de las nuevas disposiciones de acceso a la información, protección de datos personales y manejo de archivos. "]
["5. San Luis con Buen Gobierno","5.4. Gobierno Abierto e Innovador.","OBJETIVO D. Rendir cuentas a la sociedad sobre del uso y manejo de los recursos públicos.","ESTRATEGIA D.1 Desarrollar proyectos que fortalezcan los sistemas y procesos de rendición de cuentas.","Desarrollar indicadores de desempeño abiertos a la sociedad, que identifiquen la asignación de recursos y su impacto."]
["5. San Luis con Buen Gobierno","5.4. Gobierno Abierto e Innovador.","OBJETIVO D. Rendir cuentas a la sociedad sobre del uso y manejo de los recursos públicos.","ESTRATEGIA D.1 Desarrollar proyectos que fortalezcan los sistemas y procesos de rendición de cuentas.","Robustecer la integración y difusión de los informes de los resultados de la aplicación del control y evaluación gubernamental."]
["5. San Luis con Buen Gobierno","5.5. Derechos Humanos.","OBJETIVO A. Lograr la efectiva implementación de la Reforma Constitucional y reforzar la prevención de violaciones de Derechos Humanos.","ESTRATEGIA A.1. Realizar campañas de difusión y programas de capacitación que transmitan los contenidos de las reformas constitucionales de Derechos Humanos.","Impulsar en la administración pública estatal y municipal la adopción de los principios contenidos en la reforma constitucional."]
["5. San Luis con Buen Gobierno","5.5. Derechos Humanos.","OBJETIVO A. Lograr la efectiva implementación de la Reforma Constitucional y reforzar la prevención de violaciones de Derechos Humanos.","ESTRATEGIA A.1. Realizar campañas de difusión y programas de capacitación que transmitan los contenidos de las reformas constitucionales de Derechos Humanos.","Promover la armonización legislativa conforme a los contenidos constitucionales establecidos en la reforma."]
["5. San Luis con Buen Gobierno","5.5. Derechos Humanos.","OBJETIVO A. Lograr la efectiva implementación de la Reforma Constitucional y reforzar la prevención de violaciones de Derechos Humanos.","ESTRATEGIA A.1. Realizar campañas de difusión y programas de capacitación que transmitan los contenidos de las reformas constitucionales de Derechos Humanos.","Colaborar con los poderes y órdenes de gobierno en el proceso de implementación de la reforma."]
["5. San Luis con Buen Gobierno","5.5. Derechos Humanos.","OBJETIVO A. Lograr la efectiva implementación de la Reforma Constitucional y reforzar la prevención de violaciones de Derechos Humanos.","ESTRATEGIA A.1. Realizar campañas de difusión y programas de capacitación que transmitan los contenidos de las reformas constitucionales de Derechos Humanos.","Evaluar el proceso y los impactos de la implementación de la reforma constitucional de Derechos Humanos."]
["5. San Luis con Buen Gobierno","5.5. Derechos Humanos.","OBJETIVO A. Lograr la efectiva implementación de la Reforma Constitucional y reforzar la prevención de violaciones de Derechos Humanos.","ESTRATEGIA A.1. Realizar campañas de difusión y programas de capacitación que transmitan los contenidos de las reformas constitucionales de Derechos Humanos.","Incorporar de manera progresiva el enfoque de Derechos Humanos, así como las perspectivas de equidad, inclusión y no discriminación en los distintos ámbitos del Sistema Educativo del Estado."]
["5. San Luis con Buen Gobierno","5.5. Derechos Humanos.","OBJETIVO A. Lograr la efectiva implementación de la Reforma Constitucional y reforzar la prevención de violaciones de Derechos Humanos.","ESTRATEGIA A.1. Realizar campañas de difusión y programas de capacitación que transmitan los contenidos de las reformas constitucionales de Derechos Humanos.","Fortalecer los mecanismos internos de control y sanción de la administración pública relacionados con Derechos Humanos."]
["5. San Luis con Buen Gobierno","5.5. Derechos Humanos.","OBJETIVO A. Lograr la efectiva implementación de la Reforma Constitucional y reforzar la prevención de violaciones de Derechos Humanos.","ESTRATEGIA A.1. Realizar campañas de difusión y programas de capacitación que transmitan los contenidos de las reformas constitucionales de Derechos Humanos.","Generar modelos de coordinación interinstitucional que permitan prevenir violaciones a Derechos Humanos a partir de señalamientos específicos de violaciones sistemáticas a los Derechos Humanos de las personas."]
["5. San Luis con Buen Gobierno","5.5. Derechos Humanos.","OBJETIVO B. Garantizar el ejercicio, goce y protección de los Derechos Humanos a través de la implementación de acciones en planes institucionales y mecanismos de coordinación interinstitucional.","ESTRATEGIA B.1 Diseñar y facilitar los contenidos, manuales y guías que pongan en operación el enfoque basado en Derechos Humanos en los planes institucionales de la administración pública estatal y de los municipios. ","Asegurar la transversalidad del enfoque basado en Derechos Humanos en la planeación, programación y presupuestación a nivel municipal y estatal."]
["5. San Luis con Buen Gobierno","5.5. Derechos Humanos.","OBJETIVO B. Garantizar el ejercicio, goce y protección de los Derechos Humanos a través de la implementación de acciones en planes institucionales y mecanismos de coordinación interinstitucional.","ESTRATEGIA B.1 Diseñar y facilitar los contenidos, manuales y guías que pongan en operación el enfoque basado en Derechos Humanos en los planes institucionales de la administración pública estatal y de los municipios. ","Responder a las problemáticas de derechos humanos de personas y grupos específicos."]
["5. San Luis con Buen Gobierno","5.5. Derechos Humanos.","OBJETIVO B. Garantizar el ejercicio, goce y protección de los Derechos Humanos a través de la implementación de acciones en planes institucionales y mecanismos de coordinación interinstitucional.","ESTRATEGIA B.1 Diseñar y facilitar los contenidos, manuales y guías que pongan en operación el enfoque basado en Derechos Humanos en los planes institucionales de la administración pública estatal y de los municipios. ","Atender las problemáticas de derechos humanos más señaladas por organismos nacionales e internacionales."]
["5. San Luis con Buen Gobierno","5.5. Derechos Humanos.","OBJETIVO B. Garantizar el ejercicio, goce y protección de los Derechos Humanos a través de la implementación de acciones en planes institucionales y mecanismos de coordinación interinstitucional.","ESTRATEGIA B.1 Diseñar y facilitar los contenidos, manuales y guías que pongan en operación el enfoque basado en Derechos Humanos en los planes institucionales de la administración pública estatal y de los municipios. ","Garantizar la accesibilidad de los derechos humanos de los grupos vulnerables en el Estado."]
["5. San Luis con Buen Gobierno","5.5. Derechos Humanos.","OBJETIVO B. Garantizar el ejercicio, goce y protección de los Derechos Humanos a través de la implementación de acciones en planes institucionales y mecanismos de coordinación interinstitucional.","ESTRATEGIA B.1 Diseñar y facilitar los contenidos, manuales y guías que pongan en operación el enfoque basado en Derechos Humanos en los planes institucionales de la administración pública estatal y de los municipios. ","Fortalecer los mecanismos de protección de Derechos Humanos en todas las instituciones municipales y estatales, y de acuerdo a grupos poblacionales a quienes se dirigen."]
["5. San Luis con Buen Gobierno","5.5. Derechos Humanos.","OBJETIVO B. Garantizar el ejercicio, goce y protección de los Derechos Humanos a través de la implementación de acciones en planes institucionales y mecanismos de coordinación interinstitucional.","ESTRATEGIA B.1 Diseñar y facilitar los contenidos, manuales y guías que pongan en operación el enfoque basado en Derechos Humanos en los planes institucionales de la administración pública estatal y de los municipios. ","Garantizar la reparación del daño y la atención integral a las víctimas."]
["5. San Luis con Buen Gobierno","5.5. Derechos Humanos.","OBJETIVO B. Garantizar el ejercicio, goce y protección de los Derechos Humanos a través de la implementación de acciones en planes institucionales y mecanismos de coordinación interinstitucional.","ESTRATEGIA B.1 Diseñar y facilitar los contenidos, manuales y guías que pongan en operación el enfoque basado en Derechos Humanos en los planes institucionales de la administración pública estatal y de los municipios. ","Generar mecanismos interinstitucionales de protección de las víctimas del delito, que permitan eliminar prácticas de revictimización institucional y de violación a los Derechos Humanos."]
["5. San Luis con Buen Gobierno","5.5. Derechos Humanos.","OBJETIVO B. Garantizar el ejercicio, goce y protección de los Derechos Humanos a través de la implementación de acciones en planes institucionales y mecanismos de coordinación interinstitucional.","ESTRATEGIA B.1 Diseñar y facilitar los contenidos, manuales y guías que pongan en operación el enfoque basado en Derechos Humanos en los planes institucionales de la administración pública estatal y de los municipios. ","Promover el enfoque de derechos humanos, equidad y género en el sector privado, así como en las políticas y actividades empresariales."]
["5. San Luis con Buen Gobierno","5.5. Derechos Humanos.","OBJETIVO C. Crear esquemas de participación social para la construcción de políticas públicas y sistemas de información en materia de Derechos Humanos.","ESTRATEGIA C.1 Fortalecer los mecanismos de participación ciudadana para construir, implementar y evaluar políticas públicas bajo sistemas de información con enfoque basado en Derechos Humanos.","Elaborar e implementar el Programa Estatal de Derechos Humanos."]
["5. San Luis con Buen Gobierno","5.5. Derechos Humanos.","OBJETIVO C. Crear esquemas de participación social para la construcción de políticas públicas y sistemas de información en materia de Derechos Humanos.","ESTRATEGIA C.1 Fortalecer los mecanismos de participación ciudadana para construir, implementar y evaluar políticas públicas bajo sistemas de información con enfoque basado en Derechos Humanos.","Garantizar la participación de la sociedad civil en el diseño, homologación, implementación y evaluación de políticas públicas."]
["5. San Luis con Buen Gobierno","5.5. Derechos Humanos.","OBJETIVO C. Crear esquemas de participación social para la construcción de políticas públicas y sistemas de información en materia de Derechos Humanos.","ESTRATEGIA C.1 Fortalecer los mecanismos de participación ciudadana para construir, implementar y evaluar políticas públicas bajo sistemas de información con enfoque basado en Derechos Humanos.","Establecer mecanismos de articulación con el Poder Legislativo en la entidad y con el Poder Judicial de la Federación."]
["5. San Luis con Buen Gobierno","5.5. Derechos Humanos.","OBJETIVO C. Crear esquemas de participación social para la construcción de políticas públicas y sistemas de información en materia de Derechos Humanos.","ESTRATEGIA C.1 Fortalecer los mecanismos de participación ciudadana para construir, implementar y evaluar políticas públicas bajo sistemas de información con enfoque basado en Derechos Humanos.","Fomentar la transparencia y el acceso a la información de indicadores que permitan evaluar el ejercicio de los Derechos Humanos en el Estado."]

{"sheet":"Padrón_Indígenas","index":15,"n_rows":988,"n_cols":7,"rows_kept":988,"cut":false,"hidden":true,"merged":[]}
["MUN_LOC","MUN\t","NOM_MUN\t","LOC\t","NOM_LOC\t","POBTOT","PAD IND"]
["0020006","002","Alaquines","0006","CAÑÓN DE GUERRERO",26,"Sí"]
["0020007","002","Alaquines","0007","CERRO GRANDE",5,"Sí"]
["0020010","002","Alaquines","0010","EL LLANITO",141,"Sí"]
["0020014","002","Alaquines","0014","MESA DE SAN FRANCISCO (MESA DE SAN JOSÉ)",89,"Sí"]
["0020015","002","Alaquines","0015","RANCHO DE MORALES",151,"Sí"]
["0020018","002","Alaquines","0018","OLLA DEL DURAZNO (JOYA DEL DURAZNO)",263,"Sí"]
["0020023","002","Alaquines","0023","RANCHO DE PRO",747,"Sí"]
["0020029","002","Alaquines","0029","SAN JOSÉ DEL CORITO",368,"Sí"]
["0020033","002","Alaquines","0033","LOS POCITOS (LOS POZOS)",93,"Sí"]
["0020042","002","Alaquines","0042","PALO HUECO",55,"Sí"]
["0020048","002","Alaquines","0048","EL PELILLO",15,"Sí"]
["0020060","002","Alaquines","0060","COLONIA INDÍGENA (PASCUAL OSORIO ORTEGA)",27,"Sí"]
["0030002","003","Aquismón","0002","AGUA AMARGA",549,"Sí"]
["0030003","003","Aquismón","0003","EL AGUACATE",1117,"Sí"]
["0030005","003","Aquismón","0005","LA CALDERA",893,"Sí"]
["0030007","003","Aquismón","0007","BARRIO LA CRUZ",753,"Sí"]
["0030009","003","Aquismón","0009","EUREKA",335,"Sí"]
["0030011","003","Aquismón","0011","JOYA DE LAS VACAS",164,"Sí"]
["0030012","003","Aquismón","0012","LINJÁ",463,"Sí"]
["0030013","003","Aquismón","0013","MANTEZULEL",520,"Sí"]
["0030014","003","Aquismón","0014","LA MESA",125,"Sí"]
["0030015","003","Aquismón","0015","EL MIRADOR",237,"Sí"]
["0030017","003","Aquismón","0017","MÚHUATL",722,"Sí"]
["0030018","003","Aquismón","0018","EL NARANJITO",525,"Sí"]
["0030022","003","Aquismón","0022","PALO DE ARCO",367,"Sí"]
["0030023","003","Aquismón","0023","PAXALJÁ",1062,"Sí"]
["0030024","003","Aquismón","0024","PUHUITZÉ",787,"Sí"]
["0030028","003","Aquismón","0028","SAN JOSÉ OIJA",190,"Sí"]
["0030029","003","Aquismón","0029","SAN PEDRO DE LAS ANONAS",1484,"Sí"]
["0030030","003","Aquismón","0030","SAN RAFAEL TAMÁPATZ",566,"Sí"]
["0030031","003","Aquismón","0031","SAN RAFAEL TAMPAXAL",568,"Sí"]
["0030032","003","Aquismón","0032","SANTA ANITA",393,"Sí"]
["0030033","003","Aquismón","0033","SANTA BÁRBARA",700,"Sí"]
["0030034","003","Aquismón","0034","SANTA CRUZ",93,"Sí"]
["0030036","003","Aquismón","0036","LA MESA",228,"Sí"]
["0030038","003","Aquismón","0038","TAMÁPATZ",1004,"Sí"]
["0030039","003","Aquismón","0039","TAMPATE",3359,"Sí"]
["0030040","003","Aquismón","0040","TAMPAXAL",868,"Sí"]
["0030041","003","Aquismón","0041","TAMPEMOCHE",1868,"Sí"]
["0030043","003","Aquismón","0043","TAMCUIME",2080,"Sí"]
["0030045","003","Aquismón","0045","TANCHANACO",975,"Sí"]
["0030047","003","Aquismón","0047","TANTZOTZOB",446,"Sí"]
["0030048","003","Aquismón","0048","TANUTE",1424,"Sí"]
["0030049","003","Aquismón","0049","LA UNIÓN DE GUADALUPE",336,"Sí"]
["0030050","003","Aquismón","0050","JOL MOM",728,"Sí"]
["0030052","003","Aquismón","0052","EL ZOPOPE",1271,"Sí"]
["0030061","003","Aquismón","0061","SANTA ANITA DOS",131,"Sí"]
["0030062","003","Aquismón","0062","MOCTEZUMA",394,"Sí"]
["0030064","003","Aquismón","0064","EL ROSARIO",383,"Sí"]
["0030068","003","Aquismón","0068","TAMBAQUE",46,"Sí"]
["0030071","003","Aquismón","0071","BARRIO DE JOLJA",207,"Sí"]
["0030073","003","Aquismón","0073","LA REFORMA",7,"Sí"]
["0030076","003","Aquismón","0076","LA PEÑA BLANCA",34,"Sí"]
["0030077","003","Aquismón","0077","LA YERBABUENA",28,"Sí"]
["0030079","003","Aquismón","0079","OCTUJUB O CAMPECHE",621,"Sí"]
["0030081","003","Aquismón","0081","SANTA RITA",350,"Sí"]
["0030082","003","Aquismón","0082","LA CRUZ DE GUADALUPE",59,"Sí"]
["0030083","003","Aquismón","0083","LA LAJA",115,"Sí"]
["0030085","003","Aquismón","0085","BARRIO DE LAS GOLONDRINAS",183,"Sí"]
["0030086","003","Aquismón","0086","MANJA",127,"Sí"]
["0030087","003","Aquismón","0087","LOS HORNOS",370,"Sí"]
["0030088","003","Aquismón","0088","LA REFORMA",246,"Sí"]
["0030089","003","Aquismón","0089","YERBABUENA",172,"Sí"]
["0030090","003","Aquismón","0090","EL SABINO",23,"Sí"]
["0030092","003","Aquismón","0092","LOS CHARCOS",80,"Sí"]
["0030098","003","Aquismón","0098","SAN ISIDRO",545,"Sí"]
["0030103","003","Aquismón","0103","LANIM",652,"Sí"]
["0030104","003","Aquismón","0104","TAHUILATZÉN",382,"Sí"]
["0030108","003","Aquismón","0108","LA BRECHA (LA BRECHA DE TANTZOTZOB)",247,"Sí"]
["0030114","003","Aquismón","0114","PUERTO DE TANTZOTZOB",324,"Sí"]
["0030122","003","Aquismón","0122","LA SOLEDAD",218,"Sí"]
["0030123","003","Aquismón","0123","LA MORA (EL LINDERO)",17,"Sí"]
["0030124","003","Aquismón","0124","EL AGUACATE",4,"Sí"]
["0030133","003","Aquismón","0133","TAN TZAJIB",142,"Sí"]
["0030221","003","Aquismón","0221","JAGÜEY CERCADO",218,"Sí"]
["0030226","003","Aquismón","0226","SANJUANITA",150,"Sí"]
["0030234","003","Aquismón","0234","EL CARACOL",83,"Sí"]
["0030237","003","Aquismón","0237","BARRIO EL CHAMAL",128,"Sí"]
["0030240","003","Aquismón","0240","MINA DE BELEMONT",111,"Sí"]
["0030246","003","Aquismón","0246","ARROYO GRANDE (EL PUENTE)",8,"Sí"]
["0030248","003","Aquismón","0248","BARRIO SAN MIGUEL",361,"Sí"]
["0030297","003","Aquismón","0297","EL TÚNEL",109,"Sí"]
["0030301","003","Aquismón","0301","SAN MARTÍN",240,"Sí"]
["0030312","003","Aquismón","0312","JOMTÉ EUREKA",211,"Sí"]
["0030313","003","Aquismón","0313","LOMA BONITA",100,"Sí"]
["0100014","010","Ciudad del Maíz","0014","LA CALZADA DE SAN RAFAEL",499,"Sí"]
["0100051","010","Ciudad del Maíz","0051","LAS MESAS DE DON LUIS",214,"Sí"]
["0120002","012","Tancanhuitz","0002","ALHUITOT (THIMANTZÉN)",120,"Sí"]
["0120003","012","Tancanhuitz","0003","ALDZULUP",345,"Sí"]
["0120004","012","Tancanhuitz","0004","LAS ARMAS",1042,"Sí"]
["0120007","012","Tancanhuitz","0007","CRUZTUJUB",214,"Sí"]
["0120009","012","Tancanhuitz","0009","CUATLAMAYÁN",419,"Sí"]
["0120010","012","Tancanhuitz","0010","CUAYO",183,"Sí"]
["0120012","012","Tancanhuitz","0012","CHACATITLA SEGUNDA SECCIÓN",316,"Sí"]
["0120013","012","Tancanhuitz","0013","LA GARZA (PEQUETZÉN DE LA GARZA)",448,"Sí"]
["0120014","012","Tancanhuitz","0014","GUADALUPE VICTORIA",294,"Sí"]
["0120016","012","Tancanhuitz","0016","LINARES",352,"Sí"]
["0120022","012","Tancanhuitz","0022","EL TAMARINDO (CACOYOLE)",24,"Sí"]
["0120024","012","Tancanhuitz","0024","SAN JOSÉ PEQUETZÉN",719,"Sí"]
["0120026","012","Tancanhuitz","0026","TAMARINDO",254,"Sí"]
["0120028","012","Tancanhuitz","0028","TUZANTLA",86,"Sí"]
["0120029","012","Tancanhuitz","0029","COYOL JÁ (TZÁC ANAM)",167,"Sí"]
["0120030","012","Tancanhuitz","0030","TZÉ PAKÁB PRIMERA SECCIÓN",176,"Sí"]
["0120044","012","Tancanhuitz","0044","JOPOY",66,"Sí"]
["0120049","012","Tancanhuitz","0049","TLAMAYA",53,"Sí"]
["0120054","012","Tancanhuitz","0054","ESCUAYO",68,"Sí"]
["0120058","012","Tancanhuitz","0058","TLALZINTLA",148,"Sí"]
["0120078","012","Tancanhuitz","0078","CHILTZAPUYO",74,"Sí"]
["0120079","012","Tancanhuitz","0079","ESCUELA VIEJA",63,"Sí"]
["0120080","012","Tancanhuitz","0080","TOLOJCO",96,"Sí"]
["0120084","012","Tancanhuitz","0084","ZOJUALO",411,"Sí"]
["0120087","012","Tancanhuitz","0087","TAMALETOM PRIMERA SECCIÓN",167,"Sí"]
["0120088","012","Tancanhuitz","0088","HAC MOM (TAMALETOM SEGUNDA SECCIÓN)",65,"Sí"]
["0120091","012","Tancanhuitz","0091","CUAJENCO SEGUNDA SECCIÓN",195,"Sí"]
["0120105","012","Tancanhuitz","0105","TZÉPACAB SEGUNDA SECCIÓN TZAPICTÉ",253,"Sí"]
["0120106","012","Tancanhuitz","0106","TZAC ANAM",29,"Sí"]
["0120110","012","Tancanhuitz","0110","JOL JA",11,"Sí"]
["0120111","012","Tancanhuitz","0111","ALKINÁ MOM",29,"Sí"]
["0120118","012","Tancanhuitz","0118","ATEMPA",45,"Sí"]
["0120143","012","Tancanhuitz","0143","CUAJENCO PRIMERA SECCIÓN",186,"Sí"]
["0120144","012","Tancanhuitz","0144","CUAJENCO TERCERA SECCIÓN",207,"Sí"]
["0120148","012","Tancanhuitz","0148","CHACATITLA PRIMERA SECCIÓN",179,"Sí"]
["0120149","012","Tancanhuitz","0149","CHACATITLA TERCERA SECCIÓN",69,"Sí"]
["0120151","012","Tancanhuitz","0151","CHIAPA",40,"Sí"]
["0120153","012","Tancanhuitz","0153","EL CHIJOL",27,"Sí"]
["0120155","012","Tancanhuitz","0155","CHUCHE MOM",55,"Sí"]
["0120156","012","Tancanhuitz","0156","CHUCHE MOM",18,"Sí"]
["0120171","012","Tancanhuitz","0171","EL JUK",72,"Sí"]
["0120175","012","Tancanhuitz","0175","EL MANGO",9,"Sí"]
["0120181","012","Tancanhuitz","0181","OJTLAYO",70,"Sí"]
["0120183","012","Tancanhuitz","0183","PILA MOM",39,"Sí"]
["0120191","012","Tancanhuitz","0191","EL SABINO",43,"Sí"]
["0120202","012","Tancanhuitz","0202","TANCOLTZE OJOX (TERCERA SECCIÓN)",153,"Sí"]
["0120203","012","Tancanhuitz","0203","TZITZOL",62,"Sí"]
["0120207","012","Tancanhuitz","0207","TEPEYAC",172,"Sí"]
["0120208","012","Tancanhuitz","0208","TEY JÁ",116,"Sí"]
["0120211","012","Tancanhuitz","0211","TOLTITLA",56,"Sí"]
["0120221","012","Tancanhuitz","0221","TZICAYO",29,"Sí"]
["0120231","012","Tancanhuitz","0231","HAC MOM",148,"Sí"]
["0120233","012","Tancanhuitz","0233","HUAL JA",75,"Sí"]
["0120240","012","Tancanhuitz","0240","PEMOCH (PEMUCHO)",71,"Sí"]
["0120265","012","Tancanhuitz","0265","MUL TÉ",21,"Sí"]
["0120272","012","Tancanhuitz","0272","CUAYO PIAXTLA",26,"Sí"]
["0120275","012","Tancanhuitz","0275","HAYTIC (PACHUCA)",77,"Sí"]
["0120277","012","Tancanhuitz","0277","LALASHO",8,"Sí"]
["0120284","012","Tancanhuitz","0284","TLALCINTLA",275,"Sí"]
["0120285","012","Tancanhuitz","0285","TLAMAYA",10,"Sí"]
["0120304","012","Tancanhuitz","0304","EL MANGO",12,"Sí"]
["0130061","013","Ciudad Valles","0061","EJIDO EL CHUCHUPE",141,"Sí"]
["0130107","013","Ciudad Valles","0107","LA LIMA",1579,"Sí"]
["0130111","013","Ciudad Valles","0111","EL MAGUEY",403,"Sí"]
["0130126","013","Ciudad Valles","0126","EL OJITE",814,"Sí"]
["0130127","013","Ciudad Valles","0127","OJO DE AGUA",1107,"Sí"]
["0130141","013","Ciudad Valles","0141","LA PILA",598,"Sí"]
["0130143","013","Ciudad Valles","0143","LA PITAYA (LA PITAHAYA)",260,"Sí"]
["0130146","013","Ciudad Valles","0146","RANCHO NUEVO",315,"Sí"]
["0130160","013","Ciudad Valles","0160","RANCHO NUEVO",4,"Sí"]
["0130161","013","Ciudad Valles","0161","RANCHO NUEVO",603,"Sí"]
["0130172","013","Ciudad Valles","0172","EL ROCÍO",7,"Sí"]
["0130175","013","Ciudad Valles","0175","LOS SABINOS NÚMERO DOS",694,"Sí"]
["0130180","013","Ciudad Valles","0180","SAN ANTONIO HUICHIMAL",839,"Sí"]
["0130210","013","Ciudad Valles","0210","LA SUBIDA",1515,"Sí"]
["0130215","013","Ciudad Valles","0215","EL TAMARINDO",93,"Sí"]
["0130224","013","Ciudad Valles","0224","TANTÓBAL",695,"Sí"]
["0130258","013","Ciudad Valles","0258","LA CRUCITA (BARRIO DE GUADALUPE)",85,"Sí"]
["0130286","013","Ciudad Valles","0286","EL LAUREL (GILBERTO MARÍN MARTÍNEZ)",5,"Sí"]
["0130300","013","Ciudad Valles","0300","EL LAUREL",6,"Sí"]
["0130317","013","Ciudad Valles","0317","EL JACUBAL",188,"Sí"]
["0130318","013","Ciudad Valles","0318","LA ESCONDIDA",237,"Sí"]
["0130351","013","Ciudad Valles","0351","LA ANTIGUA",279,"Sí"]
["0130352","013","Ciudad Valles","0352","EL ATASCADERO",57,"Sí"]
["0130354","013","Ciudad Valles","0354","EL BÁRBOL",199,"Sí"]
["0130390","013","Ciudad Valles","0390","OJO DE AGUA",8,"Sí"]
["0130467","013","Ciudad Valles","0467","RANCHO NUEVO",138,"Sí"]
["0130471","013","Ciudad Valles","0471","BUENOS AIRES",75,"Sí"]
["0130507","013","Ciudad Valles","0507","OJO DE AGUA",204,"Sí"]
["0130512","013","Ciudad Valles","0512","RANCHO NUEVO",2,"Sí"]
["0130593","013","Ciudad Valles","0593","OJO DE AGUA",4,"Sí"]
["0130620","013","Ciudad Valles","0620","EL CHICAL UNO",91,"Sí"]
["0130621","013","Ciudad Valles","0621","EL CHICAL DOS",96,"Sí"]
["0130622","013","Ciudad Valles","0622","EL CARRIZAL",16,"Sí"]
["0140002","014","Coxcatlán","0002","AJACACO",132,"Sí"]
["0140003","014","Coxcatlán","0003","AJUATITLA PRIMERA SECCIÓN",533,"Sí"]
["0140004","014","Coxcatlán","0004","AMAXAC",816,"Sí"]
["0140005","014","Coxcatlán","0005","ATLAPA",85,"Sí"]
["0140006","014","Coxcatlán","0006","AYOLCO",2,"Sí"]
["0140007","014","Coxcatlán","0007","EJIDO CALMECAYO",374,"Sí"]
["0140008","014","Coxcatlán","0008","COAMILA",248,"Sí"]
["0140009","014","Coxcatlán","0009","COLALTITLA",144,"Sí"]
["0140011","014","Coxcatlán","0011","IXPATLACH",191,"Sí"]
["0140012","014","Coxcatlán","0012","IXTIAMEL",108,"Sí"]
["0140014","014","Coxcatlán","0014","MAHUAJCO",387,"Sí"]
["0140015","014","Coxcatlán","0015","MAYTLA",73,"Sí"]
["0140016","014","Coxcatlán","0016","LAS MESAS",627,"Sí"]
["0140017","014","Coxcatlán","0017","MOYOTLA",444,"Sí"]
["0140020","014","Coxcatlán","0020","PETLACOYO",312,"Sí"]
["0140022","014","Coxcatlán","0022","EL SABINO",310,"Sí"]
["0140023","014","Coxcatlán","0023","SAN ANDRÉS",361,"Sí"]
["0140024","014","Coxcatlán","0024","SAN BERNAL",71,"Sí"]
["0140025","014","Coxcatlán","0025","SAN PABLO PRIMERO",288,"Sí"]
["0140026","014","Coxcatlán","0026","SAN PABLO SEGUNDO (PALZOQUILLO)",275,"Sí"]
["0140029","014","Coxcatlán","0029","SUCHIACO",371,"Sí"]
["0140030","014","Coxcatlán","0030","TAMPUCHÓN",874,"Sí"]
["0140031","014","Coxcatlán","0031","TAZAQUIL EJIDO",669,"Sí"]
["0140033","014","Coxcatlán","0033","TAZAQUIL",1110,"Sí"]
["0140034","014","Coxcatlán","0034","TEPETLANCO",65,"Sí"]
["0140035","014","Coxcatlán","0035","TEPOTZUAPA PRIMERA SECCIÓN",680,"Sí"]
["0140036","014","Coxcatlán","0036","TIOAMEL",258,"Sí"]
["0140037","014","Coxcatlán","0037","TLAPANI",345,"Sí"]
["0140038","014","Coxcatlán","0038","TLAXCO",272,"Sí"]
["0140040","014","Coxcatlán","0040","COMUNIDAD CALMECAYO",684,"Sí"]
["0140042","014","Coxcatlán","0042","POCHOTITLA",7,"Sí"]
["0140046","014","Coxcatlán","0046","MAYTLA (EL CIRUELO)",175,"Sí"]
["0140052","014","Coxcatlán","0052","CAHAMELI",32,"Sí"]
["0140053","014","Coxcatlán","0053","CHAHUAQUICO",83,"Sí"]
["0140054","014","Coxcatlán","0054","NAHUALAPA",45,"Sí"]
["0140056","014","Coxcatlán","0056","PICHOLCO",152,"Sí"]
["0140057","014","Coxcatlán","0057","RANCHO MOYOTLA",165,"Sí"]
["0140058","014","Coxcatlán","0058","TLAPANI",160,"Sí"]
["0140063","014","Coxcatlán","0063","TOTÓATL",223,"Sí"]
["0140067","014","Coxcatlán","0067","AJUATITLA SEGUNDA SECCIÓN",244,"Sí"]
["0140068","014","Coxcatlán","0068","EJIDO NUEVO CALMECAYO",165,"Sí"]
["0140071","014","Coxcatlán","0071","TEPOTZUAPA DOS SEGUNDA SECCIÓN",381,"Sí"]
["0140074","014","Coxcatlán","0074","TENEXO",56,"Sí"]
["0140075","014","Coxcatlán","0075","COMUNIDAD TEPETZINTLA",18,"Sí"]
["0160087","016","Ebano","0087","AURELIO MANRIQUE",2245,"Sí"]
["0160091","016","Ebano","0091","PONCIANO ARRIAGA",6665,"Sí"]
["0160280","016","Ebano","0280","COLONIA VISTA HERMOSA",11,"Sí"]
["0180002","018","Huehuetlán","0002","CHUNUNTZÉN UNO",1066,"Sí"]
["0180003","018","Huehuetlán","0003","CHUNUNTZÉN DOS",348,"Sí"]
["0180005","018","Huehuetlán","0005","JILIM TANTOCOY TRES",684,"Sí"]
["0180008","018","Huehuetlán","0008","LA PIMIENTA",618,"Sí"]
["0180009","018","Huehuetlán","0009","SAN JOSÉ",667,"Sí"]
["0180010","018","Huehuetlán","0010","TANDZUMADZ",1377,"Sí"]
["0180011","018","Huehuetlán","0011","TANLEAB UNO",613,"Sí"]
["0180012","018","Huehuetlán","0012","TANTOCOY UNO",925,"Sí"]
["0180013","018","Huehuetlán","0013","CRUZ BLANCA",504,"Sí"]
["0180014","018","Huehuetlán","0014","TATACUATLA",301,"Sí"]
["0180015","018","Huehuetlán","0015","TZINEJÁ UNO",630,"Sí"]
["0180017","018","Huehuetlán","0017","LOS PINOS",260,"Sí"]
["0180018","018","Huehuetlán","0018","LA ESCALERA",602,"Sí"]
["0180024","018","Huehuetlán","0024","TZINEJÁ DOS",250,"Sí"]
["0180026","018","Huehuetlán","0026","ALAQUICH",227,"Sí"]
["0180028","018","Huehuetlán","0028","CHUNUNTZÉN DOS SECCIÓN UNO",335,"Sí"]
["0180029","018","Huehuetlán","0029","CHUNUNTZÉN DOS SECCIÓN TRES",168,"Sí"]
["0180030","018","Huehuetlán","0030","CHUNUNTZÉN DOS SECCIÓN CUATRO",149,"Sí"]
["0180031","018","Huehuetlán","0031","CHUNUNTZÉN DOS SECCIÓN CINCO",184,"Sí"]
["0180032","018","Huehuetlán","0032","CHUNUNTZÉN DOS SECCIÓN SEIS",102,"Sí"]
["0180033","018","Huehuetlán","0033","CHUNUNTZÉN DOS SECCIÓN SIETE",165,"Sí"]
["0180034","018","Huehuetlán","0034","CHUNUNTZÉN DOS SECCIÓN OCHO",181,"Sí"]
["0180035","018","Huehuetlán","0035","CHUNUNTZÉN DOS SECCIÓN NUEVE",231,"Sí"]
["0180036","018","Huehuetlán","0036","CHUNUNTZÉN DOS SECCIÓN DIEZ",152,"Sí"]
["0180037","018","Huehuetlán","0037","CHUNUNTZÉN DOS SECCIÓN ONCE",172,"Sí"]
["0180038","018","Huehuetlán","0038","CHUNUNTZÉN DOS SECCIÓN DOCE",178,"Sí"]
["0180053","018","Huehuetlán","0053","COMPLEMENTO CHUNUNTZÉN",117,"Sí"]
["0230010","023","Rayón","0010","LAS CANOAS",385,"Sí"]
["0230013","023","Rayón","0013","LA ESCONDIDA",93,"Sí"]
["0230015","023","Rayón","0015","LAS GUAPAS",660,"Sí"]
["0230016","023","Rayón","0016","LA LAGUNA DEL SAUCILLO",81,"Sí"]
["0230023","023","Rayón","0023","LA NUEVA REFORMA",132,"Sí"]
["0230024","023","Rayón","0024","EL OBISPITO",46,"Sí"]
["0230029","023","Rayón","0029","EL PIRUCHE",124,"Sí"]
["0230030","023","Rayón","0030","POTRERO DEL CARNERO",168,"Sí"]
["0230032","023","Rayón","0032","PUERTECITOS",109,"Sí"]
["0230038","023","Rayón","0038","EL SABINITO",331,"Sí"]
["0230044","023","Rayón","0044","TIERRAS COLORADAS",557,"Sí"]
["0230047","023","Rayón","0047","VALLECITOS",35,"Sí"]
["0230049","023","Rayón","0049","VICENTE GUERRERO",411,"Sí"]
["0230050","023","Rayón","0050","LA VIEJA",121,"Sí"]
["0230065","023","Rayón","0065","EL EPAZOTE",287,"Sí"]
["0230068","023","Rayón","0068","LA ESPERANZA",15,"Sí"]
["0260002","026","San Antonio","0002","CUÉCHOD",290,"Sí"]
["0260004","026","San Antonio","0004","LEJEM",641,"Sí"]
["0260005","026","San Antonio","0005","PA'TNEL",398,"Sí"]
["0260006","026","San Antonio","0006","POKCHICH",273,"Sí"]
["0260007","026","San Antonio","0007","SAN PEDRO",358,"Sí"]
["0260008","026","San Antonio","0008","SANTA MARTHA",808,"Sí"]
["0260009","026","San Antonio","0009","TANCHAHUIL",432,"Sí"]
["0260010","026","San Antonio","0010","TAN JAJNEC",564,"Sí"]
["0260011","026","San Antonio","0011","TOCOY",1061,"Sí"]
["0260012","026","San Antonio","0012","XOLOL",233,"Sí"]
["0260018","026","San Antonio","0018","TAN D'HUYÚ (TANZUYO)",70,"Sí"]
["0260029","026","San Antonio","0029","POZO BLANCO",61,"Sí"]
["0260046","026","San Antonio","0046","COLONIA ALTAMIRA",268,"Sí"]
["0260047","026","San Antonio","0047","AL TZÁJIB",259,"Sí"]
["0260052","026","San Antonio","0052","LANASH (EL NARANJAL)",52,"Sí"]
["0260055","026","San Antonio","0055","COLONIA EL PROGRESO",294,"Sí"]
["0260062","026","San Antonio","0062","SINAÍ",82,"Sí"]
["0260065","026","San Antonio","0065","EL HUAYAL (CUICILLO)",67,"Sí"]
["0260066","026","San Antonio","0066","ELEL JÁ",7,"Sí"]
["0260067","026","San Antonio","0067","K'ID TÉ",27,"Sí"]
["0260074","026","San Antonio","0074","LA ROSITA",82,"Sí"]
["0260075","026","San Antonio","0075","TACOBITZE",58,"Sí"]
["0260077","026","San Antonio","0077","TANJAJNEC SEGUNDO LOTE",96,"Sí"]
["0260082","026","San Antonio","0082","ZARAGOZA",59,"Sí"]
["0260083","026","San Antonio","0083","EL FRIJOLILLO (TANCHAHUIL)",241,"Sí"]
["0260084","026","San Antonio","0084","OJ (AGUACATE)",36,"Sí"]
["0260086","026","San Antonio","0086","COLONIA BRASIL",238,"Sí"]
["0260089","026","San Antonio","0089","BARRIO TZAPUWJÁ (LEJEM)",62,"Sí"]
["0260092","026","San Antonio","0092","POZO BLANCO II (TANCHAHUIL)",67,"Sí"]
["0260093","026","San Antonio","0093","POZO BLANCO III (TANCHAHUIL)",72,"Sí"]
["0290002","029","San Martín Chalchicuautla","0002","LAS ACAMAYAS",151,"Sí"]
["0290003","029","San Martín Chalchicuautla","0003","ACATITLA",116,"Sí"]
["0290004","029","San Martín Chalchicuautla","0004","ACAYO",320,"Sí"]
["0290006","029","San Martín Chalchicuautla","0006","AGUAMOLO",397,"Sí"]
["0290007","029","San Martín Chalchicuautla","0007","APAXTIANTLA (APAXTIANTLÁN)",73,"Sí"]
["0290009","029","San Martín Chalchicuautla","0009","ATEMPA PRIMERO",59,"Sí"]
["0290010","029","San Martín Chalchicuautla","0010","ATEMPA SEGUNDO",26,"Sí"]
["0290011","029","San Martín Chalchicuautla","0011","BARRANQUILLAS (TEPETZINTLA)",387,"Sí"]
["0290019","029","San Martín Chalchicuautla","0019","CERRO (CERRO DE LA CRUZ)",336,"Sí"]
["0290021","029","San Martín Chalchicuautla","0021","COAMIXCO",74,"Sí"]
["0290025","029","San Martín Chalchicuautla","0025","CHACHATIPA",301,"Sí"]
["0290029","029","San Martín Chalchicuautla","0029","DOMINGO ZAPOYO",454,"Sí"]
["0290030","029","San Martín Chalchicuautla","0030","ESCUATITLA",770,"Sí"]
["0290031","029","San Martín Chalchicuautla","0031","LA ESPERANZA",384,"Sí"]
["0290032","029","San Martín Chalchicuautla","0032","EL FRIJOLILLO",273,"Sí"]
["0290037","029","San Martín Chalchicuautla","0037","IXPATLACH",184,"Sí"]
["0290039","029","San Martín Chalchicuautla","0039","LALAXO",370,"Sí"]
["0290042","029","San Martín Chalchicuautla","0042","MANANTIAL",3,"Sí"]
["0290043","029","San Martín Chalchicuautla","0043","MANCHOC",755,"Sí"]
["0290045","029","San Martín Chalchicuautla","0045","MATLAPITA",144,"Sí"]
["0290053","029","San Martín Chalchicuautla","0053","OCUILTZAPOYO",1060,"Sí"]
["0290054","029","San Martín Chalchicuautla","0054","OCTLAMECAYO",326,"Sí"]
["0290064","029","San Martín Chalchicuautla","0064","PITAGIO",361,"Sí"]
["0290065","029","San Martín Chalchicuautla","0065","EL POTRERO",315,"Sí"]
["0290071","029","San Martín Chalchicuautla","0071","SABINITO",132,"Sí"]
["0290072","029","San Martín Chalchicuautla","0072","SAN JOSÉ DE LAS ADJUNTAS",235,"Sí"]
["0290073","029","San Martín Chalchicuautla","0073","SAN LUISITO",178,"Sí"]
["0290075","029","San Martín Chalchicuautla","0075","EJIDO DOMINGO",140,"Sí"]
["0290076","029","San Martín Chalchicuautla","0076","LA SOLEDAD",356,"Sí"]
["0290077","029","San Martín Chalchicuautla","0077","TAXICHO",307,"Sí"]
["0290078","029","San Martín Chalchicuautla","0078","TECOMALA",95,"Sí"]
["0290080","029","San Martín Chalchicuautla","0080","TEMPEXQUITITLA",424,"Sí"]
["0290081","029","San Martín Chalchicuautla","0081","TENEXAMEL",168,"Sí"]
["0290082","029","San Martín Chalchicuautla","0082","TEPEMICHE",337,"Sí"]
["0290084","029","San Martín Chalchicuautla","0084","TEPETLAYO",141,"Sí"]
["0290086","029","San Martín Chalchicuautla","0086","TERRERITO",127,"Sí"]
["0290087","029","San Martín Chalchicuautla","0087","TLALTEPINGO",106,"Sí"]
["0290088","029","San Martín Chalchicuautla","0088","TOTOLTEO",338,"Sí"]
["0290091","029","San Martín Chalchicuautla","0091","XALAMATITLA",116,"Sí"]
["0290098","029","San Martín Chalchicuautla","0098","RANCHO NUEVO",318,"Sí"]
["0290099","029","San Martín Chalchicuautla","0099","LINDERO",119,"Sí"]
["0290102","029","San Martín Chalchicuautla","0102","EL SACRIFICIO",117,"Sí"]
["0290109","029","San Martín Chalchicuautla","0109","LA PIMIENTA",319,"Sí"]
["0290123","029","San Martín Chalchicuautla","0123","LA CRUZ",301,"Sí"]
["0290186","029","San Martín Chalchicuautla","0186","MANANTIAL",138,"Sí"]
["0290187","029","San Martín Chalchicuautla","0187","RANCHO NUEVO",151,"Sí"]
["0290191","029","San Martín Chalchicuautla","0191","PIEDRA PARADA",197,"Sí"]
["0290199","029","San Martín Chalchicuautla","0199","CUAXOCOYO UNO LIMONTITLA",140,"Sí"]
["0290207","029","San Martín Chalchicuautla","0207","PEMUCHE (EJIDO NUEVO)",316,"Sí"]
["0290245","029","San Martín Chalchicuautla","0245","CRUZ BLANCA",40,"Sí"]
["0290246","029","San Martín Chalchicuautla","0246","EL ENCINAL (RANCHO NUEVO)",48,"Sí"]
["0290297","029","San Martín Chalchicuautla","0297","EL SACRIFICIO",5,"Sí"]
["0310002","031","Santa Catarina","0002","EL AGARROSO",99,"Sí"]
["0310004","031","Santa Catarina","0004","LA BARRANCA",325,"Sí"]
["0310008","031","Santa Catarina","0008","LA CUCHILLA",180,"Sí"]
["0310009","031","Santa Catarina","0009","LA COMPUERTA",242,"Sí"]
["0310013","031","Santa Catarina","0013","TANLACUT (LABOR ZAPATA)",527,"Sí"]
["0310014","031","Santa Catarina","0014","LAS LAGUNITAS",369,"Sí"]
["0310015","031","Santa Catarina","0015","LIMÓN DE LA PEÑA",321,"Sí"]
["0310018","031","Santa Catarina","0018","MESA DEL JUNCO",191,"Sí"]
["0310019","031","Santa Catarina","0019","EL MEZQUITAL",288,"Sí"]
["0310021","031","Santa Catarina","0021","LA PARADA",576,"Sí"]
["0310022","031","Santa Catarina","0022","PASO DE BOTELLO",199,"Sí"]
["0310024","031","Santa Catarina","0024","EL POTRERO DE LOS SAUCEDA",57,"Sí"]
["0310025","031","Santa Catarina","0025","SAN DIEGO (PUEBLO VIEJO)",774,"Sí"]
["0310028","031","Santa Catarina","0028","SAN ANTONIO DE LOS GUAYABOS",347,"Sí"]
["0310030","031","Santa Catarina","0030","SAN JOSÉ",276,"Sí"]
["0310031","031","Santa Catarina","0031","SAN PEDRO",316,"Sí"]
["0310032","031","Santa Catarina","0032","SANTA MARÍA ACAPULCO",712,"Sí"]
["0310033","031","Santa Catarina","0033","SANTA TERESA",153,"Sí"]
["0310039","031","Santa Catarina","0039","AGUA NUEVA",83,"Sí"]
["0310044","031","Santa Catarina","0044","EL COCO",414,"Sí"]
["0310046","031","Santa Catarina","0046","CHACUALA",208,"Sí"]
["0310048","031","Santa Catarina","0048","LA ENCANTADA",490,"Sí"]
["0310056","031","Santa Catarina","0056","MILPAS VIEJAS",47,"Sí"]
["0310058","031","Santa Catarina","0058","EL PEDREGOSO",77,"Sí"]
["0310061","031","Santa Catarina","0061","RANCHO NUEVO (EL ENCINAL)",11,"Sí"]
["0310063","031","Santa Catarina","0063","RÍO CHIQUITO",24,"Sí"]
["0310072","031","Santa Catarina","0072","VEINTE DE AGOSTO",72,"Sí"]
["0310080","031","Santa Catarina","0080","EL ARADO",26,"Sí"]
["0310084","031","Santa Catarina","0084","PALO RAJADO",42,"Sí"]
["0310087","031","Santa Catarina","0087","LOS POCITOS",60,"Sí"]
["0310090","031","Santa Catarina","0090","LA MAROMA",21,"Sí"]
["0310091","031","Santa Catarina","0091","AGUA AMARGA",103,"Sí"]
["0310096","031","Santa Catarina","0096","AGUA AMARGA (LAS JARITAS)",18,"Sí"]
["0310099","031","Santa Catarina","0099","EL HUIZACHE (LAS JARITAS)",71,"Sí"]
["0310100","031","Santa Catarina","0100","LAGUNITAS",24,"Sí"]
["0310114","031","Santa Catarina","0114","PLAN DE SANTO DOMINGO",24,"Sí"]
["0310127","031","Santa Catarina","0127","SAN JOSÉ DE ARRIBA",161,"Sí"]
["0340028","034","San Vicente Tancuayalab","0028","SAN FRANCISCO CUAYALAB",1706,"Sí"]
["0340040","034","San Vicente Tancuayalab","0040","TASAJERAS",240,"Sí"]
["0340047","034","San Vicente Tancuayalab","0047","FRANCISCO VILLA",373,"Sí"]
["0340050","034","San Vicente Tancuayalab","0050","LÁZARO CÁRDENAS",248,"Sí"]
["0340074","034","San Vicente Tancuayalab","0074","SAN JUAN DE LAS VEGAS",396,"Sí"]
["0340104","034","San Vicente Tancuayalab","0104","EJIDO MIGUEL HIDALGO",2,"Sí"]
["0340107","034","San Vicente Tancuayalab","0107","NUEVO JOMTÉ (TASAJERAS DOS)",179,"Sí"]
["0340111","034","San Vicente Tancuayalab","0111","NUEVO JOMTÉ (EZEQUIEL AHUMADA)",136,"Sí"]
["0340115","034","San Vicente Tancuayalab","0115","NUEVO JOMTÉ (NUEVO MAY)",275,"Sí"]
["0340183","034","San Vicente Tancuayalab","0183","NUEVO CENTRO DE POBLACIÓN BENITO JUÁREZ",52,"Sí"]
["0340204","034","San Vicente Tancuayalab","0204","NARCISO MENDOZA",52,"Sí"]
["0340233","034","San Vicente Tancuayalab","0233","GENERAL LEÓN MARTÍNEZ MHD",354,"Sí"]
["0340236","034","San Vicente Tancuayalab","0236","NUEVO JOMTÉ (COLONIA HIDALGO)",216,"Sí"]
["0340249","034","San Vicente Tancuayalab","0249","SAGRADA FAMILIA",30,"Sí"]
["0340253","034","San Vicente Tancuayalab","0253","EJIDO MIGUEL HIDALGO (NUEVO JOMTÉ)",57,"Sí"]
["0360005","036","Tamasopo","0005","AGUA PUERCA",375,"Sí"]
["0360010","036","Tamasopo","0010","CAFETAL",100,"Sí"]
["0360011","036","Tamasopo","0011","CAÑÓN DE LA VIRGEN",10,"Sí"]
["0360017","036","Tamasopo","0017","CEBADILLA",157,"Sí"]
["0360022","036","Tamasopo","0022","CUESTA BLANCA",514,"Sí"]
["0360027","036","Tamasopo","0027","EL HUIZACHAL",268,"Sí"]
["0360032","036","Tamasopo","0032","LA MANZANILLA",462,"Sí"]
["0360035","036","Tamasopo","0035","LA MOJONERA (LA MOHONERA)",181,"Sí"]
["0360036","036","Tamasopo","0036","NARANJITO",250,"Sí"]
["0360040","036","Tamasopo","0040","EL CARRIZO",45,"Sí"]
["0360041","036","Tamasopo","0041","LA PALMA (VILLA DE LA PALMA)",322,"Sí"]
["0360046","036","Tamasopo","0046","POZO DEL SAUZ",386,"Sí"]
["0360049","036","Tamasopo","0049","PUERTO VERDE",374,"Sí"]
["0360051","036","Tamasopo","0051","RINCÓN DE RAMÍREZ",223,"Sí"]
["0360053","036","Tamasopo","0053","SABINITO DE LOS OROZCO",33,"Sí"]
["0360054","036","Tamasopo","0054","EL SABINITO QUEMADO",270,"Sí"]
["0360072","036","Tamasopo","0072","LA ALBERCA",2,"Sí"]
["0360074","036","Tamasopo","0074","POZO CUATES",84,"Sí"]
["0360077","036","Tamasopo","0077","EL NOGALITO",91,"Sí"]
["0360109","036","Tamasopo","0109","RANCHO NUEVO",40,"Sí"]
["0360110","036","Tamasopo","0110","LAS MARÍAS",45,"Sí"]
["0360111","036","Tamasopo","0111","LA BRECHA",39,"Sí"]
["0360113","036","Tamasopo","0113","COPALILLOS",238,"Sí"]
["0360117","036","Tamasopo","0117","LA ESPERANZA",192,"Sí"]
["0360122","036","Tamasopo","0122","EL CARRIZO",118,"Sí"]
["0360123","036","Tamasopo","0123","TANQUE DEL BORREGO",222,"Sí"]
["0360148","036","Tamasopo","0148","RANCHO NUEVO",356,"Sí"]
["0360161","036","Tamasopo","0161","SABINITO DE TEPEHUAJAL",27,"Sí"]
["0360222","036","Tamasopo","0222","RANCHO NUEVO",62,"Sí"]
["0360295","036","Tamasopo","0295","LA CUCHILLA (CAÑÓN DE LA VIRGEN)",33,"Sí"]
["0360306","036","Tamasopo","0306","LA ESPERANZA 2",20,"Sí"]
["0370002","037","Tamazunchale","0002","EL BANCO (SAN FRANCISCO)",476,"Sí"]
["0370005","037","Tamazunchale","0005","AGUAZARCA",2248,"Sí"]
["0370006","037","Tamazunchale","0006","AHUEHUEYO",526,"Sí"]
["0370007","037","Tamazunchale","0007","AMATITLA SANTIAGO",585,"Sí"]
["0370008","037","Tamazunchale","0008","AMATITLA TAMÁN",809,"Sí"]
["0370010","037","Tamazunchale","0010","ATEHUAC",334,"Sí"]
["0370012","037","Tamazunchale","0012","ATLAJQUE",700,"Sí"]
["0370013","037","Tamazunchale","0013","AXHUMOL",995,"Sí"]
["0370018","037","Tamazunchale","0018","CACATEO",469,"Sí"]
["0370021","037","Tamazunchale","0021","CERRO GRANDE",462,"Sí"]
["0370022","037","Tamazunchale","0022","CUATZONTITLA",256,"Sí"]
["0370023","037","Tamazunchale","0023","COJOLAPA",816,"Sí"]
["0370025","037","Tamazunchale","0025","COYOL (VEGA LARGA)",567,"Sí"]
["0370028","037","Tamazunchale","0028","COAXOCOTITLA",787,"Sí"]
["0370029","037","Tamazunchale","0029","LA CUCHILLA",508,"Sí"]
["0370030","037","Tamazunchale","0030","CUIXCUATITLA",705,"Sí"]
["0370033","037","Tamazunchale","0033","CHAPULHUACANITO",3445,"Sí"]
["0370035","037","Tamazunchale","0035","CHILOCUIL TAMÁN",1014,"Sí"]
["0370036","037","Tamazunchale","0036","ECUATITLA",175,"Sí"]
["0370037","037","Tamazunchale","0037","EL ENCINAL",282,"Sí"]
["0370038","037","Tamazunchale","0038","ENRAMADITAS",620,"Sí"]
["0370040","037","Tamazunchale","0040","BARRIO DE GUADALUPE",970,"Sí"]
["0370041","037","Tamazunchale","0041","GUAXCUACO",512,"Sí"]
["0370043","037","Tamazunchale","0043","HUAZALINGO",581,"Sí"]
["0370046","037","Tamazunchale","0046","IXTEAMEL",925,"Sí"]
["0370047","037","Tamazunchale","0047","IXTLA (IXTLA SANTIAGO)",562,"Sí"]
["0370048","037","Tamazunchale","0048","IXTLAPALACO",872,"Sí"]
["0370049","037","Tamazunchale","0049","LA LAGUNA",423,"Sí"]
["0370052","037","Tamazunchale","0052","MECACHIQUICO",487,"Sí"]
["0370053","037","Tamazunchale","0053","MECATLÁN",805,"Sí"]
["0370054","037","Tamazunchale","0054","EL NARANJAL",165,"Sí"]
["0370056","037","Tamazunchale","0056","PAGUAYO",444,"Sí"]
["0370057","037","Tamazunchale","0057","PALICTLA",446,"Sí"]
["0370058","037","Tamazunchale","0058","EL PALMITO",902,"Sí"]
["0370059","037","Tamazunchale","0059","LAS PALOMAS",322,"Sí"]
["0370061","037","Tamazunchale","0061","PAPATLACO SANTIAGO",810,"Sí"]
["0370062","037","Tamazunchale","0062","PAYANTLA",316,"Sí"]
["0370063","037","Tamazunchale","0063","PEMUCHO",1187,"Sí"]
["0370067","037","Tamazunchale","0067","EL PLATANITO",352,"Sí"]
["0370069","037","Tamazunchale","0069","LA PROVIDENCIA",90,"Sí"]
["0370070","037","Tamazunchale","0070","RANCHO NUEVO",605,"Sí"]
["0370074","037","Tamazunchale","0074","SAN FRANCISCO",1045,"Sí"]
["0370076","037","Tamazunchale","0076","SANTA MARÍA PICULA",978,"Sí"]
["0370078","037","Tamazunchale","0078","SANTIAGO CENTRO",1101,"Sí"]
["0370079","037","Tamazunchale","0079","TACIAL",729,"Sí"]
["0370080","037","Tamazunchale","0080","TAMACOL",665,"Sí"]
["0370082","037","Tamazunchale","0082","TAMÁN",1195,"Sí"]
["0370084","037","Tamazunchale","0084","TEMACUIL",222,"Sí"]
["0370086","037","Tamazunchale","0086","TENEXCO",373,"Sí"]
["0370087","037","Tamazunchale","0087","TENEXTIPA",249,"Sí"]
["0370088","037","Tamazunchale","0088","EL TEPETATE",525,"Sí"]
["0370091","037","Tamazunchale","0091","SAN ANTONIO",116,"Sí"]
["0370092","037","Tamazunchale","0092","TETITLA",816,"Sí"]
["0370093","037","Tamazunchale","0093","TETLAMA",388,"Sí"]
["0370094","037","Tamazunchale","0094","TEXOJOL",456,"Sí"]
["0370096","037","Tamazunchale","0096","TEZAPOTLA",2912,"Sí"]
["0370098","037","Tamazunchale","0098","TEZONTLA",642,"Sí"]
["0370099","037","Tamazunchale","0099","TIANGUISPICULA",923,"Sí"]
["0370102","037","Tamazunchale","0102","TLALNEPANTLA",2478,"Sí"]
["0370103","037","Tamazunchale","0103","TLAMAYA SANTIAGO",228,"Sí"]
["0370105","037","Tamazunchale","0105","TLACUILOLA",1045,"Sí"]
["0370106","037","Tamazunchale","0106","VEGA LARGA",711,"Sí"]
["0370108","037","Tamazunchale","0108","XALTIPA",674,"Sí"]
["0370109","037","Tamazunchale","0109","XICOTLA",391,"Sí"]
["0370113","037","Tamazunchale","0113","ZOQUITIPA",406,"Sí"]
["0370114","037","Tamazunchale","0114","EL CHAPARRAL",164,"Sí"]
["0370115","037","Tamazunchale","0115","TANTOYUQUITA",158,"Sí"]
["0370116","037","Tamazunchale","0116","LA BANDERA",239,"Sí"]
["0370118","037","Tamazunchale","0118","ENCINO SOLO",408,"Sí"]
["0370119","037","Tamazunchale","0119","TECOMATE DOS",170,"Sí"]
["0370120","037","Tamazunchale","0120","LIMAJYO",204,"Sí"]
["0370121","037","Tamazunchale","0121","CACALACAYO",164,"Sí"]
["0370122","037","Tamazunchale","0122","TECOMATE UNO",212,"Sí"]
["0370125","037","Tamazunchale","0125","TAXICHO",167,"Sí"]
["0370126","037","Tamazunchale","0126","ARROYO DE LOS PATOS",257,"Sí"]
["0370129","037","Tamazunchale","0129","MAZATÉTL",247,"Sí"]
["0370130","037","Tamazunchale","0130","POXANTLA",309,"Sí"]
["0370131","037","Tamazunchale","0131","XILHUAZO",246,"Sí"]
["0370132","037","Tamazunchale","0132","PAHUAYO SAN MIGUEL",176,"Sí"]
["0370133","037","Tamazunchale","0133","LA PIMIENTA (LOMAS DE AGUAYO)",158,"Sí"]
["0370139","037","Tamazunchale","0139","EL PIÑAL",800,"Sí"]
["0370148","037","Tamazunchale","0148","EL CARRIZAL",752,"Sí"]
["0370153","037","Tamazunchale","0153","BUENOS AIRES RETROCESO",412,"Sí"]
["0370157","037","Tamazunchale","0157","CHOTEO",69,"Sí"]
["0370162","037","Tamazunchale","0162","TLALOCUIL",125,"Sí"]
["0370164","037","Tamazunchale","0164","TOTECTITLA LOS CIRUELOS",299,"Sí"]
["0370166","037","Tamazunchale","0166","CUAPILOL",375,"Sí"]
["0370167","037","Tamazunchale","0167","EL LAUREL",368,"Sí"]
["0370169","037","Tamazunchale","0169","MECAPALA",213,"Sí"]
["0370170","037","Tamazunchale","0170","CUAJAPA TAMÁN",119,"Sí"]
["0370172","037","Tamazunchale","0172","BARRIO LA VEGA CUIXCUATITLA",292,"Sí"]
["0370173","037","Tamazunchale","0173","BUENAVISTA",67,"Sí"]
["0370174","037","Tamazunchale","0174","COAHUICA",107,"Sí"]
["0370178","037","Tamazunchale","0178","TEXOPIS",234,"Sí"]
["0370179","037","Tamazunchale","0179","LAS CHACHALACAS",152,"Sí"]
["0370180","037","Tamazunchale","0180","CHICHICTLA",60,"Sí"]
["0370185","037","Tamazunchale","0185","LA MERA CEIBA",21,"Sí"]
["0370190","037","Tamazunchale","0190","EL RANCHITO",248,"Sí"]
["0370196","037","Tamazunchale","0196","MONTE ALEGRE",134,"Sí"]
["0370197","037","Tamazunchale","0197","TIXCUAYUCA",609,"Sí"]
["0370199","037","Tamazunchale","0199","TEOZELOC",231,"Sí"]
["0370202","037","Tamazunchale","0202","TILAPA",124,"Sí"]
["0370206","037","Tamazunchale","0206","TOROJATL",116,"Sí"]
["0370209","037","Tamazunchale","0209","XILIAPA",242,"Sí"]
["0370210","037","Tamazunchale","0210","XINICTLE",240,"Sí"]
["0370211","037","Tamazunchale","0211","XOMOCO",393,"Sí"]
["0370215","037","Tamazunchale","0215","CUAPACHO",134,"Sí"]
["0370216","037","Tamazunchale","0216","HUICHAPA",259,"Sí"]
["0370217","037","Tamazunchale","0217","IXTLAPALACO",246,"Sí"]
["0370221","037","Tamazunchale","0221","SOQUIAMEL",195,"Sí"]
["0370223","037","Tamazunchale","0223","BARRIO PROGRESO",560,"Sí"]
["0370225","037","Tamazunchale","0225","AHUEHUEYO",24,"Sí"]
["0370234","037","Tamazunchale","0234","LAS CABAÑAS",207,"Sí"]
["0370239","037","Tamazunchale","0239","PAHUAYO",436,"Sí"]
["0370240","037","Tamazunchale","0240","PEZMAYO SANTIAGO",125,"Sí"]
["0370245","037","Tamazunchale","0245","LIMATITLA",282,"Sí"]
["0370246","037","Tamazunchale","0246","EL MAGUEY",198,"Sí"]
["0370250","037","Tamazunchale","0250","LA REFORMA (EL LINDERO)",210,"Sí"]
["0370253","037","Tamazunchale","0253","CUAJAPA SANTIAGO",128,"Sí"]
["0370255","037","Tamazunchale","0255","TEXOCHITL",137,"Sí"]
["0370256","037","Tamazunchale","0256","TOLAPA (TOLAPA TAMÁN)",223,"Sí"]
["0370257","037","Tamazunchale","0257","CUATOLOL",38,"Sí"]
["0370258","037","Tamazunchale","0258","TEPETZINTLA",191,"Sí"]
["0370266","037","Tamazunchale","0266","ACUAPICH (PIXTEYO)",52,"Sí"]
["0370273","037","Tamazunchale","0273","EL GAVILÁN",205,"Sí"]
["0370285","037","Tamazunchale","0285","XOCHIAYO SANTIAGO",125,"Sí"]
["0370290","037","Tamazunchale","0290","EL MIRADOR",124,"Sí"]
["0370291","037","Tamazunchale","0291","HUAZALINGO (EL PRIMER TIRÓN)",22,"Sí"]
["0370297","037","Tamazunchale","0297","AHUEHUEYO",160,"Sí"]
["0370303","037","Tamazunchale","0303","CAMARONES",293,"Sí"]
["0370305","037","Tamazunchale","0305","LA CEIBA",50,"Sí"]
["0370306","037","Tamazunchale","0306","LOS CERRITOS",120,"Sí"]
["0370310","037","Tamazunchale","0310","EL INFIERNILLO",93,"Sí"]
["0370312","037","Tamazunchale","0312","LUIS DONALDO COLOSIO (SAN JOSÉ)",161,"Sí"]
["0370317","037","Tamazunchale","0317","LAS PALMAS",2,"Sí"]
["0370331","037","Tamazunchale","0331","TEPETZINTLA",4,"Sí"]
["0370334","037","Tamazunchale","0334","TLALIXCO",331,"Sí"]
["0370362","037","Tamazunchale","0362","COXOTLA",215,"Sí"]
["0370363","037","Tamazunchale","0363","TEPETZINTLA",106,"Sí"]
["0370369","037","Tamazunchale","0369","BARRIO SAN RAFAEL (EL SOL)",22,"Sí"]
["0370373","037","Tamazunchale","0373","BARRIO SAN RAFAEL",42,"Sí"]
["0370374","037","Tamazunchale","0374","CERRO GRANDE SANTIAGO",79,"Sí"]
["0370375","037","Tamazunchale","0375","EMILIANO ZAPATA",187,"Sí"]
["0370376","037","Tamazunchale","0376","IXTLAPALACO",4,"Sí"]
["0370379","037","Tamazunchale","0379","ZOPILOAPA",141,"Sí"]
["0370381","037","Tamazunchale","0381","LA PEÑITA SANTIAGO",83,"Sí"]
["0370382","037","Tamazunchale","0382","JALTOCÁN SAN FRANCISCO",184,"Sí"]
["0370383","037","Tamazunchale","0383","ACALAMAYO",140,"Sí"]
["0370385","037","Tamazunchale","0385","SAN JOSÉ SANTIAGO",230,"Sí"]
["0370396","037","Tamazunchale","0396","LA REFORMA",31,"Sí"]
["0370404","037","Tamazunchale","0404","BARRIO PROGRESO",162,"Sí"]
["0380005","038","Tampacán","0005","EL CEDRAL",406,"Sí"]
["0380008","038","Tampacán","0008","LOS CUES",368,"Sí"]
["0380009","038","Tampacán","0009","LOS CUES",2,"Sí"]
["0380011","038","Tampacán","0011","CHICONAMEL",1236,"Sí"]
["0380012","038","Tampacán","0012","CHILILILLO",589,"Sí"]
["0380013","038","Tampacán","0013","CHIMIMEXCO",199,"Sí"]
["0380014","038","Tampacán","0014","CHUPADERO",189,"Sí"]
["0380017","038","Tampacán","0017","EL HUEXCO",1008,"Sí"]
["0380024","038","Tampacán","0024","MACUILOCATL",504,"Sí"]
["0380026","038","Tampacán","0026","LA MATA",136,"Sí"]
["0380033","038","Tampacán","0033","NUEVO JALPILLA",272,"Sí"]
["0380034","038","Tampacán","0034","EL OJITAL",24,"Sí"]
["0380036","038","Tampacán","0036","PALOLCO",231,"Sí"]
["0380039","038","Tampacán","0039","PUYÉCATL",212,"Sí"]
["0380045","038","Tampacán","0045","SANTOMILA",156,"Sí"]
["0380046","038","Tampacán","0046","LA SOLEDAD",600,"Sí"]
["0380047","038","Tampacán","0047","TENEXTITLA UNO",481,"Sí"]
["0380048","038","Tampacán","0048","TENEXTITLA DOS",518,"Sí"]
["0380050","038","Tampacán","0050","TOTOMOXTLA (LA CEIBA)",509,"Sí"]
["0380052","038","Tampacán","0052","XOCHIAYO",311,"Sí"]
["0380053","038","Tampacán","0053","XOCHICUATLA",822,"Sí"]
["0380061","038","Tampacán","0061","BARRIO DE COYOLO",253,"Sí"]
["0380066","038","Tampacán","0066","MIXCOTLA",65,"Sí"]
["0380067","038","Tampacán","0067","LAS VEGAS",83,"Sí"]
["0380071","038","Tampacán","0071","LÁZARO CÁRDENAS",233,"Sí"]
["0380072","038","Tampacán","0072","TOTOMOXTLA UNO (HUEXCO)",158,"Sí"]
["0380073","038","Tampacán","0073","TOTOMOXTLA DOS (HUEXCO)",43,"Sí"]
["0380089","038","Tampacán","0089","BARRIO ARRIBA (FÁTIMA)",130,"Sí"]
["0380090","038","Tampacán","0090","BARRIO VIBORITAS",166,"Sí"]
["0380100","038","Tampacán","0100","PALANTITLA",159,"Sí"]
["0380105","038","Tampacán","0105","TEPETZINTLA",167,"Sí"]
["0380106","038","Tampacán","0106","TOMÁS ANTONIO (CHIMIMEXCO)",21,"Sí"]
["0380107","038","Tampacán","0107","TOTOMOXTLA TRES (HUEXCO)",22,"Sí"]
["0380118","038","Tampacán","0118","NUEVO LA BAJADA",39,"Sí"]
["0390004","039","Tampamolón Corona","0004","ARROYO GRANDE",132,"Sí"]
["0390010","039","Tampamolón Corona","0010","LA CANDELARIA",119,"Sí"]
["0390012","039","Tampamolón Corona","0012","EL CARRIZAL",666,"Sí"]
["0390015","039","Tampamolón Corona","0015","EL CIRUELO",55,"Sí"]
["0390016","039","Tampamolón Corona","0016","COAXINQUILA",547,"Sí"]
["0390017","039","Tampamolón Corona","0017","COAXOCOYO",248,"Sí"]
["0390019","039","Tampamolón Corona","0019","C'OYOB TÚJUB",233,"Sí"]
["0390021","039","Tampamolón Corona","0021","LA CRUZ GRANDE",58,"Sí"]
["0390023","039","Tampamolón Corona","0023","COATIXTALAB",258,"Sí"]
["0390024","039","Tampamolón Corona","0024","CUATZ AJIN (COATZAJÍN)",116,"Sí"]
["0390025","039","Tampamolón Corona","0025","EL CHIJOL",145,"Sí"]
["0390026","039","Tampamolón Corona","0026","CHIQUINTECO",354,"Sí"]
["0390027","039","Tampamolón Corona","0027","EL CHOTE",20,"Sí"]
["0390029","039","Tampamolón Corona","0029","EL CHUCHE",127,"Sí"]
["0390031","039","Tampamolón Corona","0031","DOS PIEDRAS",48,"Sí"]
["0390034","039","Tampamolón Corona","0034","EL CARRIZAL TRES",4,"Sí"]
["0390035","039","Tampamolón Corona","0035","EL FRIJOLILLO",84,"Sí"]
["0390046","039","Tampamolón Corona","0046","LANIM",46,"Sí"]
["0390050","039","Tampamolón Corona","0050","MANCORNADERO",205,"Sí"]
["0390053","039","Tampamolón Corona","0053","TIERRA BLANCA",2,"Sí"]
["0390054","039","Tampamolón Corona","0054","LAS MESITAS",47,"Sí"]
["0390059","039","Tampamolón Corona","0059","LA PALIZADA",154,"Sí"]
["0390061","039","Tampamolón Corona","0061","PAXQUID",246,"Sí"]
["0390062","039","Tampamolón Corona","0062","POYQUID",125,"Sí"]
["0390065","039","Tampamolón Corona","0065","PUCTÉ",247,"Sí"]
["0390066","039","Tampamolón Corona","0066","EL PUENTE UNO",51,"Sí"]
["0390067","039","Tampamolón Corona","0067","EL PUENTE DOS (LA CURVA CHICA)",26,"Sí"]
["0390069","039","Tampamolón Corona","0069","PUNCHUMU",177,"Sí"]
["0390076","039","Tampamolón Corona","0076","RÍO FLORIDO",324,"Sí"]
["0390078","039","Tampamolón Corona","0078","SAN BARTOLO",155,"Sí"]
["0390090","039","Tampamolón Corona","0090","TAJINAB",339,"Sí"]
["0390091","039","Tampamolón Corona","0091","TAMARINDO HUASTECO",247,"Sí"]
["0390092","039","Tampamolón Corona","0092","TUT TZEN (TIUTZÉN)",257,"Sí"]
["0390094","039","Tampamolón Corona","0094","TAYAB TZÉN",227,"Sí"]
["0390095","039","Tampamolón Corona","0095","TEAXIL",249,"Sí"]
["0390096","039","Tampamolón Corona","0096","TENEXO",282,"Sí"]
["0390098","039","Tampamolón Corona","0098","TONATICO",742,"Sí"]
["0390101","039","Tampamolón Corona","0101","TZAPUW JÁ (TZAPUJA)",320,"Sí"]
["0390103","039","Tampamolón Corona","0103","LAS VÍBORAS",675,"Sí"]
["0390105","039","Tampamolón Corona","0105","YOHUALA",253,"Sí"]
["0390114","039","Tampamolón Corona","0114","LOS SABINOS",121,"Sí"]
["0390136","039","Tampamolón Corona","0136","SAN JOSÉ DE LA CRUZ",168,"Sí"]
["0390141","039","Tampamolón Corona","0141","EL NARANJO TAYABTZÉN (TRES PALMAS)",337,"Sí"]
["0390158","039","Tampamolón Corona","0158","EL TAMARINDO MEXICANO",93,"Sí"]
["0390184","039","Tampamolón Corona","0184","COLONIA GONZÁLEZ MAZO",109,"Sí"]
["0390187","039","Tampamolón Corona","0187","PAXQUID (LA PIMIENTA)",71,"Sí"]
["0390199","039","Tampamolón Corona","0199","EL CHOTE",6,"Sí"]
["0390208","039","Tampamolón Corona","0208","EL CARRIZAL DOS",5,"Sí"]
["0400016","040","Tamuín","0016","LA CEIBA",401,"Sí"]
["0400072","040","Tamuín","0072","MANUEL ÁVILA CAMACHO",303,"Sí"]
["0400116","040","Tamuín","0116","SAN JOSÉ DE GRACIA",2,"Sí"]
["0400117","040","Tamuín","0117","SAN JOSÉ DE LIMÓN",293,"Sí"]
["0400126","040","Tamuín","0126","SANTA MARTHA",2374,"Sí"]
["0400157","040","Tamuín","0157","NUEVO TAMPAÓN",3321,"Sí"]
["0400160","040","Tamuín","0160","NUEVO AHUACATITLA",912,"Sí"]
["0400318","040","Tamuín","0318","EJIDO LOS HUASTECOS",1380,"Sí"]
["0400372","040","Tamuín","0372","EL CENTINELA",817,"Sí"]
["0400386","040","Tamuín","0386","NUEVO AQUISMÓN",681,"Sí"]
["0400417","040","Tamuín","0417","EL RETIRO",2,"Sí"]
["0400429","040","Tamuín","0429","EL CARRIZO",517,"Sí"]
["0400433","040","Tamuín","0433","VENUSTIANO CARRANZA",229,"Sí"]
["0400496","040","Tamuín","0496","SAN FRANCISCO (EL OJITAL)",3,"Sí"]
["0400519","040","Tamuín","0519","EJIDO COLONIA OBRERA",6,"Sí"]
["0400617","040","Tamuín","0617","LUIS DONALDO COLOSIO",323,"Sí"]
["0400637","040","Tamuín","0637","EJIDO RUIZ CORTINES TRES (LA PAVITA)",3,"Sí"]
["0400650","040","Tamuín","0650","EL RETIRO (EL HUEVO)",2,"Sí"]
["0400718","040","Tamuín","0718","GENERAL EMILIANO ZAPATA",1,"Sí"]
["0400730","040","Tamuín","0730","SANTA MARTHA",3,"Sí"]
["0400731","040","Tamuín","0731","SANTA MARTHA",2,"Sí"]
["0400747","040","Tamuín","0747","EJIDO AGUILILLAS",2,"Sí"]
["0400763","040","Tamuín","0763","SANTA MARTHA DOS",4,"Sí"]
["0400781","040","Tamuín","0781","EMILIANO ZAPATA",708,"Sí"]
["0400805","040","Tamuín","0805","EL PUJAL CRUZ PINEDA LUNA",2,"Sí"]
["0410002","041","Tanlajás","0002","AGUAHEDIONDA",9,"Sí"]
["0410003","041","Tanlajás","0003","AGUALOJA",321,"Sí"]
["0410004","041","Tanlajás","0004","EJIDO LA ARGENTINA",746,"Sí"]
["0410006","041","Tanlajás","0006","EJIDO EL BARRANCÓN",608,"Sí"]
["0410010","041","Tanlajás","0010","EJIDO LA CEBADILLA",751,"Sí"]
["0410011","041","Tanlajás","0011","EJIDO LA CONCEPCIÓN",840,"Sí"]
["0410015","041","Tanlajás","0015","EL JOMTE",375,"Sí"]
["0410016","041","Tanlajás","0016","LA LABOR",277,"Sí"]
["0410018","041","Tanlajás","0018","MALILIJA",434,"Sí"]
["0410019","041","Tanlajás","0019","MONEC",359,"Sí"]
["0410020","041","Tanlajás","0020","EL MAY",313,"Sí"]
["0410022","041","Tanlajás","0022","OJOX",401,"Sí"]
["0410023","041","Tanlajás","0023","EL PANDO",456,"Sí"]
["0410025","041","Tanlajás","0025","QUELABITAD CUARESMA",354,"Sí"]
["0410029","041","Tanlajás","0029","SAN JOSÉ DEL TINTO (LA GLORIA)",496,"Sí"]
["0410030","041","Tanlajás","0030","EJIDO SAN JOSÉ XILATZÉN",1279,"Sí"]
["0410032","041","Tanlajás","0032","SAN NICOLÁS",1015,"Sí"]
["0410033","041","Tanlajás","0033","SANTA ELENA",625,"Sí"]
["0410036","041","Tanlajás","0036","TANCOLOL",347,"Sí"]
["0410037","041","Tanlajás","0037","COROMOHOM (TOCOYMOHOM)",567,"Sí"]
["0410042","041","Tanlajás","0042","EL NARANJAL",58,"Sí"]
["0410070","041","Tanlajás","0070","CUITZABTZÉN",214,"Sí"]
["0410077","041","Tanlajás","0077","EL FORTÍN MAY",525,"Sí"]
["0410082","041","Tanlajás","0082","EL CHUCHE",188,"Sí"]
["0410092","041","Tanlajás","0092","EL JOPOY",101,"Sí"]
["0410095","041","Tanlajás","0095","QUELABITAD",256,"Sí"]
["0410098","041","Tanlajás","0098","EL MANTE",211,"Sí"]
["0410102","041","Tanlajás","0102","EJIDO EL TZAJIB",125,"Sí"]
["0410108","041","Tanlajás","0108","DHOKOB",256,"Sí"]
["0410112","041","Tanlajás","0112","EL TIYÓU",194,"Sí"]
["0410115","041","Tanlajás","0115","EJIDO NIÑOS HÉROES",236,"Sí"]
["0410117","041","Tanlajás","0117","QUELABITAD COMUNAL",167,"Sí"]
["0410120","041","Tanlajás","0120","PAIXTZÁN",392,"Sí"]
["0410128","041","Tanlajás","0128","SAN ISIDRO",136,"Sí"]
["0410129","041","Tanlajás","0129","MULULTZÉN",135,"Sí"]
["0410146","041","Tanlajás","0146","PATALJA",344,"Sí"]
["0410154","041","Tanlajás","0154","TRES CRUCES",416,"Sí"]
["0410172","041","Tanlajás","0172","BARRIO ALDZULUP",47,"Sí"]
["0410173","041","Tanlajás","0173","BARRIO CUAYTZÉN VIEJO",150,"Sí"]
["0410175","041","Tanlajás","0175","EL MUHU",83,"Sí"]
["0410176","041","Tanlajás","0176","BARRIO TOCOYMOHOM",101,"Sí"]
["0420001","042","Tanquián de Escobedo","0001","TANQUIÁN DE ESCOBEDO",10127,"Sí"]
["0420003","042","Tanquián de Escobedo","0003","EL BASUCHE",206,"Sí"]
["0420004","042","Tanquián de Escobedo","0004","BUENAVISTA",401,"Sí"]
["0420006","042","Tanquián de Escobedo","0006","EL CERRITO",343,"Sí"]
["0420010","042","Tanquián de Escobedo","0010","EL GAVIAL",295,"Sí"]
["0420011","042","Tanquián de Escobedo","0011","LAS LOMAS",938,"Sí"]
["0420018","042","Tanquián de Escobedo","0018","LA SOLEDAD",127,"Sí"]
["0420019","042","Tanquián de Escobedo","0019","TAMPICOL",345,"Sí"]
["0420035","042","Tanquián de Escobedo","0035","LA LAGUNA",169,"Sí"]
["0530002","053","Axtla de Terrazas","0002","AHUACATITLA",631,"Sí"]
["0530004","053","Axtla de Terrazas","0004","EL AQUICHAL",338,"Sí"]
["0530005","053","Axtla de Terrazas","0005","ARROYO DE EN MEDIO",356,"Sí"]
["0530009","053","Axtla de Terrazas","0009","CALCAHUAL",197,"Sí"]
["0530010","053","Axtla de Terrazas","0010","TENEXCALCO (LA CEIBA)",1220,"Sí"]
["0530012","053","Axtla de Terrazas","0012","EL CERRO",152,"Sí"]
["0530013","053","Axtla de Terrazas","0013","COAMILA",223,"Sí"]
["0530014","053","Axtla de Terrazas","0014","COATZONTITLA",943,"Sí"]
["0530015","053","Axtla de Terrazas","0015","COMOCA AHUACATITLA",281,"Sí"]
["0530017","053","Axtla de Terrazas","0017","CUATECOYO",213,"Sí"]
["0530019","053","Axtla de Terrazas","0019","CUAYO CERRO",449,"Sí"]
["0530020","053","Axtla de Terrazas","0020","LAS CUEVAS",766,"Sí"]
["0530024","053","Axtla de Terrazas","0024","CHICAXTITLA",119,"Sí"]
["0530025","053","Axtla de Terrazas","0025","CHIMALACO",714,"Sí"]
["0530026","053","Axtla de Terrazas","0026","CHOTECO",106,"Sí"]
["0530032","053","Axtla de Terrazas","0032","LA LAJA",121,"Sí"]
["0530033","053","Axtla de Terrazas","0033","LA LIBERTAD (EJIDO LA LIBERTAD)",255,"Sí"]
["0530036","053","Axtla de Terrazas","0036","MAPOTLA",235,"Sí"]
["0530037","053","Axtla de Terrazas","0037","MATLALAPA",220,"Sí"]
["0530039","053","Axtla de Terrazas","0039","PAPATLAYO",96,"Sí"]
["0530041","053","Axtla de Terrazas","0041","PICHOLCO",1413,"Sí"]
["0530043","053","Axtla de Terrazas","0043","LA PURÍSIMA",628,"Sí"]
["0530044","053","Axtla de Terrazas","0044","RANCHO NUEVO",841,"Sí"]
["0530048","053","Axtla de Terrazas","0048","SAN MIGUEL",81,"Sí"]
["0530049","053","Axtla de Terrazas","0049","SANTA FE TEXACAL (CENTRO URBANO)",411,"Sí"]
["0530052","053","Axtla de Terrazas","0052","TAMPOCHOCHO",952,"Sí"]
["0530053","053","Axtla de Terrazas","0053","TEMALACACO",1613,"Sí"]
["0530055","053","Axtla de Terrazas","0055","TENEXIO",1174,"Sí"]
["0530059","053","Axtla de Terrazas","0059","XOLOCO",654,"Sí"]
["0530060","053","Axtla de Terrazas","0060","ZACAYUHUAL",111,"Sí"]
["0530062","053","Axtla de Terrazas","0062","CUAYO BUENAVISTA",196,"Sí"]
["0530065","053","Axtla de Terrazas","0065","LA PURÍSIMA",7,"Sí"]
["0530066","053","Axtla de Terrazas","0066","RANCHO NUEVO",6,"Sí"]
["0530071","053","Axtla de Terrazas","0071","CUAYO (CHALCO)",505,"Sí"]
["0530072","053","Axtla de Terrazas","0072","COPALO (CHALCO)",635,"Sí"]
["0530074","053","Axtla de Terrazas","0074","ENSENADA (CHALCO)",577,"Sí"]
["0530076","053","Axtla de Terrazas","0076","NUEVO AYOTOXCO",570,"Sí"]
["0530077","053","Axtla de Terrazas","0077","OTLASXUACO",100,"Sí"]
["0530080","053","Axtla de Terrazas","0080","XOCOYO (CHALCO)",439,"Sí"]
["0530081","053","Axtla de Terrazas","0081","ZOJUALO (CHALCO)",323,"Sí"]
["0530083","053","Axtla de Terrazas","0083","CUIXCOATITLA (CHALCO)",623,"Sí"]
["0530092","053","Axtla de Terrazas","0092","AMPLIACIÓN CUAYO BUENAVISTA",113,"Sí"]
["0530093","053","Axtla de Terrazas","0093","FRACCIONAMIENTO LA PURÍSIMA",63,"Sí"]
["0530094","053","Axtla de Terrazas","0094","FRACCIÓN EL CERRO",28,"Sí"]
["0530095","053","Axtla de Terrazas","0095","FRACCIÓN AHUEHUEYO",168,"Sí"]
["0530096","053","Axtla de Terrazas","0096","TENEXCRUZ",9,"Sí"]
["0530097","053","Axtla de Terrazas","0097","BARRIO EL SAUCITO",136,"Sí"]
["0530098","053","Axtla de Terrazas","0098","BARRIO EL TAMARINDO",320,"Sí"]
["0530099","053","Axtla de Terrazas","0099","BARRIO SANTA FE",187,"Sí"]
["0530100","053","Axtla de Terrazas","0100","COAMÍZATL",181,"Sí"]
["0530106","053","Axtla de Terrazas","0106","LA LIBERTAD SEGUNDA SECCIÓN",64,"Sí"]
["0530113","053","Axtla de Terrazas","0113","EL RINCÓN",158,"Sí"]
["0530116","053","Axtla de Terrazas","0116","LA CEIBA",5,"Sí"]
["0530117","053","Axtla de Terrazas","0117","LA CEIBA (EZEQUIEL TERRAZAS)",6,"Sí"]
["0530120","053","Axtla de Terrazas","0120","LA GARITA",473,"Sí"]
["0530126","053","Axtla de Terrazas","0126","CHOTECO",13,"Sí"]
["0540004","054","Xilitla","0004","AHUEHUEYO",1169,"Sí"]
["0540008","054","Xilitla","0008","APETZCO",615,"Sí"]
["0540009","054","Xilitla","0009","ARROYO SECO",249,"Sí"]
["0540012","054","Xilitla","0012","IXTACAMEL BUENOS AIRES",284,"Sí"]
["0540013","054","Xilitla","0013","EL CAÑÓN",584,"Sí"]
["0540014","054","Xilitla","0014","CERRO QUEMADO",32,"Sí"]
["0540021","054","Xilitla","0021","CHICHIMIXTITLA",406,"Sí"]
["0540022","054","Xilitla","0022","LA HERRADURA",1249,"Sí"]
["0540024","054","Xilitla","0024","IZTACAPA",1272,"Sí"]
["0540026","054","Xilitla","0026","EL JOBO",670,"Sí"]
["0540028","054","Xilitla","0028","LA JOYA",365,"Sí"]
["0540030","054","Xilitla","0030","LAS JOYAS",190,"Sí"]
["0540031","054","Xilitla","0031","EL LIMÓN",34,"Sí"]
["0540032","054","Xilitla","0032","EJIDO PEÑA BLANCA LIMONTITLA",556,"Sí"]
["0540035","054","Xilitla","0035","MIRAMAR VIEJO",258,"Sí"]
["0540036","054","Xilitla","0036","EL NACIMIENTO",272,"Sí"]
["0540037","054","Xilitla","0037","EL NARANJAL (LA CEIBA)",356,"Sí"]
["0540038","054","Xilitla","0038","CUARTILLO NUEVO",511,"Sí"]
["0540040","054","Xilitla","0040","OTLAXHUAYO",158,"Sí"]
["0540043","054","Xilitla","0043","PEMOXCO",947,"Sí"]
["0540044","054","Xilitla","0044","PEÑA BLANCA",742,"Sí"]
["0540045","054","Xilitla","0045","PETATILLO",420,"Sí"]
["0540046","054","Xilitla","0046","PILATENO",594,"Sí"]
["0540047","054","Xilitla","0047","PITZÓATL",473,"Sí"]
["0540051","054","Xilitla","0051","LOS POCITOS",74,"Sí"]
["0540053","054","Xilitla","0053","POXTLA (LA EMPRESA)",320,"Sí"]
["0540055","054","Xilitla","0055","PUERTO DE BELÉN",310,"Sí"]
["0540057","054","Xilitla","0057","QUILICALCO",29,"Sí"]
["0540058","054","Xilitla","0058","RANCHO NUEVO",97,"Sí"]
["0540059","054","Xilitla","0059","RANCHO NUEVO",438,"Sí"]
["0540062","054","Xilitla","0062","EL SABINO",656,"Sí"]
["0540063","054","Xilitla","0063","SAN ANTONIO HUITZQUILICO (BARRIO CENTRO)",643,"Sí"]
["0540065","054","Xilitla","0065","SAN ANTONIO XALCUAYO DOS",449,"Sí"]
["0540066","054","Xilitla","0066","SAN PEDRO HUITZQUILICO",829,"Sí"]
["0540067","054","Xilitla","0067","SAN RAFAEL",253,"Sí"]
["0540071","054","Xilitla","0071","LA SILLETA",219,"Sí"]
["0540074","054","Xilitla","0074","SUCHIAYO",153,"Sí"]
["0540075","054","Xilitla","0075","TEPETZINTLA",196,"Sí"]
["0540076","054","Xilitla","0076","TIERRA BLANCA FRACCIÓN",185,"Sí"]
["0540077","054","Xilitla","0077","TIERRA BLANCA EJIDO",145,"Sí"]
["0540078","054","Xilitla","0078","LA TINAJA",270,"Sí"]
["0540079","054","Xilitla","0079","TLACUAPA (TEMASCAL)",567,"Sí"]
["0540080","054","Xilitla","0080","PUERTO TLALETLA",111,"Sí"]
["0540081","054","Xilitla","0081","TLAMAYA",336,"Sí"]
["0540082","054","Xilitla","0082","TLAMIMIL",199,"Sí"]
["0540083","054","Xilitla","0083","TRES POZOS",69,"Sí"]
["0540084","054","Xilitla","0084","LA TRINIDAD",91,"Sí"]
["0540087","054","Xilitla","0087","XILOXOCHICO (EL CHICO)",165,"Sí"]
["0540089","054","Xilitla","0089","ZAPUYO",1267,"Sí"]
["0540098","054","Xilitla","0098","AGUA PUERCA",144,"Sí"]
["0540102","054","Xilitla","0102","MANTECO",226,"Sí"]
["0540105","054","Xilitla","0105","TLAHUILAPA",413,"Sí"]
["0540106","054","Xilitla","0106","BUENAVISTA",249,"Sí"]
["0540111","054","Xilitla","0111","LAS CRUCITAS",293,"Sí"]
["0540114","054","Xilitla","0114","LA ESCALERA",303,"Sí"]
["0540117","054","Xilitla","0117","LA FLORIDA",49,"Sí"]
["0540118","054","Xilitla","0118","ENCINAL UNO",134,"Sí"]
["0540120","054","Xilitla","0120","TLAPEXMECAYO",100,"Sí"]
["0540122","054","Xilitla","0122","CUARTILLO VIEJO",213,"Sí"]
["0540123","054","Xilitla","0123","PILAHUEHUEYO",186,"Sí"]
["0540125","054","Xilitla","0125","AGUA FIERRO",159,"Sí"]
["0540129","054","Xilitla","0129","EL JOBO",74,"Sí"]
["0540130","054","Xilitla","0130","EL ARROZAL",34,"Sí"]
["0540133","054","Xilitla","0133","BUENAVISTA",304,"Sí"]
["0540134","054","Xilitla","0134","EL CORAZÓN DE MARÍA (EL CAMPAMENTO)",198,"Sí"]
["0540140","054","Xilitla","0140","JOYA DEL AGUA",18,"Sí"]
["0540145","054","Xilitla","0145","LA LOMA",161,"Sí"]
["0540146","054","Xilitla","0146","LA LOMA",198,"Sí"]
["0540147","054","Xilitla","0147","BARRIO SAN ISIDRO",187,"Sí"]
["0540148","054","Xilitla","0148","MANTEYO",468,"Sí"]
["0540150","054","Xilitla","0150","EL MIRADOR",175,"Sí"]
["0540152","054","Xilitla","0152","NUEVO MIRAMAR",780,"Sí"]
["0540153","054","Xilitla","0153","PAGUAYO",160,"Sí"]
["0540154","054","Xilitla","0154","LA PALANGANA",13,"Sí"]
["0540155","054","Xilitla","0155","LA PALMA",363,"Sí"]
["0540156","054","Xilitla","0156","PETATILLO",108,"Sí"]
["0540161","054","Xilitla","0161","PUERTO TRES CRUCES (SAN ANTONIO XALCUAYO UNO)",83,"Sí"]
["0540163","054","Xilitla","0163","QUIRÁMBARO",82,"Sí"]
["0540164","054","Xilitla","0164","RANCHITO LA SILLETA",39,"Sí"]
["0540165","054","Xilitla","0165","RANCHO NUEVO",71,"Sí"]
["0540167","054","Xilitla","0167","TENEPANCO",143,"Sí"]
["0540169","054","Xilitla","0169","LA TINAJA",368,"Sí"]
["0540171","054","Xilitla","0171","UHAXUQUITO",126,"Sí"]
["0540172","054","Xilitla","0172","VILLA DE GUADALUPE",129,"Sí"]
["0540173","054","Xilitla","0173","XALTIPA",264,"Sí"]
["0540174","054","Xilitla","0174","XILITLILLA",298,"Sí"]
["0540175","054","Xilitla","0175","AGUA DE CUAYO",103,"Sí"]
["0540176","054","Xilitla","0176","BUENAVISTA",75,"Sí"]
["0540178","054","Xilitla","0178","CAFETALES",360,"Sí"]
["0540179","054","Xilitla","0179","EL CARRIZAL",140,"Sí"]
["0540181","054","Xilitla","0181","CERRO QUEBRADO",156,"Sí"]
["0540184","054","Xilitla","0184","BARRIO DE CRISTO REY (APETZCO)",467,"Sí"]
["0540185","054","Xilitla","0185","LA CUEVA",147,"Sí"]
["0540186","054","Xilitla","0186","LA CUEVA",19,"Sí"]
["0540187","054","Xilitla","0187","LA CUESTA",42,"Sí"]
["0540190","054","Xilitla","0190","EL ENCINAL",50,"Sí"]
["0540193","054","Xilitla","0193","EL GRANADO",231,"Sí"]
["0540198","054","Xilitla","0198","LA JOYA DE TLALETLA",199,"Sí"]
["0540199","054","Xilitla","0199","LA LADERA",19,"Sí"]
["0540200","054","Xilitla","0200","EL LAGARTO",150,"Sí"]
["0540201","054","Xilitla","0201","LA LAGUNA",106,"Sí"]
["0540202","054","Xilitla","0202","EL LIMONCITO",64,"Sí"]
["0540205","054","Xilitla","0205","MANTECO",76,"Sí"]
["0540206","054","Xilitla","0206","EL MIRADOR",142,"Sí"]
["0540207","054","Xilitla","0207","MOLOXCO",294,"Sí"]
["0540208","054","Xilitla","0208","EL NARANJAL DOS",159,"Sí"]
["0540211","054","Xilitla","0211","PAPATLAL",111,"Sí"]
["0540212","054","Xilitla","0212","EL PINO",105,"Sí"]
["0540216","054","Xilitla","0216","LA PUERTA DE LA ESPERANZA",78,"Sí"]
["0540218","054","Xilitla","0218","PUERTO ENCINAL",384,"Sí"]
["0540219","054","Xilitla","0219","RANCHO NUEVO",28,"Sí"]
["0540220","054","Xilitla","0220","RANCHO NUEVO",102,"Sí"]
["0540221","054","Xilitla","0221","RANCHO NUEVO",86,"Sí"]
["0540223","054","Xilitla","0223","EL RINCÓN",148,"Sí"]
["0540225","054","Xilitla","0225","SAN JOSÉ",219,"Sí"]
["0540228","054","Xilitla","0228","TEMASCALES",372,"Sí"]
["0540229","054","Xilitla","0229","LAS TIENDAS",246,"Sí"]
["0540230","054","Xilitla","0230","TRES POZOS (SAN ANTONIO XALCUAYO UNO)",181,"Sí"]
["0540231","054","Xilitla","0231","XOCOYO",143,"Sí"]
["0540235","054","Xilitla","0235","CUÁHUATL",169,"Sí"]
["0540239","054","Xilitla","0239","LA PALMA",60,"Sí"]
["0540240","054","Xilitla","0240","XILIÁTL",37,"Sí"]
["0540245","054","Xilitla","0245","BARRIO DEL AJUATE",152,"Sí"]
["0540248","054","Xilitla","0248","BUENAVISTA",49,"Sí"]
["0540249","054","Xilitla","0249","LA CEIBA",62,"Sí"]
["0540251","054","Xilitla","0251","LA CURVA",59,"Sí"]
["0540252","054","Xilitla","0252","LA CURVA",26,"Sí"]
["0540254","054","Xilitla","0254","LA FINCA",59,"Sí"]
["0540258","054","Xilitla","0258","LA MOJONERA",98,"Sí"]
["0540268","054","Xilitla","0268","RINCÓN DE PAGUAYO",23,"Sí"]
["0540269","054","Xilitla","0269","EL RINCÓN",63,"Sí"]
["0540273","054","Xilitla","0273","LA TINAJA",42,"Sí"]
["0540274","054","Xilitla","0274","EL MIRADOR",16,"Sí"]
["0540276","054","Xilitla","0276","CHUPANÁTL",28,"Sí"]
["0540277","054","Xilitla","0277","CUCHARÁJATL",51,"Sí"]
["0540280","054","Xilitla","0280","LA NUEVA INDEPENDENCIA",56,"Sí"]
["0570002","057","Matlapa","0002","AGUACATITLA",488,"Sí"]
["0570003","057","Matlapa","0003","AHUEHUEYO PRIMERO CENTRO",1095,"Sí"]
["0570004","057","Matlapa","0004","AHUEHUEYO SEGUNDO",194,"Sí"]
["0570006","057","Matlapa","0006","ATLAMAXÁTL",885,"Sí"]
["0570007","057","Matlapa","0007","BARRIO DE ARRIBA",651,"Sí"]
["0570008","057","Matlapa","0008","BARRIO DE EN MEDIO",714,"Sí"]
["0570009","057","Matlapa","0009","CHALCHITÉPETL",236,"Sí"]
["0570010","057","Matlapa","0010","CHALCHOCOYO",3614,"Sí"]
["0570012","057","Matlapa","0012","COPALCOATITLA (COPALO)",239,"Sí"]
["0570013","057","Matlapa","0013","COYOLO",227,"Sí"]
["0570014","057","Matlapa","0014","CUAXILOTITLA",145,"Sí"]
["0570015","057","Matlapa","0015","CUICHAPA",335,"Sí"]
["0570018","057","Matlapa","0018","LA ISLA",313,"Sí"]
["0570019","057","Matlapa","0019","NEXCUAYO",498,"Sí"]
["0570020","057","Matlapa","0020","OTLAYO",303,"Sí"]
["0570021","057","Matlapa","0021","PAPATLAS",523,"Sí"]
["0570022","057","Matlapa","0022","PITZOTEYO",457,"Sí"]
["0570024","057","Matlapa","0024","SAN ANTONIO",524,"Sí"]
["0570025","057","Matlapa","0025","SAN JOSÉ BARRIO ARRIBA",185,"Sí"]
["0570026","057","Matlapa","0026","TAMALA",472,"Sí"]
["0570027","057","Matlapa","0027","TANCUILÍN",366,"Sí"]
["0570028","057","Matlapa","0028","TECALCO",171,"Sí"]
["0570029","057","Matlapa","0029","TEPETZINTLA",873,"Sí"]
["0570030","057","Matlapa","0030","TERRERO COLORADO",170,"Sí"]
["0570031","057","Matlapa","0031","TEXQUITOTE PRIMERO",772,"Sí"]
["0570032","057","Matlapa","0032","TEXQUITOTE SEGUNDO",513,"Sí"]
["0570034","057","Matlapa","0034","BARRIO SAN JOSÉ (TLAJUMPAL)",393,"Sí"]
["0570035","057","Matlapa","0035","TLAMAXAC",428,"Sí"]
["0570036","057","Matlapa","0036","TZOPELACO",356,"Sí"]
["0570037","057","Matlapa","0037","XOCHITITLA",571,"Sí"]
["0570040","057","Matlapa","0040","BARRIO DE TEPETZINTLA (SAN ANTONIO)",386,"Sí"]
["0570041","057","Matlapa","0041","BARRIO SAN ISIDRO (TLAJUMPAL)",267,"Sí"]
["0570042","057","Matlapa","0042","BARRIO SAN JUAN (TLAJUMPAL)",330,"Sí"]
["0570045","057","Matlapa","0045","AHUEHUEYO SEGUNDO (PARADA LA GALERA)",75,"Sí"]
["0570050","057","Matlapa","0050","NUEVO TEPETZINTLA",554,"Sí"]
["0570055","057","Matlapa","0055","XOCHICUATITLA",390,"Sí"]
["0570063","057","Matlapa","0063","BARRIO CHILTZAPOYO",361,"Sí"]
["0570065","057","Matlapa","0065","COAQUENTLA",571,"Sí"]
["0570066","057","Matlapa","0066","IGLESIA VIEJA",109,"Sí"]
["0570067","057","Matlapa","0067","PAHUAYO PRIMERO",520,"Sí"]
["0570068","057","Matlapa","0068","LA PEÑITA (LA PEÑA)",453,"Sí"]
["0570071","057","Matlapa","0071","TEZONQUILILLO",113,"Sí"]
["0570073","057","Matlapa","0073","LA TINAJA",18,"Sí"]
["0570074","057","Matlapa","0074","TLACOHUAQUE",593,"Sí"]
["0570075","057","Matlapa","0075","TLAXCO",479,"Sí"]
["0570076","057","Matlapa","0076","XALTIPA COAQUENTLA",261,"Sí"]
["0570077","057","Matlapa","0077","ZACAYO",963,"Sí"]
["0570081","057","Matlapa","0081","PAGUAYO BARRIO ARRIBA",181,"Sí"]
["0570084","057","Matlapa","0084","TLAMAYA",303,"Sí"]
["0570085","057","Matlapa","0085","SAN RAFAEL",72,"Sí"]
["0570088","057","Matlapa","0088","NEXCUAYO II",612,"Sí"]

{"sheet":"Cat_Dependencias","index":16,"n_rows":92,"n_cols":4,"rows_kept":92,"cut":false,"hidden":true,"merged":[]}
[]
["03","01","DESPACHO DEL EJECUTIVO","(0301) DESPACHO DEL EJECUTIVO"]
["03","02","SECRETARÍA GENERAL DE GOBIERNO","(0302) SECRETARÍA GENERAL DE GOBIERNO"]
["03","03","SECRETARÍA DE FINANZAS","(0303) SECRETARÍA DE FINANZAS"]
["03","05","SECRETARÍA DE DESARROLLO SOCIAL Y REGIONAL","(0305) SECRETARÍA DE DESARROLLO SOCIAL Y REGIONAL"]
["03","06","SECRETARÍA DE DESARROLLO URBANO, VIVIENDA Y OBRAS PÚBLICAS","(0306) SECRETARÍA DE DESARROLLO URBANO, VIVIENDA Y OBRAS PÚBLICAS"]
["03","07","SECRETARÍA DE DESARROLLO ECONÓMICO","(0307) SECRETARÍA DE DESARROLLO ECONÓMICO"]
["03","08","SECRETARÍA DE DESARROLLO AGROPECUARIO Y RECURSOS HIDRÁULICOS","(0308) SECRETARÍA DE DESARROLLO AGROPECUARIO Y RECURSOS HIDRÁULICOS"]
["03","09","SECRETARÍA DE ECOLOGÍA Y GESTIÓN AMBIENTAL","(0309) SECRETARÍA DE ECOLOGÍA Y GESTIÓN AMBIENTAL"]
["03","10","SISTEMA EDUCATIVO ESTATAL REGULAR","(0310) SISTEMA EDUCATIVO ESTATAL REGULAR"]
["03","11","OFICIALÍA MAYOR","(0311) OFICIALÍA MAYOR"]
["03","12","PROCURADURÍA GENERAL DE JUSTICIA","(0312) PROCURADURÍA GENERAL DE JUSTICIA"]
["03","13","CONTRALORÍA GENERAL DEL ESTADO","(0313) CONTRALORÍA GENERAL DEL ESTADO"]
["03","17","SECRETARÍA DE EDUCACIÓN","(0317) SECRETARÍA DE EDUCACIÓN"]
["03","18","COORDINACIÓN GENERAL DE LA DEFENSORÍA  PÚBLICA DEL ESTADO","(0318) COORDINACIÓN GENERAL DE LA DEFENSORÍA  PÚBLICA DEL ESTADO"]
["03","19","SECRETARIADO EJECUTIVO DEL CONSEJO ESTATAL DE SEGURIDAD PÚBLICA DEL ESTADO","(0319) SECRETARIADO EJECUTIVO DEL CONSEJO ESTATAL DE SEGURIDAD PÚBLICA DEL ESTADO"]
["03","20","SECRETARÍA TÉCNICA DEL GABINETE","(0320) SECRETARÍA TÉCNICA DEL GABINETE"]
["03","21","COORDINACIÓN GENERAL DE COMUNICACIÓN SOCIAL","(0321) COORDINACIÓN GENERAL DE COMUNICACIÓN SOCIAL"]
["03","22","SECRETARÍA DE COMUNICACIONES Y TRANSPORTES","(0322) SECRETARÍA DE COMUNICACIONES Y TRANSPORTES"]
["03","23","SECRETARÍA DEL TRABAJO Y PREVISIÓN SOCIAL","(0323) SECRETARÍA DEL TRABAJO Y PREVISIÓN SOCIAL"]
["03","24","SECRETARÍA DE TURISMO","(0324) SECRETARÍA DE TURISMO"]
["03","25","SECRETARÍA DE CULTURA","(0325) SECRETARÍA DE CULTURA"]
["03","28","SECRETARÍA DE SEGURIDAD PÚBLICA","(0328) SECRETARÍA DE SEGURIDAD PÚBLICA"]
["03","31","CONSEJERÍA JURÍDICA","(0331) CONSEJERÍA JURÍDICA"]
["03","32","UNIDAD DE SISTEMAS DE INFORMÁTICA DEL PODER EJECUTIVO DE SAN LUIS POTOSÍ","(0332) UNIDAD DE SISTEMAS DE INFORMÁTICA DEL PODER EJECUTIVO DE SAN LUIS POTOSÍ"]
["04","01","C.E.C.U.R.T. PROF. CARLOS JONGUITUD BARRIOS","(0401) C.E.C.U.R.T. PROF. CARLOS JONGUITUD BARRIOS"]
["04","02","C.E.C.U.R.T. II","(0402) C.E.C.U.R.T. II"]
["04","03","JUNTA ESTATAL DE CAMINOS","(0403) JUNTA ESTATAL DE CAMINOS"]
["04","07","SISTEMA PARA EL DESARROLLO INTEGRAL DE LA FAMILIA DEL ESTADO DE SAN LUIS POTOSÍ","(0407) SISTEMA PARA EL DESARROLLO INTEGRAL DE LA FAMILIA DEL ESTADO DE SAN LUIS POTOSÍ"]
["04","08","CENTRO DE CONVENCIONES DE SAN LUIS POTOSI","(0408) CENTRO DE CONVENCIONES DE SAN LUIS POTOSI"]
["04","09","INSTITUTO REGISTRAL Y CATASTRAL DEL ESTADO DE SAN LUIS POTOSI","(0409) INSTITUTO REGISTRAL Y CATASTRAL DEL ESTADO DE SAN LUIS POTOSI"]
["04","10","ARCHIVO HISTÓRICO DEL ESTADO LIC. ANTONIO ROCHA","(0410) ARCHIVO HISTÓRICO DEL ESTADO LIC. ANTONIO ROCHA"]
["04","11","COMISIÓN ESTATAL DEL AGUA","(0411) COMISIÓN ESTATAL DEL AGUA"]
["04","12","RÉGIMEN ESTATAL DE PROTECCIÓN SOCIAL EN SALUD DEL ESTADO DE SAN LUÍS POTOSÍ","(0412) RÉGIMEN ESTATAL DE PROTECCIÓN SOCIAL EN SALUD DEL ESTADO DE SAN LUÍS POTOSÍ"]
["04","13","AGENCIA PRO SAN LUIS","(0413) AGENCIA PRO SAN LUIS"]
["04","14","SISTEMA ANTICORRUPCIÓN DEL ESTADO","(0414) SISTEMA ANTICORRUPCIÓN DEL ESTADO"]
["04","15","SISTEMA DE EJECUCIÓN PENAL","(0415) SISTEMA DE EJECUCIÓN PENAL"]
["04","16","COORDINACIÓN ESTATAL PARA EL FORTALECIMIENTO INSTITUCIONAL DE LOS MUNICIPIOS","(0416) COORDINACIÓN ESTATAL PARA EL FORTALECIMIENTO INSTITUCIONAL DE LOS MUNICIPIOS"]
["04","17","CONSEJO ESTATAL DE POBLACIÓN","(0417) CONSEJO ESTATAL DE POBLACIÓN"]
["04","19","INSTITUTO POTOSINO DEL DEPORTE","(0419) INSTITUTO POTOSINO DEL DEPORTE"]
["04","26","CONSEJO POTOSINO DE CIENCIA Y TECNOLOGÍA","(0426) CONSEJO POTOSINO DE CIENCIA Y TECNOLOGÍA"]
["04","29","PROMOTORA DEL ESTADO DE SAN LUIS POTOSÍ","(0429) PROMOTORA DEL ESTADO DE SAN LUIS POTOSÍ"]
["04","30","INSTITUTO ESTATAL DE INFRAESTRUCTURA FÍSICA EDUCATIVA","(0430) INSTITUTO ESTATAL DE INFRAESTRUCTURA FÍSICA EDUCATIVA"]
["04","31","INSTITUTO DE LAS MUJERES, DEL ESTADO DE SAN LUIS POTOSI","(0431) INSTITUTO DE LAS MUJERES, DEL ESTADO DE SAN LUIS POTOSI"]
["04","32","SERVICIOS DE SALUD DE SAN LUIS POTOSÍ","(0432) SERVICIOS DE SALUD DE SAN LUIS POTOSÍ"]
["04","35","TRIBUNAL DE LO CONTENCIOSO ADMINISTRATIVO","(0435) TRIBUNAL DE LO CONTENCIOSO ADMINISTRATIVO"]
["04","37","INSTITUTO POTOSINO DE LA JUVENTUD","(0437) INSTITUTO POTOSINO DE LA JUVENTUD"]
["04","40","INSTITUTO ESTATAL DE CIEGOS","(0440) INSTITUTO ESTATAL DE CIEGOS"]
["04","41","INSTITUTO DE DESARROLLO HUMANO Y SOCIAL DE LOS PUEBLOS INDIGENAS","(0441) INSTITUTO DE DESARROLLO HUMANO Y SOCIAL DE LOS PUEBLOS INDIGENAS"]
["04","42","COMISIÓN EJECUTIVA ESTATAL DE ATENCIÓN A VICTIMAS","(0442) COMISIÓN EJECUTIVA ESTATAL DE ATENCIÓN A VICTIMAS"]
["04","43","INSTITUTO DE VIVIENDA DEL ESTADO","(0443) INSTITUTO DE VIVIENDA DEL ESTADO"]
["04","46","FONDO TURÍSTICO","(0446) FONDO TURÍSTICO"]
["04","47","CENTRO DE PRODUCCION SANTA RITA, S.A. DE C.V.","(0447) CENTRO DE PRODUCCION SANTA RITA, S.A. DE C.V."]
["05","01","DELEGACIÓN ESTATAL DE LA SECRETARÍA DE RELACIONES EXTERIORES","(0501) DELEGACIÓN ESTATAL DE LA SECRETARÍA DE RELACIONES EXTERIORES"]
["05","06","INSTITUTO NACIONAL DE LAS PERSONAS ADULTAS MAYORES","(0506) INSTITUTO NACIONAL DE LAS PERSONAS ADULTAS MAYORES"]
["05","10","UNIVERSIDAD INTERCULTURAL","(0510) UNIVERSIDAD INTERCULTURAL"]
["05","19","UNIVERSIDAD INTERCULTURAL DE SAN LUIS","(0519) UNIVERSIDAD INTERCULTURAL DE SAN LUIS"]
["05","20","CONSEJO CONSULTIVO DEL CENTRO HISTÓRICO","(0520) CONSEJO CONSULTIVO DEL CENTRO HISTÓRICO"]
["05","21","ASILO PARA ANCIANOS DR. NICOLÁS AGUILAR","(0521) ASILO PARA ANCIANOS DR. NICOLÁS AGUILAR"]
["05","22","INSTITUTO DE REINTEGRACIÓN SOCIAL ROSARIO CASTELLANOS","(0522) INSTITUTO DE REINTEGRACIÓN SOCIAL ROSARIO CASTELLANOS"]
["05","24","COLEGIO DE BACHILLERES","(0524) COLEGIO DE BACHILLERES"]
["05","31","INSTITUTO DE REINTEGRACIÓN SOCIAL RAFAEL NIETO","(0531) INSTITUTO DE REINTEGRACIÓN SOCIAL RAFAEL NIETO"]
["05","32","CASA CUNA MARGARITA MAZA DE JUÁREZ","(0532) CASA CUNA MARGARITA MAZA DE JUÁREZ"]
["05","33","INSTITUTO TEMAZCALLI, PREVENCIÓN Y REHABILITACIÓN","(0533) INSTITUTO TEMAZCALLI, PREVENCIÓN Y REHABILITACIÓN"]
["05","35","SISTEMA DE FINANCIAMIENTO PARA EL DESARROLLO DEL ESTADO DE SAN LUIS POTOSÍ","(0535) SISTEMA DE FINANCIAMIENTO PARA EL DESARROLLO DEL ESTADO DE SAN LUIS POTOSÍ"]
["05","36","INSTITUTO POTOSINO DE BELLAS ARTES","(0536) INSTITUTO POTOSINO DE BELLAS ARTES"]
["05","37","MUSEO DEL VIRREINATO","(0537) MUSEO DEL VIRREINATO"]
["05","40","INSTITUTO ESTATAL DE EDUCACIÓN PARA ADULTOS","(0540) INSTITUTO ESTATAL DE EDUCACIÓN PARA ADULTOS"]
["05","41","COLEGIO DE EDUCACIÓN PROFESIONAL TÉCNICA DEL ESTADO DE SAN LUIS POTOSÍ","(0541) COLEGIO DE EDUCACIÓN PROFESIONAL TÉCNICA DEL ESTADO DE SAN LUIS POTOSÍ"]
["05","42","INSTITUTO TECNOLÓGICO SUPERIOR DE EBANO","(0542) INSTITUTO TECNOLÓGICO SUPERIOR DE EBANO"]
["05","43","INSTITUTO DE CAPACITACIÓN PARA EL TRABAJO DEL ESTADO DE SAN LUIS POTOSÍ","(0543) INSTITUTO DE CAPACITACIÓN PARA EL TRABAJO DEL ESTADO DE SAN LUIS POTOSÍ"]
["05","44","INSTITUTO TECNOLÓGICO DE TAMAZUNCHALE","(0544) INSTITUTO TECNOLÓGICO DE TAMAZUNCHALE"]
["05","45","UNIVERSIDAD TECNOLÓGICA","(0545) UNIVERSIDAD TECNOLÓGICA"]
["05","47","FIDEICOMISO CENTRO HISTORICO","(0547) FIDEICOMISO CENTRO HISTORICO"]
["05","49","FIDEICOMISO FONDEN","(0549) FIDEICOMISO FONDEN"]
["05","51","CENTRO CULTURAL REAL DE CATORCE","(0551) CENTRO CULTURAL REAL DE CATORCE"]
["05","52","MUSEO DEL FERROCARRIL","(0552) MUSEO DEL FERROCARRIL"]
["05","53","MUSEO DE ARTE CONTEMPORÁNEO","(0553) MUSEO DE ARTE CONTEMPORÁNEO"]
["05","54","MUSEO LABERINTO DE LAS CIENCIAS Y LAS ARTES","(0554) MUSEO LABERINTO DE LAS CIENCIAS Y LAS ARTES"]
["05","55","CENTRO DE LAS ARTES DE SAN LUIS POTOSÍ","(0555) CENTRO DE LAS ARTES DE SAN LUIS POTOSÍ"]
["05","56","MUSEO FRANCISCO COSSÍO","(0556) MUSEO FRANCISCO COSSÍO"]
["05","57","MUSEO FEDERICO SILVA, ESCULTURA CONTEMPORÁNEA","(0557) MUSEO FEDERICO SILVA, ESCULTURA CONTEMPORÁNEA"]
["05","58","CINETECA ALAMEDA","(0558) CINETECA ALAMEDA"]
["05","59","MUSEO NACIONAL DE LA MASCARA","(0559) MUSEO NACIONAL DE LA MASCARA"]
["05","60","COLEGIO DE ESTUDIOS CIENTÍFICOS Y TECNOLÓGICOS (CECYTE)","(0560) COLEGIO DE ESTUDIOS CIENTÍFICOS Y TECNOLÓGICOS (CECYTE)"]
["05","61","INSTITUTO TECNOLÓGICO SUPERIOR DE RIOVERDE","(0561) INSTITUTO TECNOLÓGICO SUPERIOR DE RIOVERDE"]
["05","63","UNIVERSIDAD POLITÉCNICA DE SAN LUIS POTOSÍ","(0563) UNIVERSIDAD POLITÉCNICA DE SAN LUIS POTOSÍ"]
["05","64","COLEGIO DE SAN LUIS","(0564) COLEGIO DE SAN LUIS"]
["05","65","INSTITUTO TECNOLÓGICO SUPERIOR DE SAN LUIS POTOSÍ","(0565) INSTITUTO TECNOLÓGICO SUPERIOR DE SAN LUIS POTOSÍ"]
["05","66","UNIVERSIDAD INDÍGENA DE SAN LUIS POTOSÍ","(0566) UNIVERSIDAD INDÍGENA DE SAN LUIS POTOSÍ"]
["05","67","UNIVERSIDAD COMUNITARIA DE SAN LUIS POTOSÍ","(0567) UNIVERSIDAD COMUNITARIA DE SAN LUIS POTOSÍ"]
[null,null,"H. AYUNTAMIENTO","H. AYUNTAMIENTO"]

{"sheet":"Estructura BD","index":17,"n_rows":4,"n_cols":115,"rows_kept":4,"cut":false,"hidden":true,"merged":[[0,102,0,114],[1,37,1,56],[1,15,1,30],[1,0,1,7],[1,9,1,11],[1,12,1,14],[0,88,0,101],[0,0,0,57],[0,59,0,74],[0,75,0,83],[0,84,0,87]]}
["Datos Básicos",null,null,null,null,null,null,null,null,null,null,null,null,null,null,null,null,null,null,null,null,null,null,null,null,null,null,null,null,null,null,null,null,null,null,null,null,null,null,null,null,null,null,null,null,null,null,null,null,null,null,null,null,null,null,null,null,null,null,"Alineación",null,null,null,null,null,null,null,null,null,null,null,null,null,null,null,"Problemática",null,null,null,null,null,null,null,null,"Beneficios",null,null,null,"Factibilidad",null,null,null,null,null,null,null,null,null,null,null,null,null,"Responsables de la Información"]
["Información General del Proyecto",null,null,null,null,null,null,null,null,"Clasificación del Proyecto",null,null,"Ejecución de la Obra/Acción",null,null,"Montos/Descripción FF",null,null,null,null,null,null,null,null,null,null,null,null,null,null,null,"Modalidad","Tipo de Adjudicación","Meses_Estimados","Fecha_Critica","Fases del Proyecto","Etapas del Proyecto","Metas/Beneficiarios",null,null,null,null,null,null,null,null,null,null,null,null,null,null,null,null,null,null,null,"Criterios Generales","Componentes","Eje","Sector","Objetivo","Estrategia","Línea de Acción","PP","Indicador_PP","Presidencial","Campaña","Gira","Grupos Sociales","Inclusión PED/PS","Dependencia","Municipio","Otros","Justificación Nivel de Importancia Proy","Problemática","Análisis_Oferta","Análisis_Demanda","Descripción de Alternativa 1",null,"Descripción de Alternativa 2",null,"Justificación Técnica/Económica Alt Seleccionada","Descripción Riesgo","Beneficios Planeados","Objetivos Especificos","Metas Especificas","Participación de Beneficiarios","Proyecto Ejecutivo","Estudio","Estudio de Impacto Ambiental","Otros",null,null,null,null,null,null,null,null,"Bien Público","Permisos","Comentarios Finales","Unidad Resp","Nombre_UR","Cargo_UR","Nombre Resp Inf","Tel Resp Inf","Correo Resp Inf","Nombre Enlace","Tel Enlace","Correo Enlace","Revisión","Fecha","Folio Proyecto"]
["Nom","Mun","Loc","RSZ_Mun","VIVH_Mun","GDOMar_Loc","P_Loc","Indígena","Clasificación","T_Infraestructura","Tipo_Obra","Tipo_Acción","Dep_Promotora","Dep_Ejecutora","Dep_Mtto.","Monto_SolFinanzas","Monto _RecursosAdic","Monto_Fed","Monto_Est","Monto_Mun","Monto_RecursosPropios","Monto_Beneficiarios","Monto_Total","Potenciamiento","Monto_SolFinanzas_DFF","Monto _RecursosAdic_DFF","Monto_Fed_DFF","Monto_Est_DFF","Monto_Mun_DFF","Monto_RecursosPropios_DFF","Monto_Beneficiarios_DFF","Mod_Ejecucion","Tipo_Adjudicación","Meses_Estimados","Fecha_Limite","Fase_Proyecto","Etapas_Proy","U_Medida","Cant","Beneficiarios_M","Beneficiarios_H","Beneficiarios_Tot","M_0 - 4 Años","M_5 - 14 Años","M_15 - 29 Años","M_30 - 64 Años","H_0 - 4 Años","H_5 - 14 Años","H_15 - 29 Años","H_30 - 64 Años","TOT_0 - 4 Años","TOT_5 - 14 Años","TOT_15 - 29 Años","TOT_30 - 64 Años","TOTGRAL_GRUPOS","Temporales","Permanentes","Criterios_grales","Monto_Total_Componentes","Eje","Sector","Objetivo","Estrategia","Línea de Acción","PP","Indicador_PP","Presidencial","Campaña","Gira","Grupos_Sociales","Inclusión PED/PS","Dependencia","Municipio","Otros","Justificación_Nivel_Imp_Proy","Problemática","Análisis Oferta","Análisis Demanda","Alternativa 1","Monto Alternativa 1","Alternativa 2","Monto Alternativa 2","Justificación_Técnica_Económica","Riesgo","Beneficios_Planeados","Objetivos_Especificos","Metas_Especificas","Participación_de_Beneficiarios","Proy_Ejecutivo","Estudio","Estudio_Imp_Amb","Otros","Proy_Ejecutivo_Desc","Estudio_Desc","Estudio_Imp_Amb_Desc","Otros_Desc","Proy_Ejecutivo_Fecha","Estudio_Fecha","Estudio_Imp_Amb_Fecha","Otros_Fecha","Bien_Publico","Permisos","Comentatios_Fin","Unidad Resp","Nombre_UR","Cargo_UR","Nombre Resp Inf","Tel Resp Inf","Correo Resp Inf","Nombre Enlace","Tel Enlace","Correo Enlace","Revisión","Fecha","Folio_Proy"]
[{"$f":"'Info General y'!C12","v":0},{"$f":"'Info General y'!C14","v":0},{"$f":"'Info General y'!F14","v":0},{"$f":"'Info General y'!C15","v":"Seleccionar Municipio"},{"$f":"'Info General y'!C17","v":"Seleccionar Municipio"},{"$f":"'Info General y'!G15","v":"Seleccionar localidad"},{"$f":"'Info General y'!G16","v":"Seleccionar localidad"},{"$f":"'Info General y'!G17","v":"Seleccionar localidad"},{"$f":"'Info General y'!C19","v":0},{"$f":"'Info General y'!C21","v":0},{"$f":"'Info General y'!C22","v":0},{"$f":"'Info General y'!H21","v":0},{"$f":"'Info General y'!C24","v":0},{"$f":"'Info General y'!C25","v":0},{"$f":"'Info General y'!C26","v":0},{"$f":"'Info General y'!C30","v":0},{"$f":"'Info General y'!C31","v":0},{"$f":"'Info General y'!C32","v":0},{"$f":"'Info General y'!#REF!","v":{"$error":"#REF!"}},{"$f":"'Info General y'!C33","v":0},{"$f":"'Info General y'!C34","v":0},{"$f":"'Info General y'!C35","v":0},{"$f":"'Info General y'!C36","v":0},{"$f":"'Info General y'!C37","v":""},{"$f":"'Info General y'!E30","v":0},{"$f":"'Info General y'!E31","v":0},{"$f":"'Info General y'!E32","v":0},{"$f":"'Info General y'!#REF!","v":{"$error":"#REF!"}},{"$f":"'Info General y'!E33","v":0},{"$f":"'Info General y'!E34","v":0},{"$f":"'Info General y'!E35","v":0},{"$f":"'Info General y'!C40","v":0},{"$f":"'Info General y'!E40","v":0},{"$f":"'Info General y'!H30","v":0},{"$f":"'Info General y'!H33","v":"00:00:00"},{"$f":"'Info General y'!H36","v":"00:00:00"},{"$f":"'Info General y'!H40","v":0},{"$f":"'Info General y'!B47","v":0},{"$f":"'Info General y'!D47","v":0},{"$f":"'Info General y'!F47","v":0},{"$f":"'Info General y'!G47","v":0},{"$f":"'Info General y'!H47","v":0},{"$f":"'Info General y'!F51","v":0},{"$f":"'Info General y'!F52","v":0},{"$f":"'Info General y'!F53","v":0},{"$f":"'Info General y'!F54","v":0},{"$f":"'Info General y'!G51","v":0},{"$f":"'Info General y'!G52","v":0},{"$f":"'Info General y'!G53","v":0},{"$f":"'Info General y'!G54","v":0},{"$f":"'Info General y'!H51","v":0},{"$f":"'Info General y'!H52","v":0},{"$f":"'Info General y'!H53","v":0},{"$f":"'Info General y'!H54","v":0},{"$f":"'Info General y'!H56","v":0},{"$f":"'Info General y'!F60","v":0},{"$f":"'Info General y'!G60","v":0},{"$f":"'Info General y'!B63","v":0},{"$f":"Componentes!I28","v":0},{"$f":"'Alineación Estratégica'!C13","v":0},{"$f":"'Alineación Estratégica'!C14","v":0},{"$f":"'Alineación Estratégica'!C15","v":0},{"$f":"'Alineación Estratégica'!C16","v":0},{"$f":"'Alineación Estratégica'!C17","v":0},{"$f":"'Alineación Estratégica'!C19","v":0},{"$f":"'Alineación Estratégica'!C20","v":0},{"$f":"'Alineación Estratégica'!C25","v":0},{"$f":"'Alineación Estratégica'!C26","v":0},{"$f":"'Alineación Estratégica'!C27","v":0},{"$f":"'Alineación Estratégica'!C28","v":0},{"$f":"'Alineación Estratégica'!C29","v":0},{"$f":"'Alineación Estratégica'!C30","v":0},{"$f":"'Alineación Estratégica'!C31","v":0},{"$f":"'Alineación Estratégica'!C32","v":0},{"$f":"'Alineación Estratégica'!B35","v":0},{"$f":"Problemática!B13","v":0},{"$f":"Problemática!B15","v":0},{"$f":"Problemática!F15","v":0},{"$f":"Problemática!B19","v":0},{"$f":"Problemática!J19","v":0},{"$f":"Problemática!B20","v":0},{"$f":"Problemática!J20","v":0},{"$f":"Problemática!B22","v":0},{"$f":"Problemática!B25","v":0},{"$f":"Beneficios!B13","v":0},{"$f":"Beneficios!B16","v":0},{"$f":"Beneficios!B19","v":0},{"$f":"Beneficios!B22","v":0},{"$f":"Factibilidad!C15","v":0},{"$f":"Factibilidad!C16","v":0},{"$f":"Factibilidad!C17","v":0},{"$f":"Factibilidad!C18","v":0},{"$f":"Factibilidad!D15","v":0},{"$f":"Factibilidad!D16","v":0},{"$f":"Factibilidad!D17","v":0},{"$f":"Factibilidad!D18","v":0},{"$f":"Factibilidad!H15","v":"00:00:00"},{"$f":"Factibilidad!H16","v":"00:00:00"},{"$f":"Factibilidad!H17","v":"00:00:00"},{"$f":"Factibilidad!H18","v":"00:00:00"},{"$f":"Factibilidad!C24","v":0},{"$f":"Factibilidad!C25","v":0},{"$f":"'Responsables de Info '!B14","v":0},{"$f":"'Responsables de Info '!E18","v":0},{"$f":"'Responsables de Info '!C20","v":0},{"$f":"'Responsables de Info '!E20","v":0},{"$f":"'Responsables de Info '!E23","v":0},{"$f":"'Responsables de Info '!H23","v":0},{"$f":"'Responsables de Info '!J23","v":0},{"$f":"'Responsables de Info '!E24","v":0},{"$f":"'Responsables de Info '!H24","v":0},{"$f":"'Responsables de Info '!J24","v":0},{"$f":"'Responsables de Info '!C27","v":"Para uso exclusivo de la DGPP"},{"$f":"'Responsables de Info '!G27","v":0},{"$f":"'Responsables de Info '!C27","v":"Para uso exclusivo de la DGPP"}]